Workbook
Name DataA: Setări!$C$6
Name Echipa: Setări!$C$7
Name Firma: Setări!$C$4
Name ListaNota: Setări!$H$5:$H$9
Name ListaStatus: Setări!$G$5:$G$8
Name ListaStrat: Setări!$F$5:$F$8
Name ListaTip: Setări!$E$5:$E$8
Name PragM: Setări!$C$9
Name PragR: Setări!$C$8
Name Scop: Setări!$C$5

Sheet Matrice SWOT
B1: ="Analiza SWOT – "&Firma -> Analiza SWOT – Exemplu Instalații SRL
B2: =Scop&" · "&RIGHT("0"&DAY(DataA),2)&"."&RIGHT("0"&MONTH(DataA),2)&"."&YEAR(DataA)&" · "&Echipa -> Strategia de creștere pentru 2027 · 14.10.2026 · Mihai Georgescu, Andrei Toma, Maria Stoica
B4: FACTORI INTERNI
B5: PUNCTE TARI (S) | I5: PUNCTE SLABE (W)
B6: =IF($Z$6=0,"",INDEX(Factori!$B$5:$B$204,$Z$6)) -> S1 | C6: =IF($Z$6=0,"",INDEX(Factori!$D$5:$D$204,$Z$6)) -> Electricieni autorizați ANRE cu peste 10 ani de experiență: 5 din 7 angajați | G6: =IF($Z$6=0,"",INDEX(Factori!$H$5:$H$204,$Z$6)) -> 20 | I6: =IF($AB$6=0,"",INDEX(Factori!$B$5:$B$204,$AB$6)) -> W1 | J6: =IF($AB$6=0,"",INDEX(Factori!$D$5:$D$204,$AB$6)) -> Dependență de 3 clienți mari, care aduc 58% din vânzări | N6: =IF($AB$6=0,"",INDEX(Factori!$H$5:$H$204,$AB$6)) -> 20 | Z6: =IF(IFERROR(_xlfn.AGGREGATE(14,6,(Factori!$H$5:$H$204+ROW(Factori!$H$5:$H$204)/1000000)/(Factori!$C$5:$C$204="Punct tare"),1),0)=0,0,ROUND(MOD(IFERROR(_xlfn.AGGREGATE(14,6,(Factori!$H$5:$H$204+ROW(Factori!$H$5:$H$204)/1000000)/(Factori!$C$5:$C$204="Punct tare"),1),0),1)*1000000,0)-4) -> 1 | AB6: =IF(IFERROR(_xlfn.AGGREGATE(14,6,(Factori!$H$5:$H$204+ROW(Factori!$H$5:$H$204)/1000000)/(Factori!$C$5:$C$204="Punct slab"),1),0)=0,0,ROUND(MOD(IFERROR(_xlfn.AGGREGATE(14,6,(Factori!$H$5:$H$204+ROW(Factori!$H$5:$H$204)/1000000)/(Factori!$C$5:$C$204="Punct slab"),1),0),1)*1000000,0)-4) -> 4
B7: =IF($Z$7=0,"",INDEX(Factori!$B$5:$B$204,$Z$7)) -> S2 | C7: =IF($Z$7=0,"",INDEX(Factori!$D$5:$D$204,$Z$7)) -> Timp mediu de răspuns la avarii de 4 ore în Ploiești și împrejurimi | G7: =IF($Z$7=0,"",INDEX(Factori!$H$5:$H$204,$Z$7)) -> 16 | I7: =IF($AB$7=0,"",INDEX(Factori!$B$5:$B$204,$AB$7)) -> W2 | J7: =IF($AB$7=0,"",INDEX(Factori!$D$5:$D$204,$AB$7)) -> Site vechi, fără portofoliu, și zero recenzii pe Google | N7: =IF($AB$7=0,"",INDEX(Factori!$H$5:$H$204,$AB$7)) -> 12 | Z7: =IF(IFERROR(_xlfn.AGGREGATE(14,6,(Factori!$H$5:$H$204+ROW(Factori!$H$5:$H$204)/1000000)/(Factori!$C$5:$C$204="Punct tare"),2),0)=0,0,ROUND(MOD(IFERROR(_xlfn.AGGREGATE(14,6,(Factori!$H$5:$H$204+ROW(Factori!$H$5:$H$204)/1000000)/(Factori!$C$5:$C$204="Punct tare"),2),0),1)*1000000,0)-4) -> 2 | AB7: =IF(IFERROR(_xlfn.AGGREGATE(14,6,(Factori!$H$5:$H$204+ROW(Factori!$H$5:$H$204)/1000000)/(Factori!$C$5:$C$204="Punct slab"),2),0)=0,0,ROUND(MOD(IFERROR(_xlfn.AGGREGATE(14,6,(Factori!$H$5:$H$204+ROW(Factori!$H$5:$H$204)/1000000)/(Factori!$C$5:$C$204="Punct slab"),2),0),1)*1000000,0)-4) -> 5
B8: =IF($Z$8=0,"",INDEX(Factori!$B$5:$B$204,$Z$8)) -> S3 | C8: =IF($Z$8=0,"",INDEX(Factori!$D$5:$D$204,$Z$8)) -> 62% dintre clienții noi din 2026 au venit din recomandări | G8: =IF($Z$8=0,"",INDEX(Factori!$H$5:$H$204,$Z$8)) -> 12 | I8: =IF($AB$8=0,"",INDEX(Factori!$B$5:$B$204,$AB$8)) -> W3 | J8: =IF($AB$8=0,"",INDEX(Factori!$D$5:$D$204,$AB$8)) -> Ore suplimentare frecvente în sezonul de vârf (16 h/lună la șeful de echipă) | N8: =IF($AB$8=0,"",INDEX(Factori!$H$5:$H$204,$AB$8)) -> 9 | Z8: =IF(IFERROR(_xlfn.AGGREGATE(14,6,(Factori!$H$5:$H$204+ROW(Factori!$H$5:$H$204)/1000000)/(Factori!$C$5:$C$204="Punct tare"),3),0)=0,0,ROUND(MOD(IFERROR(_xlfn.AGGREGATE(14,6,(Factori!$H$5:$H$204+ROW(Factori!$H$5:$H$204)/1000000)/(Factori!$C$5:$C$204="Punct tare"),3),0),1)*1000000,0)-4) -> 3 | AB8: =IF(IFERROR(_xlfn.AGGREGATE(14,6,(Factori!$H$5:$H$204+ROW(Factori!$H$5:$H$204)/1000000)/(Factori!$C$5:$C$204="Punct slab"),3),0)=0,0,ROUND(MOD(IFERROR(_xlfn.AGGREGATE(14,6,(Factori!$H$5:$H$204+ROW(Factori!$H$5:$H$204)/1000000)/(Factori!$C$5:$C$204="Punct slab"),3),0),1)*1000000,0)-4) -> 6
B9: =IF($Z$9=0,"",INDEX(Factori!$B$5:$B$204,$Z$9)) | C9: =IF($Z$9=0,"",INDEX(Factori!$D$5:$D$204,$Z$9)) | G9: =IF($Z$9=0,"",INDEX(Factori!$H$5:$H$204,$Z$9)) | I9: =IF($AB$9=0,"",INDEX(Factori!$B$5:$B$204,$AB$9)) -> W4 | J9: =IF($AB$9=0,"",INDEX(Factori!$D$5:$D$204,$AB$9)) -> Marketing slab | N9: =IF($AB$9=0,"",INDEX(Factori!$H$5:$H$204,$AB$9)) -> 4 | Z9: =IF(IFERROR(_xlfn.AGGREGATE(14,6,(Factori!$H$5:$H$204+ROW(Factori!$H$5:$H$204)/1000000)/(Factori!$C$5:$C$204="Punct tare"),4),0)=0,0,ROUND(MOD(IFERROR(_xlfn.AGGREGATE(14,6,(Factori!$H$5:$H$204+ROW(Factori!$H$5:$H$204)/1000000)/(Factori!$C$5:$C$204="Punct tare"),4),0),1)*1000000,0)-4) -> 0 | AB9: =IF(IFERROR(_xlfn.AGGREGATE(14,6,(Factori!$H$5:$H$204+ROW(Factori!$H$5:$H$204)/1000000)/(Factori!$C$5:$C$204="Punct slab"),4),0)=0,0,ROUND(MOD(IFERROR(_xlfn.AGGREGATE(14,6,(Factori!$H$5:$H$204+ROW(Factori!$H$5:$H$204)/1000000)/(Factori!$C$5:$C$204="Punct slab"),4),0),1)*1000000,0)-4) -> 7
B10: =IF($Z$10=0,"",INDEX(Factori!$B$5:$B$204,$Z$10)) | C10: =IF($Z$10=0,"",INDEX(Factori!$D$5:$D$204,$Z$10)) | G10: =IF($Z$10=0,"",INDEX(Factori!$H$5:$H$204,$Z$10)) | I10: =IF($AB$10=0,"",INDEX(Factori!$B$5:$B$204,$AB$10)) | J10: =IF($AB$10=0,"",INDEX(Factori!$D$5:$D$204,$AB$10)) | N10: =IF($AB$10=0,"",INDEX(Factori!$H$5:$H$204,$AB$10)) | Z10: =IF(IFERROR(_xlfn.AGGREGATE(14,6,(Factori!$H$5:$H$204+ROW(Factori!$H$5:$H$204)/1000000)/(Factori!$C$5:$C$204="Punct tare"),5),0)=0,0,ROUND(MOD(IFERROR(_xlfn.AGGREGATE(14,6,(Factori!$H$5:$H$204+ROW(Factori!$H$5:$H$204)/1000000)/(Factori!$C$5:$C$204="Punct tare"),5),0),1)*1000000,0)-4) -> 0 | AB10: =IF(IFERROR(_xlfn.AGGREGATE(14,6,(Factori!$H$5:$H$204+ROW(Factori!$H$5:$H$204)/1000000)/(Factori!$C$5:$C$204="Punct slab"),5),0)=0,0,ROUND(MOD(IFERROR(_xlfn.AGGREGATE(14,6,(Factori!$H$5:$H$204+ROW(Factori!$H$5:$H$204)/1000000)/(Factori!$C$5:$C$204="Punct slab"),5),0),1)*1000000,0)-4) -> 0
B11: =IF($Z$11=0,"",INDEX(Factori!$B$5:$B$204,$Z$11)) | C11: =IF($Z$11=0,"",INDEX(Factori!$D$5:$D$204,$Z$11)) | G11: =IF($Z$11=0,"",INDEX(Factori!$H$5:$H$204,$Z$11)) | I11: =IF($AB$11=0,"",INDEX(Factori!$B$5:$B$204,$AB$11)) | J11: =IF($AB$11=0,"",INDEX(Factori!$D$5:$D$204,$AB$11)) | N11: =IF($AB$11=0,"",INDEX(Factori!$H$5:$H$204,$AB$11)) | Z11: =IF(IFERROR(_xlfn.AGGREGATE(14,6,(Factori!$H$5:$H$204+ROW(Factori!$H$5:$H$204)/1000000)/(Factori!$C$5:$C$204="Punct tare"),6),0)=0,0,ROUND(MOD(IFERROR(_xlfn.AGGREGATE(14,6,(Factori!$H$5:$H$204+ROW(Factori!$H$5:$H$204)/1000000)/(Factori!$C$5:$C$204="Punct tare"),6),0),1)*1000000,0)-4) -> 0 | AB11: =IF(IFERROR(_xlfn.AGGREGATE(14,6,(Factori!$H$5:$H$204+ROW(Factori!$H$5:$H$204)/1000000)/(Factori!$C$5:$C$204="Punct slab"),6),0)=0,0,ROUND(MOD(IFERROR(_xlfn.AGGREGATE(14,6,(Factori!$H$5:$H$204+ROW(Factori!$H$5:$H$204)/1000000)/(Factori!$C$5:$C$204="Punct slab"),6),0),1)*1000000,0)-4) -> 0
B12: =IF($Z$12=0,"",INDEX(Factori!$B$5:$B$204,$Z$12)) | C12: =IF($Z$12=0,"",INDEX(Factori!$D$5:$D$204,$Z$12)) | G12: =IF($Z$12=0,"",INDEX(Factori!$H$5:$H$204,$Z$12)) | I12: =IF($AB$12=0,"",INDEX(Factori!$B$5:$B$204,$AB$12)) | J12: =IF($AB$12=0,"",INDEX(Factori!$D$5:$D$204,$AB$12)) | N12: =IF($AB$12=0,"",INDEX(Factori!$H$5:$H$204,$AB$12)) | Z12: =IF(IFERROR(_xlfn.AGGREGATE(14,6,(Factori!$H$5:$H$204+ROW(Factori!$H$5:$H$204)/1000000)/(Factori!$C$5:$C$204="Punct tare"),7),0)=0,0,ROUND(MOD(IFERROR(_xlfn.AGGREGATE(14,6,(Factori!$H$5:$H$204+ROW(Factori!$H$5:$H$204)/1000000)/(Factori!$C$5:$C$204="Punct tare"),7),0),1)*1000000,0)-4) -> 0 | AB12: =IF(IFERROR(_xlfn.AGGREGATE(14,6,(Factori!$H$5:$H$204+ROW(Factori!$H$5:$H$204)/1000000)/(Factori!$C$5:$C$204="Punct slab"),7),0)=0,0,ROUND(MOD(IFERROR(_xlfn.AGGREGATE(14,6,(Factori!$H$5:$H$204+ROW(Factori!$H$5:$H$204)/1000000)/(Factori!$C$5:$C$204="Punct slab"),7),0),1)*1000000,0)-4) -> 0
B14: FACTORI EXTERNI
B15: OPORTUNITĂȚI (O) | I15: AMENINȚĂRI (T)
B16: =IF($AD$16=0,"",INDEX(Factori!$B$5:$B$204,$AD$16)) -> O1 | C16: =IF($AD$16=0,"",INDEX(Factori!$D$5:$D$204,$AD$16)) -> Cerere în creștere pentru instalații fotovoltaice la case: 14 cereri de ofertă în 2026, față de 5 în 2025 | G16: =IF($AD$16=0,"",INDEX(Factori!$H$5:$H$204,$AD$16)) -> 20 | I16: =IF($AF$16=0,"",INDEX(Factori!$B$5:$B$204,$AF$16)) -> T1 | J16: =IF($AF$16=0,"",INDEX(Factori!$D$5:$D$204,$AF$16)) -> Lipsă de electricieni calificați pe piață: un post neocupat de 4 luni | N16: =IF($AF$16=0,"",INDEX(Factori!$H$5:$H$204,$AF$16)) -> 20 | AD16: =IF(IFERROR(_xlfn.AGGREGATE(14,6,(Factori!$H$5:$H$204+ROW(Factori!$H$5:$H$204)/1000000)/(Factori!$C$5:$C$204="Oportunitate"),1),0)=0,0,ROUND(MOD(IFERROR(_xlfn.AGGREGATE(14,6,(Factori!$H$5:$H$204+ROW(Factori!$H$5:$H$204)/1000000)/(Factori!$C$5:$C$204="Oportunitate"),1),0),1)*1000000,0)-4) -> 8 | AF16: =IF(IFERROR(_xlfn.AGGREGATE(14,6,(Factori!$H$5:$H$204+ROW(Factori!$H$5:$H$204)/1000000)/(Factori!$C$5:$C$204="Amenințare"),1),0)=0,0,ROUND(MOD(IFERROR(_xlfn.AGGREGATE(14,6,(Factori!$H$5:$H$204+ROW(Factori!$H$5:$H$204)/1000000)/(Factori!$C$5:$C$204="Amenințare"),1),0),1)*1000000,0)-4) -> 11
B17: =IF($AD$17=0,"",INDEX(Factori!$B$5:$B$204,$AD$17)) -> O2 | C17: =IF($AD$17=0,"",INDEX(Factori!$D$5:$D$204,$AD$17)) -> Trei blocuri noi în construcție în Ploiești Vest, cu instalațiile electrice încă necontractate | G17: =IF($AD$17=0,"",INDEX(Factori!$H$5:$H$204,$AD$17)) -> 12 | I17: =IF($AF$17=0,"",INDEX(Factori!$B$5:$B$204,$AF$17)) -> T2 | J17: =IF($AF$17=0,"",INDEX(Factori!$D$5:$D$204,$AF$17)) -> Prețul cuprului și al aparatajului a crescut cu 12% în 2026 | N17: =IF($AF$17=0,"",INDEX(Factori!$H$5:$H$204,$AF$17)) -> 16 | AD17: =IF(IFERROR(_xlfn.AGGREGATE(14,6,(Factori!$H$5:$H$204+ROW(Factori!$H$5:$H$204)/1000000)/(Factori!$C$5:$C$204="Oportunitate"),2),0)=0,0,ROUND(MOD(IFERROR(_xlfn.AGGREGATE(14,6,(Factori!$H$5:$H$204+ROW(Factori!$H$5:$H$204)/1000000)/(Factori!$C$5:$C$204="Oportunitate"),2),0),1)*1000000,0)-4) -> 9 | AF17: =IF(IFERROR(_xlfn.AGGREGATE(14,6,(Factori!$H$5:$H$204+ROW(Factori!$H$5:$H$204)/1000000)/(Factori!$C$5:$C$204="Amenințare"),2),0)=0,0,ROUND(MOD(IFERROR(_xlfn.AGGREGATE(14,6,(Factori!$H$5:$H$204+ROW(Factori!$H$5:$H$204)/1000000)/(Factori!$C$5:$C$204="Amenințare"),2),0),1)*1000000,0)-4) -> 12
B18: =IF($AD$18=0,"",INDEX(Factori!$B$5:$B$204,$AD$18)) -> O3 | C18: =IF($AD$18=0,"",INDEX(Factori!$D$5:$D$204,$AD$18)) -> Firmele din zonă caută contracte de mentenanță anuală a instalațiilor | G18: =IF($AD$18=0,"",INDEX(Factori!$H$5:$H$204,$AD$18)) -> 9 | I18: =IF($AF$18=0,"",INDEX(Factori!$B$5:$B$204,$AF$18)) -> T3 | J18: =IF($AF$18=0,"",INDEX(Factori!$D$5:$D$204,$AF$18)) -> Trei firme noi în oraș, cu prețuri mici și reclame pe platforme online | N18: =IF($AF$18=0,"",INDEX(Factori!$H$5:$H$204,$AF$18)) -> 9 | AD18: =IF(IFERROR(_xlfn.AGGREGATE(14,6,(Factori!$H$5:$H$204+ROW(Factori!$H$5:$H$204)/1000000)/(Factori!$C$5:$C$204="Oportunitate"),3),0)=0,0,ROUND(MOD(IFERROR(_xlfn.AGGREGATE(14,6,(Factori!$H$5:$H$204+ROW(Factori!$H$5:$H$204)/1000000)/(Factori!$C$5:$C$204="Oportunitate"),3),0),1)*1000000,0)-4) -> 10 | AF18: =IF(IFERROR(_xlfn.AGGREGATE(14,6,(Factori!$H$5:$H$204+ROW(Factori!$H$5:$H$204)/1000000)/(Factori!$C$5:$C$204="Amenințare"),3),0)=0,0,ROUND(MOD(IFERROR(_xlfn.AGGREGATE(14,6,(Factori!$H$5:$H$204+ROW(Factori!$H$5:$H$204)/1000000)/(Factori!$C$5:$C$204="Amenințare"),3),0),1)*1000000,0)-4) -> 13
B19: =IF($AD$19=0,"",INDEX(Factori!$B$5:$B$204,$AD$19)) | C19: =IF($AD$19=0,"",INDEX(Factori!$D$5:$D$204,$AD$19)) | G19: =IF($AD$19=0,"",INDEX(Factori!$H$5:$H$204,$AD$19)) | I19: =IF($AF$19=0,"",INDEX(Factori!$B$5:$B$204,$AF$19)) | J19: =IF($AF$19=0,"",INDEX(Factori!$D$5:$D$204,$AF$19)) | N19: =IF($AF$19=0,"",INDEX(Factori!$H$5:$H$204,$AF$19)) | AD19: =IF(IFERROR(_xlfn.AGGREGATE(14,6,(Factori!$H$5:$H$204+ROW(Factori!$H$5:$H$204)/1000000)/(Factori!$C$5:$C$204="Oportunitate"),4),0)=0,0,ROUND(MOD(IFERROR(_xlfn.AGGREGATE(14,6,(Factori!$H$5:$H$204+ROW(Factori!$H$5:$H$204)/1000000)/(Factori!$C$5:$C$204="Oportunitate"),4),0),1)*1000000,0)-4) -> 0 | AF19: =IF(IFERROR(_xlfn.AGGREGATE(14,6,(Factori!$H$5:$H$204+ROW(Factori!$H$5:$H$204)/1000000)/(Factori!$C$5:$C$204="Amenințare"),4),0)=0,0,ROUND(MOD(IFERROR(_xlfn.AGGREGATE(14,6,(Factori!$H$5:$H$204+ROW(Factori!$H$5:$H$204)/1000000)/(Factori!$C$5:$C$204="Amenințare"),4),0),1)*1000000,0)-4) -> 0
B20: =IF($AD$20=0,"",INDEX(Factori!$B$5:$B$204,$AD$20)) | C20: =IF($AD$20=0,"",INDEX(Factori!$D$5:$D$204,$AD$20)) | G20: =IF($AD$20=0,"",INDEX(Factori!$H$5:$H$204,$AD$20)) | I20: =IF($AF$20=0,"",INDEX(Factori!$B$5:$B$204,$AF$20)) | J20: =IF($AF$20=0,"",INDEX(Factori!$D$5:$D$204,$AF$20)) | N20: =IF($AF$20=0,"",INDEX(Factori!$H$5:$H$204,$AF$20)) | AD20: =IF(IFERROR(_xlfn.AGGREGATE(14,6,(Factori!$H$5:$H$204+ROW(Factori!$H$5:$H$204)/1000000)/(Factori!$C$5:$C$204="Oportunitate"),5),0)=0,0,ROUND(MOD(IFERROR(_xlfn.AGGREGATE(14,6,(Factori!$H$5:$H$204+ROW(Factori!$H$5:$H$204)/1000000)/(Factori!$C$5:$C$204="Oportunitate"),5),0),1)*1000000,0)-4) -> 0 | AF20: =IF(IFERROR(_xlfn.AGGREGATE(14,6,(Factori!$H$5:$H$204+ROW(Factori!$H$5:$H$204)/1000000)/(Factori!$C$5:$C$204="Amenințare"),5),0)=0,0,ROUND(MOD(IFERROR(_xlfn.AGGREGATE(14,6,(Factori!$H$5:$H$204+ROW(Factori!$H$5:$H$204)/1000000)/(Factori!$C$5:$C$204="Amenințare"),5),0),1)*1000000,0)-4) -> 0
B21: =IF($AD$21=0,"",INDEX(Factori!$B$5:$B$204,$AD$21)) | C21: =IF($AD$21=0,"",INDEX(Factori!$D$5:$D$204,$AD$21)) | G21: =IF($AD$21=0,"",INDEX(Factori!$H$5:$H$204,$AD$21)) | I21: =IF($AF$21=0,"",INDEX(Factori!$B$5:$B$204,$AF$21)) | J21: =IF($AF$21=0,"",INDEX(Factori!$D$5:$D$204,$AF$21)) | N21: =IF($AF$21=0,"",INDEX(Factori!$H$5:$H$204,$AF$21)) | AD21: =IF(IFERROR(_xlfn.AGGREGATE(14,6,(Factori!$H$5:$H$204+ROW(Factori!$H$5:$H$204)/1000000)/(Factori!$C$5:$C$204="Oportunitate"),6),0)=0,0,ROUND(MOD(IFERROR(_xlfn.AGGREGATE(14,6,(Factori!$H$5:$H$204+ROW(Factori!$H$5:$H$204)/1000000)/(Factori!$C$5:$C$204="Oportunitate"),6),0),1)*1000000,0)-4) -> 0 | AF21: =IF(IFERROR(_xlfn.AGGREGATE(14,6,(Factori!$H$5:$H$204+ROW(Factori!$H$5:$H$204)/1000000)/(Factori!$C$5:$C$204="Amenințare"),6),0)=0,0,ROUND(MOD(IFERROR(_xlfn.AGGREGATE(14,6,(Factori!$H$5:$H$204+ROW(Factori!$H$5:$H$204)/1000000)/(Factori!$C$5:$C$204="Amenințare"),6),0),1)*1000000,0)-4) -> 0
B22: =IF($AD$22=0,"",INDEX(Factori!$B$5:$B$204,$AD$22)) | C22: =IF($AD$22=0,"",INDEX(Factori!$D$5:$D$204,$AD$22)) | G22: =IF($AD$22=0,"",INDEX(Factori!$H$5:$H$204,$AD$22)) | I22: =IF($AF$22=0,"",INDEX(Factori!$B$5:$B$204,$AF$22)) | J22: =IF($AF$22=0,"",INDEX(Factori!$D$5:$D$204,$AF$22)) | N22: =IF($AF$22=0,"",INDEX(Factori!$H$5:$H$204,$AF$22)) | AD22: =IF(IFERROR(_xlfn.AGGREGATE(14,6,(Factori!$H$5:$H$204+ROW(Factori!$H$5:$H$204)/1000000)/(Factori!$C$5:$C$204="Oportunitate"),7),0)=0,0,ROUND(MOD(IFERROR(_xlfn.AGGREGATE(14,6,(Factori!$H$5:$H$204+ROW(Factori!$H$5:$H$204)/1000000)/(Factori!$C$5:$C$204="Oportunitate"),7),0),1)*1000000,0)-4) -> 0 | AF22: =IF(IFERROR(_xlfn.AGGREGATE(14,6,(Factori!$H$5:$H$204+ROW(Factori!$H$5:$H$204)/1000000)/(Factori!$C$5:$C$204="Amenințare"),7),0)=0,0,ROUND(MOD(IFERROR(_xlfn.AGGREGATE(14,6,(Factori!$H$5:$H$204+ROW(Factori!$H$5:$H$204)/1000000)/(Factori!$C$5:$C$204="Amenințare"),7),0),1)*1000000,0)-4) -> 0
B24: ACȚIUNI PRIORITARE
B25: Tip | C25: Acțiune | I25: Responsabil | K25: Termen | L25: Indicator | N25: Țintă
B26: =IF(INDEX('Strategii și acțiuni'!$E$5:$E$64,1)="","",LEFT(INDEX('Strategii și acțiuni'!$C$5:$C$64,1),2)) -> SO | C26: =IF(INDEX('Strategii și acțiuni'!$E$5:$E$64,1)="","",INDEX('Strategii și acțiuni'!$E$5:$E$64,1)) -> Lansăm oferta de instalații fotovoltaice pentru case, cu echipa autorizată ANRE | I26: =IF(INDEX('Strategii și acțiuni'!$E$5:$E$64,1)="","",INDEX('Strategii și acțiuni'!$F$5:$F$64,1)) -> Andrei Toma | K26: =IF(INDEX('Strategii și acțiuni'!$E$5:$E$64,1)="","",INDEX('Strategii și acțiuni'!$G$5:$G$64,1)) -> 46477 | L26: =IF(INDEX('Strategii și acțiuni'!$E$5:$E$64,1)="","",INDEX('Strategii și acțiuni'!$H$5:$H$64,1)&"") -> Contracte fotovoltaice semnate | N26: =IF(OR(INDEX('Strategii și acțiuni'!$E$5:$E$64,1)="",INDEX('Strategii și acțiuni'!$J$5:$J$64,1)=""),"",INDEX('Strategii și acțiuni'!$J$5:$J$64,1)) -> 10
B27: =IF(INDEX('Strategii și acțiuni'!$E$5:$E$64,2)="","",LEFT(INDEX('Strategii și acțiuni'!$C$5:$C$64,2),2)) -> WO | C27: =IF(INDEX('Strategii și acțiuni'!$E$5:$E$64,2)="","",INDEX('Strategii și acțiuni'!$E$5:$E$64,2)) -> Site nou cu portofoliu de lucrări, formular de cerere de ofertă și profil Google cu recenzii | I27: =IF(INDEX('Strategii și acțiuni'!$E$5:$E$64,2)="","",INDEX('Strategii și acțiuni'!$F$5:$F$64,2)) -> Maria Stoica | K27: =IF(INDEX('Strategii și acțiuni'!$E$5:$E$64,2)="","",INDEX('Strategii și acțiuni'!$G$5:$G$64,2)) -> 46387 | L27: =IF(INDEX('Strategii și acțiuni'!$E$5:$E$64,2)="","",INDEX('Strategii și acțiuni'!$H$5:$H$64,2)&"") -> Cereri de ofertă online pe lună | N27: =IF(OR(INDEX('Strategii și acțiuni'!$E$5:$E$64,2)="",INDEX('Strategii și acțiuni'!$J$5:$J$64,2)=""),"",INDEX('Strategii și acțiuni'!$J$5:$J$64,2)) -> 8
B28: =IF(INDEX('Strategii și acțiuni'!$E$5:$E$64,3)="","",LEFT(INDEX('Strategii și acțiuni'!$C$5:$C$64,3),2)) -> ST | C28: =IF(INDEX('Strategii și acțiuni'!$E$5:$E$64,3)="","",INDEX('Strategii și acțiuni'!$E$5:$E$64,3)) -> Contract cu preț fix pe 6 luni cu doi furnizori de cablu și aparataj | I28: =IF(INDEX('Strategii și acțiuni'!$E$5:$E$64,3)="","",INDEX('Strategii și acțiuni'!$F$5:$F$64,3)) -> Dan Ilie | K28: =IF(INDEX('Strategii și acțiuni'!$E$5:$E$64,3)="","",INDEX('Strategii și acțiuni'!$G$5:$G$64,3)) -> 46356 | L28: =IF(INDEX('Strategii și acțiuni'!$E$5:$E$64,3)="","",INDEX('Strategii și acțiuni'!$H$5:$H$64,3)&"") -> Creșterea costului materialelor (%) | N28: =IF(OR(INDEX('Strategii și acțiuni'!$E$5:$E$64,3)="",INDEX('Strategii și acțiuni'!$J$5:$J$64,3)=""),"",INDEX('Strategii și acțiuni'!$J$5:$J$64,3)) -> 5
B29: =IF(INDEX('Strategii și acțiuni'!$E$5:$E$64,4)="","",LEFT(INDEX('Strategii și acțiuni'!$C$5:$C$64,4),2)) -> WT | C29: =IF(INDEX('Strategii și acțiuni'!$E$5:$E$64,4)="","",INDEX('Strategii și acțiuni'!$E$5:$E$64,4)) -> Atragem 10 clienți noi de mentenanță anuală, ca să reducem dependența de clienții mari | I29: =IF(INDEX('Strategii și acțiuni'!$E$5:$E$64,4)="","",INDEX('Strategii și acțiuni'!$F$5:$F$64,4)) -> Andrei Toma | K29: =IF(INDEX('Strategii și acțiuni'!$E$5:$E$64,4)="","",INDEX('Strategii și acțiuni'!$G$5:$G$64,4)) -> 46568 | L29: =IF(INDEX('Strategii și acțiuni'!$E$5:$E$64,4)="","",INDEX('Strategii și acțiuni'!$H$5:$H$64,4)&"") -> Ponderea primilor 3 clienți în vânzări (%) | N29: =IF(OR(INDEX('Strategii și acțiuni'!$E$5:$E$64,4)="",INDEX('Strategii și acțiuni'!$J$5:$J$64,4)=""),"",INDEX('Strategii și acțiuni'!$J$5:$J$64,4)) -> 40
B30: =IF(INDEX('Strategii și acțiuni'!$E$5:$E$64,5)="","",LEFT(INDEX('Strategii și acțiuni'!$C$5:$C$64,5),2)) -> WT | C30: =IF(INDEX('Strategii și acțiuni'!$E$5:$E$64,5)="","",INDEX('Strategii și acțiuni'!$E$5:$E$64,5)) -> Program de ucenicie pentru doi electricieni | I30: =IF(INDEX('Strategii și acțiuni'!$E$5:$E$64,5)="","",INDEX('Strategii și acțiuni'!$F$5:$F$64,5)) -> Mihai Georgescu | K30: =IF(INDEX('Strategii și acțiuni'!$E$5:$E$64,5)="","",INDEX('Strategii și acțiuni'!$G$5:$G$64,5)) -> 46446 | L30: =IF(INDEX('Strategii și acțiuni'!$E$5:$E$64,5)="","",INDEX('Strategii și acțiuni'!$H$5:$H$64,5)&"") | N30: =IF(OR(INDEX('Strategii și acțiuni'!$E$5:$E$64,5)="",INDEX('Strategii și acțiuni'!$J$5:$J$64,5)=""),"",INDEX('Strategii și acțiuni'!$J$5:$J$64,5))

Sheet Factori
B1: Factorii analizei SWOT
B2: Un rând pentru fiecare factor. Scrie concret și adaugă dovada (date, cifre, sursa): fără ea, factorul e doar o părere.
B4: Cod | C4: Tip | D4: Descriere (concretă) | E4: Dovadă / date / sursa | F4: Impact (1–5) | G4: Importanță / probabilitate (1–5) | H4: Scor | I4: Prioritate | J4: Verificare
B5: =IF(C5="","",INDEX(Setări!$E$11:$E$14,MATCH(C5,ListaTip,0))&COUNTIF($C$5:C5,C5)) -> S1 | C5: Punct tare | D5: Electricieni autorizați ANRE cu peste 10 ani de experiență: 5 din 7 angajați | E5: Registrul angajaților și autorizațiile ANRE, octombrie 2026 | F5: 5 | G5: 4 | H5: =IF(OR(N(F5)=0,N(G5)=0),"",F5*G5) -> 20 | I5: =IF(H5="","",IF(H5>=PragR,"Ridicată",IF(H5>=PragM,"Medie","Scăzută"))) -> Ridicată | J5: =IF(C5="","",TRIM(IF(D5="","Lipsește descrierea. ",IF(LEN(D5)<30,"Prea general: spune concret ce, cât, unde. ",""))&IF(E5="","Fără dovadă: e o părere, nu un fapt. ","")&IF(OR(N(F5)=0,N(G5)=0),"Notează impactul și importanța. ","")))
B6: =IF(C6="","",INDEX(Setări!$E$11:$E$14,MATCH(C6,ListaTip,0))&COUNTIF($C$5:C6,C6)) -> S2 | C6: Punct tare | D6: Timp mediu de răspuns la avarii de 4 ore în Ploiești și împrejurimi | E6: Registrul de intervenții 2026: 118 intervenții | F6: 4 | G6: 4 | H6: =IF(OR(N(F6)=0,N(G6)=0),"",F6*G6) -> 16 | I6: =IF(H6="","",IF(H6>=PragR,"Ridicată",IF(H6>=PragM,"Medie","Scăzută"))) -> Ridicată | J6: =IF(C6="","",TRIM(IF(D6="","Lipsește descrierea. ",IF(LEN(D6)<30,"Prea general: spune concret ce, cât, unde. ",""))&IF(E6="","Fără dovadă: e o părere, nu un fapt. ","")&IF(OR(N(F6)=0,N(G6)=0),"Notează impactul și importanța. ","")))
B7: =IF(C7="","",INDEX(Setări!$E$11:$E$14,MATCH(C7,ListaTip,0))&COUNTIF($C$5:C7,C7)) -> S3 | C7: Punct tare | D7: 62% dintre clienții noi din 2026 au venit din recomandări | E7: Baza de date clienți, coloana „Sursa” | F7: 4 | G7: 3 | H7: =IF(OR(N(F7)=0,N(G7)=0),"",F7*G7) -> 12 | I7: =IF(H7="","",IF(H7>=PragR,"Ridicată",IF(H7>=PragM,"Medie","Scăzută"))) -> Medie | J7: =IF(C7="","",TRIM(IF(D7="","Lipsește descrierea. ",IF(LEN(D7)<30,"Prea general: spune concret ce, cât, unde. ",""))&IF(E7="","Fără dovadă: e o părere, nu un fapt. ","")&IF(OR(N(F7)=0,N(G7)=0),"Notează impactul și importanța. ","")))
B8: =IF(C8="","",INDEX(Setări!$E$11:$E$14,MATCH(C8,ListaTip,0))&COUNTIF($C$5:C8,C8)) -> W1 | C8: Punct slab | D8: Dependență de 3 clienți mari, care aduc 58% din vânzări | E8: Clasificarea ABC a vânzărilor din 2026 | F8: 5 | G8: 4 | H8: =IF(OR(N(F8)=0,N(G8)=0),"",F8*G8) -> 20 | I8: =IF(H8="","",IF(H8>=PragR,"Ridicată",IF(H8>=PragM,"Medie","Scăzută"))) -> Ridicată | J8: =IF(C8="","",TRIM(IF(D8="","Lipsește descrierea. ",IF(LEN(D8)<30,"Prea general: spune concret ce, cât, unde. ",""))&IF(E8="","Fără dovadă: e o părere, nu un fapt. ","")&IF(OR(N(F8)=0,N(G8)=0),"Notează impactul și importanța. ","")))
B9: =IF(C9="","",INDEX(Setări!$E$11:$E$14,MATCH(C9,ListaTip,0))&COUNTIF($C$5:C9,C9)) -> W2 | C9: Punct slab | D9: Site vechi, fără portofoliu, și zero recenzii pe Google | E9: Verificare Google și site, octombrie 2026 | F9: 3 | G9: 4 | H9: =IF(OR(N(F9)=0,N(G9)=0),"",F9*G9) -> 12 | I9: =IF(H9="","",IF(H9>=PragR,"Ridicată",IF(H9>=PragM,"Medie","Scăzută"))) -> Medie | J9: =IF(C9="","",TRIM(IF(D9="","Lipsește descrierea. ",IF(LEN(D9)<30,"Prea general: spune concret ce, cât, unde. ",""))&IF(E9="","Fără dovadă: e o părere, nu un fapt. ","")&IF(OR(N(F9)=0,N(G9)=0),"Notează impactul și importanța. ","")))
B10: =IF(C10="","",INDEX(Setări!$E$11:$E$14,MATCH(C10,ListaTip,0))&COUNTIF($C$5:C10,C10)) -> W3 | C10: Punct slab | D10: Ore suplimentare frecvente în sezonul de vârf (16 h/lună la șeful de echipă) | E10: Registrul orelor suplimentare, octombrie 2026 | F10: 3 | G10: 3 | H10: =IF(OR(N(F10)=0,N(G10)=0),"",F10*G10) -> 9 | I10: =IF(H10="","",IF(H10>=PragR,"Ridicată",IF(H10>=PragM,"Medie","Scăzută"))) -> Medie | J10: =IF(C10="","",TRIM(IF(D10="","Lipsește descrierea. ",IF(LEN(D10)<30,"Prea general: spune concret ce, cât, unde. ",""))&IF(E10="","Fără dovadă: e o părere, nu un fapt. ","")&IF(OR(N(F10)=0,N(G10)=0),"Notează impactul și importanța. ","")))
B11: =IF(C11="","",INDEX(Setări!$E$11:$E$14,MATCH(C11,ListaTip,0))&COUNTIF($C$5:C11,C11)) -> W4 | C11: Punct slab | D11: Marketing slab | F11: 2 | G11: 2 | H11: =IF(OR(N(F11)=0,N(G11)=0),"",F11*G11) -> 4 | I11: =IF(H11="","",IF(H11>=PragR,"Ridicată",IF(H11>=PragM,"Medie","Scăzută"))) -> Scăzută | J11: =IF(C11="","",TRIM(IF(D11="","Lipsește descrierea. ",IF(LEN(D11)<30,"Prea general: spune concret ce, cât, unde. ",""))&IF(E11="","Fără dovadă: e o părere, nu un fapt. ","")&IF(OR(N(F11)=0,N(G11)=0),"Notează impactul și importanța. ",""))) -> Prea general: spune concret ce, cât, unde. Fără dovadă: e o părere, nu un fapt.
B12: =IF(C12="","",INDEX(Setări!$E$11:$E$14,MATCH(C12,ListaTip,0))&COUNTIF($C$5:C12,C12)) -> O1 | C12: Oportunitate | D12: Cerere în creștere pentru instalații fotovoltaice la case: 14 cereri de ofertă în 2026, față de 5 în 2025 | E12: Registrul de oportunități 2025–2026 | F12: 5 | G12: 4 | H12: =IF(OR(N(F12)=0,N(G12)=0),"",F12*G12) -> 20 | I12: =IF(H12="","",IF(H12>=PragR,"Ridicată",IF(H12>=PragM,"Medie","Scăzută"))) -> Ridicată | J12: =IF(C12="","",TRIM(IF(D12="","Lipsește descrierea. ",IF(LEN(D12)<30,"Prea general: spune concret ce, cât, unde. ",""))&IF(E12="","Fără dovadă: e o părere, nu un fapt. ","")&IF(OR(N(F12)=0,N(G12)=0),"Notează impactul și importanța. ","")))
B13: =IF(C13="","",INDEX(Setări!$E$11:$E$14,MATCH(C13,ListaTip,0))&COUNTIF($C$5:C13,C13)) -> O2 | C13: Oportunitate | D13: Trei blocuri noi în construcție în Ploiești Vest, cu instalațiile electrice încă necontractate | E13: Autorizații de construire publicate de primărie | F13: 4 | G13: 3 | H13: =IF(OR(N(F13)=0,N(G13)=0),"",F13*G13) -> 12 | I13: =IF(H13="","",IF(H13>=PragR,"Ridicată",IF(H13>=PragM,"Medie","Scăzută"))) -> Medie | J13: =IF(C13="","",TRIM(IF(D13="","Lipsește descrierea. ",IF(LEN(D13)<30,"Prea general: spune concret ce, cât, unde. ",""))&IF(E13="","Fără dovadă: e o părere, nu un fapt. ","")&IF(OR(N(F13)=0,N(G13)=0),"Notează impactul și importanța. ","")))
B14: =IF(C14="","",INDEX(Setări!$E$11:$E$14,MATCH(C14,ListaTip,0))&COUNTIF($C$5:C14,C14)) -> O3 | C14: Oportunitate | D14: Firmele din zonă caută contracte de mentenanță anuală a instalațiilor | E14: Două cereri primite în 2026 (24.000 lei în negociere) | F14: 3 | G14: 3 | H14: =IF(OR(N(F14)=0,N(G14)=0),"",F14*G14) -> 9 | I14: =IF(H14="","",IF(H14>=PragR,"Ridicată",IF(H14>=PragM,"Medie","Scăzută"))) -> Medie | J14: =IF(C14="","",TRIM(IF(D14="","Lipsește descrierea. ",IF(LEN(D14)<30,"Prea general: spune concret ce, cât, unde. ",""))&IF(E14="","Fără dovadă: e o părere, nu un fapt. ","")&IF(OR(N(F14)=0,N(G14)=0),"Notează impactul și importanța. ","")))
B15: =IF(C15="","",INDEX(Setări!$E$11:$E$14,MATCH(C15,ListaTip,0))&COUNTIF($C$5:C15,C15)) -> T1 | C15: Amenințare | D15: Lipsă de electricieni calificați pe piață: un post neocupat de 4 luni | E15: Anunțuri de angajare publicate din iunie 2026 | F15: 5 | G15: 4 | H15: =IF(OR(N(F15)=0,N(G15)=0),"",F15*G15) -> 20 | I15: =IF(H15="","",IF(H15>=PragR,"Ridicată",IF(H15>=PragM,"Medie","Scăzută"))) -> Ridicată | J15: =IF(C15="","",TRIM(IF(D15="","Lipsește descrierea. ",IF(LEN(D15)<30,"Prea general: spune concret ce, cât, unde. ",""))&IF(E15="","Fără dovadă: e o părere, nu un fapt. ","")&IF(OR(N(F15)=0,N(G15)=0),"Notează impactul și importanța. ","")))
B16: =IF(C16="","",INDEX(Setări!$E$11:$E$14,MATCH(C16,ListaTip,0))&COUNTIF($C$5:C16,C16)) -> T2 | C16: Amenințare | D16: Prețul cuprului și al aparatajului a crescut cu 12% în 2026 | E16: Listele de prețuri ale furnizorilor, ian.–oct. 2026 | F16: 4 | G16: 4 | H16: =IF(OR(N(F16)=0,N(G16)=0),"",F16*G16) -> 16 | I16: =IF(H16="","",IF(H16>=PragR,"Ridicată",IF(H16>=PragM,"Medie","Scăzută"))) -> Ridicată | J16: =IF(C16="","",TRIM(IF(D16="","Lipsește descrierea. ",IF(LEN(D16)<30,"Prea general: spune concret ce, cât, unde. ",""))&IF(E16="","Fără dovadă: e o părere, nu un fapt. ","")&IF(OR(N(F16)=0,N(G16)=0),"Notează impactul și importanța. ","")))
B17: =IF(C17="","",INDEX(Setări!$E$11:$E$14,MATCH(C17,ListaTip,0))&COUNTIF($C$5:C17,C17)) -> T3 | C17: Amenințare | D17: Trei firme noi în oraș, cu prețuri mici și reclame pe platforme online | E17: Căutări pe Google și Facebook, septembrie 2026 | F17: 3 | G17: 3 | H17: =IF(OR(N(F17)=0,N(G17)=0),"",F17*G17) -> 9 | I17: =IF(H17="","",IF(H17>=PragR,"Ridicată",IF(H17>=PragM,"Medie","Scăzută"))) -> Medie | J17: =IF(C17="","",TRIM(IF(D17="","Lipsește descrierea. ",IF(LEN(D17)<30,"Prea general: spune concret ce, cât, unde. ",""))&IF(E17="","Fără dovadă: e o părere, nu un fapt. ","")&IF(OR(N(F17)=0,N(G17)=0),"Notează impactul și importanța. ","")))
B18: =IF(C18="","",INDEX(Setări!$E$11:$E$14,MATCH(C18,ListaTip,0))&COUNTIF($C$5:C18,C18)) | H18: =IF(OR(N(F18)=0,N(G18)=0),"",F18*G18) | I18: =IF(H18="","",IF(H18>=PragR,"Ridicată",IF(H18>=PragM,"Medie","Scăzută"))) | J18: =IF(C18="","",TRIM(IF(D18="","Lipsește descrierea. ",IF(LEN(D18)<30,"Prea general: spune concret ce, cât, unde. ",""))&IF(E18="","Fără dovadă: e o părere, nu un fapt. ","")&IF(OR(N(F18)=0,N(G18)=0),"Notează impactul și importanța. ","")))
B19: =IF(C19="","",INDEX(Setări!$E$11:$E$14,MATCH(C19,ListaTip,0))&COUNTIF($C$5:C19,C19)) | H19: =IF(OR(N(F19)=0,N(G19)=0),"",F19*G19) | I19: =IF(H19="","",IF(H19>=PragR,"Ridicată",IF(H19>=PragM,"Medie","Scăzută"))) | J19: =IF(C19="","",TRIM(IF(D19="","Lipsește descrierea. ",IF(LEN(D19)<30,"Prea general: spune concret ce, cât, unde. ",""))&IF(E19="","Fără dovadă: e o părere, nu un fapt. ","")&IF(OR(N(F19)=0,N(G19)=0),"Notează impactul și importanța. ","")))
B20: =IF(C20="","",INDEX(Setări!$E$11:$E$14,MATCH(C20,ListaTip,0))&COUNTIF($C$5:C20,C20)) | H20: =IF(OR(N(F20)=0,N(G20)=0),"",F20*G20) | I20: =IF(H20="","",IF(H20>=PragR,"Ridicată",IF(H20>=PragM,"Medie","Scăzută"))) | J20: =IF(C20="","",TRIM(IF(D20="","Lipsește descrierea. ",IF(LEN(D20)<30,"Prea general: spune concret ce, cât, unde. ",""))&IF(E20="","Fără dovadă: e o părere, nu un fapt. ","")&IF(OR(N(F20)=0,N(G20)=0),"Notează impactul și importanța. ","")))
B21: =IF(C21="","",INDEX(Setări!$E$11:$E$14,MATCH(C21,ListaTip,0))&COUNTIF($C$5:C21,C21)) | H21: =IF(OR(N(F21)=0,N(G21)=0),"",F21*G21) | I21: =IF(H21="","",IF(H21>=PragR,"Ridicată",IF(H21>=PragM,"Medie","Scăzută"))) | J21: =IF(C21="","",TRIM(IF(D21="","Lipsește descrierea. ",IF(LEN(D21)<30,"Prea general: spune concret ce, cât, unde. ",""))&IF(E21="","Fără dovadă: e o părere, nu un fapt. ","")&IF(OR(N(F21)=0,N(G21)=0),"Notează impactul și importanța. ","")))
B22: =IF(C22="","",INDEX(Setări!$E$11:$E$14,MATCH(C22,ListaTip,0))&COUNTIF($C$5:C22,C22)) | H22: =IF(OR(N(F22)=0,N(G22)=0),"",F22*G22) | I22: =IF(H22="","",IF(H22>=PragR,"Ridicată",IF(H22>=PragM,"Medie","Scăzută"))) | J22: =IF(C22="","",TRIM(IF(D22="","Lipsește descrierea. ",IF(LEN(D22)<30,"Prea general: spune concret ce, cât, unde. ",""))&IF(E22="","Fără dovadă: e o părere, nu un fapt. ","")&IF(OR(N(F22)=0,N(G22)=0),"Notează impactul și importanța. ","")))
B23: =IF(C23="","",INDEX(Setări!$E$11:$E$14,MATCH(C23,ListaTip,0))&COUNTIF($C$5:C23,C23)) | H23: =IF(OR(N(F23)=0,N(G23)=0),"",F23*G23) | I23: =IF(H23="","",IF(H23>=PragR,"Ridicată",IF(H23>=PragM,"Medie","Scăzută"))) | J23: =IF(C23="","",TRIM(IF(D23="","Lipsește descrierea. ",IF(LEN(D23)<30,"Prea general: spune concret ce, cât, unde. ",""))&IF(E23="","Fără dovadă: e o părere, nu un fapt. ","")&IF(OR(N(F23)=0,N(G23)=0),"Notează impactul și importanța. ","")))
B24: =IF(C24="","",INDEX(Setări!$E$11:$E$14,MATCH(C24,ListaTip,0))&COUNTIF($C$5:C24,C24)) | H24: =IF(OR(N(F24)=0,N(G24)=0),"",F24*G24) | I24: =IF(H24="","",IF(H24>=PragR,"Ridicată",IF(H24>=PragM,"Medie","Scăzută"))) | J24: =IF(C24="","",TRIM(IF(D24="","Lipsește descrierea. ",IF(LEN(D24)<30,"Prea general: spune concret ce, cât, unde. ",""))&IF(E24="","Fără dovadă: e o părere, nu un fapt. ","")&IF(OR(N(F24)=0,N(G24)=0),"Notează impactul și importanța. ","")))
B25: =IF(C25="","",INDEX(Setări!$E$11:$E$14,MATCH(C25,ListaTip,0))&COUNTIF($C$5:C25,C25)) | H25: =IF(OR(N(F25)=0,N(G25)=0),"",F25*G25) | I25: =IF(H25="","",IF(H25>=PragR,"Ridicată",IF(H25>=PragM,"Medie","Scăzută"))) | J25: =IF(C25="","",TRIM(IF(D25="","Lipsește descrierea. ",IF(LEN(D25)<30,"Prea general: spune concret ce, cât, unde. ",""))&IF(E25="","Fără dovadă: e o părere, nu un fapt. ","")&IF(OR(N(F25)=0,N(G25)=0),"Notează impactul și importanța. ","")))
B26: =IF(C26="","",INDEX(Setări!$E$11:$E$14,MATCH(C26,ListaTip,0))&COUNTIF($C$5:C26,C26)) | H26: =IF(OR(N(F26)=0,N(G26)=0),"",F26*G26) | I26: =IF(H26="","",IF(H26>=PragR,"Ridicată",IF(H26>=PragM,"Medie","Scăzută"))) | J26: =IF(C26="","",TRIM(IF(D26="","Lipsește descrierea. ",IF(LEN(D26)<30,"Prea general: spune concret ce, cât, unde. ",""))&IF(E26="","Fără dovadă: e o părere, nu un fapt. ","")&IF(OR(N(F26)=0,N(G26)=0),"Notează impactul și importanța. ","")))
B27: =IF(C27="","",INDEX(Setări!$E$11:$E$14,MATCH(C27,ListaTip,0))&COUNTIF($C$5:C27,C27)) | H27: =IF(OR(N(F27)=0,N(G27)=0),"",F27*G27) | I27: =IF(H27="","",IF(H27>=PragR,"Ridicată",IF(H27>=PragM,"Medie","Scăzută"))) | J27: =IF(C27="","",TRIM(IF(D27="","Lipsește descrierea. ",IF(LEN(D27)<30,"Prea general: spune concret ce, cât, unde. ",""))&IF(E27="","Fără dovadă: e o părere, nu un fapt. ","")&IF(OR(N(F27)=0,N(G27)=0),"Notează impactul și importanța. ","")))
B28: =IF(C28="","",INDEX(Setări!$E$11:$E$14,MATCH(C28,ListaTip,0))&COUNTIF($C$5:C28,C28)) | H28: =IF(OR(N(F28)=0,N(G28)=0),"",F28*G28) | I28: =IF(H28="","",IF(H28>=PragR,"Ridicată",IF(H28>=PragM,"Medie","Scăzută"))) | J28: =IF(C28="","",TRIM(IF(D28="","Lipsește descrierea. ",IF(LEN(D28)<30,"Prea general: spune concret ce, cât, unde. ",""))&IF(E28="","Fără dovadă: e o părere, nu un fapt. ","")&IF(OR(N(F28)=0,N(G28)=0),"Notează impactul și importanța. ","")))
B29: =IF(C29="","",INDEX(Setări!$E$11:$E$14,MATCH(C29,ListaTip,0))&COUNTIF($C$5:C29,C29)) | H29: =IF(OR(N(F29)=0,N(G29)=0),"",F29*G29) | I29: =IF(H29="","",IF(H29>=PragR,"Ridicată",IF(H29>=PragM,"Medie","Scăzută"))) | J29: =IF(C29="","",TRIM(IF(D29="","Lipsește descrierea. ",IF(LEN(D29)<30,"Prea general: spune concret ce, cât, unde. ",""))&IF(E29="","Fără dovadă: e o părere, nu un fapt. ","")&IF(OR(N(F29)=0,N(G29)=0),"Notează impactul și importanța. ","")))
... B204: =IF(C204="","",INDEX(Setări!$E$11:$E$14,MATCH(C204,ListaTip,0))&COUNTIF($C$5:C204,C204)) | H204: =IF(OR(N(F204)=0,N(G204)=0),"",F204*G204) | I204: =IF(H204="","",IF(H204>=PragR,"Ridicată",IF(H204>=PragM,"Medie","Scăzută"))) | J204: =IF(C204="","",TRIM(IF(D204="","Lipsește descrierea. ",IF(LEN(D204)<30,"Prea general: spune concret ce, cât, unde. ",""))&IF(E204="","Fără dovadă: e o părere, nu un fapt. ","")&IF(OR(N(F204)=0,N(G204)=0),"Notează impactul și importanța. ","")))

Sheet Competitori
B1: Comparația cu concurența
B2: Notează de la 1 la 5 firma ta și principalii concurenți la fiecare criteriu. Ponderile arată cât contează criteriul pentru clienți.
B4: Criteriu | C4: Pondere | D4: =Firma -> Exemplu Instalații SRL | E4: Electro Rapid SRL | F4: Volt Service SRL | G4: Instal Pro SRL | H4: Cel mai bun concurent | I4: Concluzie
B5: Preț | C5: 0.25 | D5: 3 | E5: 4 | F5: 5 | G5: 3 | H5: =IF(B5="","",MAX(E5:G5)) -> 5 | I5: =IF(OR(B5="",D5=""),"",IF(D5>H5,"Avantaj → punct tare",IF(D5<H5,"Dezavantaj → punct slab","La egalitate"))) -> Dezavantaj → punct slab
B6: Calitatea execuției | C6: 0.2 | D6: 5 | E6: 3 | F6: 2 | G6: 4 | H6: =IF(B6="","",MAX(E6:G6)) -> 4 | I6: =IF(OR(B6="",D6=""),"",IF(D6>H6,"Avantaj → punct tare",IF(D6<H6,"Dezavantaj → punct slab","La egalitate"))) -> Avantaj → punct tare
B7: Timp de răspuns la avarii | C7: 0.15 | D7: 5 | E7: 3 | F7: 3 | G7: 4 | H7: =IF(B7="","",MAX(E7:G7)) -> 4 | I7: =IF(OR(B7="",D7=""),"",IF(D7>H7,"Avantaj → punct tare",IF(D7<H7,"Dezavantaj → punct slab","La egalitate"))) -> Avantaj → punct tare
B8: Gama de servicii | C8: 0.15 | D8: 4 | E8: 3 | F8: 2 | G8: 5 | H8: =IF(B8="","",MAX(E8:G8)) -> 5 | I8: =IF(OR(B8="",D8=""),"",IF(D8>H8,"Avantaj → punct tare",IF(D8<H8,"Dezavantaj → punct slab","La egalitate"))) -> Dezavantaj → punct slab
B9: Prezență online și recenzii | C9: 0.1 | D9: 1 | E9: 4 | F9: 5 | G9: 3 | H9: =IF(B9="","",MAX(E9:G9)) -> 5 | I9: =IF(OR(B9="",D9=""),"",IF(D9>H9,"Avantaj → punct tare",IF(D9<H9,"Dezavantaj → punct slab","La egalitate"))) -> Dezavantaj → punct slab
B10: Garanție și service | C10: 0.1 | D10: 4 | E10: 3 | F10: 2 | G10: 4 | H10: =IF(B10="","",MAX(E10:G10)) -> 4 | I10: =IF(OR(B10="",D10=""),"",IF(D10>H10,"Avantaj → punct tare",IF(D10<H10,"Dezavantaj → punct slab","La egalitate"))) -> La egalitate
B11: Recomandările clienților | C11: 0.05 | D11: 5 | E11: 3 | F11: 3 | G11: 4 | H11: =IF(B11="","",MAX(E11:G11)) -> 4 | I11: =IF(OR(B11="",D11=""),"",IF(D11>H11,"Avantaj → punct tare",IF(D11<H11,"Dezavantaj → punct slab","La egalitate"))) -> Avantaj → punct tare
H12: =IF(B12="","",MAX(E12:G12)) | I12: =IF(OR(B12="",D12=""),"",IF(D12>H12,"Avantaj → punct tare",IF(D12<H12,"Dezavantaj → punct slab","La egalitate")))
H13: =IF(B13="","",MAX(E13:G13)) | I13: =IF(OR(B13="",D13=""),"",IF(D13>H13,"Avantaj → punct tare",IF(D13<H13,"Dezavantaj → punct slab","La egalitate")))
H14: =IF(B14="","",MAX(E14:G14)) | I14: =IF(OR(B14="",D14=""),"",IF(D14>H14,"Avantaj → punct tare",IF(D14<H14,"Dezavantaj → punct slab","La egalitate")))
B15: Scor ponderat | C15: =SUM(C5:C14) -> 1 | D15: =SUMPRODUCT($C$5:$C$14,D5:D14) -> 3.85 | E15: =SUMPRODUCT($C$5:$C$14,E5:E14) -> 3.35 | F15: =SUMPRODUCT($C$5:$C$14,F5:F14) -> 3.25 | G15: =SUMPRODUCT($C$5:$C$14,G5:G14) -> 3.8 | I15: =IF(ROUND(C15,4)<>1,"Ponderile trebuie să însumeze 100%.",IF(D15>=MAX(E15:G15),"Ești pe primul loc la scorul ponderat.","Ești pe locul "&(1+COUNTIF(E15:G15,">"&D15))&" din 4.")) -> Ești pe primul loc la scorul ponderat.

Sheet Strategii și acțiuni
B1: Strategii și plan de acțiune
B2: Transformă concluziile în acțiuni măsurabile: fiecare acțiune are factorii pe care îi folosește, un responsabil, un termen și un indicator cu țintă.
B4: Nr. | C4: Strategie | D4: Factori folosiți (coduri) | E4: Acțiunea concretă | F4: Responsabil | G4: Termen | H4: Indicator (KPI) | I4: Valoare actuală | J4: Țintă | K4: Diferență până la țintă | L4: Status | M4: Verificare
B5: =IF(E5="","",COUNTA($E$5:E5)) -> 1 | C5: SO – folosește punctele tari pentru oportunități | D5: S1, O1 | E5: Lansăm oferta de instalații fotovoltaice pentru case, cu echipa autorizată ANRE | F5: Andrei Toma | G5: =DATE(2027,3,31) -> 46477 | H5: Contracte fotovoltaice semnate | I5: 2 | J5: 10 | K5: =IF(OR(NOT(ISNUMBER(I5)),NOT(ISNUMBER(J5))),"",J5-I5) -> 8 | L5: În curs | M5: =IF(E5="","",TRIM(IF(H5="","Adaugă un indicator măsurabil. ",IF(OR(NOT(ISNUMBER(I5)),NOT(ISNUMBER(J5))),"Completează valoarea actuală și ținta. ",""))&IF(F5="","Fără responsabil. ","")&IF(NOT(ISNUMBER(G5)),"Fără termen. ",IF(AND(G5<DataA,L5<>"Realizat",L5<>"Abandonat"),"Termen depășit. ",""))&IF(D5="","Leagă acțiunea de factorii din analiză. ",IF(ISNUMBER(MATCH(TRIM(LEFT(SUBSTITUTE(D5,",",REPT(" ",50)),50)),Factori!$B$5:$B$204,0)),"","Codul "&TRIM(LEFT(SUBSTITUTE(D5,",",REPT(" ",50)),50))&" nu există în Factori. "))))
B6: =IF(E6="","",COUNTA($E$5:E6)) -> 2 | C6: WO – corectează punctele slabe prin oportunități | D6: W2, O1 | E6: Site nou cu portofoliu de lucrări, formular de cerere de ofertă și profil Google cu recenzii | F6: Maria Stoica | G6: =DATE(2026,12,31) -> 46387 | H6: Cereri de ofertă online pe lună | I6: 0 | J6: 8 | K6: =IF(OR(NOT(ISNUMBER(I6)),NOT(ISNUMBER(J6))),"",J6-I6) -> 8 | L6: Neînceput | M6: =IF(E6="","",TRIM(IF(H6="","Adaugă un indicator măsurabil. ",IF(OR(NOT(ISNUMBER(I6)),NOT(ISNUMBER(J6))),"Completează valoarea actuală și ținta. ",""))&IF(F6="","Fără responsabil. ","")&IF(NOT(ISNUMBER(G6)),"Fără termen. ",IF(AND(G6<DataA,L6<>"Realizat",L6<>"Abandonat"),"Termen depășit. ",""))&IF(D6="","Leagă acțiunea de factorii din analiză. ",IF(ISNUMBER(MATCH(TRIM(LEFT(SUBSTITUTE(D6,",",REPT(" ",50)),50)),Factori!$B$5:$B$204,0)),"","Codul "&TRIM(LEFT(SUBSTITUTE(D6,",",REPT(" ",50)),50))&" nu există în Factori. "))))
B7: =IF(E7="","",COUNTA($E$5:E7)) -> 3 | C7: ST – folosește punctele tari contra amenințărilor | D7: S2, T2 | E7: Contract cu preț fix pe 6 luni cu doi furnizori de cablu și aparataj | F7: Dan Ilie | G7: =DATE(2026,11,30) -> 46356 | H7: Creșterea costului materialelor (%) | I7: 12 | J7: 5 | K7: =IF(OR(NOT(ISNUMBER(I7)),NOT(ISNUMBER(J7))),"",J7-I7) -> -7 | L7: În curs | M7: =IF(E7="","",TRIM(IF(H7="","Adaugă un indicator măsurabil. ",IF(OR(NOT(ISNUMBER(I7)),NOT(ISNUMBER(J7))),"Completează valoarea actuală și ținta. ",""))&IF(F7="","Fără responsabil. ","")&IF(NOT(ISNUMBER(G7)),"Fără termen. ",IF(AND(G7<DataA,L7<>"Realizat",L7<>"Abandonat"),"Termen depășit. ",""))&IF(D7="","Leagă acțiunea de factorii din analiză. ",IF(ISNUMBER(MATCH(TRIM(LEFT(SUBSTITUTE(D7,",",REPT(" ",50)),50)),Factori!$B$5:$B$204,0)),"","Codul "&TRIM(LEFT(SUBSTITUTE(D7,",",REPT(" ",50)),50))&" nu există în Factori. "))))
B8: =IF(E8="","",COUNTA($E$5:E8)) -> 4 | C8: WT – reduce punctele slabe și amenințările | D8: W1, T3 | E8: Atragem 10 clienți noi de mentenanță anuală, ca să reducem dependența de clienții mari | F8: Andrei Toma | G8: =DATE(2027,6,30) -> 46568 | H8: Ponderea primilor 3 clienți în vânzări (%) | I8: 58 | J8: 40 | K8: =IF(OR(NOT(ISNUMBER(I8)),NOT(ISNUMBER(J8))),"",J8-I8) -> -18 | L8: Neînceput | M8: =IF(E8="","",TRIM(IF(H8="","Adaugă un indicator măsurabil. ",IF(OR(NOT(ISNUMBER(I8)),NOT(ISNUMBER(J8))),"Completează valoarea actuală și ținta. ",""))&IF(F8="","Fără responsabil. ","")&IF(NOT(ISNUMBER(G8)),"Fără termen. ",IF(AND(G8<DataA,L8<>"Realizat",L8<>"Abandonat"),"Termen depășit. ",""))&IF(D8="","Leagă acțiunea de factorii din analiză. ",IF(ISNUMBER(MATCH(TRIM(LEFT(SUBSTITUTE(D8,",",REPT(" ",50)),50)),Factori!$B$5:$B$204,0)),"","Codul "&TRIM(LEFT(SUBSTITUTE(D8,",",REPT(" ",50)),50))&" nu există în Factori. "))))
B9: =IF(E9="","",COUNTA($E$5:E9)) -> 5 | C9: WT – reduce punctele slabe și amenințările | D9: W3, T1 | E9: Program de ucenicie pentru doi electricieni | F9: Mihai Georgescu | G9: =DATE(2027,2,28) -> 46446 | K9: =IF(OR(NOT(ISNUMBER(I9)),NOT(ISNUMBER(J9))),"",J9-I9) | L9: Neînceput | M9: =IF(E9="","",TRIM(IF(H9="","Adaugă un indicator măsurabil. ",IF(OR(NOT(ISNUMBER(I9)),NOT(ISNUMBER(J9))),"Completează valoarea actuală și ținta. ",""))&IF(F9="","Fără responsabil. ","")&IF(NOT(ISNUMBER(G9)),"Fără termen. ",IF(AND(G9<DataA,L9<>"Realizat",L9<>"Abandonat"),"Termen depășit. ",""))&IF(D9="","Leagă acțiunea de factorii din analiză. ",IF(ISNUMBER(MATCH(TRIM(LEFT(SUBSTITUTE(D9,",",REPT(" ",50)),50)),Factori!$B$5:$B$204,0)),"","Codul "&TRIM(LEFT(SUBSTITUTE(D9,",",REPT(" ",50)),50))&" nu există în Factori. ")))) -> Adaugă un indicator măsurabil.
B10: =IF(E10="","",COUNTA($E$5:E10)) | K10: =IF(OR(NOT(ISNUMBER(I10)),NOT(ISNUMBER(J10))),"",J10-I10) | M10: =IF(E10="","",TRIM(IF(H10="","Adaugă un indicator măsurabil. ",IF(OR(NOT(ISNUMBER(I10)),NOT(ISNUMBER(J10))),"Completează valoarea actuală și ținta. ",""))&IF(F10="","Fără responsabil. ","")&IF(NOT(ISNUMBER(G10)),"Fără termen. ",IF(AND(G10<DataA,L10<>"Realizat",L10<>"Abandonat"),"Termen depășit. ",""))&IF(D10="","Leagă acțiunea de factorii din analiză. ",IF(ISNUMBER(MATCH(TRIM(LEFT(SUBSTITUTE(D10,",",REPT(" ",50)),50)),Factori!$B$5:$B$204,0)),"","Codul "&TRIM(LEFT(SUBSTITUTE(D10,",",REPT(" ",50)),50))&" nu există în Factori. "))))
B11: =IF(E11="","",COUNTA($E$5:E11)) | K11: =IF(OR(NOT(ISNUMBER(I11)),NOT(ISNUMBER(J11))),"",J11-I11) | M11: =IF(E11="","",TRIM(IF(H11="","Adaugă un indicator măsurabil. ",IF(OR(NOT(ISNUMBER(I11)),NOT(ISNUMBER(J11))),"Completează valoarea actuală și ținta. ",""))&IF(F11="","Fără responsabil. ","")&IF(NOT(ISNUMBER(G11)),"Fără termen. ",IF(AND(G11<DataA,L11<>"Realizat",L11<>"Abandonat"),"Termen depășit. ",""))&IF(D11="","Leagă acțiunea de factorii din analiză. ",IF(ISNUMBER(MATCH(TRIM(LEFT(SUBSTITUTE(D11,",",REPT(" ",50)),50)),Factori!$B$5:$B$204,0)),"","Codul "&TRIM(LEFT(SUBSTITUTE(D11,",",REPT(" ",50)),50))&" nu există în Factori. "))))
B12: =IF(E12="","",COUNTA($E$5:E12)) | K12: =IF(OR(NOT(ISNUMBER(I12)),NOT(ISNUMBER(J12))),"",J12-I12) | M12: =IF(E12="","",TRIM(IF(H12="","Adaugă un indicator măsurabil. ",IF(OR(NOT(ISNUMBER(I12)),NOT(ISNUMBER(J12))),"Completează valoarea actuală și ținta. ",""))&IF(F12="","Fără responsabil. ","")&IF(NOT(ISNUMBER(G12)),"Fără termen. ",IF(AND(G12<DataA,L12<>"Realizat",L12<>"Abandonat"),"Termen depășit. ",""))&IF(D12="","Leagă acțiunea de factorii din analiză. ",IF(ISNUMBER(MATCH(TRIM(LEFT(SUBSTITUTE(D12,",",REPT(" ",50)),50)),Factori!$B$5:$B$204,0)),"","Codul "&TRIM(LEFT(SUBSTITUTE(D12,",",REPT(" ",50)),50))&" nu există în Factori. "))))
B13: =IF(E13="","",COUNTA($E$5:E13)) | K13: =IF(OR(NOT(ISNUMBER(I13)),NOT(ISNUMBER(J13))),"",J13-I13) | M13: =IF(E13="","",TRIM(IF(H13="","Adaugă un indicator măsurabil. ",IF(OR(NOT(ISNUMBER(I13)),NOT(ISNUMBER(J13))),"Completează valoarea actuală și ținta. ",""))&IF(F13="","Fără responsabil. ","")&IF(NOT(ISNUMBER(G13)),"Fără termen. ",IF(AND(G13<DataA,L13<>"Realizat",L13<>"Abandonat"),"Termen depășit. ",""))&IF(D13="","Leagă acțiunea de factorii din analiză. ",IF(ISNUMBER(MATCH(TRIM(LEFT(SUBSTITUTE(D13,",",REPT(" ",50)),50)),Factori!$B$5:$B$204,0)),"","Codul "&TRIM(LEFT(SUBSTITUTE(D13,",",REPT(" ",50)),50))&" nu există în Factori. "))))
B14: =IF(E14="","",COUNTA($E$5:E14)) | K14: =IF(OR(NOT(ISNUMBER(I14)),NOT(ISNUMBER(J14))),"",J14-I14) | M14: =IF(E14="","",TRIM(IF(H14="","Adaugă un indicator măsurabil. ",IF(OR(NOT(ISNUMBER(I14)),NOT(ISNUMBER(J14))),"Completează valoarea actuală și ținta. ",""))&IF(F14="","Fără responsabil. ","")&IF(NOT(ISNUMBER(G14)),"Fără termen. ",IF(AND(G14<DataA,L14<>"Realizat",L14<>"Abandonat"),"Termen depășit. ",""))&IF(D14="","Leagă acțiunea de factorii din analiză. ",IF(ISNUMBER(MATCH(TRIM(LEFT(SUBSTITUTE(D14,",",REPT(" ",50)),50)),Factori!$B$5:$B$204,0)),"","Codul "&TRIM(LEFT(SUBSTITUTE(D14,",",REPT(" ",50)),50))&" nu există în Factori. "))))
B15: =IF(E15="","",COUNTA($E$5:E15)) | K15: =IF(OR(NOT(ISNUMBER(I15)),NOT(ISNUMBER(J15))),"",J15-I15) | M15: =IF(E15="","",TRIM(IF(H15="","Adaugă un indicator măsurabil. ",IF(OR(NOT(ISNUMBER(I15)),NOT(ISNUMBER(J15))),"Completează valoarea actuală și ținta. ",""))&IF(F15="","Fără responsabil. ","")&IF(NOT(ISNUMBER(G15)),"Fără termen. ",IF(AND(G15<DataA,L15<>"Realizat",L15<>"Abandonat"),"Termen depășit. ",""))&IF(D15="","Leagă acțiunea de factorii din analiză. ",IF(ISNUMBER(MATCH(TRIM(LEFT(SUBSTITUTE(D15,",",REPT(" ",50)),50)),Factori!$B$5:$B$204,0)),"","Codul "&TRIM(LEFT(SUBSTITUTE(D15,",",REPT(" ",50)),50))&" nu există în Factori. "))))
B16: =IF(E16="","",COUNTA($E$5:E16)) | K16: =IF(OR(NOT(ISNUMBER(I16)),NOT(ISNUMBER(J16))),"",J16-I16) | M16: =IF(E16="","",TRIM(IF(H16="","Adaugă un indicator măsurabil. ",IF(OR(NOT(ISNUMBER(I16)),NOT(ISNUMBER(J16))),"Completează valoarea actuală și ținta. ",""))&IF(F16="","Fără responsabil. ","")&IF(NOT(ISNUMBER(G16)),"Fără termen. ",IF(AND(G16<DataA,L16<>"Realizat",L16<>"Abandonat"),"Termen depășit. ",""))&IF(D16="","Leagă acțiunea de factorii din analiză. ",IF(ISNUMBER(MATCH(TRIM(LEFT(SUBSTITUTE(D16,",",REPT(" ",50)),50)),Factori!$B$5:$B$204,0)),"","Codul "&TRIM(LEFT(SUBSTITUTE(D16,",",REPT(" ",50)),50))&" nu există în Factori. "))))
B17: =IF(E17="","",COUNTA($E$5:E17)) | K17: =IF(OR(NOT(ISNUMBER(I17)),NOT(ISNUMBER(J17))),"",J17-I17) | M17: =IF(E17="","",TRIM(IF(H17="","Adaugă un indicator măsurabil. ",IF(OR(NOT(ISNUMBER(I17)),NOT(ISNUMBER(J17))),"Completează valoarea actuală și ținta. ",""))&IF(F17="","Fără responsabil. ","")&IF(NOT(ISNUMBER(G17)),"Fără termen. ",IF(AND(G17<DataA,L17<>"Realizat",L17<>"Abandonat"),"Termen depășit. ",""))&IF(D17="","Leagă acțiunea de factorii din analiză. ",IF(ISNUMBER(MATCH(TRIM(LEFT(SUBSTITUTE(D17,",",REPT(" ",50)),50)),Factori!$B$5:$B$204,0)),"","Codul "&TRIM(LEFT(SUBSTITUTE(D17,",",REPT(" ",50)),50))&" nu există în Factori. "))))
B18: =IF(E18="","",COUNTA($E$5:E18)) | K18: =IF(OR(NOT(ISNUMBER(I18)),NOT(ISNUMBER(J18))),"",J18-I18) | M18: =IF(E18="","",TRIM(IF(H18="","Adaugă un indicator măsurabil. ",IF(OR(NOT(ISNUMBER(I18)),NOT(ISNUMBER(J18))),"Completează valoarea actuală și ținta. ",""))&IF(F18="","Fără responsabil. ","")&IF(NOT(ISNUMBER(G18)),"Fără termen. ",IF(AND(G18<DataA,L18<>"Realizat",L18<>"Abandonat"),"Termen depășit. ",""))&IF(D18="","Leagă acțiunea de factorii din analiză. ",IF(ISNUMBER(MATCH(TRIM(LEFT(SUBSTITUTE(D18,",",REPT(" ",50)),50)),Factori!$B$5:$B$204,0)),"","Codul "&TRIM(LEFT(SUBSTITUTE(D18,",",REPT(" ",50)),50))&" nu există în Factori. "))))
B19: =IF(E19="","",COUNTA($E$5:E19)) | K19: =IF(OR(NOT(ISNUMBER(I19)),NOT(ISNUMBER(J19))),"",J19-I19) | M19: =IF(E19="","",TRIM(IF(H19="","Adaugă un indicator măsurabil. ",IF(OR(NOT(ISNUMBER(I19)),NOT(ISNUMBER(J19))),"Completează valoarea actuală și ținta. ",""))&IF(F19="","Fără responsabil. ","")&IF(NOT(ISNUMBER(G19)),"Fără termen. ",IF(AND(G19<DataA,L19<>"Realizat",L19<>"Abandonat"),"Termen depășit. ",""))&IF(D19="","Leagă acțiunea de factorii din analiză. ",IF(ISNUMBER(MATCH(TRIM(LEFT(SUBSTITUTE(D19,",",REPT(" ",50)),50)),Factori!$B$5:$B$204,0)),"","Codul "&TRIM(LEFT(SUBSTITUTE(D19,",",REPT(" ",50)),50))&" nu există în Factori. "))))
B20: =IF(E20="","",COUNTA($E$5:E20)) | K20: =IF(OR(NOT(ISNUMBER(I20)),NOT(ISNUMBER(J20))),"",J20-I20) | M20: =IF(E20="","",TRIM(IF(H20="","Adaugă un indicator măsurabil. ",IF(OR(NOT(ISNUMBER(I20)),NOT(ISNUMBER(J20))),"Completează valoarea actuală și ținta. ",""))&IF(F20="","Fără responsabil. ","")&IF(NOT(ISNUMBER(G20)),"Fără termen. ",IF(AND(G20<DataA,L20<>"Realizat",L20<>"Abandonat"),"Termen depășit. ",""))&IF(D20="","Leagă acțiunea de factorii din analiză. ",IF(ISNUMBER(MATCH(TRIM(LEFT(SUBSTITUTE(D20,",",REPT(" ",50)),50)),Factori!$B$5:$B$204,0)),"","Codul "&TRIM(LEFT(SUBSTITUTE(D20,",",REPT(" ",50)),50))&" nu există în Factori. "))))
B21: =IF(E21="","",COUNTA($E$5:E21)) | K21: =IF(OR(NOT(ISNUMBER(I21)),NOT(ISNUMBER(J21))),"",J21-I21) | M21: =IF(E21="","",TRIM(IF(H21="","Adaugă un indicator măsurabil. ",IF(OR(NOT(ISNUMBER(I21)),NOT(ISNUMBER(J21))),"Completează valoarea actuală și ținta. ",""))&IF(F21="","Fără responsabil. ","")&IF(NOT(ISNUMBER(G21)),"Fără termen. ",IF(AND(G21<DataA,L21<>"Realizat",L21<>"Abandonat"),"Termen depășit. ",""))&IF(D21="","Leagă acțiunea de factorii din analiză. ",IF(ISNUMBER(MATCH(TRIM(LEFT(SUBSTITUTE(D21,",",REPT(" ",50)),50)),Factori!$B$5:$B$204,0)),"","Codul "&TRIM(LEFT(SUBSTITUTE(D21,",",REPT(" ",50)),50))&" nu există în Factori. "))))
... B64: =IF(E64="","",COUNTA($E$5:E64)) | K64: =IF(OR(NOT(ISNUMBER(I64)),NOT(ISNUMBER(J64))),"",J64-I64) | M64: =IF(E64="","",TRIM(IF(H64="","Adaugă un indicator măsurabil. ",IF(OR(NOT(ISNUMBER(I64)),NOT(ISNUMBER(J64))),"Completează valoarea actuală și ținta. ",""))&IF(F64="","Fără responsabil. ","")&IF(NOT(ISNUMBER(G64)),"Fără termen. ",IF(AND(G64<DataA,L64<>"Realizat",L64<>"Abandonat"),"Termen depășit. ",""))&IF(D64="","Leagă acțiunea de factorii din analiză. ",IF(ISNUMBER(MATCH(TRIM(LEFT(SUBSTITUTE(D64,",",REPT(" ",50)),50)),Factori!$B$5:$B$204,0)),"","Codul "&TRIM(LEFT(SUBSTITUTE(D64,",",REPT(" ",50)),50))&" nu există în Factori. "))))

Sheet Setări
B1: Setări
B2: Datele analizei și listele din meniuri. Scorul unui factor = impact × importanță (fiecare de la 1 la 5).
B4: Firma / proiectul analizat | C4: Exemplu Instalații SRL | E4: Tip factor | F4: Tip strategie | G4: Status | H4: Notă
B5: Scopul analizei | C5: Strategia de creștere pentru 2027 | E5: Punct tare | F5: SO – folosește punctele tari pentru oportunități | G5: Neînceput | H5: 1
B6: Data analizei | C6: =DATE(2026,10,14) -> 46309 | E6: Punct slab | F6: WO – corectează punctele slabe prin oportunități | G6: În curs | H6: 2
B7: Echipa care a făcut analiza | C7: Mihai Georgescu, Andrei Toma, Maria Stoica | E7: Oportunitate | F7: ST – folosește punctele tari contra amenințărilor | G7: Realizat | H7: 3
B8: Prag prioritate ridicată (scor ≥) | C8: 15 | E8: Amenințare | F8: WT – reduce punctele slabe și amenințările | G8: Abandonat | H8: 4
B9: Prag prioritate medie (scor ≥) | C9: 8 | H9: 5
E10: Cod
E11: S
E12: W
E13: O
E14: T
B16: © 2026 Ray Moreno – modelexcel.ro
B17: Model gratuit: îl poți folosi și adapta în activitatea ta. Nu este permisă revânzarea lui sau publicarea pe alte site-uri.
B18: Instrucțiuni și alte modele: modelexcel.ro/analiza-swot/
