Workbook
Name AnV: Setări!$C$5
Name AziC: Setări!$C$8
Name Firma: Setări!$C$4
Name ListaAct: Setări!$G$5:$G$14
Name ListaDaNu: Setări!$K$5:$K$14
Name ListaEtape: Setări!$I$5:$I$10
Name ListaResp: Setări!$H$5:$H$14
Name ListaSursa: Setări!$F$5:$F$14
Name ListaTipC: Setări!$E$5:$E$14
Name RandK: 'Fișă client'!$N$1
Name TabelEtape: Setări!$I$5:$J$10
Name ZileFaraContact: Setări!$C$6
Name ZileFaraVanzari: Setări!$C$7

Sheet Panou
B1: Panou comercial
B2: Ce ai de făcut azi și cum arată vânzările. Totul se actualizează din celelalte foi.
B3: =Firma&" · "&RIGHT("0"&DAY(AziC),2)&"."&RIGHT("0"&MONTH(AziC),2)&"."&YEAR(AziC) -> Exemplu Instalații SRL · 14.10.2026
B5: Clienți activi | D5: Clienți potențiali | F5: Acțiuni întârziate | H5: Acțiuni pentru azi | J5: Oportunități deschise (ponderat) | L5: Rata de câștig
B6: =COUNTIF(Clienți!$L$5:$L$504,"Activ") -> 6 | D6: =COUNTIF(Clienți!$L$5:$L$504,"Potențial") -> 2 | F6: =COUNTIF(Activități!$L$5:$L$1504,"Întârziat") -> 2 | H6: =COUNTIF(Activități!$L$5:$L$1504,"Azi") -> 1 | J6: =SUMIFS(Oportunități!$I$5:$I$304,Oportunități!$G$5:$G$304,"<>Câștigată",Oportunități!$G$5:$G$304,"<>Pierdută") -> 103000 | L6: =IFERROR(COUNTIF(Oportunități!$G$5:$G$304,"Câștigată")/(COUNTIF(Oportunități!$G$5:$G$304,"Câștigată")+COUNTIF(Oportunități!$G$5:$G$304,"Pierdută")),0) -> 0.5
B9: DE FĂCUT (cele mai vechi primele) | K9: TOP CLIENȚI (vânzări în an)
B10: Termen | C10: Client | E10: Pasul următor | H10: Responsabil | I10: Status | K10: Client | L10: Vânzări | M10: Clasa
B11: =IF($N11=0,"",INDEX(Activități!$I$5:$I$1504,$N11)) -> 46280 | C11: =IF($N11=0,"",INDEX(Activități!$D$5:$D$1504,$N11)) -> Hotel Prahova SRL | E11: =IF($N11=0,"",INDEX(Activități!$H$5:$H$1504,$N11)) -> Sună pentru vizită în hotel | H11: =IF($N11=0,"",INDEX(Activități!$J$5:$J$1504,$N11)) -> Andrei Toma | I11: =IF($N11=0,"",INDEX(Activități!$L$5:$L$1504,$N11)) -> Întârziat | K11: =IF(P11=0,"",INDEX(Clienți!$C$5:$C$504,P11)) -> Office Center Ploiești SRL | L11: =IFERROR(LARGE(Clienți!$S$5:$S$504,1),"") -> 42120 | M11: =IF(P11=0,"",INDEX(Clienți!$U$5:$U$504,P11)) -> A | N11: =IF(O11=0,0,ROUND(MOD(O11,1)*1000000,0)-4) -> 2 | O11: =IFERROR(_xlfn.AGGREGATE(15,6,(Activități!$I$5:$I$1504+ROW(Activități!$I$5:$I$1504)/1000000)/((Activități!$L$5:$L$1504="Întârziat")+(Activități!$L$5:$L$1504="Azi")+(Activități!$L$5:$L$1504="Planificat")),1),0) -> 46280 | P11: =IF(N(L11)<=0,0,_xlfn.AGGREGATE(15,6,(ROW(Clienți!$S$5:$S$504)-4)/((Clienți!$S$5:$S$504=L11)*(COUNTIF($P$10:P10,ROW(Clienți!$S$5:$S$504)-4)=0)),1)) -> 8
B12: =IF($N12=0,"",INDEX(Activități!$I$5:$I$1504,$N12)) -> 46304 | C12: =IF($N12=0,"",INDEX(Activități!$D$5:$D$1504,$N12)) -> Electro Plus SRL | E12: =IF($N12=0,"",INDEX(Activități!$H$5:$H$1504,$N12)) -> Trimite oferta pentru contractul-cadru | H12: =IF($N12=0,"",INDEX(Activități!$J$5:$J$1504,$N12)) -> Andrei Toma | I12: =IF($N12=0,"",INDEX(Activități!$L$5:$L$1504,$N12)) -> Întârziat | K12: =IF(P12=0,"",INDEX(Clienți!$C$5:$C$504,P12)) -> Montaj Expert SRL | L12: =IFERROR(LARGE(Clienți!$S$5:$S$504,2),"") -> 27000 | M12: =IF(P12=0,"",INDEX(Clienți!$U$5:$U$504,P12)) -> A | N12: =IF(O12=0,0,ROUND(MOD(O12,1)*1000000,0)-4) -> 6 | O12: =IFERROR(_xlfn.AGGREGATE(15,6,(Activități!$I$5:$I$1504+ROW(Activități!$I$5:$I$1504)/1000000)/((Activități!$L$5:$L$1504="Întârziat")+(Activități!$L$5:$L$1504="Azi")+(Activități!$L$5:$L$1504="Planificat")),2),0) -> 46304 | P12: =IF(N(L12)<=0,0,_xlfn.AGGREGATE(15,6,(ROW(Clienți!$S$5:$S$504)-4)/((Clienți!$S$5:$S$504=L12)*(COUNTIF($P$10:P11,ROW(Clienți!$S$5:$S$504)-4)=0)),1)) -> 4
B13: =IF($N13=0,"",INDEX(Activități!$I$5:$I$1504,$N13)) -> 46309 | C13: =IF($N13=0,"",INDEX(Activități!$D$5:$D$1504,$N13)) -> Montaj Expert SRL | E13: =IF($N13=0,"",INDEX(Activități!$H$5:$H$1504,$N13)) -> Vizită pe șantier cu proiectul | H13: =IF($N13=0,"",INDEX(Activități!$J$5:$J$1504,$N13)) -> Andrei Toma | I13: =IF($N13=0,"",INDEX(Activități!$L$5:$L$1504,$N13)) -> Azi | K13: =IF(P13=0,"",INDEX(Clienți!$C$5:$C$504,P13)) -> Electro Plus SRL | L13: =IFERROR(LARGE(Clienți!$S$5:$S$504,3),"") -> 26500 | M13: =IF(P13=0,"",INDEX(Clienți!$U$5:$U$504,P13)) -> A | N13: =IF(O13=0,0,ROUND(MOD(O13,1)*1000000,0)-4) -> 8 | O13: =IFERROR(_xlfn.AGGREGATE(15,6,(Activități!$I$5:$I$1504+ROW(Activități!$I$5:$I$1504)/1000000)/((Activități!$L$5:$L$1504="Întârziat")+(Activități!$L$5:$L$1504="Azi")+(Activități!$L$5:$L$1504="Planificat")),3),0) -> 46309 | P13: =IF(N(L13)<=0,0,_xlfn.AGGREGATE(15,6,(ROW(Clienți!$S$5:$S$504)-4)/((Clienți!$S$5:$S$504=L13)*(COUNTIF($P$10:P12,ROW(Clienți!$S$5:$S$504)-4)=0)),1)) -> 2
B14: =IF($N14=0,"",INDEX(Activități!$I$5:$I$1504,$N14)) -> 46311 | C14: =IF($N14=0,"",INDEX(Activități!$D$5:$D$1504,$N14)) -> Exemplu Construct SRL | E14: =IF($N14=0,"",INDEX(Activități!$H$5:$H$1504,$N14)) -> Sună pentru confirmare | H14: =IF($N14=0,"",INDEX(Activități!$J$5:$J$1504,$N14)) -> Maria Stoica | I14: =IF($N14=0,"",INDEX(Activități!$L$5:$L$1504,$N14)) -> Planificat | K14: =IF(P14=0,"",INDEX(Clienți!$C$5:$C$504,P14)) -> Exemplu Construct SRL | L14: =IFERROR(LARGE(Clienți!$S$5:$S$504,4),"") -> 21747 | M14: =IF(P14=0,"",INDEX(Clienți!$U$5:$U$504,P14)) -> B | N14: =IF(O14=0,0,ROUND(MOD(O14,1)*1000000,0)-4) -> 10 | O14: =IFERROR(_xlfn.AGGREGATE(15,6,(Activități!$I$5:$I$1504+ROW(Activități!$I$5:$I$1504)/1000000)/((Activități!$L$5:$L$1504="Întârziat")+(Activități!$L$5:$L$1504="Azi")+(Activități!$L$5:$L$1504="Planificat")),4),0) -> 46311 | P14: =IF(N(L14)<=0,0,_xlfn.AGGREGATE(15,6,(ROW(Clienți!$S$5:$S$504)-4)/((Clienți!$S$5:$S$504=L14)*(COUNTIF($P$10:P13,ROW(Clienți!$S$5:$S$504)-4)=0)),1)) -> 1
B15: =IF($N15=0,"",INDEX(Activități!$I$5:$I$1504,$N15)) -> 46325 | C15: =IF($N15=0,"",INDEX(Activități!$D$5:$D$1504,$N15)) -> Primăria Comunei Bucov | E15: =IF($N15=0,"",INDEX(Activități!$H$5:$H$1504,$N15)) -> Pregătește documentele de calificare | H15: =IF($N15=0,"",INDEX(Activități!$J$5:$J$1504,$N15)) -> Dan Ilie | I15: =IF($N15=0,"",INDEX(Activități!$L$5:$L$1504,$N15)) -> Planificat | K15: =IF(P15=0,"",INDEX(Clienți!$C$5:$C$504,P15)) -> Casa Verde SRL | L15: =IFERROR(LARGE(Clienți!$S$5:$S$504,5),"") -> 9800 | M15: =IF(P15=0,"",INDEX(Clienți!$U$5:$U$504,P15)) -> C | N15: =IF(O15=0,0,ROUND(MOD(O15,1)*1000000,0)-4) -> 3 | O15: =IFERROR(_xlfn.AGGREGATE(15,6,(Activități!$I$5:$I$1504+ROW(Activități!$I$5:$I$1504)/1000000)/((Activități!$L$5:$L$1504="Întârziat")+(Activități!$L$5:$L$1504="Azi")+(Activități!$L$5:$L$1504="Planificat")),5),0) -> 46325 | P15: =IF(N(L15)<=0,0,_xlfn.AGGREGATE(15,6,(ROW(Clienți!$S$5:$S$504)-4)/((Clienți!$S$5:$S$504=L15)*(COUNTIF($P$10:P14,ROW(Clienți!$S$5:$S$504)-4)=0)),1)) -> 3
B16: =IF($N16=0,"",INDEX(Activități!$I$5:$I$1504,$N16)) -> 46326 | C16: =IF($N16=0,"",INDEX(Activități!$D$5:$D$1504,$N16)) -> Office Center Ploiești SRL | E16: =IF($N16=0,"",INDEX(Activități!$H$5:$H$1504,$N16)) -> Trimite situația nr. 2 la final de lună | H16: =IF($N16=0,"",INDEX(Activități!$J$5:$J$1504,$N16)) -> Dan Ilie | I16: =IF($N16=0,"",INDEX(Activități!$L$5:$L$1504,$N16)) -> Planificat | N16: =IF(O16=0,0,ROUND(MOD(O16,1)*1000000,0)-4) -> 7 | O16: =IFERROR(_xlfn.AGGREGATE(15,6,(Activități!$I$5:$I$1504+ROW(Activități!$I$5:$I$1504)/1000000)/((Activități!$L$5:$L$1504="Întârziat")+(Activități!$L$5:$L$1504="Azi")+(Activități!$L$5:$L$1504="Planificat")),6),0) -> 46326
B17: =IF($N17=0,"",INDEX(Activități!$I$5:$I$1504,$N17)) | C17: =IF($N17=0,"",INDEX(Activități!$D$5:$D$1504,$N17)) | E17: =IF($N17=0,"",INDEX(Activități!$H$5:$H$1504,$N17)) | H17: =IF($N17=0,"",INDEX(Activități!$J$5:$J$1504,$N17)) | I17: =IF($N17=0,"",INDEX(Activități!$L$5:$L$1504,$N17)) | K17: OPORTUNITĂȚI PE ETAPE | N17: =IF(O17=0,0,ROUND(MOD(O17,1)*1000000,0)-4) -> 0 | O17: =IFERROR(_xlfn.AGGREGATE(15,6,(Activități!$I$5:$I$1504+ROW(Activități!$I$5:$I$1504)/1000000)/((Activități!$L$5:$L$1504="Întârziat")+(Activități!$L$5:$L$1504="Azi")+(Activități!$L$5:$L$1504="Planificat")),7),0) -> 0
B18: =IF($N18=0,"",INDEX(Activități!$I$5:$I$1504,$N18)) | C18: =IF($N18=0,"",INDEX(Activități!$D$5:$D$1504,$N18)) | E18: =IF($N18=0,"",INDEX(Activități!$H$5:$H$1504,$N18)) | H18: =IF($N18=0,"",INDEX(Activități!$J$5:$J$1504,$N18)) | I18: =IF($N18=0,"",INDEX(Activități!$L$5:$L$1504,$N18)) | K18: Etapa | L18: Valoare | M18: Nr. | N18: =IF(O18=0,0,ROUND(MOD(O18,1)*1000000,0)-4) -> 0 | O18: =IFERROR(_xlfn.AGGREGATE(15,6,(Activități!$I$5:$I$1504+ROW(Activități!$I$5:$I$1504)/1000000)/((Activități!$L$5:$L$1504="Întârziat")+(Activități!$L$5:$L$1504="Azi")+(Activități!$L$5:$L$1504="Planificat")),8),0) -> 0
B19: =IF($N19=0,"",INDEX(Activități!$I$5:$I$1504,$N19)) | C19: =IF($N19=0,"",INDEX(Activități!$D$5:$D$1504,$N19)) | E19: =IF($N19=0,"",INDEX(Activități!$H$5:$H$1504,$N19)) | H19: =IF($N19=0,"",INDEX(Activități!$J$5:$J$1504,$N19)) | I19: =IF($N19=0,"",INDEX(Activități!$L$5:$L$1504,$N19)) | K19: =INDEX(ListaEtape,1) -> Contact inițial | L19: =SUMIFS(Oportunități!$F$5:$F$304,Oportunități!$G$5:$G$304,K19) -> 330000 | M19: =COUNTIF(Oportunități!$G$5:$G$304,K19) -> 2 | N19: =IF(O19=0,0,ROUND(MOD(O19,1)*1000000,0)-4) -> 0 | O19: =IFERROR(_xlfn.AGGREGATE(15,6,(Activități!$I$5:$I$1504+ROW(Activități!$I$5:$I$1504)/1000000)/((Activități!$L$5:$L$1504="Întârziat")+(Activități!$L$5:$L$1504="Azi")+(Activități!$L$5:$L$1504="Planificat")),9),0) -> 0
B20: =IF($N20=0,"",INDEX(Activități!$I$5:$I$1504,$N20)) | C20: =IF($N20=0,"",INDEX(Activități!$D$5:$D$1504,$N20)) | E20: =IF($N20=0,"",INDEX(Activități!$H$5:$H$1504,$N20)) | H20: =IF($N20=0,"",INDEX(Activități!$J$5:$J$1504,$N20)) | I20: =IF($N20=0,"",INDEX(Activități!$L$5:$L$1504,$N20)) | K20: =INDEX(ListaEtape,2) -> Nevoie confirmată | L20: =SUMIFS(Oportunități!$F$5:$F$304,Oportunități!$G$5:$G$304,K20) -> 38000 | M20: =COUNTIF(Oportunități!$G$5:$G$304,K20) -> 1 | N20: =IF(O20=0,0,ROUND(MOD(O20,1)*1000000,0)-4) -> 0 | O20: =IFERROR(_xlfn.AGGREGATE(15,6,(Activități!$I$5:$I$1504+ROW(Activități!$I$5:$I$1504)/1000000)/((Activități!$L$5:$L$1504="Întârziat")+(Activități!$L$5:$L$1504="Azi")+(Activități!$L$5:$L$1504="Planificat")),10),0) -> 0
B21: =IF($N21=0,"",INDEX(Activități!$I$5:$I$1504,$N21)) | C21: =IF($N21=0,"",INDEX(Activități!$D$5:$D$1504,$N21)) | E21: =IF($N21=0,"",INDEX(Activități!$H$5:$H$1504,$N21)) | H21: =IF($N21=0,"",INDEX(Activități!$J$5:$J$1504,$N21)) | I21: =IF($N21=0,"",INDEX(Activități!$L$5:$L$1504,$N21)) | K21: =INDEX(ListaEtape,3) -> Ofertă trimisă | L21: =SUMIFS(Oportunități!$F$5:$F$304,Oportunități!$G$5:$G$304,K21) -> 85000 | M21: =COUNTIF(Oportunități!$G$5:$G$304,K21) -> 1 | N21: =IF(O21=0,0,ROUND(MOD(O21,1)*1000000,0)-4) -> 0 | O21: =IFERROR(_xlfn.AGGREGATE(15,6,(Activități!$I$5:$I$1504+ROW(Activități!$I$5:$I$1504)/1000000)/((Activități!$L$5:$L$1504="Întârziat")+(Activități!$L$5:$L$1504="Azi")+(Activități!$L$5:$L$1504="Planificat")),11),0) -> 0
B22: =IF($N22=0,"",INDEX(Activități!$I$5:$I$1504,$N22)) | C22: =IF($N22=0,"",INDEX(Activități!$D$5:$D$1504,$N22)) | E22: =IF($N22=0,"",INDEX(Activități!$H$5:$H$1504,$N22)) | H22: =IF($N22=0,"",INDEX(Activități!$J$5:$J$1504,$N22)) | I22: =IF($N22=0,"",INDEX(Activități!$L$5:$L$1504,$N22)) | K22: =INDEX(ListaEtape,4) -> Negociere | L22: =SUMIFS(Oportunități!$F$5:$F$304,Oportunități!$G$5:$G$304,K22) -> 24000 | M22: =COUNTIF(Oportunități!$G$5:$G$304,K22) -> 1 | N22: =IF(O22=0,0,ROUND(MOD(O22,1)*1000000,0)-4) -> 0 | O22: =IFERROR(_xlfn.AGGREGATE(15,6,(Activități!$I$5:$I$1504+ROW(Activități!$I$5:$I$1504)/1000000)/((Activități!$L$5:$L$1504="Întârziat")+(Activități!$L$5:$L$1504="Azi")+(Activități!$L$5:$L$1504="Planificat")),12),0) -> 0
K23: =INDEX(ListaEtape,5) -> Câștigată | L23: =SUMIFS(Oportunități!$F$5:$F$304,Oportunități!$G$5:$G$304,K23) -> 198395 | M23: =COUNTIF(Oportunități!$G$5:$G$304,K23) -> 1
K24: =INDEX(ListaEtape,6) -> Pierdută | L24: =SUMIFS(Oportunități!$F$5:$F$304,Oportunități!$G$5:$G$304,K24) -> 46000 | M24: =COUNTIF(Oportunități!$G$5:$G$304,K24) -> 1

Sheet Clienți
B1: Baza de date a clienților
B2: Un rând pentru fiecare client sau client potențial. Ultimul contact, următoarea acțiune, vânzările și alertele se calculează din celelalte foi.
B4: Cod | C4: Firmă / nume | D4: CIF / CNP | E4: Persoană de contact | F4: Funcția | G4: Telefon | H4: E-mail | I4: Oraș | J4: Sursa | K4: Responsabil | L4: Tip client | M4: Condiții de plată | N4: Acord pentru comunicări comerciale | O4: Data primului contact | P4: Ultimul contact | Q4: Zile de la ultimul contact | R4: Următoarea acțiune | S4: Vânzări în an (fără TVA) | T4: Ultima vânzare | U4: Clasa ABC | V4: Oportunități deschise (ponderat) | W4: Alertă
B5: C001 | C5: Exemplu Construct SRL | D5: RO23456789 | E5: Dan Ilie | F5: Director tehnic | G5: 0722 111 222 | H5: office@exemplu-construct.ro | I5: Câmpina | J5: Recomandare | K5: Maria Stoica | L5: Activ | M5: OP la 15 zile | N5: Da | O5: =DATE(2024,3,12) -> 45363 | P5: =IF(B5="","",IFERROR(_xlfn.AGGREGATE(14,6,Activități!$B$5:$B$1504/(Activități!$C$5:$C$1504=B5),1),"")) -> 46307 | Q5: =IF(ISNUMBER(P5),AziC-P5,"") -> 2 | R5: =IF(B5="","",IFERROR(_xlfn.AGGREGATE(15,6,Activități!$I$5:$I$1504/((Activități!$C$5:$C$1504=B5)*(Activități!$K$5:$K$1504<>"Da")*ISNUMBER(Activități!$I$5:$I$1504)),1),"")) -> 46311 | S5: =IF(B5="","",SUMIFS(Vânzări!$F$5:$F$2004,Vânzări!$C$5:$C$2004,B5,Vânzări!$B$5:$B$2004,">="&DATE(AnV,1,1),Vânzări!$B$5:$B$2004,"<="&DATE(AnV,12,31))) -> 21747 | T5: =IF(B5="","",IFERROR(_xlfn.AGGREGATE(14,6,Vânzări!$B$5:$B$2004/(Vânzări!$C$5:$C$2004=B5),1),"")) -> 46307 | U5: =IF(OR(B5="",N(S5)<=0),"–",IF(SUMIF($S$5:$S$504,">="&S5)/SUM($S$5:$S$504)<=0.8,"A",IF(SUMIF($S$5:$S$504,">="&S5)/SUM($S$5:$S$504)<=0.95,"B","C"))) -> B | V5: =IF(B5="","",SUMIFS(Oportunități!$I$5:$I$304,Oportunități!$C$5:$C$304,B5,Oportunități!$G$5:$G$304,"<>Câștigată",Oportunități!$G$5:$G$304,"<>Pierdută")) -> 18000 | W5: =IF(B5="","",TRIM(IF(COUNTIF($B$5:$B$504,B5)>1,"Cod dublat. ","")&IF(AND(OR(L5="Activ",L5="Potențial"),OR(NOT(ISNUMBER(Q5)),N(Q5)>ZileFaraContact)),IF(ISNUMBER(Q5),"Fără contact de "&Q5&" zile. ","Niciun contact înregistrat. "),"")&IF(AND(ISNUMBER(R5),R5<AziC),"Acțiune întârziată ("&RIGHT("0"&DAY(R5),2)&"."&RIGHT("0"&MONTH(R5),2)&"."&YEAR(R5)&"). ","")&IF(AND(L5="Activ",OR(NOT(ISNUMBER(T5)),AziC-N(T5)>ZileFaraVanzari)),"Activ, fără vânzări de peste "&ZileFaraVanzari&" de zile. ","")&IF(AND(L5<>"Inactiv",L5<>"Pierdut",G5="",H5=""),"Lipsesc telefonul și e-mailul. ","")))
B6: C002 | C6: Electro Plus SRL | D6: RO34567890 | E6: Maria Stoica | F6: Achiziții | G6: 0244 222 333 | H6: achizitii@electroplus.ro | I6: Ploiești | J6: Târg / eveniment | K6: Andrei Toma | L6: Activ | M6: OP la 30 zile | N6: Da | O6: =DATE(2023,10,5) -> 45204 | P6: =IF(B6="","",IFERROR(_xlfn.AGGREGATE(14,6,Activități!$B$5:$B$1504/(Activități!$C$5:$C$1504=B6),1),"")) -> 46296 | Q6: =IF(ISNUMBER(P6),AziC-P6,"") -> 13 | R6: =IF(B6="","",IFERROR(_xlfn.AGGREGATE(15,6,Activități!$I$5:$I$1504/((Activități!$C$5:$C$1504=B6)*(Activități!$K$5:$K$1504<>"Da")*ISNUMBER(Activități!$I$5:$I$1504)),1),"")) -> 46304 | S6: =IF(B6="","",SUMIFS(Vânzări!$F$5:$F$2004,Vânzări!$C$5:$C$2004,B6,Vânzări!$B$5:$B$2004,">="&DATE(AnV,1,1),Vânzări!$B$5:$B$2004,"<="&DATE(AnV,12,31))) -> 26500 | T6: =IF(B6="","",IFERROR(_xlfn.AGGREGATE(14,6,Vânzări!$B$5:$B$2004/(Vânzări!$C$5:$C$2004=B6),1),"")) -> 46297 | U6: =IF(OR(B6="",N(S6)<=0),"–",IF(SUMIF($S$5:$S$504,">="&S6)/SUM($S$5:$S$504)<=0.8,"A",IF(SUMIF($S$5:$S$504,">="&S6)/SUM($S$5:$S$504)<=0.95,"B","C"))) -> A | V6: =IF(B6="","",SUMIFS(Oportunități!$I$5:$I$304,Oportunități!$C$5:$C$304,B6,Oportunități!$G$5:$G$304,"<>Câștigată",Oportunități!$G$5:$G$304,"<>Pierdută")) -> 42500 | W6: =IF(B6="","",TRIM(IF(COUNTIF($B$5:$B$504,B6)>1,"Cod dublat. ","")&IF(AND(OR(L6="Activ",L6="Potențial"),OR(NOT(ISNUMBER(Q6)),N(Q6)>ZileFaraContact)),IF(ISNUMBER(Q6),"Fără contact de "&Q6&" zile. ","Niciun contact înregistrat. "),"")&IF(AND(ISNUMBER(R6),R6<AziC),"Acțiune întârziată ("&RIGHT("0"&DAY(R6),2)&"."&RIGHT("0"&MONTH(R6),2)&"."&YEAR(R6)&"). ","")&IF(AND(L6="Activ",OR(NOT(ISNUMBER(T6)),AziC-N(T6)>ZileFaraVanzari)),"Activ, fără vânzări de peste "&ZileFaraVanzari&" de zile. ","")&IF(AND(L6<>"Inactiv",L6<>"Pierdut",G6="",H6=""),"Lipsesc telefonul și e-mailul. ",""))) -> Acțiune întârziată (09.10.2026).
B7: C003 | C7: Casa Verde SRL | D7: RO67890123 | E7: Elena Dinu | F7: Administrator | G7: 0733 444 555 | H7: office@casaverde.ro | I7: Bucov | J7: Site | K7: Maria Stoica | L7: Activ | M7: Plată în avans | N7: Da | O7: =DATE(2025,5,20) -> 45797 | P7: =IF(B7="","",IFERROR(_xlfn.AGGREGATE(14,6,Activități!$B$5:$B$1504/(Activități!$C$5:$C$1504=B7),1),"")) -> 46287 | Q7: =IF(ISNUMBER(P7),AziC-P7,"") -> 22 | R7: =IF(B7="","",IFERROR(_xlfn.AGGREGATE(15,6,Activități!$I$5:$I$1504/((Activități!$C$5:$C$1504=B7)*(Activități!$K$5:$K$1504<>"Da")*ISNUMBER(Activități!$I$5:$I$1504)),1),"")) | S7: =IF(B7="","",SUMIFS(Vânzări!$F$5:$F$2004,Vânzări!$C$5:$C$2004,B7,Vânzări!$B$5:$B$2004,">="&DATE(AnV,1,1),Vânzări!$B$5:$B$2004,"<="&DATE(AnV,12,31))) -> 9800 | T7: =IF(B7="","",IFERROR(_xlfn.AGGREGATE(14,6,Vânzări!$B$5:$B$2004/(Vânzări!$C$5:$C$2004=B7),1),"")) -> 46300 | U7: =IF(OR(B7="",N(S7)<=0),"–",IF(SUMIF($S$5:$S$504,">="&S7)/SUM($S$5:$S$504)<=0.8,"A",IF(SUMIF($S$5:$S$504,">="&S7)/SUM($S$5:$S$504)<=0.95,"B","C"))) -> C | V7: =IF(B7="","",SUMIFS(Oportunități!$I$5:$I$304,Oportunități!$C$5:$C$304,B7,Oportunități!$G$5:$G$304,"<>Câștigată",Oportunități!$G$5:$G$304,"<>Pierdută")) -> 0 | W7: =IF(B7="","",TRIM(IF(COUNTIF($B$5:$B$504,B7)>1,"Cod dublat. ","")&IF(AND(OR(L7="Activ",L7="Potențial"),OR(NOT(ISNUMBER(Q7)),N(Q7)>ZileFaraContact)),IF(ISNUMBER(Q7),"Fără contact de "&Q7&" zile. ","Niciun contact înregistrat. "),"")&IF(AND(ISNUMBER(R7),R7<AziC),"Acțiune întârziată ("&RIGHT("0"&DAY(R7),2)&"."&RIGHT("0"&MONTH(R7),2)&"."&YEAR(R7)&"). ","")&IF(AND(L7="Activ",OR(NOT(ISNUMBER(T7)),AziC-N(T7)>ZileFaraVanzari)),"Activ, fără vânzări de peste "&ZileFaraVanzari&" de zile. ","")&IF(AND(L7<>"Inactiv",L7<>"Pierdut",G7="",H7=""),"Lipsesc telefonul și e-mailul. ","")))
B8: C004 | C8: Montaj Expert SRL | D8: RO56789012 | E8: Andrei Toma | F8: Șef șantier | G8: 0744 333 444 | I8: Ploiești | J8: Recomandare | K8: Andrei Toma | L8: Activ | M8: OP la 15 zile | N8: Nu | O8: =DATE(2022,2,14) -> 44606 | P8: =IF(B8="","",IFERROR(_xlfn.AGGREGATE(14,6,Activități!$B$5:$B$1504/(Activități!$C$5:$C$1504=B8),1),"")) -> 46300 | Q8: =IF(ISNUMBER(P8),AziC-P8,"") -> 9 | R8: =IF(B8="","",IFERROR(_xlfn.AGGREGATE(15,6,Activități!$I$5:$I$1504/((Activități!$C$5:$C$1504=B8)*(Activități!$K$5:$K$1504<>"Da")*ISNUMBER(Activități!$I$5:$I$1504)),1),"")) -> 46309 | S8: =IF(B8="","",SUMIFS(Vânzări!$F$5:$F$2004,Vânzări!$C$5:$C$2004,B8,Vânzări!$B$5:$B$2004,">="&DATE(AnV,1,1),Vânzări!$B$5:$B$2004,"<="&DATE(AnV,12,31))) -> 27000 | T8: =IF(B8="","",IFERROR(_xlfn.AGGREGATE(14,6,Vânzări!$B$5:$B$2004/(Vânzări!$C$5:$C$2004=B8),1),"")) -> 46303 | U8: =IF(OR(B8="",N(S8)<=0),"–",IF(SUMIF($S$5:$S$504,">="&S8)/SUM($S$5:$S$504)<=0.8,"A",IF(SUMIF($S$5:$S$504,">="&S8)/SUM($S$5:$S$504)<=0.95,"B","C"))) -> A | V8: =IF(B8="","",SUMIFS(Oportunități!$I$5:$I$304,Oportunități!$C$5:$C$304,B8,Oportunități!$G$5:$G$304,"<>Câștigată",Oportunități!$G$5:$G$304,"<>Pierdută")) -> 9500 | W8: =IF(B8="","",TRIM(IF(COUNTIF($B$5:$B$504,B8)>1,"Cod dublat. ","")&IF(AND(OR(L8="Activ",L8="Potențial"),OR(NOT(ISNUMBER(Q8)),N(Q8)>ZileFaraContact)),IF(ISNUMBER(Q8),"Fără contact de "&Q8&" zile. ","Niciun contact înregistrat. "),"")&IF(AND(ISNUMBER(R8),R8<AziC),"Acțiune întârziată ("&RIGHT("0"&DAY(R8),2)&"."&RIGHT("0"&MONTH(R8),2)&"."&YEAR(R8)&"). ","")&IF(AND(L8="Activ",OR(NOT(ISNUMBER(T8)),AziC-N(T8)>ZileFaraVanzari)),"Activ, fără vânzări de peste "&ZileFaraVanzari&" de zile. ","")&IF(AND(L8<>"Inactiv",L8<>"Pierdut",G8="",H8=""),"Lipsesc telefonul și e-mailul. ","")))
B9: C005 | C9: Instal Rapid SRL | D9: RO45678901 | E9: Sorin Neagu | F9: Director | G9: 0755 666 777 | H9: contact@instalrapid.ro | I9: Ploiești | J9: Telefon | K9: Maria Stoica | L9: Activ | M9: La livrare | N9: Da | O9: =DATE(2025,1,9) -> 45666 | P9: =IF(B9="","",IFERROR(_xlfn.AGGREGATE(14,6,Activități!$B$5:$B$1504/(Activități!$C$5:$C$1504=B9),1),"")) -> 46307 | Q9: =IF(ISNUMBER(P9),AziC-P9,"") -> 2 | R9: =IF(B9="","",IFERROR(_xlfn.AGGREGATE(15,6,Activități!$I$5:$I$1504/((Activități!$C$5:$C$1504=B9)*(Activități!$K$5:$K$1504<>"Da")*ISNUMBER(Activități!$I$5:$I$1504)),1),"")) | S9: =IF(B9="","",SUMIFS(Vânzări!$F$5:$F$2004,Vânzări!$C$5:$C$2004,B9,Vânzări!$B$5:$B$2004,">="&DATE(AnV,1,1),Vânzări!$B$5:$B$2004,"<="&DATE(AnV,12,31))) -> 4200 | T9: =IF(B9="","",IFERROR(_xlfn.AGGREGATE(14,6,Vânzări!$B$5:$B$2004/(Vânzări!$C$5:$C$2004=B9),1),"")) -> 46086 | U9: =IF(OR(B9="",N(S9)<=0),"–",IF(SUMIF($S$5:$S$504,">="&S9)/SUM($S$5:$S$504)<=0.8,"A",IF(SUMIF($S$5:$S$504,">="&S9)/SUM($S$5:$S$504)<=0.95,"B","C"))) -> C | V9: =IF(B9="","",SUMIFS(Oportunități!$I$5:$I$304,Oportunități!$C$5:$C$304,B9,Oportunități!$G$5:$G$304,"<>Câștigată",Oportunități!$G$5:$G$304,"<>Pierdută")) -> 0 | W9: =IF(B9="","",TRIM(IF(COUNTIF($B$5:$B$504,B9)>1,"Cod dublat. ","")&IF(AND(OR(L9="Activ",L9="Potențial"),OR(NOT(ISNUMBER(Q9)),N(Q9)>ZileFaraContact)),IF(ISNUMBER(Q9),"Fără contact de "&Q9&" zile. ","Niciun contact înregistrat. "),"")&IF(AND(ISNUMBER(R9),R9<AziC),"Acțiune întârziată ("&RIGHT("0"&DAY(R9),2)&"."&RIGHT("0"&MONTH(R9),2)&"."&YEAR(R9)&"). ","")&IF(AND(L9="Activ",OR(NOT(ISNUMBER(T9)),AziC-N(T9)>ZileFaraVanzari)),"Activ, fără vânzări de peste "&ZileFaraVanzari&" de zile. ","")&IF(AND(L9<>"Inactiv",L9<>"Pierdut",G9="",H9=""),"Lipsesc telefonul și e-mailul. ",""))) -> Activ, fără vânzări de peste 90 de zile.
B10: C006 | C10: Hotel Prahova SRL | D10: RO12121212 | E10: Irina Matei | F10: Director general | G10: 0766 121 212 | H10: irina.matei@hotelprahova.ro | I10: Sinaia | J10: LinkedIn | K10: Andrei Toma | L10: Potențial | N10: Da | O10: =DATE(2026,8,20) -> 46254 | P10: =IF(B10="","",IFERROR(_xlfn.AGGREGATE(14,6,Activități!$B$5:$B$1504/(Activități!$C$5:$C$1504=B10),1),"")) -> 46261 | Q10: =IF(ISNUMBER(P10),AziC-P10,"") -> 48 | R10: =IF(B10="","",IFERROR(_xlfn.AGGREGATE(15,6,Activități!$I$5:$I$1504/((Activități!$C$5:$C$1504=B10)*(Activități!$K$5:$K$1504<>"Da")*ISNUMBER(Activități!$I$5:$I$1504)),1),"")) -> 46280 | S10: =IF(B10="","",SUMIFS(Vânzări!$F$5:$F$2004,Vânzări!$C$5:$C$2004,B10,Vânzări!$B$5:$B$2004,">="&DATE(AnV,1,1),Vânzări!$B$5:$B$2004,"<="&DATE(AnV,12,31))) -> 0 | T10: =IF(B10="","",IFERROR(_xlfn.AGGREGATE(14,6,Vânzări!$B$5:$B$2004/(Vânzări!$C$5:$C$2004=B10),1),"")) | U10: =IF(OR(B10="",N(S10)<=0),"–",IF(SUMIF($S$5:$S$504,">="&S10)/SUM($S$5:$S$504)<=0.8,"A",IF(SUMIF($S$5:$S$504,">="&S10)/SUM($S$5:$S$504)<=0.95,"B","C"))) -> – | V10: =IF(B10="","",SUMIFS(Oportunități!$I$5:$I$304,Oportunități!$C$5:$C$304,B10,Oportunități!$G$5:$G$304,"<>Câștigată",Oportunități!$G$5:$G$304,"<>Pierdută")) -> 12000 | W10: =IF(B10="","",TRIM(IF(COUNTIF($B$5:$B$504,B10)>1,"Cod dublat. ","")&IF(AND(OR(L10="Activ",L10="Potențial"),OR(NOT(ISNUMBER(Q10)),N(Q10)>ZileFaraContact)),IF(ISNUMBER(Q10),"Fără contact de "&Q10&" zile. ","Niciun contact înregistrat. "),"")&IF(AND(ISNUMBER(R10),R10<AziC),"Acțiune întârziată ("&RIGHT("0"&DAY(R10),2)&"."&RIGHT("0"&MONTH(R10),2)&"."&YEAR(R10)&"). ","")&IF(AND(L10="Activ",OR(NOT(ISNUMBER(T10)),AziC-N(T10)>ZileFaraVanzari)),"Activ, fără vânzări de peste "&ZileFaraVanzari&" de zile. ","")&IF(AND(L10<>"Inactiv",L10<>"Pierdut",G10="",H10=""),"Lipsesc telefonul și e-mailul. ",""))) -> Fără contact de 48 zile. Acțiune întârziată (15.09.2026).
B11: C007 | C11: Primăria Comunei Bucov | D11: 2845511 | E11: Vlad Pop | F11: Achiziții publice | G11: 0244 275 000 | H11: achizitii@primariabucov.ro | I11: Bucov | J11: Altă sursă | K11: Dan Ilie | L11: Potențial | N11: Nu | O11: =DATE(2026,9,15) -> 46280 | P11: =IF(B11="","",IFERROR(_xlfn.AGGREGATE(14,6,Activități!$B$5:$B$1504/(Activități!$C$5:$C$1504=B11),1),"")) -> 46280 | Q11: =IF(ISNUMBER(P11),AziC-P11,"") -> 29 | R11: =IF(B11="","",IFERROR(_xlfn.AGGREGATE(15,6,Activități!$I$5:$I$1504/((Activități!$C$5:$C$1504=B11)*(Activități!$K$5:$K$1504<>"Da")*ISNUMBER(Activități!$I$5:$I$1504)),1),"")) -> 46325 | S11: =IF(B11="","",SUMIFS(Vânzări!$F$5:$F$2004,Vânzări!$C$5:$C$2004,B11,Vânzări!$B$5:$B$2004,">="&DATE(AnV,1,1),Vânzări!$B$5:$B$2004,"<="&DATE(AnV,12,31))) -> 0 | T11: =IF(B11="","",IFERROR(_xlfn.AGGREGATE(14,6,Vânzări!$B$5:$B$2004/(Vânzări!$C$5:$C$2004=B11),1),"")) | U11: =IF(OR(B11="",N(S11)<=0),"–",IF(SUMIF($S$5:$S$504,">="&S11)/SUM($S$5:$S$504)<=0.8,"A",IF(SUMIF($S$5:$S$504,">="&S11)/SUM($S$5:$S$504)<=0.95,"B","C"))) -> – | V11: =IF(B11="","",SUMIFS(Oportunități!$I$5:$I$304,Oportunități!$C$5:$C$304,B11,Oportunități!$G$5:$G$304,"<>Câștigată",Oportunități!$G$5:$G$304,"<>Pierdută")) -> 21000 | W11: =IF(B11="","",TRIM(IF(COUNTIF($B$5:$B$504,B11)>1,"Cod dublat. ","")&IF(AND(OR(L11="Activ",L11="Potențial"),OR(NOT(ISNUMBER(Q11)),N(Q11)>ZileFaraContact)),IF(ISNUMBER(Q11),"Fără contact de "&Q11&" zile. ","Niciun contact înregistrat. "),"")&IF(AND(ISNUMBER(R11),R11<AziC),"Acțiune întârziată ("&RIGHT("0"&DAY(R11),2)&"."&RIGHT("0"&MONTH(R11),2)&"."&YEAR(R11)&"). ","")&IF(AND(L11="Activ",OR(NOT(ISNUMBER(T11)),AziC-N(T11)>ZileFaraVanzari)),"Activ, fără vânzări de peste "&ZileFaraVanzari&" de zile. ","")&IF(AND(L11<>"Inactiv",L11<>"Pierdut",G11="",H11=""),"Lipsesc telefonul și e-mailul. ","")))
B12: C008 | C12: Office Center Ploiești SRL | D12: RO31313131 | E12: Laura Pop | F12: Diriginte de șantier | G12: 0722 313 131 | H12: laura.pop@officecenter.ro | I12: Ploiești | J12: Recomandare | K12: Dan Ilie | L12: Activ | M12: Conform contract | N12: Da | O12: =DATE(2026,7,1) -> 46204 | P12: =IF(B12="","",IFERROR(_xlfn.AGGREGATE(14,6,Activități!$B$5:$B$1504/(Activități!$C$5:$C$1504=B12),1),"")) -> 46297 | Q12: =IF(ISNUMBER(P12),AziC-P12,"") -> 12 | R12: =IF(B12="","",IFERROR(_xlfn.AGGREGATE(15,6,Activități!$I$5:$I$1504/((Activități!$C$5:$C$1504=B12)*(Activități!$K$5:$K$1504<>"Da")*ISNUMBER(Activități!$I$5:$I$1504)),1),"")) -> 46326 | S12: =IF(B12="","",SUMIFS(Vânzări!$F$5:$F$2004,Vânzări!$C$5:$C$2004,B12,Vânzări!$B$5:$B$2004,">="&DATE(AnV,1,1),Vânzări!$B$5:$B$2004,"<="&DATE(AnV,12,31))) -> 42120 | T12: =IF(B12="","",IFERROR(_xlfn.AGGREGATE(14,6,Vânzări!$B$5:$B$2004/(Vânzări!$C$5:$C$2004=B12),1),"")) -> 46295 | U12: =IF(OR(B12="",N(S12)<=0),"–",IF(SUMIF($S$5:$S$504,">="&S12)/SUM($S$5:$S$504)<=0.8,"A",IF(SUMIF($S$5:$S$504,">="&S12)/SUM($S$5:$S$504)<=0.95,"B","C"))) -> A | V12: =IF(B12="","",SUMIFS(Oportunități!$I$5:$I$304,Oportunități!$C$5:$C$304,B12,Oportunități!$G$5:$G$304,"<>Câștigată",Oportunități!$G$5:$G$304,"<>Pierdută")) -> 0 | W12: =IF(B12="","",TRIM(IF(COUNTIF($B$5:$B$504,B12)>1,"Cod dublat. ","")&IF(AND(OR(L12="Activ",L12="Potențial"),OR(NOT(ISNUMBER(Q12)),N(Q12)>ZileFaraContact)),IF(ISNUMBER(Q12),"Fără contact de "&Q12&" zile. ","Niciun contact înregistrat. "),"")&IF(AND(ISNUMBER(R12),R12<AziC),"Acțiune întârziată ("&RIGHT("0"&DAY(R12),2)&"."&RIGHT("0"&MONTH(R12),2)&"."&YEAR(R12)&"). ","")&IF(AND(L12="Activ",OR(NOT(ISNUMBER(T12)),AziC-N(T12)>ZileFaraVanzari)),"Activ, fără vânzări de peste "&ZileFaraVanzari&" de zile. ","")&IF(AND(L12<>"Inactiv",L12<>"Pierdut",G12="",H12=""),"Lipsesc telefonul și e-mailul. ","")))
B13: C009 | C13: Popescu Ion | D13: 1720315290016 | I13: Ploiești | J13: Telefon | K13: Maria Stoica | L13: Inactiv | N13: Nu | O13: =DATE(2026,10,6) -> 46301 | P13: =IF(B13="","",IFERROR(_xlfn.AGGREGATE(14,6,Activități!$B$5:$B$1504/(Activități!$C$5:$C$1504=B13),1),"")) | Q13: =IF(ISNUMBER(P13),AziC-P13,"") | R13: =IF(B13="","",IFERROR(_xlfn.AGGREGATE(15,6,Activități!$I$5:$I$1504/((Activități!$C$5:$C$1504=B13)*(Activități!$K$5:$K$1504<>"Da")*ISNUMBER(Activități!$I$5:$I$1504)),1),"")) | S13: =IF(B13="","",SUMIFS(Vânzări!$F$5:$F$2004,Vânzări!$C$5:$C$2004,B13,Vânzări!$B$5:$B$2004,">="&DATE(AnV,1,1),Vânzări!$B$5:$B$2004,"<="&DATE(AnV,12,31))) -> 820 | T13: =IF(B13="","",IFERROR(_xlfn.AGGREGATE(14,6,Vânzări!$B$5:$B$2004/(Vânzări!$C$5:$C$2004=B13),1),"")) -> 46301 | U13: =IF(OR(B13="",N(S13)<=0),"–",IF(SUMIF($S$5:$S$504,">="&S13)/SUM($S$5:$S$504)<=0.8,"A",IF(SUMIF($S$5:$S$504,">="&S13)/SUM($S$5:$S$504)<=0.95,"B","C"))) -> C | V13: =IF(B13="","",SUMIFS(Oportunități!$I$5:$I$304,Oportunități!$C$5:$C$304,B13,Oportunități!$G$5:$G$304,"<>Câștigată",Oportunități!$G$5:$G$304,"<>Pierdută")) -> 0 | W13: =IF(B13="","",TRIM(IF(COUNTIF($B$5:$B$504,B13)>1,"Cod dublat. ","")&IF(AND(OR(L13="Activ",L13="Potențial"),OR(NOT(ISNUMBER(Q13)),N(Q13)>ZileFaraContact)),IF(ISNUMBER(Q13),"Fără contact de "&Q13&" zile. ","Niciun contact înregistrat. "),"")&IF(AND(ISNUMBER(R13),R13<AziC),"Acțiune întârziată ("&RIGHT("0"&DAY(R13),2)&"."&RIGHT("0"&MONTH(R13),2)&"."&YEAR(R13)&"). ","")&IF(AND(L13="Activ",OR(NOT(ISNUMBER(T13)),AziC-N(T13)>ZileFaraVanzari)),"Activ, fără vânzări de peste "&ZileFaraVanzari&" de zile. ","")&IF(AND(L13<>"Inactiv",L13<>"Pierdut",G13="",H13=""),"Lipsesc telefonul și e-mailul. ","")))
P14: =IF(B14="","",IFERROR(_xlfn.AGGREGATE(14,6,Activități!$B$5:$B$1504/(Activități!$C$5:$C$1504=B14),1),"")) | Q14: =IF(ISNUMBER(P14),AziC-P14,"") | R14: =IF(B14="","",IFERROR(_xlfn.AGGREGATE(15,6,Activități!$I$5:$I$1504/((Activități!$C$5:$C$1504=B14)*(Activități!$K$5:$K$1504<>"Da")*ISNUMBER(Activități!$I$5:$I$1504)),1),"")) | S14: =IF(B14="","",SUMIFS(Vânzări!$F$5:$F$2004,Vânzări!$C$5:$C$2004,B14,Vânzări!$B$5:$B$2004,">="&DATE(AnV,1,1),Vânzări!$B$5:$B$2004,"<="&DATE(AnV,12,31))) | T14: =IF(B14="","",IFERROR(_xlfn.AGGREGATE(14,6,Vânzări!$B$5:$B$2004/(Vânzări!$C$5:$C$2004=B14),1),"")) | U14: =IF(OR(B14="",N(S14)<=0),"–",IF(SUMIF($S$5:$S$504,">="&S14)/SUM($S$5:$S$504)<=0.8,"A",IF(SUMIF($S$5:$S$504,">="&S14)/SUM($S$5:$S$504)<=0.95,"B","C"))) -> – | V14: =IF(B14="","",SUMIFS(Oportunități!$I$5:$I$304,Oportunități!$C$5:$C$304,B14,Oportunități!$G$5:$G$304,"<>Câștigată",Oportunități!$G$5:$G$304,"<>Pierdută")) | W14: =IF(B14="","",TRIM(IF(COUNTIF($B$5:$B$504,B14)>1,"Cod dublat. ","")&IF(AND(OR(L14="Activ",L14="Potențial"),OR(NOT(ISNUMBER(Q14)),N(Q14)>ZileFaraContact)),IF(ISNUMBER(Q14),"Fără contact de "&Q14&" zile. ","Niciun contact înregistrat. "),"")&IF(AND(ISNUMBER(R14),R14<AziC),"Acțiune întârziată ("&RIGHT("0"&DAY(R14),2)&"."&RIGHT("0"&MONTH(R14),2)&"."&YEAR(R14)&"). ","")&IF(AND(L14="Activ",OR(NOT(ISNUMBER(T14)),AziC-N(T14)>ZileFaraVanzari)),"Activ, fără vânzări de peste "&ZileFaraVanzari&" de zile. ","")&IF(AND(L14<>"Inactiv",L14<>"Pierdut",G14="",H14=""),"Lipsesc telefonul și e-mailul. ","")))
P15: =IF(B15="","",IFERROR(_xlfn.AGGREGATE(14,6,Activități!$B$5:$B$1504/(Activități!$C$5:$C$1504=B15),1),"")) | Q15: =IF(ISNUMBER(P15),AziC-P15,"") | R15: =IF(B15="","",IFERROR(_xlfn.AGGREGATE(15,6,Activități!$I$5:$I$1504/((Activități!$C$5:$C$1504=B15)*(Activități!$K$5:$K$1504<>"Da")*ISNUMBER(Activități!$I$5:$I$1504)),1),"")) | S15: =IF(B15="","",SUMIFS(Vânzări!$F$5:$F$2004,Vânzări!$C$5:$C$2004,B15,Vânzări!$B$5:$B$2004,">="&DATE(AnV,1,1),Vânzări!$B$5:$B$2004,"<="&DATE(AnV,12,31))) | T15: =IF(B15="","",IFERROR(_xlfn.AGGREGATE(14,6,Vânzări!$B$5:$B$2004/(Vânzări!$C$5:$C$2004=B15),1),"")) | U15: =IF(OR(B15="",N(S15)<=0),"–",IF(SUMIF($S$5:$S$504,">="&S15)/SUM($S$5:$S$504)<=0.8,"A",IF(SUMIF($S$5:$S$504,">="&S15)/SUM($S$5:$S$504)<=0.95,"B","C"))) -> – | V15: =IF(B15="","",SUMIFS(Oportunități!$I$5:$I$304,Oportunități!$C$5:$C$304,B15,Oportunități!$G$5:$G$304,"<>Câștigată",Oportunități!$G$5:$G$304,"<>Pierdută")) | W15: =IF(B15="","",TRIM(IF(COUNTIF($B$5:$B$504,B15)>1,"Cod dublat. ","")&IF(AND(OR(L15="Activ",L15="Potențial"),OR(NOT(ISNUMBER(Q15)),N(Q15)>ZileFaraContact)),IF(ISNUMBER(Q15),"Fără contact de "&Q15&" zile. ","Niciun contact înregistrat. "),"")&IF(AND(ISNUMBER(R15),R15<AziC),"Acțiune întârziată ("&RIGHT("0"&DAY(R15),2)&"."&RIGHT("0"&MONTH(R15),2)&"."&YEAR(R15)&"). ","")&IF(AND(L15="Activ",OR(NOT(ISNUMBER(T15)),AziC-N(T15)>ZileFaraVanzari)),"Activ, fără vânzări de peste "&ZileFaraVanzari&" de zile. ","")&IF(AND(L15<>"Inactiv",L15<>"Pierdut",G15="",H15=""),"Lipsesc telefonul și e-mailul. ","")))
P16: =IF(B16="","",IFERROR(_xlfn.AGGREGATE(14,6,Activități!$B$5:$B$1504/(Activități!$C$5:$C$1504=B16),1),"")) | Q16: =IF(ISNUMBER(P16),AziC-P16,"") | R16: =IF(B16="","",IFERROR(_xlfn.AGGREGATE(15,6,Activități!$I$5:$I$1504/((Activități!$C$5:$C$1504=B16)*(Activități!$K$5:$K$1504<>"Da")*ISNUMBER(Activități!$I$5:$I$1504)),1),"")) | S16: =IF(B16="","",SUMIFS(Vânzări!$F$5:$F$2004,Vânzări!$C$5:$C$2004,B16,Vânzări!$B$5:$B$2004,">="&DATE(AnV,1,1),Vânzări!$B$5:$B$2004,"<="&DATE(AnV,12,31))) | T16: =IF(B16="","",IFERROR(_xlfn.AGGREGATE(14,6,Vânzări!$B$5:$B$2004/(Vânzări!$C$5:$C$2004=B16),1),"")) | U16: =IF(OR(B16="",N(S16)<=0),"–",IF(SUMIF($S$5:$S$504,">="&S16)/SUM($S$5:$S$504)<=0.8,"A",IF(SUMIF($S$5:$S$504,">="&S16)/SUM($S$5:$S$504)<=0.95,"B","C"))) -> – | V16: =IF(B16="","",SUMIFS(Oportunități!$I$5:$I$304,Oportunități!$C$5:$C$304,B16,Oportunități!$G$5:$G$304,"<>Câștigată",Oportunități!$G$5:$G$304,"<>Pierdută")) | W16: =IF(B16="","",TRIM(IF(COUNTIF($B$5:$B$504,B16)>1,"Cod dublat. ","")&IF(AND(OR(L16="Activ",L16="Potențial"),OR(NOT(ISNUMBER(Q16)),N(Q16)>ZileFaraContact)),IF(ISNUMBER(Q16),"Fără contact de "&Q16&" zile. ","Niciun contact înregistrat. "),"")&IF(AND(ISNUMBER(R16),R16<AziC),"Acțiune întârziată ("&RIGHT("0"&DAY(R16),2)&"."&RIGHT("0"&MONTH(R16),2)&"."&YEAR(R16)&"). ","")&IF(AND(L16="Activ",OR(NOT(ISNUMBER(T16)),AziC-N(T16)>ZileFaraVanzari)),"Activ, fără vânzări de peste "&ZileFaraVanzari&" de zile. ","")&IF(AND(L16<>"Inactiv",L16<>"Pierdut",G16="",H16=""),"Lipsesc telefonul și e-mailul. ","")))
P17: =IF(B17="","",IFERROR(_xlfn.AGGREGATE(14,6,Activități!$B$5:$B$1504/(Activități!$C$5:$C$1504=B17),1),"")) | Q17: =IF(ISNUMBER(P17),AziC-P17,"") | R17: =IF(B17="","",IFERROR(_xlfn.AGGREGATE(15,6,Activități!$I$5:$I$1504/((Activități!$C$5:$C$1504=B17)*(Activități!$K$5:$K$1504<>"Da")*ISNUMBER(Activități!$I$5:$I$1504)),1),"")) | S17: =IF(B17="","",SUMIFS(Vânzări!$F$5:$F$2004,Vânzări!$C$5:$C$2004,B17,Vânzări!$B$5:$B$2004,">="&DATE(AnV,1,1),Vânzări!$B$5:$B$2004,"<="&DATE(AnV,12,31))) | T17: =IF(B17="","",IFERROR(_xlfn.AGGREGATE(14,6,Vânzări!$B$5:$B$2004/(Vânzări!$C$5:$C$2004=B17),1),"")) | U17: =IF(OR(B17="",N(S17)<=0),"–",IF(SUMIF($S$5:$S$504,">="&S17)/SUM($S$5:$S$504)<=0.8,"A",IF(SUMIF($S$5:$S$504,">="&S17)/SUM($S$5:$S$504)<=0.95,"B","C"))) -> – | V17: =IF(B17="","",SUMIFS(Oportunități!$I$5:$I$304,Oportunități!$C$5:$C$304,B17,Oportunități!$G$5:$G$304,"<>Câștigată",Oportunități!$G$5:$G$304,"<>Pierdută")) | W17: =IF(B17="","",TRIM(IF(COUNTIF($B$5:$B$504,B17)>1,"Cod dublat. ","")&IF(AND(OR(L17="Activ",L17="Potențial"),OR(NOT(ISNUMBER(Q17)),N(Q17)>ZileFaraContact)),IF(ISNUMBER(Q17),"Fără contact de "&Q17&" zile. ","Niciun contact înregistrat. "),"")&IF(AND(ISNUMBER(R17),R17<AziC),"Acțiune întârziată ("&RIGHT("0"&DAY(R17),2)&"."&RIGHT("0"&MONTH(R17),2)&"."&YEAR(R17)&"). ","")&IF(AND(L17="Activ",OR(NOT(ISNUMBER(T17)),AziC-N(T17)>ZileFaraVanzari)),"Activ, fără vânzări de peste "&ZileFaraVanzari&" de zile. ","")&IF(AND(L17<>"Inactiv",L17<>"Pierdut",G17="",H17=""),"Lipsesc telefonul și e-mailul. ","")))
P18: =IF(B18="","",IFERROR(_xlfn.AGGREGATE(14,6,Activități!$B$5:$B$1504/(Activități!$C$5:$C$1504=B18),1),"")) | Q18: =IF(ISNUMBER(P18),AziC-P18,"") | R18: =IF(B18="","",IFERROR(_xlfn.AGGREGATE(15,6,Activități!$I$5:$I$1504/((Activități!$C$5:$C$1504=B18)*(Activități!$K$5:$K$1504<>"Da")*ISNUMBER(Activități!$I$5:$I$1504)),1),"")) | S18: =IF(B18="","",SUMIFS(Vânzări!$F$5:$F$2004,Vânzări!$C$5:$C$2004,B18,Vânzări!$B$5:$B$2004,">="&DATE(AnV,1,1),Vânzări!$B$5:$B$2004,"<="&DATE(AnV,12,31))) | T18: =IF(B18="","",IFERROR(_xlfn.AGGREGATE(14,6,Vânzări!$B$5:$B$2004/(Vânzări!$C$5:$C$2004=B18),1),"")) | U18: =IF(OR(B18="",N(S18)<=0),"–",IF(SUMIF($S$5:$S$504,">="&S18)/SUM($S$5:$S$504)<=0.8,"A",IF(SUMIF($S$5:$S$504,">="&S18)/SUM($S$5:$S$504)<=0.95,"B","C"))) -> – | V18: =IF(B18="","",SUMIFS(Oportunități!$I$5:$I$304,Oportunități!$C$5:$C$304,B18,Oportunități!$G$5:$G$304,"<>Câștigată",Oportunități!$G$5:$G$304,"<>Pierdută")) | W18: =IF(B18="","",TRIM(IF(COUNTIF($B$5:$B$504,B18)>1,"Cod dublat. ","")&IF(AND(OR(L18="Activ",L18="Potențial"),OR(NOT(ISNUMBER(Q18)),N(Q18)>ZileFaraContact)),IF(ISNUMBER(Q18),"Fără contact de "&Q18&" zile. ","Niciun contact înregistrat. "),"")&IF(AND(ISNUMBER(R18),R18<AziC),"Acțiune întârziată ("&RIGHT("0"&DAY(R18),2)&"."&RIGHT("0"&MONTH(R18),2)&"."&YEAR(R18)&"). ","")&IF(AND(L18="Activ",OR(NOT(ISNUMBER(T18)),AziC-N(T18)>ZileFaraVanzari)),"Activ, fără vânzări de peste "&ZileFaraVanzari&" de zile. ","")&IF(AND(L18<>"Inactiv",L18<>"Pierdut",G18="",H18=""),"Lipsesc telefonul și e-mailul. ","")))
P19: =IF(B19="","",IFERROR(_xlfn.AGGREGATE(14,6,Activități!$B$5:$B$1504/(Activități!$C$5:$C$1504=B19),1),"")) | Q19: =IF(ISNUMBER(P19),AziC-P19,"") | R19: =IF(B19="","",IFERROR(_xlfn.AGGREGATE(15,6,Activități!$I$5:$I$1504/((Activități!$C$5:$C$1504=B19)*(Activități!$K$5:$K$1504<>"Da")*ISNUMBER(Activități!$I$5:$I$1504)),1),"")) | S19: =IF(B19="","",SUMIFS(Vânzări!$F$5:$F$2004,Vânzări!$C$5:$C$2004,B19,Vânzări!$B$5:$B$2004,">="&DATE(AnV,1,1),Vânzări!$B$5:$B$2004,"<="&DATE(AnV,12,31))) | T19: =IF(B19="","",IFERROR(_xlfn.AGGREGATE(14,6,Vânzări!$B$5:$B$2004/(Vânzări!$C$5:$C$2004=B19),1),"")) | U19: =IF(OR(B19="",N(S19)<=0),"–",IF(SUMIF($S$5:$S$504,">="&S19)/SUM($S$5:$S$504)<=0.8,"A",IF(SUMIF($S$5:$S$504,">="&S19)/SUM($S$5:$S$504)<=0.95,"B","C"))) -> – | V19: =IF(B19="","",SUMIFS(Oportunități!$I$5:$I$304,Oportunități!$C$5:$C$304,B19,Oportunități!$G$5:$G$304,"<>Câștigată",Oportunități!$G$5:$G$304,"<>Pierdută")) | W19: =IF(B19="","",TRIM(IF(COUNTIF($B$5:$B$504,B19)>1,"Cod dublat. ","")&IF(AND(OR(L19="Activ",L19="Potențial"),OR(NOT(ISNUMBER(Q19)),N(Q19)>ZileFaraContact)),IF(ISNUMBER(Q19),"Fără contact de "&Q19&" zile. ","Niciun contact înregistrat. "),"")&IF(AND(ISNUMBER(R19),R19<AziC),"Acțiune întârziată ("&RIGHT("0"&DAY(R19),2)&"."&RIGHT("0"&MONTH(R19),2)&"."&YEAR(R19)&"). ","")&IF(AND(L19="Activ",OR(NOT(ISNUMBER(T19)),AziC-N(T19)>ZileFaraVanzari)),"Activ, fără vânzări de peste "&ZileFaraVanzari&" de zile. ","")&IF(AND(L19<>"Inactiv",L19<>"Pierdut",G19="",H19=""),"Lipsesc telefonul și e-mailul. ","")))
P20: =IF(B20="","",IFERROR(_xlfn.AGGREGATE(14,6,Activități!$B$5:$B$1504/(Activități!$C$5:$C$1504=B20),1),"")) | Q20: =IF(ISNUMBER(P20),AziC-P20,"") | R20: =IF(B20="","",IFERROR(_xlfn.AGGREGATE(15,6,Activități!$I$5:$I$1504/((Activități!$C$5:$C$1504=B20)*(Activități!$K$5:$K$1504<>"Da")*ISNUMBER(Activități!$I$5:$I$1504)),1),"")) | S20: =IF(B20="","",SUMIFS(Vânzări!$F$5:$F$2004,Vânzări!$C$5:$C$2004,B20,Vânzări!$B$5:$B$2004,">="&DATE(AnV,1,1),Vânzări!$B$5:$B$2004,"<="&DATE(AnV,12,31))) | T20: =IF(B20="","",IFERROR(_xlfn.AGGREGATE(14,6,Vânzări!$B$5:$B$2004/(Vânzări!$C$5:$C$2004=B20),1),"")) | U20: =IF(OR(B20="",N(S20)<=0),"–",IF(SUMIF($S$5:$S$504,">="&S20)/SUM($S$5:$S$504)<=0.8,"A",IF(SUMIF($S$5:$S$504,">="&S20)/SUM($S$5:$S$504)<=0.95,"B","C"))) -> – | V20: =IF(B20="","",SUMIFS(Oportunități!$I$5:$I$304,Oportunități!$C$5:$C$304,B20,Oportunități!$G$5:$G$304,"<>Câștigată",Oportunități!$G$5:$G$304,"<>Pierdută")) | W20: =IF(B20="","",TRIM(IF(COUNTIF($B$5:$B$504,B20)>1,"Cod dublat. ","")&IF(AND(OR(L20="Activ",L20="Potențial"),OR(NOT(ISNUMBER(Q20)),N(Q20)>ZileFaraContact)),IF(ISNUMBER(Q20),"Fără contact de "&Q20&" zile. ","Niciun contact înregistrat. "),"")&IF(AND(ISNUMBER(R20),R20<AziC),"Acțiune întârziată ("&RIGHT("0"&DAY(R20),2)&"."&RIGHT("0"&MONTH(R20),2)&"."&YEAR(R20)&"). ","")&IF(AND(L20="Activ",OR(NOT(ISNUMBER(T20)),AziC-N(T20)>ZileFaraVanzari)),"Activ, fără vânzări de peste "&ZileFaraVanzari&" de zile. ","")&IF(AND(L20<>"Inactiv",L20<>"Pierdut",G20="",H20=""),"Lipsesc telefonul și e-mailul. ","")))
P21: =IF(B21="","",IFERROR(_xlfn.AGGREGATE(14,6,Activități!$B$5:$B$1504/(Activități!$C$5:$C$1504=B21),1),"")) | Q21: =IF(ISNUMBER(P21),AziC-P21,"") | R21: =IF(B21="","",IFERROR(_xlfn.AGGREGATE(15,6,Activități!$I$5:$I$1504/((Activități!$C$5:$C$1504=B21)*(Activități!$K$5:$K$1504<>"Da")*ISNUMBER(Activități!$I$5:$I$1504)),1),"")) | S21: =IF(B21="","",SUMIFS(Vânzări!$F$5:$F$2004,Vânzări!$C$5:$C$2004,B21,Vânzări!$B$5:$B$2004,">="&DATE(AnV,1,1),Vânzări!$B$5:$B$2004,"<="&DATE(AnV,12,31))) | T21: =IF(B21="","",IFERROR(_xlfn.AGGREGATE(14,6,Vânzări!$B$5:$B$2004/(Vânzări!$C$5:$C$2004=B21),1),"")) | U21: =IF(OR(B21="",N(S21)<=0),"–",IF(SUMIF($S$5:$S$504,">="&S21)/SUM($S$5:$S$504)<=0.8,"A",IF(SUMIF($S$5:$S$504,">="&S21)/SUM($S$5:$S$504)<=0.95,"B","C"))) -> – | V21: =IF(B21="","",SUMIFS(Oportunități!$I$5:$I$304,Oportunități!$C$5:$C$304,B21,Oportunități!$G$5:$G$304,"<>Câștigată",Oportunități!$G$5:$G$304,"<>Pierdută")) | W21: =IF(B21="","",TRIM(IF(COUNTIF($B$5:$B$504,B21)>1,"Cod dublat. ","")&IF(AND(OR(L21="Activ",L21="Potențial"),OR(NOT(ISNUMBER(Q21)),N(Q21)>ZileFaraContact)),IF(ISNUMBER(Q21),"Fără contact de "&Q21&" zile. ","Niciun contact înregistrat. "),"")&IF(AND(ISNUMBER(R21),R21<AziC),"Acțiune întârziată ("&RIGHT("0"&DAY(R21),2)&"."&RIGHT("0"&MONTH(R21),2)&"."&YEAR(R21)&"). ","")&IF(AND(L21="Activ",OR(NOT(ISNUMBER(T21)),AziC-N(T21)>ZileFaraVanzari)),"Activ, fără vânzări de peste "&ZileFaraVanzari&" de zile. ","")&IF(AND(L21<>"Inactiv",L21<>"Pierdut",G21="",H21=""),"Lipsesc telefonul și e-mailul. ","")))
P22: =IF(B22="","",IFERROR(_xlfn.AGGREGATE(14,6,Activități!$B$5:$B$1504/(Activități!$C$5:$C$1504=B22),1),"")) | Q22: =IF(ISNUMBER(P22),AziC-P22,"") | R22: =IF(B22="","",IFERROR(_xlfn.AGGREGATE(15,6,Activități!$I$5:$I$1504/((Activități!$C$5:$C$1504=B22)*(Activități!$K$5:$K$1504<>"Da")*ISNUMBER(Activități!$I$5:$I$1504)),1),"")) | S22: =IF(B22="","",SUMIFS(Vânzări!$F$5:$F$2004,Vânzări!$C$5:$C$2004,B22,Vânzări!$B$5:$B$2004,">="&DATE(AnV,1,1),Vânzări!$B$5:$B$2004,"<="&DATE(AnV,12,31))) | T22: =IF(B22="","",IFERROR(_xlfn.AGGREGATE(14,6,Vânzări!$B$5:$B$2004/(Vânzări!$C$5:$C$2004=B22),1),"")) | U22: =IF(OR(B22="",N(S22)<=0),"–",IF(SUMIF($S$5:$S$504,">="&S22)/SUM($S$5:$S$504)<=0.8,"A",IF(SUMIF($S$5:$S$504,">="&S22)/SUM($S$5:$S$504)<=0.95,"B","C"))) -> – | V22: =IF(B22="","",SUMIFS(Oportunități!$I$5:$I$304,Oportunități!$C$5:$C$304,B22,Oportunități!$G$5:$G$304,"<>Câștigată",Oportunități!$G$5:$G$304,"<>Pierdută")) | W22: =IF(B22="","",TRIM(IF(COUNTIF($B$5:$B$504,B22)>1,"Cod dublat. ","")&IF(AND(OR(L22="Activ",L22="Potențial"),OR(NOT(ISNUMBER(Q22)),N(Q22)>ZileFaraContact)),IF(ISNUMBER(Q22),"Fără contact de "&Q22&" zile. ","Niciun contact înregistrat. "),"")&IF(AND(ISNUMBER(R22),R22<AziC),"Acțiune întârziată ("&RIGHT("0"&DAY(R22),2)&"."&RIGHT("0"&MONTH(R22),2)&"."&YEAR(R22)&"). ","")&IF(AND(L22="Activ",OR(NOT(ISNUMBER(T22)),AziC-N(T22)>ZileFaraVanzari)),"Activ, fără vânzări de peste "&ZileFaraVanzari&" de zile. ","")&IF(AND(L22<>"Inactiv",L22<>"Pierdut",G22="",H22=""),"Lipsesc telefonul și e-mailul. ","")))
P23: =IF(B23="","",IFERROR(_xlfn.AGGREGATE(14,6,Activități!$B$5:$B$1504/(Activități!$C$5:$C$1504=B23),1),"")) | Q23: =IF(ISNUMBER(P23),AziC-P23,"") | R23: =IF(B23="","",IFERROR(_xlfn.AGGREGATE(15,6,Activități!$I$5:$I$1504/((Activități!$C$5:$C$1504=B23)*(Activități!$K$5:$K$1504<>"Da")*ISNUMBER(Activități!$I$5:$I$1504)),1),"")) | S23: =IF(B23="","",SUMIFS(Vânzări!$F$5:$F$2004,Vânzări!$C$5:$C$2004,B23,Vânzări!$B$5:$B$2004,">="&DATE(AnV,1,1),Vânzări!$B$5:$B$2004,"<="&DATE(AnV,12,31))) | T23: =IF(B23="","",IFERROR(_xlfn.AGGREGATE(14,6,Vânzări!$B$5:$B$2004/(Vânzări!$C$5:$C$2004=B23),1),"")) | U23: =IF(OR(B23="",N(S23)<=0),"–",IF(SUMIF($S$5:$S$504,">="&S23)/SUM($S$5:$S$504)<=0.8,"A",IF(SUMIF($S$5:$S$504,">="&S23)/SUM($S$5:$S$504)<=0.95,"B","C"))) -> – | V23: =IF(B23="","",SUMIFS(Oportunități!$I$5:$I$304,Oportunități!$C$5:$C$304,B23,Oportunități!$G$5:$G$304,"<>Câștigată",Oportunități!$G$5:$G$304,"<>Pierdută")) | W23: =IF(B23="","",TRIM(IF(COUNTIF($B$5:$B$504,B23)>1,"Cod dublat. ","")&IF(AND(OR(L23="Activ",L23="Potențial"),OR(NOT(ISNUMBER(Q23)),N(Q23)>ZileFaraContact)),IF(ISNUMBER(Q23),"Fără contact de "&Q23&" zile. ","Niciun contact înregistrat. "),"")&IF(AND(ISNUMBER(R23),R23<AziC),"Acțiune întârziată ("&RIGHT("0"&DAY(R23),2)&"."&RIGHT("0"&MONTH(R23),2)&"."&YEAR(R23)&"). ","")&IF(AND(L23="Activ",OR(NOT(ISNUMBER(T23)),AziC-N(T23)>ZileFaraVanzari)),"Activ, fără vânzări de peste "&ZileFaraVanzari&" de zile. ","")&IF(AND(L23<>"Inactiv",L23<>"Pierdut",G23="",H23=""),"Lipsesc telefonul și e-mailul. ","")))
P24: =IF(B24="","",IFERROR(_xlfn.AGGREGATE(14,6,Activități!$B$5:$B$1504/(Activități!$C$5:$C$1504=B24),1),"")) | Q24: =IF(ISNUMBER(P24),AziC-P24,"") | R24: =IF(B24="","",IFERROR(_xlfn.AGGREGATE(15,6,Activități!$I$5:$I$1504/((Activități!$C$5:$C$1504=B24)*(Activități!$K$5:$K$1504<>"Da")*ISNUMBER(Activități!$I$5:$I$1504)),1),"")) | S24: =IF(B24="","",SUMIFS(Vânzări!$F$5:$F$2004,Vânzări!$C$5:$C$2004,B24,Vânzări!$B$5:$B$2004,">="&DATE(AnV,1,1),Vânzări!$B$5:$B$2004,"<="&DATE(AnV,12,31))) | T24: =IF(B24="","",IFERROR(_xlfn.AGGREGATE(14,6,Vânzări!$B$5:$B$2004/(Vânzări!$C$5:$C$2004=B24),1),"")) | U24: =IF(OR(B24="",N(S24)<=0),"–",IF(SUMIF($S$5:$S$504,">="&S24)/SUM($S$5:$S$504)<=0.8,"A",IF(SUMIF($S$5:$S$504,">="&S24)/SUM($S$5:$S$504)<=0.95,"B","C"))) -> – | V24: =IF(B24="","",SUMIFS(Oportunități!$I$5:$I$304,Oportunități!$C$5:$C$304,B24,Oportunități!$G$5:$G$304,"<>Câștigată",Oportunități!$G$5:$G$304,"<>Pierdută")) | W24: =IF(B24="","",TRIM(IF(COUNTIF($B$5:$B$504,B24)>1,"Cod dublat. ","")&IF(AND(OR(L24="Activ",L24="Potențial"),OR(NOT(ISNUMBER(Q24)),N(Q24)>ZileFaraContact)),IF(ISNUMBER(Q24),"Fără contact de "&Q24&" zile. ","Niciun contact înregistrat. "),"")&IF(AND(ISNUMBER(R24),R24<AziC),"Acțiune întârziată ("&RIGHT("0"&DAY(R24),2)&"."&RIGHT("0"&MONTH(R24),2)&"."&YEAR(R24)&"). ","")&IF(AND(L24="Activ",OR(NOT(ISNUMBER(T24)),AziC-N(T24)>ZileFaraVanzari)),"Activ, fără vânzări de peste "&ZileFaraVanzari&" de zile. ","")&IF(AND(L24<>"Inactiv",L24<>"Pierdut",G24="",H24=""),"Lipsesc telefonul și e-mailul. ","")))
P25: =IF(B25="","",IFERROR(_xlfn.AGGREGATE(14,6,Activități!$B$5:$B$1504/(Activități!$C$5:$C$1504=B25),1),"")) | Q25: =IF(ISNUMBER(P25),AziC-P25,"") | R25: =IF(B25="","",IFERROR(_xlfn.AGGREGATE(15,6,Activități!$I$5:$I$1504/((Activități!$C$5:$C$1504=B25)*(Activități!$K$5:$K$1504<>"Da")*ISNUMBER(Activități!$I$5:$I$1504)),1),"")) | S25: =IF(B25="","",SUMIFS(Vânzări!$F$5:$F$2004,Vânzări!$C$5:$C$2004,B25,Vânzări!$B$5:$B$2004,">="&DATE(AnV,1,1),Vânzări!$B$5:$B$2004,"<="&DATE(AnV,12,31))) | T25: =IF(B25="","",IFERROR(_xlfn.AGGREGATE(14,6,Vânzări!$B$5:$B$2004/(Vânzări!$C$5:$C$2004=B25),1),"")) | U25: =IF(OR(B25="",N(S25)<=0),"–",IF(SUMIF($S$5:$S$504,">="&S25)/SUM($S$5:$S$504)<=0.8,"A",IF(SUMIF($S$5:$S$504,">="&S25)/SUM($S$5:$S$504)<=0.95,"B","C"))) -> – | V25: =IF(B25="","",SUMIFS(Oportunități!$I$5:$I$304,Oportunități!$C$5:$C$304,B25,Oportunități!$G$5:$G$304,"<>Câștigată",Oportunități!$G$5:$G$304,"<>Pierdută")) | W25: =IF(B25="","",TRIM(IF(COUNTIF($B$5:$B$504,B25)>1,"Cod dublat. ","")&IF(AND(OR(L25="Activ",L25="Potențial"),OR(NOT(ISNUMBER(Q25)),N(Q25)>ZileFaraContact)),IF(ISNUMBER(Q25),"Fără contact de "&Q25&" zile. ","Niciun contact înregistrat. "),"")&IF(AND(ISNUMBER(R25),R25<AziC),"Acțiune întârziată ("&RIGHT("0"&DAY(R25),2)&"."&RIGHT("0"&MONTH(R25),2)&"."&YEAR(R25)&"). ","")&IF(AND(L25="Activ",OR(NOT(ISNUMBER(T25)),AziC-N(T25)>ZileFaraVanzari)),"Activ, fără vânzări de peste "&ZileFaraVanzari&" de zile. ","")&IF(AND(L25<>"Inactiv",L25<>"Pierdut",G25="",H25=""),"Lipsesc telefonul și e-mailul. ","")))
... P504: =IF(B504="","",IFERROR(_xlfn.AGGREGATE(14,6,Activități!$B$5:$B$1504/(Activități!$C$5:$C$1504=B504),1),"")) | Q504: =IF(ISNUMBER(P504),AziC-P504,"") | R504: =IF(B504="","",IFERROR(_xlfn.AGGREGATE(15,6,Activități!$I$5:$I$1504/((Activități!$C$5:$C$1504=B504)*(Activități!$K$5:$K$1504<>"Da")*ISNUMBER(Activități!$I$5:$I$1504)),1),"")) | S504: =IF(B504="","",SUMIFS(Vânzări!$F$5:$F$2004,Vânzări!$C$5:$C$2004,B504,Vânzări!$B$5:$B$2004,">="&DATE(AnV,1,1),Vânzări!$B$5:$B$2004,"<="&DATE(AnV,12,31))) | T504: =IF(B504="","",IFERROR(_xlfn.AGGREGATE(14,6,Vânzări!$B$5:$B$2004/(Vânzări!$C$5:$C$2004=B504),1),"")) | U504: =IF(OR(B504="",N(S504)<=0),"–",IF(SUMIF($S$5:$S$504,">="&S504)/SUM($S$5:$S$504)<=0.8,"A",IF(SUMIF($S$5:$S$504,">="&S504)/SUM($S$5:$S$504)<=0.95,"B","C"))) -> – | V504: =IF(B504="","",SUMIFS(Oportunități!$I$5:$I$304,Oportunități!$C$5:$C$304,B504,Oportunități!$G$5:$G$304,"<>Câștigată",Oportunități!$G$5:$G$304,"<>Pierdută")) | W504: =IF(B504="","",TRIM(IF(COUNTIF($B$5:$B$504,B504)>1,"Cod dublat. ","")&IF(AND(OR(L504="Activ",L504="Potențial"),OR(NOT(ISNUMBER(Q504)),N(Q504)>ZileFaraContact)),IF(ISNUMBER(Q504),"Fără contact de "&Q504&" zile. ","Niciun contact înregistrat. "),"")&IF(AND(ISNUMBER(R504),R504<AziC),"Acțiune întârziată ("&RIGHT("0"&DAY(R504),2)&"."&RIGHT("0"&MONTH(R504),2)&"."&YEAR(R504)&"). ","")&IF(AND(L504="Activ",OR(NOT(ISNUMBER(T504)),AziC-N(T504)>ZileFaraVanzari)),"Activ, fără vânzări de peste "&ZileFaraVanzari&" de zile. ","")&IF(AND(L504<>"Inactiv",L504<>"Pierdut",G504="",H504=""),"Lipsesc telefonul și e-mailul. ","")))

Sheet Activități
B1: Istoricul contactelor
B2: Fiecare apel, e-mail sau întâlnire, cu ce s-a discutat și pasul următor. Când pasul e făcut, scrie „Da” la „Realizat” și adaugă contactul nou.
B4: Data | C4: Cod client | D4: Client | E4: Tip | F4: Ce s-a discutat | G4: Ce are nevoie clientul | H4: Pasul următor | I4: Data pasului următor | J4: Responsabil | K4: Realizat | L4: Status | M4: Verificare
B5: =DATE(2026,8,20) -> 46254 | C5: C006 | D5: =IF(C5="","",IFERROR(INDEX(Clienți!$C$5:$C$504,MATCH(C5,Clienți!$B$5:$B$504,0)),"")) -> Hotel Prahova SRL | E5: Întâlnire | F5: Prezentare la târgul HoReCa; renovează 40 de camere în 2027 | G5: Instalații electrice și iluminat LED pe etaje | H5: Trimite referințe de lucrări similare | I5: =DATE(2026,8,27) -> 46261 | J5: Andrei Toma | K5: Da | L5: =IF(B5="","",IF(K5="Da","Realizat",IF(H5="","Fără pas următor",IF(NOT(ISNUMBER(I5)),"Fără dată",IF(I5<AziC,"Întârziat",IF(I5=AziC,"Azi","Planificat")))))) -> Realizat | M5: =IF(AND(B5="",C5=""),"",TRIM(IF(D5="","Cod de client inexistent. ","")&IF(F5="","Notează ce s-a discutat. ","")&IF(AND(H5<>"",NOT(ISNUMBER(I5))),"Pasul următor nu are dată. ","")&IF(AND(ISNUMBER(I5),ISNUMBER(B5),I5<B5),"Data pasului e înaintea contactului. ","")))
B6: =DATE(2026,8,27) -> 46261 | C6: C006 | D6: =IF(C6="","",IFERROR(INDEX(Clienți!$C$5:$C$504,MATCH(C6,Clienți!$B$5:$B$504,0)),"")) -> Hotel Prahova SRL | E6: E-mail | F6: Trimise 3 referințe și prezentarea firmei | G6: Așteaptă bugetul pe 2027 | H6: Sună pentru vizită în hotel | I6: =DATE(2026,9,15) -> 46280 | J6: Andrei Toma | L6: =IF(B6="","",IF(K6="Da","Realizat",IF(H6="","Fără pas următor",IF(NOT(ISNUMBER(I6)),"Fără dată",IF(I6<AziC,"Întârziat",IF(I6=AziC,"Azi","Planificat")))))) -> Întârziat | M6: =IF(AND(B6="",C6=""),"",TRIM(IF(D6="","Cod de client inexistent. ","")&IF(F6="","Notează ce s-a discutat. ","")&IF(AND(H6<>"",NOT(ISNUMBER(I6))),"Pasul următor nu are dată. ","")&IF(AND(ISNUMBER(I6),ISNUMBER(B6),I6<B6),"Data pasului e înaintea contactului. ","")))
B7: =DATE(2026,9,15) -> 46280 | C7: C007 | D7: =IF(C7="","",IFERROR(INDEX(Clienți!$C$5:$C$504,MATCH(C7,Clienți!$B$5:$B$504,0)),"")) -> Primăria Comunei Bucov | E7: Apel | F7: Licitație pentru iluminatul public, anunț estimat în noiembrie | G7: Iluminat stradal LED, 120 de stâlpi | H7: Pregătește documentele de calificare | I7: =DATE(2026,10,30) -> 46325 | J7: Dan Ilie | L7: =IF(B7="","",IF(K7="Da","Realizat",IF(H7="","Fără pas următor",IF(NOT(ISNUMBER(I7)),"Fără dată",IF(I7<AziC,"Întârziat",IF(I7=AziC,"Azi","Planificat")))))) -> Planificat | M7: =IF(AND(B7="",C7=""),"",TRIM(IF(D7="","Cod de client inexistent. ","")&IF(F7="","Notează ce s-a discutat. ","")&IF(AND(H7<>"",NOT(ISNUMBER(I7))),"Pasul următor nu are dată. ","")&IF(AND(ISNUMBER(I7),ISNUMBER(B7),I7<B7),"Data pasului e înaintea contactului. ","")))
B8: =DATE(2026,9,22) -> 46287 | C8: C003 | D8: =IF(C8="","",IFERROR(INDEX(Clienți!$C$5:$C$504,MATCH(C8,Clienți!$B$5:$B$504,0)),"")) -> Casa Verde SRL | E8: Reclamație | F8: Livrare incompletă la comanda 301 | G8: Completarea livrării cu urgență | H8: Livrează diferența și confirmă în scris | I8: =DATE(2026,10,12) -> 46307 | J8: Maria Stoica | K8: Da | L8: =IF(B8="","",IF(K8="Da","Realizat",IF(H8="","Fără pas următor",IF(NOT(ISNUMBER(I8)),"Fără dată",IF(I8<AziC,"Întârziat",IF(I8=AziC,"Azi","Planificat")))))) -> Realizat | M8: =IF(AND(B8="",C8=""),"",TRIM(IF(D8="","Cod de client inexistent. ","")&IF(F8="","Notează ce s-a discutat. ","")&IF(AND(H8<>"",NOT(ISNUMBER(I8))),"Pasul următor nu are dată. ","")&IF(AND(ISNUMBER(I8),ISNUMBER(B8),I8<B8),"Data pasului e înaintea contactului. ","")))
B9: =DATE(2026,9,29) -> 46294 | C9: C001 | D9: =IF(C9="","",IFERROR(INDEX(Clienți!$C$5:$C$504,MATCH(C9,Clienți!$B$5:$B$504,0)),"")) -> Exemplu Construct SRL | E9: Comandă | F9: Comanda 315 pentru materiale electrice | G9: Livrare până la 1 octombrie | H9: Confirmă livrarea și emite factura | I9: =DATE(2026,10,1) -> 46296 | J9: Maria Stoica | K9: Da | L9: =IF(B9="","",IF(K9="Da","Realizat",IF(H9="","Fără pas următor",IF(NOT(ISNUMBER(I9)),"Fără dată",IF(I9<AziC,"Întârziat",IF(I9=AziC,"Azi","Planificat")))))) -> Realizat | M9: =IF(AND(B9="",C9=""),"",TRIM(IF(D9="","Cod de client inexistent. ","")&IF(F9="","Notează ce s-a discutat. ","")&IF(AND(H9<>"",NOT(ISNUMBER(I9))),"Pasul următor nu are dată. ","")&IF(AND(ISNUMBER(I9),ISNUMBER(B9),I9<B9),"Data pasului e înaintea contactului. ","")))
B10: =DATE(2026,10,1) -> 46296 | C10: C002 | D10: =IF(C10="","",IFERROR(INDEX(Clienți!$C$5:$C$504,MATCH(C10,Clienți!$B$5:$B$504,0)),"")) -> Electro Plus SRL | E10: Întâlnire | F10: Discuție despre contractul-cadru pe 2027 | G10: Prețuri fixe pe 12 luni la cablu și aparataj | H10: Trimite oferta pentru contractul-cadru | I10: =DATE(2026,10,9) -> 46304 | J10: Andrei Toma | L10: =IF(B10="","",IF(K10="Da","Realizat",IF(H10="","Fără pas următor",IF(NOT(ISNUMBER(I10)),"Fără dată",IF(I10<AziC,"Întârziat",IF(I10=AziC,"Azi","Planificat")))))) -> Întârziat | M10: =IF(AND(B10="",C10=""),"",TRIM(IF(D10="","Cod de client inexistent. ","")&IF(F10="","Notează ce s-a discutat. ","")&IF(AND(H10<>"",NOT(ISNUMBER(I10))),"Pasul următor nu are dată. ","")&IF(AND(ISNUMBER(I10),ISNUMBER(B10),I10<B10),"Data pasului e înaintea contactului. ","")))
B11: =DATE(2026,10,2) -> 46297 | C11: C008 | D11: =IF(C11="","",IFERROR(INDEX(Clienți!$C$5:$C$504,MATCH(C11,Clienți!$B$5:$B$504,0)),"")) -> Office Center Ploiești SRL | E11: Întâlnire | F11: Măsurători comune pentru situația de lucrări nr. 1 | G11: Acceptarea situației | H11: Trimite situația nr. 2 la final de lună | I11: =DATE(2026,10,31) -> 46326 | J11: Dan Ilie | L11: =IF(B11="","",IF(K11="Da","Realizat",IF(H11="","Fără pas următor",IF(NOT(ISNUMBER(I11)),"Fără dată",IF(I11<AziC,"Întârziat",IF(I11=AziC,"Azi","Planificat")))))) -> Planificat | M11: =IF(AND(B11="",C11=""),"",TRIM(IF(D11="","Cod de client inexistent. ","")&IF(F11="","Notează ce s-a discutat. ","")&IF(AND(H11<>"",NOT(ISNUMBER(I11))),"Pasul următor nu are dată. ","")&IF(AND(ISNUMBER(I11),ISNUMBER(B11),I11<B11),"Data pasului e înaintea contactului. ","")))
B12: =DATE(2026,10,5) -> 46300 | C12: C004 | D12: =IF(C12="","",IFERROR(INDEX(Clienți!$C$5:$C$504,MATCH(C12,Clienți!$B$5:$B$504,0)),"")) -> Montaj Expert SRL | E12: Apel | F12: Interes pentru tablouri electrice pentru un bloc nou | G12: Ofertă pentru 24 de tablouri | H12: Vizită pe șantier cu proiectul | I12: =DATE(2026,10,14) -> 46309 | J12: Andrei Toma | L12: =IF(B12="","",IF(K12="Da","Realizat",IF(H12="","Fără pas următor",IF(NOT(ISNUMBER(I12)),"Fără dată",IF(I12<AziC,"Întârziat",IF(I12=AziC,"Azi","Planificat")))))) -> Azi | M12: =IF(AND(B12="",C12=""),"",TRIM(IF(D12="","Cod de client inexistent. ","")&IF(F12="","Notează ce s-a discutat. ","")&IF(AND(H12<>"",NOT(ISNUMBER(I12))),"Pasul următor nu are dată. ","")&IF(AND(ISNUMBER(I12),ISNUMBER(B12),I12<B12),"Data pasului e înaintea contactului. ","")))
B13: =DATE(2026,10,7) -> 46302 | C13: C001 | D13: =IF(C13="","",IFERROR(INDEX(Clienți!$C$5:$C$504,MATCH(C13,Clienți!$B$5:$B$504,0)),"")) -> Exemplu Construct SRL | E13: Apel | F13: Nemulțumire la prețul manoperei din factura EXF 1201 | G13: Reducere de preț | H13: Emite factura storno pentru manoperă | I13: =DATE(2026,10,12) -> 46307 | J13: Maria Stoica | K13: Da | L13: =IF(B13="","",IF(K13="Da","Realizat",IF(H13="","Fără pas următor",IF(NOT(ISNUMBER(I13)),"Fără dată",IF(I13<AziC,"Întârziat",IF(I13=AziC,"Azi","Planificat")))))) -> Realizat | M13: =IF(AND(B13="",C13=""),"",TRIM(IF(D13="","Cod de client inexistent. ","")&IF(F13="","Notează ce s-a discutat. ","")&IF(AND(H13<>"",NOT(ISNUMBER(I13))),"Pasul următor nu are dată. ","")&IF(AND(ISNUMBER(I13),ISNUMBER(B13),I13<B13),"Data pasului e înaintea contactului. ","")))
B14: =DATE(2026,10,12) -> 46307 | C14: C001 | D14: =IF(C14="","",IFERROR(INDEX(Clienți!$C$5:$C$504,MATCH(C14,Clienți!$B$5:$B$504,0)),"")) -> Exemplu Construct SRL | E14: E-mail | F14: Trimisă factura storno EXF 1213 și explicația | G14: Confirmare de la client | H14: Sună pentru confirmare | I14: =DATE(2026,10,16) -> 46311 | J14: Maria Stoica | L14: =IF(B14="","",IF(K14="Da","Realizat",IF(H14="","Fără pas următor",IF(NOT(ISNUMBER(I14)),"Fără dată",IF(I14<AziC,"Întârziat",IF(I14=AziC,"Azi","Planificat")))))) -> Planificat | M14: =IF(AND(B14="",C14=""),"",TRIM(IF(D14="","Cod de client inexistent. ","")&IF(F14="","Notează ce s-a discutat. ","")&IF(AND(H14<>"",NOT(ISNUMBER(I14))),"Pasul următor nu are dată. ","")&IF(AND(ISNUMBER(I14),ISNUMBER(B14),I14<B14),"Data pasului e înaintea contactului. ","")))
B15: =DATE(2026,10,12) -> 46307 | C15: C005 | D15: =IF(C15="","",IFERROR(INDEX(Clienți!$C$5:$C$504,MATCH(C15,Clienți!$B$5:$B$504,0)),"")) -> Instal Rapid SRL | E15: Apel | F15: Comandă mică de siguranțe automate | G15: Livrare rapidă | J15: Maria Stoica | L15: =IF(B15="","",IF(K15="Da","Realizat",IF(H15="","Fără pas următor",IF(NOT(ISNUMBER(I15)),"Fără dată",IF(I15<AziC,"Întârziat",IF(I15=AziC,"Azi","Planificat")))))) -> Fără pas următor | M15: =IF(AND(B15="",C15=""),"",TRIM(IF(D15="","Cod de client inexistent. ","")&IF(F15="","Notează ce s-a discutat. ","")&IF(AND(H15<>"",NOT(ISNUMBER(I15))),"Pasul următor nu are dată. ","")&IF(AND(ISNUMBER(I15),ISNUMBER(B15),I15<B15),"Data pasului e înaintea contactului. ","")))
D16: =IF(C16="","",IFERROR(INDEX(Clienți!$C$5:$C$504,MATCH(C16,Clienți!$B$5:$B$504,0)),"")) | L16: =IF(B16="","",IF(K16="Da","Realizat",IF(H16="","Fără pas următor",IF(NOT(ISNUMBER(I16)),"Fără dată",IF(I16<AziC,"Întârziat",IF(I16=AziC,"Azi","Planificat")))))) | M16: =IF(AND(B16="",C16=""),"",TRIM(IF(D16="","Cod de client inexistent. ","")&IF(F16="","Notează ce s-a discutat. ","")&IF(AND(H16<>"",NOT(ISNUMBER(I16))),"Pasul următor nu are dată. ","")&IF(AND(ISNUMBER(I16),ISNUMBER(B16),I16<B16),"Data pasului e înaintea contactului. ","")))
D17: =IF(C17="","",IFERROR(INDEX(Clienți!$C$5:$C$504,MATCH(C17,Clienți!$B$5:$B$504,0)),"")) | L17: =IF(B17="","",IF(K17="Da","Realizat",IF(H17="","Fără pas următor",IF(NOT(ISNUMBER(I17)),"Fără dată",IF(I17<AziC,"Întârziat",IF(I17=AziC,"Azi","Planificat")))))) | M17: =IF(AND(B17="",C17=""),"",TRIM(IF(D17="","Cod de client inexistent. ","")&IF(F17="","Notează ce s-a discutat. ","")&IF(AND(H17<>"",NOT(ISNUMBER(I17))),"Pasul următor nu are dată. ","")&IF(AND(ISNUMBER(I17),ISNUMBER(B17),I17<B17),"Data pasului e înaintea contactului. ","")))
D18: =IF(C18="","",IFERROR(INDEX(Clienți!$C$5:$C$504,MATCH(C18,Clienți!$B$5:$B$504,0)),"")) | L18: =IF(B18="","",IF(K18="Da","Realizat",IF(H18="","Fără pas următor",IF(NOT(ISNUMBER(I18)),"Fără dată",IF(I18<AziC,"Întârziat",IF(I18=AziC,"Azi","Planificat")))))) | M18: =IF(AND(B18="",C18=""),"",TRIM(IF(D18="","Cod de client inexistent. ","")&IF(F18="","Notează ce s-a discutat. ","")&IF(AND(H18<>"",NOT(ISNUMBER(I18))),"Pasul următor nu are dată. ","")&IF(AND(ISNUMBER(I18),ISNUMBER(B18),I18<B18),"Data pasului e înaintea contactului. ","")))
D19: =IF(C19="","",IFERROR(INDEX(Clienți!$C$5:$C$504,MATCH(C19,Clienți!$B$5:$B$504,0)),"")) | L19: =IF(B19="","",IF(K19="Da","Realizat",IF(H19="","Fără pas următor",IF(NOT(ISNUMBER(I19)),"Fără dată",IF(I19<AziC,"Întârziat",IF(I19=AziC,"Azi","Planificat")))))) | M19: =IF(AND(B19="",C19=""),"",TRIM(IF(D19="","Cod de client inexistent. ","")&IF(F19="","Notează ce s-a discutat. ","")&IF(AND(H19<>"",NOT(ISNUMBER(I19))),"Pasul următor nu are dată. ","")&IF(AND(ISNUMBER(I19),ISNUMBER(B19),I19<B19),"Data pasului e înaintea contactului. ","")))
