Workbook
Name AnV: Setări!$C$5
Name AziC: Setări!$C$8
Name Firma: Setări!$C$4
Name ListaAct: Setări!$G$5:$G$14
Name ListaDaNu: Setări!$K$5:$K$14
Name ListaEtape: Setări!$I$5:$I$10
Name ListaResp: Setări!$H$5:$H$14
Name ListaSursa: Setări!$F$5:$F$14
Name ListaTipC: Setări!$E$5:$E$14
Name RandK: 'Fișă client'!$N$1
Name TabelEtape: Setări!$I$5:$J$10
Name ZileFaraContact: Setări!$C$6
Name ZileFaraVanzari: Setări!$C$7

Sheet Panou
B1: Panou comercial
B2: Ce ai de făcut azi și cum arată vânzările. Totul se actualizează din celelalte foi.
B3: =Firma&" · "&RIGHT("0"&DAY(AziC),2)&"."&RIGHT("0"&MONTH(AziC),2)&"."&YEAR(AziC) -> Exemplu Instalații SRL · 14.10.2026
B5: Clienți activi | D5: Clienți potențiali | F5: Acțiuni întârziate | H5: Acțiuni pentru azi | J5: Oportunități deschise (ponderat) | L5: Rata de câștig
B6: =COUNTIF(Clienți!$L$5:$L$504,"Activ") -> 6 | D6: =COUNTIF(Clienți!$L$5:$L$504,"Potențial") -> 2 | F6: =COUNTIF(Activități!$L$5:$L$1504,"Întârziat") -> 2 | H6: =COUNTIF(Activități!$L$5:$L$1504,"Azi") -> 1 | J6: =SUMIFS(Oportunități!$I$5:$I$304,Oportunități!$G$5:$G$304,"<>Câștigată",Oportunități!$G$5:$G$304,"<>Pierdută") -> 103000 | L6: =IFERROR(COUNTIF(Oportunități!$G$5:$G$304,"Câștigată")/(COUNTIF(Oportunități!$G$5:$G$304,"Câștigată")+COUNTIF(Oportunități!$G$5:$G$304,"Pierdută")),0) -> 0.5
B9: DE FĂCUT (cele mai vechi primele) | K9: TOP CLIENȚI (vânzări în an)
B10: Termen | C10: Client | E10: Pasul următor | H10: Responsabil | I10: Status | K10: Client | L10: Vânzări | M10: Clasa
B11: =IF($N11=0,"",INDEX(Activități!$I$5:$I$1504,$N11)) -> 46280 | C11: =IF($N11=0,"",INDEX(Activități!$D$5:$D$1504,$N11)) -> Hotel Prahova SRL | E11: =IF($N11=0,"",INDEX(Activități!$H$5:$H$1504,$N11)) -> Sună pentru vizită în hotel | H11: =IF($N11=0,"",INDEX(Activități!$J$5:$J$1504,$N11)) -> Andrei Toma | I11: =IF($N11=0,"",INDEX(Activități!$L$5:$L$1504,$N11)) -> Întârziat | K11: =IF(P11=0,"",INDEX(Clienți!$C$5:$C$504,P11)) -> Office Center Ploiești SRL | L11: =IFERROR(LARGE(Clienți!$S$5:$S$504,1),"") -> 42120 | M11: =IF(P11=0,"",INDEX(Clienți!$U$5:$U$504,P11)) -> A | N11: =IF(O11=0,0,ROUND(MOD(O11,1)*1000000,0)-4) -> 2 | O11: =IFERROR(_xlfn.AGGREGATE(15,6,(Activități!$I$5:$I$1504+ROW(Activități!$I$5:$I$1504)/1000000)/((Activități!$L$5:$L$1504="Întârziat")+(Activități!$L$5:$L$1504="Azi")+(Activități!$L$5:$L$1504="Planificat")),1),0) -> 46280 | P11: =IF(N(L11)<=0,0,_xlfn.AGGREGATE(15,6,(ROW(Clienți!$S$5:$S$504)-4)/((Clienți!$S$5:$S$504=L11)*(COUNTIF($P$10:P10,ROW(Clienți!$S$5:$S$504)-4)=0)),1)) -> 8
B12: =IF($N12=0,"",INDEX(Activități!$I$5:$I$1504,$N12)) -> 46304 | C12: =IF($N12=0,"",INDEX(Activități!$D$5:$D$1504,$N12)) -> Electro Plus SRL | E12: =IF($N12=0,"",INDEX(Activități!$H$5:$H$1504,$N12)) -> Trimite oferta pentru contractul-cadru | H12: =IF($N12=0,"",INDEX(Activități!$J$5:$J$1504,$N12)) -> Andrei Toma | I12: =IF($N12=0,"",INDEX(Activități!$L$5:$L$1504,$N12)) -> Întârziat | K12: =IF(P12=0,"",INDEX(Clienți!$C$5:$C$504,P12)) -> Montaj Expert SRL | L12: =IFERROR(LARGE(Clienți!$S$5:$S$504,2),"") -> 27000 | M12: =IF(P12=0,"",INDEX(Clienți!$U$5:$U$504,P12)) -> A | N12: =IF(O12=0,0,ROUND(MOD(O12,1)*1000000,0)-4) -> 6 | O12: =IFERROR(_xlfn.AGGREGATE(15,6,(Activități!$I$5:$I$1504+ROW(Activități!$I$5:$I$1504)/1000000)/((Activități!$L$5:$L$1504="Întârziat")+(Activități!$L$5:$L$1504="Azi")+(Activități!$L$5:$L$1504="Planificat")),2),0) -> 46304 | P12: =IF(N(L12)<=0,0,_xlfn.AGGREGATE(15,6,(ROW(Clienți!$S$5:$S$504)-4)/((Clienți!$S$5:$S$504=L12)*(COUNTIF($P$10:P11,ROW(Clienți!$S$5:$S$504)-4)=0)),1)) -> 4
B13: =IF($N13=0,"",INDEX(Activități!$I$5:$I$1504,$N13)) -> 46309 | C13: =IF($N13=0,"",INDEX(Activități!$D$5:$D$1504,$N13)) -> Montaj Expert SRL | E13: =IF($N13=0,"",INDEX(Activități!$H$5:$H$1504,$N13)) -> Vizită pe șantier cu proiectul | H13: =IF($N13=0,"",INDEX(Activități!$J$5:$J$1504,$N13)) -> Andrei Toma | I13: =IF($N13=0,"",INDEX(Activități!$L$5:$L$1504,$N13)) -> Azi | K13: =IF(P13=0,"",INDEX(Clienți!$C$5:$C$504,P13)) -> Electro Plus SRL | L13: =IFERROR(LARGE(Clienți!$S$5:$S$504,3),"") -> 26500 | M13: =IF(P13=0,"",INDEX(Clienți!$U$5:$U$504,P13)) -> A | N13: =IF(O13=0,0,ROUND(MOD(O13,1)*1000000,0)-4) -> 8 | O13: =IFERROR(_xlfn.AGGREGATE(15,6,(Activități!$I$5:$I$1504+ROW(Activități!$I$5:$I$1504)/1000000)/((Activități!$L$5:$L$1504="Întârziat")+(Activități!$L$5:$L$1504="Azi")+(Activități!$L$5:$L$1504="Planificat")),3),0) -> 46309 | P13: =IF(N(L13)<=0,0,_xlfn.AGGREGATE(15,6,(ROW(Clienți!$S$5:$S$504)-4)/((Clienți!$S$5:$S$504=L13)*(COUNTIF($P$10:P12,ROW(Clienți!$S$5:$S$504)-4)=0)),1)) -> 2
B14: =IF($N14=0,"",INDEX(Activități!$I$5:$I$1504,$N14)) -> 46311 | C14: =IF($N14=0,"",INDEX(Activități!$D$5:$D$1504,$N14)) -> Exemplu Construct SRL | E14: =IF($N14=0,"",INDEX(Activități!$H$5:$H$1504,$N14)) -> Sună pentru confirmare | H14: =IF($N14=0,"",INDEX(Activități!$J$5:$J$1504,$N14)) -> Maria Stoica | I14: =IF($N14=0,"",INDEX(Activități!$L$5:$L$1504,$N14)) -> Planificat | K14: =IF(P14=0,"",INDEX(Clienți!$C$5:$C$504,P14)) -> Exemplu Construct SRL | L14: =IFERROR(LARGE(Clienți!$S$5:$S$504,4),"") -> 21747 | M14: =IF(P14=0,"",INDEX(Clienți!$U$5:$U$504,P14)) -> B | N14: =IF(O14=0,0,ROUND(MOD(O14,1)*1000000,0)-4) -> 10 | O14: =IFERROR(_xlfn.AGGREGATE(15,6,(Activități!$I$5:$I$1504+ROW(Activități!$I$5:$I$1504)/1000000)/((Activități!$L$5:$L$1504="Întârziat")+(Activități!$L$5:$L$1504="Azi")+(Activități!$L$5:$L$1504="Planificat")),4),0) -> 46311 | P14: =IF(N(L14)<=0,0,_xlfn.AGGREGATE(15,6,(ROW(Clienți!$S$5:$S$504)-4)/((Clienți!$S$5:$S$504=L14)*(COUNTIF($P$10:P13,ROW(Clienți!$S$5:$S$504)-4)=0)),1)) -> 1
B15: =IF($N15=0,"",INDEX(Activități!$I$5:$I$1504,$N15)) -> 46325 | C15: =IF($N15=0,"",INDEX(Activități!$D$5:$D$1504,$N15)) -> Primăria Comunei Bucov | E15: =IF($N15=0,"",INDEX(Activități!$H$5:$H$1504,$N15)) -> Pregătește documentele de calificare | H15: =IF($N15=0,"",INDEX(Activități!$J$5:$J$1504,$N15)) -> Dan Ilie | I15: =IF($N15=0,"",INDEX(Activități!$L$5:$L$1504,$N15)) -> Planificat | K15: =IF(P15=0,"",INDEX(Clienți!$C$5:$C$504,P15)) -> Casa Verde SRL | L15: =IFERROR(LARGE(Clienți!$S$5:$S$504,5),"") -> 9800 | M15: =IF(P15=0,"",INDEX(Clienți!$U$5:$U$504,P15)) -> C | N15: =IF(O15=0,0,ROUND(MOD(O15,1)*1000000,0)-4) -> 3 | O15: =IFERROR(_xlfn.AGGREGATE(15,6,(Activități!$I$5:$I$1504+ROW(Activități!$I$5:$I$1504)/1000000)/((Activități!$L$5:$L$1504="Întârziat")+(Activități!$L$5:$L$1504="Azi")+(Activități!$L$5:$L$1504="Planificat")),5),0) -> 46325 | P15: =IF(N(L15)<=0,0,_xlfn.AGGREGATE(15,6,(ROW(Clienți!$S$5:$S$504)-4)/((Clienți!$S$5:$S$504=L15)*(COUNTIF($P$10:P14,ROW(Clienți!$S$5:$S$504)-4)=0)),1)) -> 3
B16: =IF($N16=0,"",INDEX(Activități!$I$5:$I$1504,$N16)) -> 46326 | C16: =IF($N16=0,"",INDEX(Activități!$D$5:$D$1504,$N16)) -> Office Center Ploiești SRL | E16: =IF($N16=0,"",INDEX(Activități!$H$5:$H$1504,$N16)) -> Trimite situația nr. 2 la final de lună | H16: =IF($N16=0,"",INDEX(Activități!$J$5:$J$1504,$N16)) -> Dan Ilie | I16: =IF($N16=0,"",INDEX(Activități!$L$5:$L$1504,$N16)) -> Planificat | N16: =IF(O16=0,0,ROUND(MOD(O16,1)*1000000,0)-4) -> 7 | O16: =IFERROR(_xlfn.AGGREGATE(15,6,(Activități!$I$5:$I$1504+ROW(Activități!$I$5:$I$1504)/1000000)/((Activități!$L$5:$L$1504="Întârziat")+(Activități!$L$5:$L$1504="Azi")+(Activități!$L$5:$L$1504="Planificat")),6),0) -> 46326
B17: =IF($N17=0,"",INDEX(Activități!$I$5:$I$1504,$N17)) | C17: =IF($N17=0,"",INDEX(Activități!$D$5:$D$1504,$N17)) | E17: =IF($N17=0,"",INDEX(Activități!$H$5:$H$1504,$N17)) | H17: =IF($N17=0,"",INDEX(Activități!$J$5:$J$1504,$N17)) | I17: =IF($N17=0,"",INDEX(Activități!$L$5:$L$1504,$N17)) | K17: OPORTUNITĂȚI PE ETAPE | N17: =IF(O17=0,0,ROUND(MOD(O17,1)*1000000,0)-4) -> 0 | O17: =IFERROR(_xlfn.AGGREGATE(15,6,(Activități!$I$5:$I$1504+ROW(Activități!$I$5:$I$1504)/1000000)/((Activități!$L$5:$L$1504="Întârziat")+(Activități!$L$5:$L$1504="Azi")+(Activități!$L$5:$L$1504="Planificat")),7),0) -> 0
B18: =IF($N18=0,"",INDEX(Activități!$I$5:$I$1504,$N18)) | C18: =IF($N18=0,"",INDEX(Activități!$D$5:$D$1504,$N18)) | E18: =IF($N18=0,"",INDEX(Activități!$H$5:$H$1504,$N18)) | H18: =IF($N18=0,"",INDEX(Activități!$J$5:$J$1504,$N18)) | I18: =IF($N18=0,"",INDEX(Activități!$L$5:$L$1504,$N18)) | K18: Etapa | L18: Valoare | M18: Nr. | N18: =IF(O18=0,0,ROUND(MOD(O18,1)*1000000,0)-4) -> 0 | O18: =IFERROR(_xlfn.AGGREGATE(15,6,(Activități!$I$5:$I$1504+ROW(Activități!$I$5:$I$1504)/1000000)/((Activități!$L$5:$L$1504="Întârziat")+(Activități!$L$5:$L$1504="Azi")+(Activități!$L$5:$L$1504="Planificat")),8),0) -> 0
B19: =IF($N19=0,"",INDEX(Activități!$I$5:$I$1504,$N19)) | C19: =IF($N19=0,"",INDEX(Activități!$D$5:$D$1504,$N19)) | E19: =IF($N19=0,"",INDEX(Activități!$H$5:$H$1504,$N19)) | H19: =IF($N19=0,"",INDEX(Activități!$J$5:$J$1504,$N19)) | I19: =IF($N19=0,"",INDEX(Activități!$L$5:$L$1504,$N19)) | K19: =INDEX(ListaEtape,1) -> Contact inițial | L19: =SUMIFS(Oportunități!$F$5:$F$304,Oportunități!$G$5:$G$304,K19) -> 330000 | M19: =COUNTIF(Oportunități!$G$5:$G$304,K19) -> 2 | N19: =IF(O19=0,0,ROUND(MOD(O19,1)*1000000,0)-4) -> 0 | O19: =IFERROR(_xlfn.AGGREGATE(15,6,(Activități!$I$5:$I$1504+ROW(Activități!$I$5:$I$1504)/1000000)/((Activități!$L$5:$L$1504="Întârziat")+(Activități!$L$5:$L$1504="Azi")+(Activități!$L$5:$L$1504="Planificat")),9),0) -> 0
B20: =IF($N20=0,"",INDEX(Activități!$I$5:$I$1504,$N20)) | C20: =IF($N20=0,"",INDEX(Activități!$D$5:$D$1504,$N20)) | E20: =IF($N20=0,"",INDEX(Activități!$H$5:$H$1504,$N20)) | H20: =IF($N20=0,"",INDEX(Activități!$J$5:$J$1504,$N20)) | I20: =IF($N20=0,"",INDEX(Activități!$L$5:$L$1504,$N20)) | K20: =INDEX(ListaEtape,2) -> Nevoie confirmată | L20: =SUMIFS(Oportunități!$F$5:$F$304,Oportunități!$G$5:$G$304,K20) -> 38000 | M20: =COUNTIF(Oportunități!$G$5:$G$304,K20) -> 1 | N20: =IF(O20=0,0,ROUND(MOD(O20,1)*1000000,0)-4) -> 0 | O20: =IFERROR(_xlfn.AGGREGATE(15,6,(Activități!$I$5:$I$1504+ROW(Activități!$I$5:$I$1504)/1000000)/((Activități!$L$5:$L$1504="Întârziat")+(Activități!$L$5:$L$1504="Azi")+(Activități!$L$5:$L$1504="Planificat")),10),0) -> 0
B21: =IF($N21=0,"",INDEX(Activități!$I$5:$I$1504,$N21)) | C21: =IF($N21=0,"",INDEX(Activități!$D$5:$D$1504,$N21)) | E21: =IF($N21=0,"",INDEX(Activități!$H$5:$H$1504,$N21)) | H21: =IF($N21=0,"",INDEX(Activități!$J$5:$J$1504,$N21)) | I21: =IF($N21=0,"",INDEX(Activități!$L$5:$L$1504,$N21)) | K21: =INDEX(ListaEtape,3) -> Ofertă trimisă | L21: =SUMIFS(Oportunități!$F$5:$F$304,Oportunități!$G$5:$G$304,K21) -> 85000 | M21: =COUNTIF(Oportunități!$G$5:$G$304,K21) -> 1 | N21: =IF(O21=0,0,ROUND(MOD(O21,1)*1000000,0)-4) -> 0 | O21: =IFERROR(_xlfn.AGGREGATE(15,6,(Activități!$I$5:$I$1504+ROW(Activități!$I$5:$I$1504)/1000000)/((Activități!$L$5:$L$1504="Întârziat")+(Activități!$L$5:$L$1504="Azi")+(Activități!$L$5:$L$1504="Planificat")),11),0) -> 0
B22: =IF($N22=0,"",INDEX(Activități!$I$5:$I$1504,$N22)) | C22: =IF($N22=0,"",INDEX(Activități!$D$5:$D$1504,$N22)) | E22: =IF($N22=0,"",INDEX(Activități!$H$5:$H$1504,$N22)) | H22: =IF($N22=0,"",INDEX(Activități!$J$5:$J$1504,$N22)) | I22: =IF($N22=0,"",INDEX(Activități!$L$5:$L$1504,$N22)) | K22: =INDEX(ListaEtape,4) -> Negociere | L22: =SUMIFS(Oportunități!$F$5:$F$304,Oportunități!$G$5:$G$304,K22) -> 24000 | M22: =COUNTIF(Oportunități!$G$5:$G$304,K22) -> 1 | N22: =IF(O22=0,0,ROUND(MOD(O22,1)*1000000,0)-4) -> 0 | O22: =IFERROR(_xlfn.AGGREGATE(15,6,(Activități!$I$5:$I$1504+ROW(Activități!$I$5:$I$1504)/1000000)/((Activități!$L$5:$L$1504="Întârziat")+(Activități!$L$5:$L$1504="Azi")+(Activități!$L$5:$L$1504="Planificat")),12),0) -> 0
K23: =INDEX(ListaEtape,5) -> Câștigată | L23: =SUMIFS(Oportunități!$F$5:$F$304,Oportunități!$G$5:$G$304,K23) -> 198395 | M23: =COUNTIF(Oportunități!$G$5:$G$304,K23) -> 1
K24: =INDEX(ListaEtape,6) -> Pierdută | L24: =SUMIFS(Oportunități!$F$5:$F$304,Oportunități!$G$5:$G$304,K24) -> 46000 | M24: =COUNTIF(Oportunități!$G$5:$G$304,K24) -> 1

Sheet Clienți
B1: Baza de date a clienților
B2: Un rând pentru fiecare client sau client potențial. Ultimul contact, următoarea acțiune, vânzările și alertele se calculează din celelalte foi.
B4: Cod | C4: Firmă / nume | D4: CIF / CNP | E4: Persoană de contact | F4: Funcția | G4: Telefon | H4: E-mail | I4: Oraș | J4: Sursa | K4: Responsabil | L4: Tip client | M4: Condiții de plată | N4: Acord pentru comunicări comerciale | O4: Data primului contact | P4: Ultimul contact | Q4: Zile de la ultimul contact | R4: Următoarea acțiune | S4: Vânzări în an (fără TVA) | T4: Ultima vânzare | U4: Clasa ABC | V4: Oportunități deschise (ponderat) | W4: Alertă
B5: C001 | C5: Exemplu Construct SRL | D5: RO23456789 | E5: Dan Ilie | F5: Director tehnic | G5: 0722 111 222 | H5: office@exemplu-construct.ro | I5: Câmpina | J5: Recomandare | K5: Maria Stoica | L5: Activ | M5: OP la 15 zile | N5: Da | O5: =DATE(2024,3,12) -> 45363 | P5: =IF(B5="","",IFERROR(_xlfn.AGGREGATE(14,6,Activități!$B$5:$B$1504/(Activități!$C$5:$C$1504=B5),1),"")) -> 46307 | Q5: =IF(ISNUMBER(P5),AziC-P5,"") -> 2 | R5: =IF(B5="","",IFERROR(_xlfn.AGGREGATE(15,6,Activități!$I$5:$I$1504/((Activități!$C$5:$C$1504=B5)*(Activități!$K$5:$K$1504<>"Da")*ISNUMBER(Activități!$I$5:$I$1504)),1),"")) -> 46311 | S5: =IF(B5="","",SUMIFS(Vânzări!$F$5:$F$2004,Vânzări!$C$5:$C$2004,B5,Vânzări!$B$5:$B$2004,">="&DATE(AnV,1,1),Vânzări!$B$5:$B$2004,"<="&DATE(AnV,12,31))) -> 21747 | T5: =IF(B5="","",IFERROR(_xlfn.AGGREGATE(14,6,Vânzări!$B$5:$B$2004/(Vânzări!$C$5:$C$2004=B5),1),"")) -> 46307 | U5: =IF(OR(B5="",N(S5)<=0),"–",IF(SUMIF($S$5:$S$504,">="&S5)/SUM($S$5:$S$504)<=0.8,"A",IF(SUMIF($S$5:$S$504,">="&S5)/SUM($S$5:$S$504)<=0.95,"B","C"))) -> B | V5: =IF(B5="","",SUMIFS(Oportunități!$I$5:$I$304,Oportunități!$C$5:$C$304,B5,Oportunități!$G$5:$G$304,"<>Câștigată",Oportunități!$G$5:$G$304,"<>Pierdută")) -> 18000 | W5: =IF(B5="","",TRIM(IF(COUNTIF($B$5:$B$504,B5)>1,"Cod dublat. ","")&IF(AND(OR(L5="Activ",L5="Potențial"),OR(NOT(ISNUMBER(Q5)),N(Q5)>ZileFaraContact)),IF(ISNUMBER(Q5),"Fără contact de "&Q5&" zile. ","Niciun contact înregistrat. "),"")&IF(AND(ISNUMBER(R5),R5<AziC),"Acțiune întârziată ("&RIGHT("0"&DAY(R5),2)&"."&RIGHT("0"&MONTH(R5),2)&"."&YEAR(R5)&"). ","")&IF(AND(L5="Activ",OR(NOT(ISNUMBER(T5)),AziC-N(T5)>ZileFaraVanzari)),"Activ, fără vânzări de peste "&ZileFaraVanzari&" de zile. ","")&IF(AND(L5<>"Inactiv",L5<>"Pierdut",G5="",H5=""),"Lipsesc telefonul și e-mailul. ","")))
B6: C002 | C6: Electro Plus SRL | D6: RO34567890 | E6: Maria Stoica | F6: Achiziții | G6: 0244 222 333 | H6: achizitii@electroplus.ro | I6: Ploiești | J6: Târg / eveniment | K6: Andrei Toma | L6: Activ | M6: OP la 30 zile | N6: Da | O6: =DATE(2023,10,5) -> 45204 | P6: =IF(B6="","",IFERROR(_xlfn.AGGREGATE(14,6,Activități!$B$5:$B$1504/(Activități!$C$5:$C$1504=B6),1),"")) -> 46296 | Q6: =IF(ISNUMBER(P6),AziC-P6,"") -> 13 | R6: =IF(B6="","",IFERROR(_xlfn.AGGREGATE(15,6,Activități!$I$5:$I$1504/((Activități!$C$5:$C$1504=B6)*(Activități!$K$5:$K$1504<>"Da")*ISNUMBER(Activități!$I$5:$I$1504)),1),"")) -> 46304 | S6: =IF(B6="","",SUMIFS(Vânzări!$F$5:$F$2004,Vânzări!$C$5:$C$2004,B6,Vânzări!$B$5:$B$2004,">="&DATE(AnV,1,1),Vânzări!$B$5:$B$2004,"<="&DATE(AnV,12,31))) -> 26500 | T6: =IF(B6="","",IFERROR(_xlfn.AGGREGATE(14,6,Vânzări!$B$5:$B$2004/(Vânzări!$C$5:$C$2004=B6),1),"")) -> 46297 | U6: =IF(OR(B6="",N(S6)<=0),"–",IF(SUMIF($S$5:$S$504,">="&S6)/SUM($S$5:$S$504)<=0.8,"A",IF(SUMIF($S$5:$S$504,">="&S6)/SUM($S$5:$S$504)<=0.95,"B","C"))) -> A | V6: =IF(B6="","",SUMIFS(Oportunități!$I$5:$I$304,Oportunități!$C$5:$C$304,B6,Oportunități!$G$5:$G$304,"<>Câștigată",Oportunități!$G$5:$G$304,"<>Pierdută")) -> 42500 | W6: =IF(B6="","",TRIM(IF(COUNTIF($B$5:$B$504,B6)>1,"Cod dublat. ","")&IF(AND(OR(L6="Activ",L6="Potențial"),OR(NOT(ISNUMBER(Q6)),N(Q6)>ZileFaraContact)),IF(ISNUMBER(Q6),"Fără contact de "&Q6&" zile. ","Niciun contact înregistrat. "),"")&IF(AND(ISNUMBER(R6),R6<AziC),"Acțiune întârziată ("&RIGHT("0"&DAY(R6),2)&"."&RIGHT("0"&MONTH(R6),2)&"."&YEAR(R6)&"). ","")&IF(AND(L6="Activ",OR(NOT(ISNUMBER(T6)),AziC-N(T6)>ZileFaraVanzari)),"Activ, fără vânzări de peste "&ZileFaraVanzari&" de zile. ","")&IF(AND(L6<>"Inactiv",L6<>"Pierdut",G6="",H6=""),"Lipsesc telefonul și e-mailul. ",""))) -> Acțiune întârziată (09.10.2026).
B7: C003 | C7: Casa Verde SRL | D7: RO67890123 | E7: Elena Dinu | F7: Administrator | G7: 0733 444 555 | H7: office@casaverde.ro | I7: Bucov | J7: Site | K7: Maria Stoica | L7: Activ | M7: Plată în avans | N7: Da | O7: =DATE(2025,5,20) -> 45797 | P7: =IF(B7="","",IFERROR(_xlfn.AGGREGATE(14,6,Activități!$B$5:$B$1504/(Activități!$C$5:$C$1504=B7),1),"")) -> 46287 | Q7: =IF(ISNUMBER(P7),AziC-P7,"") -> 22 | R7: =IF(B7="","",IFERROR(_xlfn.AGGREGATE(15,6,Activități!$I$5:$I$1504/((Activități!$C$5:$C$1504=B7)*(Activități!$K$5:$K$1504<>"Da")*ISNUMBER(Activități!$I$5:$I$1504)),1),"")) | S7: =IF(B7="","",SUMIFS(Vânzări!$F$5:$F$2004,Vânzări!$C$5:$C$2004,B7,Vânzări!$B$5:$B$2004,">="&DATE(AnV,1,1),Vânzări!$B$5:$B$2004,"<="&DATE(AnV,12,31))) -> 9800 | T7: =IF(B7="","",IFERROR(_xlfn.AGGREGATE(14,6,Vânzări!$B$5:$B$2004/(Vânzări!$C$5:$C$2004=B7),1),"")) -> 46300 | U7: =IF(OR(B7="",N(S7)<=0),"–",IF(SUMIF($S$5:$S$504,">="&S7)/SUM($S$5:$S$504)<=0.8,"A",IF(SUMIF($S$5:$S$504,">="&S7)/SUM($S$5:$S$504)<=0.95,"B","C"))) -> C | V7: =IF(B7="","",SUMIFS(Oportunități!$I$5:$I$304,Oportunități!$C$5:$C$304,B7,Oportunități!$G$5:$G$304,"<>Câștigată",Oportunități!$G$5:$G$304,"<>Pierdută")) -> 0 | W7: =IF(B7="","",TRIM(IF(COUNTIF($B$5:$B$504,B7)>1,"Cod dublat. ","")&IF(AND(OR(L7="Activ",L7="Potențial"),OR(NOT(ISNUMBER(Q7)),N(Q7)>ZileFaraContact)),IF(ISNUMBER(Q7),"Fără contact de "&Q7&" zile. ","Niciun contact înregistrat. "),"")&IF(AND(ISNUMBER(R7),R7<AziC),"Acțiune întârziată ("&RIGHT("0"&DAY(R7),2)&"."&RIGHT("0"&MONTH(R7),2)&"."&YEAR(R7)&"). ","")&IF(AND(L7="Activ",OR(NOT(ISNUMBER(T7)),AziC-N(T7)>ZileFaraVanzari)),"Activ, fără vânzări de peste "&ZileFaraVanzari&" de zile. ","")&IF(AND(L7<>"Inactiv",L7<>"Pierdut",G7="",H7=""),"Lipsesc telefonul și e-mailul. ","")))
B8: C004 | C8: Montaj Expert SRL | D8: RO56789012 | E8: Andrei Toma | F8: Șef șantier | G8: 0744 333 444 | I8: Ploiești | J8: Recomandare | K8: Andrei Toma | L8: Activ | M8: OP la 15 zile | N8: Nu | O8: =DATE(2022,2,14) -> 44606 | P8: =IF(B8="","",IFERROR(_xlfn.AGGREGATE(14,6,Activități!$B$5:$B$1504/(Activități!$C$5:$C$1504=B8),1),"")) -> 46300 | Q8: =IF(ISNUMBER(P8),AziC-P8,"") -> 9 | R8: =IF(B8="","",IFERROR(_xlfn.AGGREGATE(15,6,Activități!$I$5:$I$1504/((Activități!$C$5:$C$1504=B8)*(Activități!$K$5:$K$1504<>"Da")*ISNUMBER(Activități!$I$5:$I$1504)),1),"")) -> 46309 | S8: =IF(B8="","",SUMIFS(Vânzări!$F$5:$F$2004,Vânzări!$C$5:$C$2004,B8,Vânzări!$B$5:$B$2004,">="&DATE(AnV,1,1),Vânzări!$B$5:$B$2004,"<="&DATE(AnV,12,31))) -> 27000 | T8: =IF(B8="","",IFERROR(_xlfn.AGGREGATE(14,6,Vânzări!$B$5:$B$2004/(Vânzări!$C$5:$C$2004=B8),1),"")) -> 46303 | U8: =IF(OR(B8="",N(S8)<=0),"–",IF(SUMIF($S$5:$S$504,">="&S8)/SUM($S$5:$S$504)<=0.8,"A",IF(SUMIF($S$5:$S$504,">="&S8)/SUM($S$5:$S$504)<=0.95,"B","C"))) -> A | V8: =IF(B8="","",SUMIFS(Oportunități!$I$5:$I$304,Oportunități!$C$5:$C$304,B8,Oportunități!$G$5:$G$304,"<>Câștigată",Oportunități!$G$5:$G$304,"<>Pierdută")) -> 9500 | W8: =IF(B8="","",TRIM(IF(COUNTIF($B$5:$B$504,B8)>1,"Cod dublat. ","")&IF(AND(OR(L8="Activ",L8="Potențial"),OR(NOT(ISNUMBER(Q8)),N(Q8)>ZileFaraContact)),IF(ISNUMBER(Q8),"Fără contact de "&Q8&" zile. ","Niciun contact înregistrat. "),"")&IF(AND(ISNUMBER(R8),R8<AziC),"Acțiune întârziată ("&RIGHT("0"&DAY(R8),2)&"."&RIGHT("0"&MONTH(R8),2)&"."&YEAR(R8)&"). ","")&IF(AND(L8="Activ",OR(NOT(ISNUMBER(T8)),AziC-N(T8)>ZileFaraVanzari)),"Activ, fără vânzări de peste "&ZileFaraVanzari&" de zile. ","")&IF(AND(L8<>"Inactiv",L8<>"Pierdut",G8="",H8=""),"Lipsesc telefonul și e-mailul. ","")))
B9: C005 | C9: Instal Rapid SRL | D9: RO45678901 | E9: Sorin Neagu | F9: Director | G9: 0755 666 777 | H9: contact@instalrapid.ro | I9: Ploiești | J9: Telefon | K9: Maria Stoica | L9: Activ | M9: La livrare | N9: Da | O9: =DATE(2025,1,9) -> 45666 | P9: =IF(B9="","",IFERROR(_xlfn.AGGREGATE(14,6,Activități!$B$5:$B$1504/(Activități!$C$5:$C$1504=B9),1),"")) -> 46307 | Q9: =IF(ISNUMBER(P9),AziC-P9,"") -> 2 | R9: =IF(B9="","",IFERROR(_xlfn.AGGREGATE(15,6,Activități!$I$5:$I$1504/((Activități!$C$5:$C$1504=B9)*(Activități!$K$5:$K$1504<>"Da")*ISNUMBER(Activități!$I$5:$I$1504)),1),"")) | S9: =IF(B9="","",SUMIFS(Vânzări!$F$5:$F$2004,Vânzări!$C$5:$C$2004,B9,Vânzări!$B$5:$B$2004,">="&DATE(AnV,1,1),Vânzări!$B$5:$B$2004,"<="&DATE(AnV,12,31))) -> 4200 | T9: =IF(B9="","",IFERROR(_xlfn.AGGREGATE(14,6,Vânzări!$B$5:$B$2004/(Vânzări!$C$5:$C$2004=B9),1),"")) -> 46086 | U9: =IF(OR(B9="",N(S9)<=0),"–",IF(SUMIF($S$5:$S$504,">="&S9)/SUM($S$5:$S$504)<=0.8,"A",IF(SUMIF($S$5:$S$504,">="&S9)/SUM($S$5:$S$504)<=0.95,"B","C"))) -> C | V9: =IF(B9="","",SUMIFS(Oportunități!$I$5:$I$304,Oportunități!$C$5:$C$304,B9,Oportunități!$G$5:$G$304,"<>Câștigată",Oportunități!$G$5:$G$304,"<>Pierdută")) -> 0 | W9: =IF(B9="","",TRIM(IF(COUNTIF($B$5:$B$504,B9)>1,"Cod dublat. ","")&IF(AND(OR(L9="Activ",L9="Potențial"),OR(NOT(ISNUMBER(Q9)),N(Q9)>ZileFaraContact)),IF(ISNUMBER(Q9),"Fără contact de "&Q9&" zile. ","Niciun contact înregistrat. "),"")&IF(AND(ISNUMBER(R9),R9<AziC),"Acțiune întârziată ("&RIGHT("0"&DAY(R9),2)&"."&RIGHT("0"&MONTH(R9),2)&"."&YEAR(R9)&"). ","")&IF(AND(L9="Activ",OR(NOT(ISNUMBER(T9)),AziC-N(T9)>ZileFaraVanzari)),"Activ, fără vânzări de peste "&ZileFaraVanzari&" de zile. ","")&IF(AND(L9<>"Inactiv",L9<>"Pierdut",G9="",H9=""),"Lipsesc telefonul și e-mailul. ",""))) -> Activ, fără vânzări de peste 90 de zile.
B10: C006 | C10: Hotel Prahova SRL | D10: RO12121212 | E10: Irina Matei | F10: Director general | G10: 0766 121 212 | H10: irina.matei@hotelprahova.ro | I10: Sinaia | J10: LinkedIn | K10: Andrei Toma | L10: Potențial | N10: Da | O10: =DATE(2026,8,20) -> 46254 | P10: =IF(B10="","",IFERROR(_xlfn.AGGREGATE(14,6,Activități!$B$5:$B$1504/(Activități!$C$5:$C$1504=B10),1),"")) -> 46261 | Q10: =IF(ISNUMBER(P10),AziC-P10,"") -> 48 | R10: =IF(B10="","",IFERROR(_xlfn.AGGREGATE(15,6,Activități!$I$5:$I$1504/((Activități!$C$5:$C$1504=B10)*(Activități!$K$5:$K$1504<>"Da")*ISNUMBER(Activități!$I$5:$I$1504)),1),"")) -> 46280 | S10: =IF(B10="","",SUMIFS(Vânzări!$F$5:$F$2004,Vânzări!$C$5:$C$2004,B10,Vânzări!$B$5:$B$2004,">="&DATE(AnV,1,1),Vânzări!$B$5:$B$2004,"<="&DATE(AnV,12,31))) -> 0 | T10: =IF(B10="","",IFERROR(_xlfn.AGGREGATE(14,6,Vânzări!$B$5:$B$2004/(Vânzări!$C$5:$C$2004=B10),1),"")) | U10: =IF(OR(B10="",N(S10)<=0),"–",IF(SUMIF($S$5:$S$504,">="&S10)/SUM($S$5:$S$504)<=0.8,"A",IF(SUMIF($S$5:$S$504,">="&S10)/SUM($S$5:$S$504)<=0.95,"B","C"))) -> – | V10: =IF(B10="","",SUMIFS(Oportunități!$I$5:$I$304,Oportunități!$C$5:$C$304,B10,Oportunități!$G$5:$G$304,"<>Câștigată",Oportunități!$G$5:$G$304,"<>Pierdută")) -> 12000 | W10: =IF(B10="","",TRIM(IF(COUNTIF($B$5:$B$504,B10)>1,"Cod dublat. ","")&IF(AND(OR(L10="Activ",L10="Potențial"),OR(NOT(ISNUMBER(Q10)),N(Q10)>ZileFaraContact)),IF(ISNUMBER(Q10),"Fără contact de "&Q10&" zile. ","Niciun contact înregistrat. "),"")&IF(AND(ISNUMBER(R10),R10<AziC),"Acțiune întârziată ("&RIGHT("0"&DAY(R10),2)&"."&RIGHT("0"&MONTH(R10),2)&"."&YEAR(R10)&"). ","")&IF(AND(L10="Activ",OR(NOT(ISNUMBER(T10)),AziC-N(T10)>ZileFaraVanzari)),"Activ, fără vânzări de peste "&ZileFaraVanzari&" de zile. ","")&IF(AND(L10<>"Inactiv",L10<>"Pierdut",G10="",H10=""),"Lipsesc telefonul și e-mailul. ",""))) -> Fără contact de 48 zile. Acțiune întârziată (15.09.2026).
B11: C007 | C11: Primăria Comunei Bucov | D11: 2845511 | E11: Vlad Pop | F11: Achiziții publice | G11: 0244 275 000 | H11: achizitii@primariabucov.ro | I11: Bucov | J11: Altă sursă | K11: Dan Ilie | L11: Potențial | N11: Nu | O11: =DATE(2026,9,15) -> 46280 | P11: =IF(B11="","",IFERROR(_xlfn.AGGREGATE(14,6,Activități!$B$5:$B$1504/(Activități!$C$5:$C$1504=B11),1),"")) -> 46280 | Q11: =IF(ISNUMBER(P11),AziC-P11,"") -> 29 | R11: =IF(B11="","",IFERROR(_xlfn.AGGREGATE(15,6,Activități!$I$5:$I$1504/((Activități!$C$5:$C$1504=B11)*(Activități!$K$5:$K$1504<>"Da")*ISNUMBER(Activități!$I$5:$I$1504)),1),"")) -> 46325 | S11: =IF(B11="","",SUMIFS(Vânzări!$F$5:$F$2004,Vânzări!$C$5:$C$2004,B11,Vânzări!$B$5:$B$2004,">="&DATE(AnV,1,1),Vânzări!$B$5:$B$2004,"<="&DATE(AnV,12,31))) -> 0 | T11: =IF(B11="","",IFERROR(_xlfn.AGGREGATE(14,6,Vânzări!$B$5:$B$2004/(Vânzări!$C$5:$C$2004=B11),1),"")) | U11: =IF(OR(B11="",N(S11)<=0),"–",IF(SUMIF($S$5:$S$504,">="&S11)/SUM($S$5:$S$504)<=0.8,"A",IF(SUMIF($S$5:$S$504,">="&S11)/SUM($S$5:$S$504)<=0.95,"B","C"))) -> – | V11: =IF(B11="","",SUMIFS(Oportunități!$I$5:$I$304,Oportunități!$C$5:$C$304,B11,Oportunități!$G$5:$G$304,"<>Câștigată",Oportunități!$G$5:$G$304,"<>Pierdută")) -> 21000 | W11: =IF(B11="","",TRIM(IF(COUNTIF($B$5:$B$504,B11)>1,"Cod dublat. ","")&IF(AND(OR(L11="Activ",L11="Potențial"),OR(NOT(ISNUMBER(Q11)),N(Q11)>ZileFaraContact)),IF(ISNUMBER(Q11),"Fără contact de "&Q11&" zile. ","Niciun contact înregistrat. "),"")&IF(AND(ISNUMBER(R11),R11<AziC),"Acțiune întârziată ("&RIGHT("0"&DAY(R11),2)&"."&RIGHT("0"&MONTH(R11),2)&"."&YEAR(R11)&"). ","")&IF(AND(L11="Activ",OR(NOT(ISNUMBER(T11)),AziC-N(T11)>ZileFaraVanzari)),"Activ, fără vânzări de peste "&ZileFaraVanzari&" de zile. ","")&IF(AND(L11<>"Inactiv",L11<>"Pierdut",G11="",H11=""),"Lipsesc telefonul și e-mailul. ","")))
B12: C008 | C12: Office Center Ploiești SRL | D12: RO31313131 | E12: Laura Pop | F12: Diriginte de șantier | G12: 0722 313 131 | H12: laura.pop@officecenter.ro | I12: Ploiești | J12: Recomandare | K12: Dan Ilie | L12: Activ | M12: Conform contract | N12: Da | O12: =DATE(2026,7,1) -> 46204 | P12: =IF(B12="","",IFERROR(_xlfn.AGGREGATE(14,6,Activități!$B$5:$B$1504/(Activități!$C$5:$C$1504=B12),1),"")) -> 46297 | Q12: =IF(ISNUMBER(P12),AziC-P12,"") -> 12 | R12: =IF(B12="","",IFERROR(_xlfn.AGGREGATE(15,6,Activități!$I$5:$I$1504/((Activități!$C$5:$C$1504=B12)*(Activități!$K$5:$K$1504<>"Da")*ISNUMBER(Activități!$I$5:$I$1504)),1),"")) -> 46326 | S12: =IF(B12="","",SUMIFS(Vânzări!$F$5:$F$2004,Vânzări!$C$5:$C$2004,B12,Vânzări!$B$5:$B$2004,">="&DATE(AnV,1,1),Vânzări!$B$5:$B$2004,"<="&DATE(AnV,12,31))) -> 42120 | T12: =IF(B12="","",IFERROR(_xlfn.AGGREGATE(14,6,Vânzări!$B$5:$B$2004/(Vânzări!$C$5:$C$2004=B12),1),"")) -> 46295 | U12: =IF(OR(B12="",N(S12)<=0),"–",IF(SUMIF($S$5:$S$504,">="&S12)/SUM($S$5:$S$504)<=0.8,"A",IF(SUMIF($S$5:$S$504,">="&S12)/SUM($S$5:$S$504)<=0.95,"B","C"))) -> A | V12: =IF(B12="","",SUMIFS(Oportunități!$I$5:$I$304,Oportunități!$C$5:$C$304,B12,Oportunități!$G$5:$G$304,"<>Câștigată",Oportunități!$G$5:$G$304,"<>Pierdută")) -> 0 | W12: =IF(B12="","",TRIM(IF(COUNTIF($B$5:$B$504,B12)>1,"Cod dublat. ","")&IF(AND(OR(L12="Activ",L12="Potențial"),OR(NOT(ISNUMBER(Q12)),N(Q12)>ZileFaraContact)),IF(ISNUMBER(Q12),"Fără contact de "&Q12&" zile. ","Niciun contact înregistrat. "),"")&IF(AND(ISNUMBER(R12),R12<AziC),"Acțiune întârziată ("&RIGHT("0"&DAY(R12),2)&"."&RIGHT("0"&MONTH(R12),2)&"."&YEAR(R12)&"). ","")&IF(AND(L12="Activ",OR(NOT(ISNUMBER(T12)),AziC-N(T12)>ZileFaraVanzari)),"Activ, fără vânzări de peste "&ZileFaraVanzari&" de zile. ","")&IF(AND(L12<>"Inactiv",L12<>"Pierdut",G12="",H12=""),"Lipsesc telefonul și e-mailul. ","")))
B13: C009 | C13: Popescu Ion | D13: 1720315290016 | I13: Ploiești | J13: Telefon | K13: Maria Stoica | L13: Inactiv | N13: Nu | O13: =DATE(2026,10,6) -> 46301 | P13: =IF(B13="","",IFERROR(_xlfn.AGGREGATE(14,6,Activități!$B$5:$B$1504/(Activități!$C$5:$C$1504=B13),1),"")) | Q13: =IF(ISNUMBER(P13),AziC-P13,"") | R13: =IF(B13="","",IFERROR(_xlfn.AGGREGATE(15,6,Activități!$I$5:$I$1504/((Activități!$C$5:$C$1504=B13)*(Activități!$K$5:$K$1504<>"Da")*ISNUMBER(Activități!$I$5:$I$1504)),1),"")) | S13: =IF(B13="","",SUMIFS(Vânzări!$F$5:$F$2004,Vânzări!$C$5:$C$2004,B13,Vânzări!$B$5:$B$2004,">="&DATE(AnV,1,1),Vânzări!$B$5:$B$2004,"<="&DATE(AnV,12,31))) -> 820 | T13: =IF(B13="","",IFERROR(_xlfn.AGGREGATE(14,6,Vânzări!$B$5:$B$2004/(Vânzări!$C$5:$C$2004=B13),1),"")) -> 46301 | U13: =IF(OR(B13="",N(S13)<=0),"–",IF(SUMIF($S$5:$S$504,">="&S13)/SUM($S$5:$S$504)<=0.8,"A",IF(SUMIF($S$5:$S$504,">="&S13)/SUM($S$5:$S$504)<=0.95,"B","C"))) -> C | V13: =IF(B13="","",SUMIFS(Oportunități!$I$5:$I$304,Oportunități!$C$5:$C$304,B13,Oportunități!$G$5:$G$304,"<>Câștigată",Oportunități!$G$5:$G$304,"<>Pierdută")) -> 0 | W13: =IF(B13="","",TRIM(IF(COUNTIF($B$5:$B$504,B13)>1,"Cod dublat. ","")&IF(AND(OR(L13="Activ",L13="Potențial"),OR(NOT(ISNUMBER(Q13)),N(Q13)>ZileFaraContact)),IF(ISNUMBER(Q13),"Fără contact de "&Q13&" zile. ","Niciun contact înregistrat. "),"")&IF(AND(ISNUMBER(R13),R13<AziC),"Acțiune întârziată ("&RIGHT("0"&DAY(R13),2)&"."&RIGHT("0"&MONTH(R13),2)&"."&YEAR(R13)&"). ","")&IF(AND(L13="Activ",OR(NOT(ISNUMBER(T13)),AziC-N(T13)>ZileFaraVanzari)),"Activ, fără vânzări de peste "&ZileFaraVanzari&" de zile. ","")&IF(AND(L13<>"Inactiv",L13<>"Pierdut",G13="",H13=""),"Lipsesc telefonul și e-mailul. ","")))
P14: =IF(B14="","",IFERROR(_xlfn.AGGREGATE(14,6,Activități!$B$5:$B$1504/(Activități!$C$5:$C$1504=B14),1),"")) | Q14: =IF(ISNUMBER(P14),AziC-P14,"") | R14: =IF(B14="","",IFERROR(_xlfn.AGGREGATE(15,6,Activități!$I$5:$I$1504/((Activități!$C$5:$C$1504=B14)*(Activități!$K$5:$K$1504<>"Da")*ISNUMBER(Activități!$I$5:$I$1504)),1),"")) | S14: =IF(B14="","",SUMIFS(Vânzări!$F$5:$F$2004,Vânzări!$C$5:$C$2004,B14,Vânzări!$B$5:$B$2004,">="&DATE(AnV,1,1),Vânzări!$B$5:$B$2004,"<="&DATE(AnV,12,31))) | T14: =IF(B14="","",IFERROR(_xlfn.AGGREGATE(14,6,Vânzări!$B$5:$B$2004/(Vânzări!$C$5:$C$2004=B14),1),"")) | U14: =IF(OR(B14="",N(S14)<=0),"–",IF(SUMIF($S$5:$S$504,">="&S14)/SUM($S$5:$S$504)<=0.8,"A",IF(SUMIF($S$5:$S$504,">="&S14)/SUM($S$5:$S$504)<=0.95,"B","C"))) -> – | V14: =IF(B14="","",SUMIFS(Oportunități!$I$5:$I$304,Oportunități!$C$5:$C$304,B14,Oportunități!$G$5:$G$304,"<>Câștigată",Oportunități!$G$5:$G$304,"<>Pierdută")) | W14: =IF(B14="","",TRIM(IF(COUNTIF($B$5:$B$504,B14)>1,"Cod dublat. ","")&IF(AND(OR(L14="Activ",L14="Potențial"),OR(NOT(ISNUMBER(Q14)),N(Q14)>ZileFaraContact)),IF(ISNUMBER(Q14),"Fără contact de "&Q14&" zile. ","Niciun contact înregistrat. "),"")&IF(AND(ISNUMBER(R14),R14<AziC),"Acțiune întârziată ("&RIGHT("0"&DAY(R14),2)&"."&RIGHT("0"&MONTH(R14),2)&"."&YEAR(R14)&"). ","")&IF(AND(L14="Activ",OR(NOT(ISNUMBER(T14)),AziC-N(T14)>ZileFaraVanzari)),"Activ, fără vânzări de peste "&ZileFaraVanzari&" de zile. ","")&IF(AND(L14<>"Inactiv",L14<>"Pierdut",G14="",H14=""),"Lipsesc telefonul și e-mailul. ","")))
P15: =IF(B15="","",IFERROR(_xlfn.AGGREGATE(14,6,Activități!$B$5:$B$1504/(Activități!$C$5:$C$1504=B15),1),"")) | Q15: =IF(ISNUMBER(P15),AziC-P15,"") | R15: =IF(B15="","",IFERROR(_xlfn.AGGREGATE(15,6,Activități!$I$5:$I$1504/((Activități!$C$5:$C$1504=B15)*(Activități!$K$5:$K$1504<>"Da")*ISNUMBER(Activități!$I$5:$I$1504)),1),"")) | S15: =IF(B15="","",SUMIFS(Vânzări!$F$5:$F$2004,Vânzări!$C$5:$C$2004,B15,Vânzări!$B$5:$B$2004,">="&DATE(AnV,1,1),Vânzări!$B$5:$B$2004,"<="&DATE(AnV,12,31))) | T15: =IF(B15="","",IFERROR(_xlfn.AGGREGATE(14,6,Vânzări!$B$5:$B$2004/(Vânzări!$C$5:$C$2004=B15),1),"")) | U15: =IF(OR(B15="",N(S15)<=0),"–",IF(SUMIF($S$5:$S$504,">="&S15)/SUM($S$5:$S$504)<=0.8,"A",IF(SUMIF($S$5:$S$504,">="&S15)/SUM($S$5:$S$504)<=0.95,"B","C"))) -> – | V15: =IF(B15="","",SUMIFS(Oportunități!$I$5:$I$304,Oportunități!$C$5:$C$304,B15,Oportunități!$G$5:$G$304,"<>Câștigată",Oportunități!$G$5:$G$304,"<>Pierdută")) | W15: =IF(B15="","",TRIM(IF(COUNTIF($B$5:$B$504,B15)>1,"Cod dublat. ","")&IF(AND(OR(L15="Activ",L15="Potențial"),OR(NOT(ISNUMBER(Q15)),N(Q15)>ZileFaraContact)),IF(ISNUMBER(Q15),"Fără contact de "&Q15&" zile. ","Niciun contact înregistrat. "),"")&IF(AND(ISNUMBER(R15),R15<AziC),"Acțiune întârziată ("&RIGHT("0"&DAY(R15),2)&"."&RIGHT("0"&MONTH(R15),2)&"."&YEAR(R15)&"). ","")&IF(AND(L15="Activ",OR(NOT(ISNUMBER(T15)),AziC-N(T15)>ZileFaraVanzari)),"Activ, fără vânzări de peste "&ZileFaraVanzari&" de zile. ","")&IF(AND(L15<>"Inactiv",L15<>"Pierdut",G15="",H15=""),"Lipsesc telefonul și e-mailul. ","")))
P16: =IF(B16="","",IFERROR(_xlfn.AGGREGATE(14,6,Activități!$B$5:$B$1504/(Activități!$C$5:$C$1504=B16),1),"")) | Q16: =IF(ISNUMBER(P16),AziC-P16,"") | R16: =IF(B16="","",IFERROR(_xlfn.AGGREGATE(15,6,Activități!$I$5:$I$1504/((Activități!$C$5:$C$1504=B16)*(Activități!$K$5:$K$1504<>"Da")*ISNUMBER(Activități!$I$5:$I$1504)),1),"")) | S16: =IF(B16="","",SUMIFS(Vânzări!$F$5:$F$2004,Vânzări!$C$5:$C$2004,B16,Vânzări!$B$5:$B$2004,">="&DATE(AnV,1,1),Vânzări!$B$5:$B$2004,"<="&DATE(AnV,12,31))) | T16: =IF(B16="","",IFERROR(_xlfn.AGGREGATE(14,6,Vânzări!$B$5:$B$2004/(Vânzări!$C$5:$C$2004=B16),1),"")) | U16: =IF(OR(B16="",N(S16)<=0),"–",IF(SUMIF($S$5:$S$504,">="&S16)/SUM($S$5:$S$504)<=0.8,"A",IF(SUMIF($S$5:$S$504,">="&S16)/SUM($S$5:$S$504)<=0.95,"B","C"))) -> – | V16: =IF(B16="","",SUMIFS(Oportunități!$I$5:$I$304,Oportunități!$C$5:$C$304,B16,Oportunități!$G$5:$G$304,"<>Câștigată",Oportunități!$G$5:$G$304,"<>Pierdută")) | W16: =IF(B16="","",TRIM(IF(COUNTIF($B$5:$B$504,B16)>1,"Cod dublat. ","")&IF(AND(OR(L16="Activ",L16="Potențial"),OR(NOT(ISNUMBER(Q16)),N(Q16)>ZileFaraContact)),IF(ISNUMBER(Q16),"Fără contact de "&Q16&" zile. ","Niciun contact înregistrat. "),"")&IF(AND(ISNUMBER(R16),R16<AziC),"Acțiune întârziată ("&RIGHT("0"&DAY(R16),2)&"."&RIGHT("0"&MONTH(R16),2)&"."&YEAR(R16)&"). ","")&IF(AND(L16="Activ",OR(NOT(ISNUMBER(T16)),AziC-N(T16)>ZileFaraVanzari)),"Activ, fără vânzări de peste "&ZileFaraVanzari&" de zile. ","")&IF(AND(L16<>"Inactiv",L16<>"Pierdut",G16="",H16=""),"Lipsesc telefonul și e-mailul. ","")))
P17: =IF(B17="","",IFERROR(_xlfn.AGGREGATE(14,6,Activități!$B$5:$B$1504/(Activități!$C$5:$C$1504=B17),1),"")) | Q17: =IF(ISNUMBER(P17),AziC-P17,"") | R17: =IF(B17="","",IFERROR(_xlfn.AGGREGATE(15,6,Activități!$I$5:$I$1504/((Activități!$C$5:$C$1504=B17)*(Activități!$K$5:$K$1504<>"Da")*ISNUMBER(Activități!$I$5:$I$1504)),1),"")) | S17: =IF(B17="","",SUMIFS(Vânzări!$F$5:$F$2004,Vânzări!$C$5:$C$2004,B17,Vânzări!$B$5:$B$2004,">="&DATE(AnV,1,1),Vânzări!$B$5:$B$2004,"<="&DATE(AnV,12,31))) | T17: =IF(B17="","",IFERROR(_xlfn.AGGREGATE(14,6,Vânzări!$B$5:$B$2004/(Vânzări!$C$5:$C$2004=B17),1),"")) | U17: =IF(OR(B17="",N(S17)<=0),"–",IF(SUMIF($S$5:$S$504,">="&S17)/SUM($S$5:$S$504)<=0.8,"A",IF(SUMIF($S$5:$S$504,">="&S17)/SUM($S$5:$S$504)<=0.95,"B","C"))) -> – | V17: =IF(B17="","",SUMIFS(Oportunități!$I$5:$I$304,Oportunități!$C$5:$C$304,B17,Oportunități!$G$5:$G$304,"<>Câștigată",Oportunități!$G$5:$G$304,"<>Pierdută")) | W17: =IF(B17="","",TRIM(IF(COUNTIF($B$5:$B$504,B17)>1,"Cod dublat. ","")&IF(AND(OR(L17="Activ",L17="Potențial"),OR(NOT(ISNUMBER(Q17)),N(Q17)>ZileFaraContact)),IF(ISNUMBER(Q17),"Fără contact de "&Q17&" zile. ","Niciun contact înregistrat. "),"")&IF(AND(ISNUMBER(R17),R17<AziC),"Acțiune întârziată ("&RIGHT("0"&DAY(R17),2)&"."&RIGHT("0"&MONTH(R17),2)&"."&YEAR(R17)&"). ","")&IF(AND(L17="Activ",OR(NOT(ISNUMBER(T17)),AziC-N(T17)>ZileFaraVanzari)),"Activ, fără vânzări de peste "&ZileFaraVanzari&" de zile. ","")&IF(AND(L17<>"Inactiv",L17<>"Pierdut",G17="",H17=""),"Lipsesc telefonul și e-mailul. ","")))
P18: =IF(B18="","",IFERROR(_xlfn.AGGREGATE(14,6,Activități!$B$5:$B$1504/(Activități!$C$5:$C$1504=B18),1),"")) | Q18: =IF(ISNUMBER(P18),AziC-P18,"") | R18: =IF(B18="","",IFERROR(_xlfn.AGGREGATE(15,6,Activități!$I$5:$I$1504/((Activități!$C$5:$C$1504=B18)*(Activități!$K$5:$K$1504<>"Da")*ISNUMBER(Activități!$I$5:$I$1504)),1),"")) | S18: =IF(B18="","",SUMIFS(Vânzări!$F$5:$F$2004,Vânzări!$C$5:$C$2004,B18,Vânzări!$B$5:$B$2004,">="&DATE(AnV,1,1),Vânzări!$B$5:$B$2004,"<="&DATE(AnV,12,31))) | T18: =IF(B18="","",IFERROR(_xlfn.AGGREGATE(14,6,Vânzări!$B$5:$B$2004/(Vânzări!$C$5:$C$2004=B18),1),"")) | U18: =IF(OR(B18="",N(S18)<=0),"–",IF(SUMIF($S$5:$S$504,">="&S18)/SUM($S$5:$S$504)<=0.8,"A",IF(SUMIF($S$5:$S$504,">="&S18)/SUM($S$5:$S$504)<=0.95,"B","C"))) -> – | V18: =IF(B18="","",SUMIFS(Oportunități!$I$5:$I$304,Oportunități!$C$5:$C$304,B18,Oportunități!$G$5:$G$304,"<>Câștigată",Oportunități!$G$5:$G$304,"<>Pierdută")) | W18: =IF(B18="","",TRIM(IF(COUNTIF($B$5:$B$504,B18)>1,"Cod dublat. ","")&IF(AND(OR(L18="Activ",L18="Potențial"),OR(NOT(ISNUMBER(Q18)),N(Q18)>ZileFaraContact)),IF(ISNUMBER(Q18),"Fără contact de "&Q18&" zile. ","Niciun contact înregistrat. "),"")&IF(AND(ISNUMBER(R18),R18<AziC),"Acțiune întârziată ("&RIGHT("0"&DAY(R18),2)&"."&RIGHT("0"&MONTH(R18),2)&"."&YEAR(R18)&"). ","")&IF(AND(L18="Activ",OR(NOT(ISNUMBER(T18)),AziC-N(T18)>ZileFaraVanzari)),"Activ, fără vânzări de peste "&ZileFaraVanzari&" de zile. ","")&IF(AND(L18<>"Inactiv",L18<>"Pierdut",G18="",H18=""),"Lipsesc telefonul și e-mailul. ","")))
P19: =IF(B19="","",IFERROR(_xlfn.AGGREGATE(14,6,Activități!$B$5:$B$1504/(Activități!$C$5:$C$1504=B19),1),"")) | Q19: =IF(ISNUMBER(P19),AziC-P19,"") | R19: =IF(B19="","",IFERROR(_xlfn.AGGREGATE(15,6,Activități!$I$5:$I$1504/((Activități!$C$5:$C$1504=B19)*(Activități!$K$5:$K$1504<>"Da")*ISNUMBER(Activități!$I$5:$I$1504)),1),"")) | S19: =IF(B19="","",SUMIFS(Vânzări!$F$5:$F$2004,Vânzări!$C$5:$C$2004,B19,Vânzări!$B$5:$B$2004,">="&DATE(AnV,1,1),Vânzări!$B$5:$B$2004,"<="&DATE(AnV,12,31))) | T19: =IF(B19="","",IFERROR(_xlfn.AGGREGATE(14,6,Vânzări!$B$5:$B$2004/(Vânzări!$C$5:$C$2004=B19),1),"")) | U19: =IF(OR(B19="",N(S19)<=0),"–",IF(SUMIF($S$5:$S$504,">="&S19)/SUM($S$5:$S$504)<=0.8,"A",IF(SUMIF($S$5:$S$504,">="&S19)/SUM($S$5:$S$504)<=0.95,"B","C"))) -> – | V19: =IF(B19="","",SUMIFS(Oportunități!$I$5:$I$304,Oportunități!$C$5:$C$304,B19,Oportunități!$G$5:$G$304,"<>Câștigată",Oportunități!$G$5:$G$304,"<>Pierdută")) | W19: =IF(B19="","",TRIM(IF(COUNTIF($B$5:$B$504,B19)>1,"Cod dublat. ","")&IF(AND(OR(L19="Activ",L19="Potențial"),OR(NOT(ISNUMBER(Q19)),N(Q19)>ZileFaraContact)),IF(ISNUMBER(Q19),"Fără contact de "&Q19&" zile. ","Niciun contact înregistrat. "),"")&IF(AND(ISNUMBER(R19),R19<AziC),"Acțiune întârziată ("&RIGHT("0"&DAY(R19),2)&"."&RIGHT("0"&MONTH(R19),2)&"."&YEAR(R19)&"). ","")&IF(AND(L19="Activ",OR(NOT(ISNUMBER(T19)),AziC-N(T19)>ZileFaraVanzari)),"Activ, fără vânzări de peste "&ZileFaraVanzari&" de zile. ","")&IF(AND(L19<>"Inactiv",L19<>"Pierdut",G19="",H19=""),"Lipsesc telefonul și e-mailul. ","")))
P20: =IF(B20="","",IFERROR(_xlfn.AGGREGATE(14,6,Activități!$B$5:$B$1504/(Activități!$C$5:$C$1504=B20),1),"")) | Q20: =IF(ISNUMBER(P20),AziC-P20,"") | R20: =IF(B20="","",IFERROR(_xlfn.AGGREGATE(15,6,Activități!$I$5:$I$1504/((Activități!$C$5:$C$1504=B20)*(Activități!$K$5:$K$1504<>"Da")*ISNUMBER(Activități!$I$5:$I$1504)),1),"")) | S20: =IF(B20="","",SUMIFS(Vânzări!$F$5:$F$2004,Vânzări!$C$5:$C$2004,B20,Vânzări!$B$5:$B$2004,">="&DATE(AnV,1,1),Vânzări!$B$5:$B$2004,"<="&DATE(AnV,12,31))) | T20: =IF(B20="","",IFERROR(_xlfn.AGGREGATE(14,6,Vânzări!$B$5:$B$2004/(Vânzări!$C$5:$C$2004=B20),1),"")) | U20: =IF(OR(B20="",N(S20)<=0),"–",IF(SUMIF($S$5:$S$504,">="&S20)/SUM($S$5:$S$504)<=0.8,"A",IF(SUMIF($S$5:$S$504,">="&S20)/SUM($S$5:$S$504)<=0.95,"B","C"))) -> – | V20: =IF(B20="","",SUMIFS(Oportunități!$I$5:$I$304,Oportunități!$C$5:$C$304,B20,Oportunități!$G$5:$G$304,"<>Câștigată",Oportunități!$G$5:$G$304,"<>Pierdută")) | W20: =IF(B20="","",TRIM(IF(COUNTIF($B$5:$B$504,B20)>1,"Cod dublat. ","")&IF(AND(OR(L20="Activ",L20="Potențial"),OR(NOT(ISNUMBER(Q20)),N(Q20)>ZileFaraContact)),IF(ISNUMBER(Q20),"Fără contact de "&Q20&" zile. ","Niciun contact înregistrat. "),"")&IF(AND(ISNUMBER(R20),R20<AziC),"Acțiune întârziată ("&RIGHT("0"&DAY(R20),2)&"."&RIGHT("0"&MONTH(R20),2)&"."&YEAR(R20)&"). ","")&IF(AND(L20="Activ",OR(NOT(ISNUMBER(T20)),AziC-N(T20)>ZileFaraVanzari)),"Activ, fără vânzări de peste "&ZileFaraVanzari&" de zile. ","")&IF(AND(L20<>"Inactiv",L20<>"Pierdut",G20="",H20=""),"Lipsesc telefonul și e-mailul. ","")))
P21: =IF(B21="","",IFERROR(_xlfn.AGGREGATE(14,6,Activități!$B$5:$B$1504/(Activități!$C$5:$C$1504=B21),1),"")) | Q21: =IF(ISNUMBER(P21),AziC-P21,"") | R21: =IF(B21="","",IFERROR(_xlfn.AGGREGATE(15,6,Activități!$I$5:$I$1504/((Activități!$C$5:$C$1504=B21)*(Activități!$K$5:$K$1504<>"Da")*ISNUMBER(Activități!$I$5:$I$1504)),1),"")) | S21: =IF(B21="","",SUMIFS(Vânzări!$F$5:$F$2004,Vânzări!$C$5:$C$2004,B21,Vânzări!$B$5:$B$2004,">="&DATE(AnV,1,1),Vânzări!$B$5:$B$2004,"<="&DATE(AnV,12,31))) | T21: =IF(B21="","",IFERROR(_xlfn.AGGREGATE(14,6,Vânzări!$B$5:$B$2004/(Vânzări!$C$5:$C$2004=B21),1),"")) | U21: =IF(OR(B21="",N(S21)<=0),"–",IF(SUMIF($S$5:$S$504,">="&S21)/SUM($S$5:$S$504)<=0.8,"A",IF(SUMIF($S$5:$S$504,">="&S21)/SUM($S$5:$S$504)<=0.95,"B","C"))) -> – | V21: =IF(B21="","",SUMIFS(Oportunități!$I$5:$I$304,Oportunități!$C$5:$C$304,B21,Oportunități!$G$5:$G$304,"<>Câștigată",Oportunități!$G$5:$G$304,"<>Pierdută")) | W21: =IF(B21="","",TRIM(IF(COUNTIF($B$5:$B$504,B21)>1,"Cod dublat. ","")&IF(AND(OR(L21="Activ",L21="Potențial"),OR(NOT(ISNUMBER(Q21)),N(Q21)>ZileFaraContact)),IF(ISNUMBER(Q21),"Fără contact de "&Q21&" zile. ","Niciun contact înregistrat. "),"")&IF(AND(ISNUMBER(R21),R21<AziC),"Acțiune întârziată ("&RIGHT("0"&DAY(R21),2)&"."&RIGHT("0"&MONTH(R21),2)&"."&YEAR(R21)&"). ","")&IF(AND(L21="Activ",OR(NOT(ISNUMBER(T21)),AziC-N(T21)>ZileFaraVanzari)),"Activ, fără vânzări de peste "&ZileFaraVanzari&" de zile. ","")&IF(AND(L21<>"Inactiv",L21<>"Pierdut",G21="",H21=""),"Lipsesc telefonul și e-mailul. ","")))
P22: =IF(B22="","",IFERROR(_xlfn.AGGREGATE(14,6,Activități!$B$5:$B$1504/(Activități!$C$5:$C$1504=B22),1),"")) | Q22: =IF(ISNUMBER(P22),AziC-P22,"") | R22: =IF(B22="","",IFERROR(_xlfn.AGGREGATE(15,6,Activități!$I$5:$I$1504/((Activități!$C$5:$C$1504=B22)*(Activități!$K$5:$K$1504<>"Da")*ISNUMBER(Activități!$I$5:$I$1504)),1),"")) | S22: =IF(B22="","",SUMIFS(Vânzări!$F$5:$F$2004,Vânzări!$C$5:$C$2004,B22,Vânzări!$B$5:$B$2004,">="&DATE(AnV,1,1),Vânzări!$B$5:$B$2004,"<="&DATE(AnV,12,31))) | T22: =IF(B22="","",IFERROR(_xlfn.AGGREGATE(14,6,Vânzări!$B$5:$B$2004/(Vânzări!$C$5:$C$2004=B22),1),"")) | U22: =IF(OR(B22="",N(S22)<=0),"–",IF(SUMIF($S$5:$S$504,">="&S22)/SUM($S$5:$S$504)<=0.8,"A",IF(SUMIF($S$5:$S$504,">="&S22)/SUM($S$5:$S$504)<=0.95,"B","C"))) -> – | V22: =IF(B22="","",SUMIFS(Oportunități!$I$5:$I$304,Oportunități!$C$5:$C$304,B22,Oportunități!$G$5:$G$304,"<>Câștigată",Oportunități!$G$5:$G$304,"<>Pierdută")) | W22: =IF(B22="","",TRIM(IF(COUNTIF($B$5:$B$504,B22)>1,"Cod dublat. ","")&IF(AND(OR(L22="Activ",L22="Potențial"),OR(NOT(ISNUMBER(Q22)),N(Q22)>ZileFaraContact)),IF(ISNUMBER(Q22),"Fără contact de "&Q22&" zile. ","Niciun contact înregistrat. "),"")&IF(AND(ISNUMBER(R22),R22<AziC),"Acțiune întârziată ("&RIGHT("0"&DAY(R22),2)&"."&RIGHT("0"&MONTH(R22),2)&"."&YEAR(R22)&"). ","")&IF(AND(L22="Activ",OR(NOT(ISNUMBER(T22)),AziC-N(T22)>ZileFaraVanzari)),"Activ, fără vânzări de peste "&ZileFaraVanzari&" de zile. ","")&IF(AND(L22<>"Inactiv",L22<>"Pierdut",G22="",H22=""),"Lipsesc telefonul și e-mailul. ","")))
P23: =IF(B23="","",IFERROR(_xlfn.AGGREGATE(14,6,Activități!$B$5:$B$1504/(Activități!$C$5:$C$1504=B23),1),"")) | Q23: =IF(ISNUMBER(P23),AziC-P23,"") | R23: =IF(B23="","",IFERROR(_xlfn.AGGREGATE(15,6,Activități!$I$5:$I$1504/((Activități!$C$5:$C$1504=B23)*(Activități!$K$5:$K$1504<>"Da")*ISNUMBER(Activități!$I$5:$I$1504)),1),"")) | S23: =IF(B23="","",SUMIFS(Vânzări!$F$5:$F$2004,Vânzări!$C$5:$C$2004,B23,Vânzări!$B$5:$B$2004,">="&DATE(AnV,1,1),Vânzări!$B$5:$B$2004,"<="&DATE(AnV,12,31))) | T23: =IF(B23="","",IFERROR(_xlfn.AGGREGATE(14,6,Vânzări!$B$5:$B$2004/(Vânzări!$C$5:$C$2004=B23),1),"")) | U23: =IF(OR(B23="",N(S23)<=0),"–",IF(SUMIF($S$5:$S$504,">="&S23)/SUM($S$5:$S$504)<=0.8,"A",IF(SUMIF($S$5:$S$504,">="&S23)/SUM($S$5:$S$504)<=0.95,"B","C"))) -> – | V23: =IF(B23="","",SUMIFS(Oportunități!$I$5:$I$304,Oportunități!$C$5:$C$304,B23,Oportunități!$G$5:$G$304,"<>Câștigată",Oportunități!$G$5:$G$304,"<>Pierdută")) | W23: =IF(B23="","",TRIM(IF(COUNTIF($B$5:$B$504,B23)>1,"Cod dublat. ","")&IF(AND(OR(L23="Activ",L23="Potențial"),OR(NOT(ISNUMBER(Q23)),N(Q23)>ZileFaraContact)),IF(ISNUMBER(Q23),"Fără contact de "&Q23&" zile. ","Niciun contact înregistrat. "),"")&IF(AND(ISNUMBER(R23),R23<AziC),"Acțiune întârziată ("&RIGHT("0"&DAY(R23),2)&"."&RIGHT("0"&MONTH(R23),2)&"."&YEAR(R23)&"). ","")&IF(AND(L23="Activ",OR(NOT(ISNUMBER(T23)),AziC-N(T23)>ZileFaraVanzari)),"Activ, fără vânzări de peste "&ZileFaraVanzari&" de zile. ","")&IF(AND(L23<>"Inactiv",L23<>"Pierdut",G23="",H23=""),"Lipsesc telefonul și e-mailul. ","")))
P24: =IF(B24="","",IFERROR(_xlfn.AGGREGATE(14,6,Activități!$B$5:$B$1504/(Activități!$C$5:$C$1504=B24),1),"")) | Q24: =IF(ISNUMBER(P24),AziC-P24,"") | R24: =IF(B24="","",IFERROR(_xlfn.AGGREGATE(15,6,Activități!$I$5:$I$1504/((Activități!$C$5:$C$1504=B24)*(Activități!$K$5:$K$1504<>"Da")*ISNUMBER(Activități!$I$5:$I$1504)),1),"")) | S24: =IF(B24="","",SUMIFS(Vânzări!$F$5:$F$2004,Vânzări!$C$5:$C$2004,B24,Vânzări!$B$5:$B$2004,">="&DATE(AnV,1,1),Vânzări!$B$5:$B$2004,"<="&DATE(AnV,12,31))) | T24: =IF(B24="","",IFERROR(_xlfn.AGGREGATE(14,6,Vânzări!$B$5:$B$2004/(Vânzări!$C$5:$C$2004=B24),1),"")) | U24: =IF(OR(B24="",N(S24)<=0),"–",IF(SUMIF($S$5:$S$504,">="&S24)/SUM($S$5:$S$504)<=0.8,"A",IF(SUMIF($S$5:$S$504,">="&S24)/SUM($S$5:$S$504)<=0.95,"B","C"))) -> – | V24: =IF(B24="","",SUMIFS(Oportunități!$I$5:$I$304,Oportunități!$C$5:$C$304,B24,Oportunități!$G$5:$G$304,"<>Câștigată",Oportunități!$G$5:$G$304,"<>Pierdută")) | W24: =IF(B24="","",TRIM(IF(COUNTIF($B$5:$B$504,B24)>1,"Cod dublat. ","")&IF(AND(OR(L24="Activ",L24="Potențial"),OR(NOT(ISNUMBER(Q24)),N(Q24)>ZileFaraContact)),IF(ISNUMBER(Q24),"Fără contact de "&Q24&" zile. ","Niciun contact înregistrat. "),"")&IF(AND(ISNUMBER(R24),R24<AziC),"Acțiune întârziată ("&RIGHT("0"&DAY(R24),2)&"."&RIGHT("0"&MONTH(R24),2)&"."&YEAR(R24)&"). ","")&IF(AND(L24="Activ",OR(NOT(ISNUMBER(T24)),AziC-N(T24)>ZileFaraVanzari)),"Activ, fără vânzări de peste "&ZileFaraVanzari&" de zile. ","")&IF(AND(L24<>"Inactiv",L24<>"Pierdut",G24="",H24=""),"Lipsesc telefonul și e-mailul. ","")))
P25: =IF(B25="","",IFERROR(_xlfn.AGGREGATE(14,6,Activități!$B$5:$B$1504/(Activități!$C$5:$C$1504=B25),1),"")) | Q25: =IF(ISNUMBER(P25),AziC-P25,"") | R25: =IF(B25="","",IFERROR(_xlfn.AGGREGATE(15,6,Activități!$I$5:$I$1504/((Activități!$C$5:$C$1504=B25)*(Activități!$K$5:$K$1504<>"Da")*ISNUMBER(Activități!$I$5:$I$1504)),1),"")) | S25: =IF(B25="","",SUMIFS(Vânzări!$F$5:$F$2004,Vânzări!$C$5:$C$2004,B25,Vânzări!$B$5:$B$2004,">="&DATE(AnV,1,1),Vânzări!$B$5:$B$2004,"<="&DATE(AnV,12,31))) | T25: =IF(B25="","",IFERROR(_xlfn.AGGREGATE(14,6,Vânzări!$B$5:$B$2004/(Vânzări!$C$5:$C$2004=B25),1),"")) | U25: =IF(OR(B25="",N(S25)<=0),"–",IF(SUMIF($S$5:$S$504,">="&S25)/SUM($S$5:$S$504)<=0.8,"A",IF(SUMIF($S$5:$S$504,">="&S25)/SUM($S$5:$S$504)<=0.95,"B","C"))) -> – | V25: =IF(B25="","",SUMIFS(Oportunități!$I$5:$I$304,Oportunități!$C$5:$C$304,B25,Oportunități!$G$5:$G$304,"<>Câștigată",Oportunități!$G$5:$G$304,"<>Pierdută")) | W25: =IF(B25="","",TRIM(IF(COUNTIF($B$5:$B$504,B25)>1,"Cod dublat. ","")&IF(AND(OR(L25="Activ",L25="Potențial"),OR(NOT(ISNUMBER(Q25)),N(Q25)>ZileFaraContact)),IF(ISNUMBER(Q25),"Fără contact de "&Q25&" zile. ","Niciun contact înregistrat. "),"")&IF(AND(ISNUMBER(R25),R25<AziC),"Acțiune întârziată ("&RIGHT("0"&DAY(R25),2)&"."&RIGHT("0"&MONTH(R25),2)&"."&YEAR(R25)&"). ","")&IF(AND(L25="Activ",OR(NOT(ISNUMBER(T25)),AziC-N(T25)>ZileFaraVanzari)),"Activ, fără vânzări de peste "&ZileFaraVanzari&" de zile. ","")&IF(AND(L25<>"Inactiv",L25<>"Pierdut",G25="",H25=""),"Lipsesc telefonul și e-mailul. ","")))
... P504: =IF(B504="","",IFERROR(_xlfn.AGGREGATE(14,6,Activități!$B$5:$B$1504/(Activități!$C$5:$C$1504=B504),1),"")) | Q504: =IF(ISNUMBER(P504),AziC-P504,"") | R504: =IF(B504="","",IFERROR(_xlfn.AGGREGATE(15,6,Activități!$I$5:$I$1504/((Activități!$C$5:$C$1504=B504)*(Activități!$K$5:$K$1504<>"Da")*ISNUMBER(Activități!$I$5:$I$1504)),1),"")) | S504: =IF(B504="","",SUMIFS(Vânzări!$F$5:$F$2004,Vânzări!$C$5:$C$2004,B504,Vânzări!$B$5:$B$2004,">="&DATE(AnV,1,1),Vânzări!$B$5:$B$2004,"<="&DATE(AnV,12,31))) | T504: =IF(B504="","",IFERROR(_xlfn.AGGREGATE(14,6,Vânzări!$B$5:$B$2004/(Vânzări!$C$5:$C$2004=B504),1),"")) | U504: =IF(OR(B504="",N(S504)<=0),"–",IF(SUMIF($S$5:$S$504,">="&S504)/SUM($S$5:$S$504)<=0.8,"A",IF(SUMIF($S$5:$S$504,">="&S504)/SUM($S$5:$S$504)<=0.95,"B","C"))) -> – | V504: =IF(B504="","",SUMIFS(Oportunități!$I$5:$I$304,Oportunități!$C$5:$C$304,B504,Oportunități!$G$5:$G$304,"<>Câștigată",Oportunități!$G$5:$G$304,"<>Pierdută")) | W504: =IF(B504="","",TRIM(IF(COUNTIF($B$5:$B$504,B504)>1,"Cod dublat. ","")&IF(AND(OR(L504="Activ",L504="Potențial"),OR(NOT(ISNUMBER(Q504)),N(Q504)>ZileFaraContact)),IF(ISNUMBER(Q504),"Fără contact de "&Q504&" zile. ","Niciun contact înregistrat. "),"")&IF(AND(ISNUMBER(R504),R504<AziC),"Acțiune întârziată ("&RIGHT("0"&DAY(R504),2)&"."&RIGHT("0"&MONTH(R504),2)&"."&YEAR(R504)&"). ","")&IF(AND(L504="Activ",OR(NOT(ISNUMBER(T504)),AziC-N(T504)>ZileFaraVanzari)),"Activ, fără vânzări de peste "&ZileFaraVanzari&" de zile. ","")&IF(AND(L504<>"Inactiv",L504<>"Pierdut",G504="",H504=""),"Lipsesc telefonul și e-mailul. ","")))

Sheet Activități
B1: Istoricul contactelor
B2: Fiecare apel, e-mail sau întâlnire, cu ce s-a discutat și pasul următor. Când pasul e făcut, scrie „Da” la „Realizat” și adaugă contactul nou.
B4: Data | C4: Cod client | D4: Client | E4: Tip | F4: Ce s-a discutat | G4: Ce are nevoie clientul | H4: Pasul următor | I4: Data pasului următor | J4: Responsabil | K4: Realizat | L4: Status | M4: Verificare
B5: =DATE(2026,8,20) -> 46254 | C5: C006 | D5: =IF(C5="","",IFERROR(INDEX(Clienți!$C$5:$C$504,MATCH(C5,Clienți!$B$5:$B$504,0)),"")) -> Hotel Prahova SRL | E5: Întâlnire | F5: Prezentare la târgul HoReCa; renovează 40 de camere în 2027 | G5: Instalații electrice și iluminat LED pe etaje | H5: Trimite referințe de lucrări similare | I5: =DATE(2026,8,27) -> 46261 | J5: Andrei Toma | K5: Da | L5: =IF(B5="","",IF(K5="Da","Realizat",IF(H5="","Fără pas următor",IF(NOT(ISNUMBER(I5)),"Fără dată",IF(I5<AziC,"Întârziat",IF(I5=AziC,"Azi","Planificat")))))) -> Realizat | M5: =IF(AND(B5="",C5=""),"",TRIM(IF(D5="","Cod de client inexistent. ","")&IF(F5="","Notează ce s-a discutat. ","")&IF(AND(H5<>"",NOT(ISNUMBER(I5))),"Pasul următor nu are dată. ","")&IF(AND(ISNUMBER(I5),ISNUMBER(B5),I5<B5),"Data pasului e înaintea contactului. ","")))
B6: =DATE(2026,8,27) -> 46261 | C6: C006 | D6: =IF(C6="","",IFERROR(INDEX(Clienți!$C$5:$C$504,MATCH(C6,Clienți!$B$5:$B$504,0)),"")) -> Hotel Prahova SRL | E6: E-mail | F6: Trimise 3 referințe și prezentarea firmei | G6: Așteaptă bugetul pe 2027 | H6: Sună pentru vizită în hotel | I6: =DATE(2026,9,15) -> 46280 | J6: Andrei Toma | L6: =IF(B6="","",IF(K6="Da","Realizat",IF(H6="","Fără pas următor",IF(NOT(ISNUMBER(I6)),"Fără dată",IF(I6<AziC,"Întârziat",IF(I6=AziC,"Azi","Planificat")))))) -> Întârziat | M6: =IF(AND(B6="",C6=""),"",TRIM(IF(D6="","Cod de client inexistent. ","")&IF(F6="","Notează ce s-a discutat. ","")&IF(AND(H6<>"",NOT(ISNUMBER(I6))),"Pasul următor nu are dată. ","")&IF(AND(ISNUMBER(I6),ISNUMBER(B6),I6<B6),"Data pasului e înaintea contactului. ","")))
B7: =DATE(2026,9,15) -> 46280 | C7: C007 | D7: =IF(C7="","",IFERROR(INDEX(Clienți!$C$5:$C$504,MATCH(C7,Clienți!$B$5:$B$504,0)),"")) -> Primăria Comunei Bucov | E7: Apel | F7: Licitație pentru iluminatul public, anunț estimat în noiembrie | G7: Iluminat stradal LED, 120 de stâlpi | H7: Pregătește documentele de calificare | I7: =DATE(2026,10,30) -> 46325 | J7: Dan Ilie | L7: =IF(B7="","",IF(K7="Da","Realizat",IF(H7="","Fără pas următor",IF(NOT(ISNUMBER(I7)),"Fără dată",IF(I7<AziC,"Întârziat",IF(I7=AziC,"Azi","Planificat")))))) -> Planificat | M7: =IF(AND(B7="",C7=""),"",TRIM(IF(D7="","Cod de client inexistent. ","")&IF(F7="","Notează ce s-a discutat. ","")&IF(AND(H7<>"",NOT(ISNUMBER(I7))),"Pasul următor nu are dată. ","")&IF(AND(ISNUMBER(I7),ISNUMBER(B7),I7<B7),"Data pasului e înaintea contactului. ","")))
B8: =DATE(2026,9,22) -> 46287 | C8: C003 | D8: =IF(C8="","",IFERROR(INDEX(Clienți!$C$5:$C$504,MATCH(C8,Clienți!$B$5:$B$504,0)),"")) -> Casa Verde SRL | E8: Reclamație | F8: Livrare incompletă la comanda 301 | G8: Completarea livrării cu urgență | H8: Livrează diferența și confirmă în scris | I8: =DATE(2026,10,12) -> 46307 | J8: Maria Stoica | K8: Da | L8: =IF(B8="","",IF(K8="Da","Realizat",IF(H8="","Fără pas următor",IF(NOT(ISNUMBER(I8)),"Fără dată",IF(I8<AziC,"Întârziat",IF(I8=AziC,"Azi","Planificat")))))) -> Realizat | M8: =IF(AND(B8="",C8=""),"",TRIM(IF(D8="","Cod de client inexistent. ","")&IF(F8="","Notează ce s-a discutat. ","")&IF(AND(H8<>"",NOT(ISNUMBER(I8))),"Pasul următor nu are dată. ","")&IF(AND(ISNUMBER(I8),ISNUMBER(B8),I8<B8),"Data pasului e înaintea contactului. ","")))
B9: =DATE(2026,9,29) -> 46294 | C9: C001 | D9: =IF(C9="","",IFERROR(INDEX(Clienți!$C$5:$C$504,MATCH(C9,Clienți!$B$5:$B$504,0)),"")) -> Exemplu Construct SRL | E9: Comandă | F9: Comanda 315 pentru materiale electrice | G9: Livrare până la 1 octombrie | H9: Confirmă livrarea și emite factura | I9: =DATE(2026,10,1) -> 46296 | J9: Maria Stoica | K9: Da | L9: =IF(B9="","",IF(K9="Da","Realizat",IF(H9="","Fără pas următor",IF(NOT(ISNUMBER(I9)),"Fără dată",IF(I9<AziC,"Întârziat",IF(I9=AziC,"Azi","Planificat")))))) -> Realizat | M9: =IF(AND(B9="",C9=""),"",TRIM(IF(D9="","Cod de client inexistent. ","")&IF(F9="","Notează ce s-a discutat. ","")&IF(AND(H9<>"",NOT(ISNUMBER(I9))),"Pasul următor nu are dată. ","")&IF(AND(ISNUMBER(I9),ISNUMBER(B9),I9<B9),"Data pasului e înaintea contactului. ","")))
B10: =DATE(2026,10,1) -> 46296 | C10: C002 | D10: =IF(C10="","",IFERROR(INDEX(Clienți!$C$5:$C$504,MATCH(C10,Clienți!$B$5:$B$504,0)),"")) -> Electro Plus SRL | E10: Întâlnire | F10: Discuție despre contractul-cadru pe 2027 | G10: Prețuri fixe pe 12 luni la cablu și aparataj | H10: Trimite oferta pentru contractul-cadru | I10: =DATE(2026,10,9) -> 46304 | J10: Andrei Toma | L10: =IF(B10="","",IF(K10="Da","Realizat",IF(H10="","Fără pas următor",IF(NOT(ISNUMBER(I10)),"Fără dată",IF(I10<AziC,"Întârziat",IF(I10=AziC,"Azi","Planificat")))))) -> Întârziat | M10: =IF(AND(B10="",C10=""),"",TRIM(IF(D10="","Cod de client inexistent. ","")&IF(F10="","Notează ce s-a discutat. ","")&IF(AND(H10<>"",NOT(ISNUMBER(I10))),"Pasul următor nu are dată. ","")&IF(AND(ISNUMBER(I10),ISNUMBER(B10),I10<B10),"Data pasului e înaintea contactului. ","")))
B11: =DATE(2026,10,2) -> 46297 | C11: C008 | D11: =IF(C11="","",IFERROR(INDEX(Clienți!$C$5:$C$504,MATCH(C11,Clienți!$B$5:$B$504,0)),"")) -> Office Center Ploiești SRL | E11: Întâlnire | F11: Măsurători comune pentru situația de lucrări nr. 1 | G11: Acceptarea situației | H11: Trimite situația nr. 2 la final de lună | I11: =DATE(2026,10,31) -> 46326 | J11: Dan Ilie | L11: =IF(B11="","",IF(K11="Da","Realizat",IF(H11="","Fără pas următor",IF(NOT(ISNUMBER(I11)),"Fără dată",IF(I11<AziC,"Întârziat",IF(I11=AziC,"Azi","Planificat")))))) -> Planificat | M11: =IF(AND(B11="",C11=""),"",TRIM(IF(D11="","Cod de client inexistent. ","")&IF(F11="","Notează ce s-a discutat. ","")&IF(AND(H11<>"",NOT(ISNUMBER(I11))),"Pasul următor nu are dată. ","")&IF(AND(ISNUMBER(I11),ISNUMBER(B11),I11<B11),"Data pasului e înaintea contactului. ","")))
B12: =DATE(2026,10,5) -> 46300 | C12: C004 | D12: =IF(C12="","",IFERROR(INDEX(Clienți!$C$5:$C$504,MATCH(C12,Clienți!$B$5:$B$504,0)),"")) -> Montaj Expert SRL | E12: Apel | F12: Interes pentru tablouri electrice pentru un bloc nou | G12: Ofertă pentru 24 de tablouri | H12: Vizită pe șantier cu proiectul | I12: =DATE(2026,10,14) -> 46309 | J12: Andrei Toma | L12: =IF(B12="","",IF(K12="Da","Realizat",IF(H12="","Fără pas următor",IF(NOT(ISNUMBER(I12)),"Fără dată",IF(I12<AziC,"Întârziat",IF(I12=AziC,"Azi","Planificat")))))) -> Azi | M12: =IF(AND(B12="",C12=""),"",TRIM(IF(D12="","Cod de client inexistent. ","")&IF(F12="","Notează ce s-a discutat. ","")&IF(AND(H12<>"",NOT(ISNUMBER(I12))),"Pasul următor nu are dată. ","")&IF(AND(ISNUMBER(I12),ISNUMBER(B12),I12<B12),"Data pasului e înaintea contactului. ","")))
B13: =DATE(2026,10,7) -> 46302 | C13: C001 | D13: =IF(C13="","",IFERROR(INDEX(Clienți!$C$5:$C$504,MATCH(C13,Clienți!$B$5:$B$504,0)),"")) -> Exemplu Construct SRL | E13: Apel | F13: Nemulțumire la prețul manoperei din factura EXF 1201 | G13: Reducere de preț | H13: Emite factura storno pentru manoperă | I13: =DATE(2026,10,12) -> 46307 | J13: Maria Stoica | K13: Da | L13: =IF(B13="","",IF(K13="Da","Realizat",IF(H13="","Fără pas următor",IF(NOT(ISNUMBER(I13)),"Fără dată",IF(I13<AziC,"Întârziat",IF(I13=AziC,"Azi","Planificat")))))) -> Realizat | M13: =IF(AND(B13="",C13=""),"",TRIM(IF(D13="","Cod de client inexistent. ","")&IF(F13="","Notează ce s-a discutat. ","")&IF(AND(H13<>"",NOT(ISNUMBER(I13))),"Pasul următor nu are dată. ","")&IF(AND(ISNUMBER(I13),ISNUMBER(B13),I13<B13),"Data pasului e înaintea contactului. ","")))
B14: =DATE(2026,10,12) -> 46307 | C14: C001 | D14: =IF(C14="","",IFERROR(INDEX(Clienți!$C$5:$C$504,MATCH(C14,Clienți!$B$5:$B$504,0)),"")) -> Exemplu Construct SRL | E14: E-mail | F14: Trimisă factura storno EXF 1213 și explicația | G14: Confirmare de la client | H14: Sună pentru confirmare | I14: =DATE(2026,10,16) -> 46311 | J14: Maria Stoica | L14: =IF(B14="","",IF(K14="Da","Realizat",IF(H14="","Fără pas următor",IF(NOT(ISNUMBER(I14)),"Fără dată",IF(I14<AziC,"Întârziat",IF(I14=AziC,"Azi","Planificat")))))) -> Planificat | M14: =IF(AND(B14="",C14=""),"",TRIM(IF(D14="","Cod de client inexistent. ","")&IF(F14="","Notează ce s-a discutat. ","")&IF(AND(H14<>"",NOT(ISNUMBER(I14))),"Pasul următor nu are dată. ","")&IF(AND(ISNUMBER(I14),ISNUMBER(B14),I14<B14),"Data pasului e înaintea contactului. ","")))
B15: =DATE(2026,10,12) -> 46307 | C15: C005 | D15: =IF(C15="","",IFERROR(INDEX(Clienți!$C$5:$C$504,MATCH(C15,Clienți!$B$5:$B$504,0)),"")) -> Instal Rapid SRL | E15: Apel | F15: Comandă mică de siguranțe automate | G15: Livrare rapidă | J15: Maria Stoica | L15: =IF(B15="","",IF(K15="Da","Realizat",IF(H15="","Fără pas următor",IF(NOT(ISNUMBER(I15)),"Fără dată",IF(I15<AziC,"Întârziat",IF(I15=AziC,"Azi","Planificat")))))) -> Fără pas următor | M15: =IF(AND(B15="",C15=""),"",TRIM(IF(D15="","Cod de client inexistent. ","")&IF(F15="","Notează ce s-a discutat. ","")&IF(AND(H15<>"",NOT(ISNUMBER(I15))),"Pasul următor nu are dată. ","")&IF(AND(ISNUMBER(I15),ISNUMBER(B15),I15<B15),"Data pasului e înaintea contactului. ","")))
D16: =IF(C16="","",IFERROR(INDEX(Clienți!$C$5:$C$504,MATCH(C16,Clienți!$B$5:$B$504,0)),"")) | L16: =IF(B16="","",IF(K16="Da","Realizat",IF(H16="","Fără pas următor",IF(NOT(ISNUMBER(I16)),"Fără dată",IF(I16<AziC,"Întârziat",IF(I16=AziC,"Azi","Planificat")))))) | M16: =IF(AND(B16="",C16=""),"",TRIM(IF(D16="","Cod de client inexistent. ","")&IF(F16="","Notează ce s-a discutat. ","")&IF(AND(H16<>"",NOT(ISNUMBER(I16))),"Pasul următor nu are dată. ","")&IF(AND(ISNUMBER(I16),ISNUMBER(B16),I16<B16),"Data pasului e înaintea contactului. ","")))
D17: =IF(C17="","",IFERROR(INDEX(Clienți!$C$5:$C$504,MATCH(C17,Clienți!$B$5:$B$504,0)),"")) | L17: =IF(B17="","",IF(K17="Da","Realizat",IF(H17="","Fără pas următor",IF(NOT(ISNUMBER(I17)),"Fără dată",IF(I17<AziC,"Întârziat",IF(I17=AziC,"Azi","Planificat")))))) | M17: =IF(AND(B17="",C17=""),"",TRIM(IF(D17="","Cod de client inexistent. ","")&IF(F17="","Notează ce s-a discutat. ","")&IF(AND(H17<>"",NOT(ISNUMBER(I17))),"Pasul următor nu are dată. ","")&IF(AND(ISNUMBER(I17),ISNUMBER(B17),I17<B17),"Data pasului e înaintea contactului. ","")))
D18: =IF(C18="","",IFERROR(INDEX(Clienți!$C$5:$C$504,MATCH(C18,Clienți!$B$5:$B$504,0)),"")) | L18: =IF(B18="","",IF(K18="Da","Realizat",IF(H18="","Fără pas următor",IF(NOT(ISNUMBER(I18)),"Fără dată",IF(I18<AziC,"Întârziat",IF(I18=AziC,"Azi","Planificat")))))) | M18: =IF(AND(B18="",C18=""),"",TRIM(IF(D18="","Cod de client inexistent. ","")&IF(F18="","Notează ce s-a discutat. ","")&IF(AND(H18<>"",NOT(ISNUMBER(I18))),"Pasul următor nu are dată. ","")&IF(AND(ISNUMBER(I18),ISNUMBER(B18),I18<B18),"Data pasului e înaintea contactului. ","")))
D19: =IF(C19="","",IFERROR(INDEX(Clienți!$C$5:$C$504,MATCH(C19,Clienți!$B$5:$B$504,0)),"")) | L19: =IF(B19="","",IF(K19="Da","Realizat",IF(H19="","Fără pas următor",IF(NOT(ISNUMBER(I19)),"Fără dată",IF(I19<AziC,"Întârziat",IF(I19=AziC,"Azi","Planificat")))))) | M19: =IF(AND(B19="",C19=""),"",TRIM(IF(D19="","Cod de client inexistent. ","")&IF(F19="","Notează ce s-a discutat. ","")&IF(AND(H19<>"",NOT(ISNUMBER(I19))),"Pasul următor nu are dată. ","")&IF(AND(ISNUMBER(I19),ISNUMBER(B19),I19<B19),"Data pasului e înaintea contactului. ","")))
D20: =IF(C20="","",IFERROR(INDEX(Clienți!$C$5:$C$504,MATCH(C20,Clienți!$B$5:$B$504,0)),"")) | L20: =IF(B20="","",IF(K20="Da","Realizat",IF(H20="","Fără pas următor",IF(NOT(ISNUMBER(I20)),"Fără dată",IF(I20<AziC,"Întârziat",IF(I20=AziC,"Azi","Planificat")))))) | M20: =IF(AND(B20="",C20=""),"",TRIM(IF(D20="","Cod de client inexistent. ","")&IF(F20="","Notează ce s-a discutat. ","")&IF(AND(H20<>"",NOT(ISNUMBER(I20))),"Pasul următor nu are dată. ","")&IF(AND(ISNUMBER(I20),ISNUMBER(B20),I20<B20),"Data pasului e înaintea contactului. ","")))
D21: =IF(C21="","",IFERROR(INDEX(Clienți!$C$5:$C$504,MATCH(C21,Clienți!$B$5:$B$504,0)),"")) | L21: =IF(B21="","",IF(K21="Da","Realizat",IF(H21="","Fără pas următor",IF(NOT(ISNUMBER(I21)),"Fără dată",IF(I21<AziC,"Întârziat",IF(I21=AziC,"Azi","Planificat")))))) | M21: =IF(AND(B21="",C21=""),"",TRIM(IF(D21="","Cod de client inexistent. ","")&IF(F21="","Notează ce s-a discutat. ","")&IF(AND(H21<>"",NOT(ISNUMBER(I21))),"Pasul următor nu are dată. ","")&IF(AND(ISNUMBER(I21),ISNUMBER(B21),I21<B21),"Data pasului e înaintea contactului. ","")))
D22: =IF(C22="","",IFERROR(INDEX(Clienți!$C$5:$C$504,MATCH(C22,Clienți!$B$5:$B$504,0)),"")) | L22: =IF(B22="","",IF(K22="Da","Realizat",IF(H22="","Fără pas următor",IF(NOT(ISNUMBER(I22)),"Fără dată",IF(I22<AziC,"Întârziat",IF(I22=AziC,"Azi","Planificat")))))) | M22: =IF(AND(B22="",C22=""),"",TRIM(IF(D22="","Cod de client inexistent. ","")&IF(F22="","Notează ce s-a discutat. ","")&IF(AND(H22<>"",NOT(ISNUMBER(I22))),"Pasul următor nu are dată. ","")&IF(AND(ISNUMBER(I22),ISNUMBER(B22),I22<B22),"Data pasului e înaintea contactului. ","")))
D23: =IF(C23="","",IFERROR(INDEX(Clienți!$C$5:$C$504,MATCH(C23,Clienți!$B$5:$B$504,0)),"")) | L23: =IF(B23="","",IF(K23="Da","Realizat",IF(H23="","Fără pas următor",IF(NOT(ISNUMBER(I23)),"Fără dată",IF(I23<AziC,"Întârziat",IF(I23=AziC,"Azi","Planificat")))))) | M23: =IF(AND(B23="",C23=""),"",TRIM(IF(D23="","Cod de client inexistent. ","")&IF(F23="","Notează ce s-a discutat. ","")&IF(AND(H23<>"",NOT(ISNUMBER(I23))),"Pasul următor nu are dată. ","")&IF(AND(ISNUMBER(I23),ISNUMBER(B23),I23<B23),"Data pasului e înaintea contactului. ","")))
D24: =IF(C24="","",IFERROR(INDEX(Clienți!$C$5:$C$504,MATCH(C24,Clienți!$B$5:$B$504,0)),"")) | L24: =IF(B24="","",IF(K24="Da","Realizat",IF(H24="","Fără pas următor",IF(NOT(ISNUMBER(I24)),"Fără dată",IF(I24<AziC,"Întârziat",IF(I24=AziC,"Azi","Planificat")))))) | M24: =IF(AND(B24="",C24=""),"",TRIM(IF(D24="","Cod de client inexistent. ","")&IF(F24="","Notează ce s-a discutat. ","")&IF(AND(H24<>"",NOT(ISNUMBER(I24))),"Pasul următor nu are dată. ","")&IF(AND(ISNUMBER(I24),ISNUMBER(B24),I24<B24),"Data pasului e înaintea contactului. ","")))
D25: =IF(C25="","",IFERROR(INDEX(Clienți!$C$5:$C$504,MATCH(C25,Clienți!$B$5:$B$504,0)),"")) | L25: =IF(B25="","",IF(K25="Da","Realizat",IF(H25="","Fără pas următor",IF(NOT(ISNUMBER(I25)),"Fără dată",IF(I25<AziC,"Întârziat",IF(I25=AziC,"Azi","Planificat")))))) | M25: =IF(AND(B25="",C25=""),"",TRIM(IF(D25="","Cod de client inexistent. ","")&IF(F25="","Notează ce s-a discutat. ","")&IF(AND(H25<>"",NOT(ISNUMBER(I25))),"Pasul următor nu are dată. ","")&IF(AND(ISNUMBER(I25),ISNUMBER(B25),I25<B25),"Data pasului e înaintea contactului. ","")))
D26: =IF(C26="","",IFERROR(INDEX(Clienți!$C$5:$C$504,MATCH(C26,Clienți!$B$5:$B$504,0)),"")) | L26: =IF(B26="","",IF(K26="Da","Realizat",IF(H26="","Fără pas următor",IF(NOT(ISNUMBER(I26)),"Fără dată",IF(I26<AziC,"Întârziat",IF(I26=AziC,"Azi","Planificat")))))) | M26: =IF(AND(B26="",C26=""),"",TRIM(IF(D26="","Cod de client inexistent. ","")&IF(F26="","Notează ce s-a discutat. ","")&IF(AND(H26<>"",NOT(ISNUMBER(I26))),"Pasul următor nu are dată. ","")&IF(AND(ISNUMBER(I26),ISNUMBER(B26),I26<B26),"Data pasului e înaintea contactului. ","")))
D27: =IF(C27="","",IFERROR(INDEX(Clienți!$C$5:$C$504,MATCH(C27,Clienți!$B$5:$B$504,0)),"")) | L27: =IF(B27="","",IF(K27="Da","Realizat",IF(H27="","Fără pas următor",IF(NOT(ISNUMBER(I27)),"Fără dată",IF(I27<AziC,"Întârziat",IF(I27=AziC,"Azi","Planificat")))))) | M27: =IF(AND(B27="",C27=""),"",TRIM(IF(D27="","Cod de client inexistent. ","")&IF(F27="","Notează ce s-a discutat. ","")&IF(AND(H27<>"",NOT(ISNUMBER(I27))),"Pasul următor nu are dată. ","")&IF(AND(ISNUMBER(I27),ISNUMBER(B27),I27<B27),"Data pasului e înaintea contactului. ","")))
... D1504: =IF(C1504="","",IFERROR(INDEX(Clienți!$C$5:$C$504,MATCH(C1504,Clienți!$B$5:$B$504,0)),"")) | L1504: =IF(B1504="","",IF(K1504="Da","Realizat",IF(H1504="","Fără pas următor",IF(NOT(ISNUMBER(I1504)),"Fără dată",IF(I1504<AziC,"Întârziat",IF(I1504=AziC,"Azi","Planificat")))))) | M1504: =IF(AND(B1504="",C1504=""),"",TRIM(IF(D1504="","Cod de client inexistent. ","")&IF(F1504="","Notează ce s-a discutat. ","")&IF(AND(H1504<>"",NOT(ISNUMBER(I1504))),"Pasul următor nu are dată. ","")&IF(AND(ISNUMBER(I1504),ISNUMBER(B1504),I1504<B1504),"Data pasului e înaintea contactului. ","")))

Sheet Oportunități
B1: Oportunități de vânzare
B2: Fiecare ofertă sau proiect în discuție, cu etapa și data estimată de închidere. Valoarea ponderată = valoarea × probabilitatea etapei.
B4: Nr. | C4: Cod client | D4: Client | E4: Descriere | F4: Valoare estimată (fără TVA) | G4: Etapa | H4: Probabilitate | I4: Valoare ponderată | J4: Data estimată a închiderii | K4: Oferta nr. | L4: Motivul pierderii | M4: Verificare
B5: =IF(C5="","",COUNTA($C$5:C5)) -> 1 | C5: C002 | D5: =IF(C5="","",IFERROR(INDEX(Clienți!$C$5:$C$504,MATCH(C5,Clienți!$B$5:$B$504,0)),"")) -> Electro Plus SRL | E5: Contract-cadru 2027 pentru cablu și aparataj | F5: 85000 | G5: Ofertă trimisă | H5: =IF(G5="","",IFERROR(VLOOKUP(G5,TabelEtape,2,FALSE),"")) -> 0.5 | I5: =IF(OR(N(F5)=0,H5=""),"",ROUND(F5*H5,2)) -> 42500 | J5: =DATE(2026,11,30) -> 46356 | K5: OF-061 | M5: =IF(C5="","",TRIM(IF(D5="","Cod de client inexistent. ","")&IF(AND(G5<>"Câștigată",G5<>"Pierdută",ISNUMBER(J5),J5<AziC),"Data de închidere a trecut: actualizează etapa. ","")&IF(AND(G5="Pierdută",L5=""),"Notează motivul pierderii. ","")&IF(AND(OR(G5="Ofertă trimisă",G5="Negociere"),K5=""),"Lipsește numărul ofertei. ","")))
B6: =IF(C6="","",COUNTA($C$5:C6)) -> 2 | C6: C004 | D6: =IF(C6="","",IFERROR(INDEX(Clienți!$C$5:$C$504,MATCH(C6,Clienți!$B$5:$B$504,0)),"")) -> Montaj Expert SRL | E6: Tablouri electrice pentru bloc nou (24 buc.) | F6: 38000 | G6: Nevoie confirmată | H6: =IF(G6="","",IFERROR(VLOOKUP(G6,TabelEtape,2,FALSE),"")) -> 0.25 | I6: =IF(OR(N(F6)=0,H6=""),"",ROUND(F6*H6,2)) -> 9500 | J6: =DATE(2026,11,15) -> 46341 | M6: =IF(C6="","",TRIM(IF(D6="","Cod de client inexistent. ","")&IF(AND(G6<>"Câștigată",G6<>"Pierdută",ISNUMBER(J6),J6<AziC),"Data de închidere a trecut: actualizează etapa. ","")&IF(AND(G6="Pierdută",L6=""),"Notează motivul pierderii. ","")&IF(AND(OR(G6="Ofertă trimisă",G6="Negociere"),K6=""),"Lipsește numărul ofertei. ","")))
B7: =IF(C7="","",COUNTA($C$5:C7)) -> 3 | C7: C006 | D7: =IF(C7="","",IFERROR(INDEX(Clienți!$C$5:$C$504,MATCH(C7,Clienți!$B$5:$B$504,0)),"")) -> Hotel Prahova SRL | E7: Renovare instalații electrice, 40 de camere | F7: 120000 | G7: Contact inițial | H7: =IF(G7="","",IFERROR(VLOOKUP(G7,TabelEtape,2,FALSE),"")) -> 0.1 | I7: =IF(OR(N(F7)=0,H7=""),"",ROUND(F7*H7,2)) -> 12000 | J7: =DATE(2027,2,28) -> 46446 | M7: =IF(C7="","",TRIM(IF(D7="","Cod de client inexistent. ","")&IF(AND(G7<>"Câștigată",G7<>"Pierdută",ISNUMBER(J7),J7<AziC),"Data de închidere a trecut: actualizează etapa. ","")&IF(AND(G7="Pierdută",L7=""),"Notează motivul pierderii. ","")&IF(AND(OR(G7="Ofertă trimisă",G7="Negociere"),K7=""),"Lipsește numărul ofertei. ","")))
B8: =IF(C8="","",COUNTA($C$5:C8)) -> 4 | C8: C007 | D8: =IF(C8="","",IFERROR(INDEX(Clienți!$C$5:$C$504,MATCH(C8,Clienți!$B$5:$B$504,0)),"")) -> Primăria Comunei Bucov | E8: Iluminat public LED, 120 de stâlpi | F8: 210000 | G8: Contact inițial | H8: =IF(G8="","",IFERROR(VLOOKUP(G8,TabelEtape,2,FALSE),"")) -> 0.1 | I8: =IF(OR(N(F8)=0,H8=""),"",ROUND(F8*H8,2)) -> 21000 | J8: =DATE(2026,12,20) -> 46376 | M8: =IF(C8="","",TRIM(IF(D8="","Cod de client inexistent. ","")&IF(AND(G8<>"Câștigată",G8<>"Pierdută",ISNUMBER(J8),J8<AziC),"Data de închidere a trecut: actualizează etapa. ","")&IF(AND(G8="Pierdută",L8=""),"Notează motivul pierderii. ","")&IF(AND(OR(G8="Ofertă trimisă",G8="Negociere"),K8=""),"Lipsește numărul ofertei. ","")))
B9: =IF(C9="","",COUNTA($C$5:C9)) -> 5 | C9: C008 | D9: =IF(C9="","",IFERROR(INDEX(Clienți!$C$5:$C$504,MATCH(C9,Clienți!$B$5:$B$504,0)),"")) -> Office Center Ploiești SRL | E9: Renovare birouri, et. 2 | F9: 198395 | G9: Câștigată | H9: =IF(G9="","",IFERROR(VLOOKUP(G9,TabelEtape,2,FALSE),"")) -> 1 | I9: =IF(OR(N(F9)=0,H9=""),"",ROUND(F9*H9,2)) -> 198395 | J9: =DATE(2026,8,20) -> 46254 | K9: OF-052 | M9: =IF(C9="","",TRIM(IF(D9="","Cod de client inexistent. ","")&IF(AND(G9<>"Câștigată",G9<>"Pierdută",ISNUMBER(J9),J9<AziC),"Data de închidere a trecut: actualizează etapa. ","")&IF(AND(G9="Pierdută",L9=""),"Notează motivul pierderii. ","")&IF(AND(OR(G9="Ofertă trimisă",G9="Negociere"),K9=""),"Lipsește numărul ofertei. ","")))
B10: =IF(C10="","",COUNTA($C$5:C10)) -> 6 | C10: C003 | D10: =IF(C10="","",IFERROR(INDEX(Clienți!$C$5:$C$504,MATCH(C10,Clienți!$B$5:$B$504,0)),"")) -> Casa Verde SRL | E10: Instalație fotovoltaică pentru sediu | F10: 46000 | G10: Pierdută | H10: =IF(G10="","",IFERROR(VLOOKUP(G10,TabelEtape,2,FALSE),"")) -> 0 | I10: =IF(OR(N(F10)=0,H10=""),"",ROUND(F10*H10,2)) -> 0 | J10: =DATE(2026,9,30) -> 46295 | K10: OF-055 | L10: Preț mai mic la concurență | M10: =IF(C10="","",TRIM(IF(D10="","Cod de client inexistent. ","")&IF(AND(G10<>"Câștigată",G10<>"Pierdută",ISNUMBER(J10),J10<AziC),"Data de închidere a trecut: actualizează etapa. ","")&IF(AND(G10="Pierdută",L10=""),"Notează motivul pierderii. ","")&IF(AND(OR(G10="Ofertă trimisă",G10="Negociere"),K10=""),"Lipsește numărul ofertei. ","")))
B11: =IF(C11="","",COUNTA($C$5:C11)) -> 7 | C11: C001 | D11: =IF(C11="","",IFERROR(INDEX(Clienți!$C$5:$C$504,MATCH(C11,Clienți!$B$5:$B$504,0)),"")) -> Exemplu Construct SRL | E11: Mentenanță anuală instalații | F11: 24000 | G11: Negociere | H11: =IF(G11="","",IFERROR(VLOOKUP(G11,TabelEtape,2,FALSE),"")) -> 0.75 | I11: =IF(OR(N(F11)=0,H11=""),"",ROUND(F11*H11,2)) -> 18000 | J11: =DATE(2026,10,10) -> 46305 | K11: OF-058 | M11: =IF(C11="","",TRIM(IF(D11="","Cod de client inexistent. ","")&IF(AND(G11<>"Câștigată",G11<>"Pierdută",ISNUMBER(J11),J11<AziC),"Data de închidere a trecut: actualizează etapa. ","")&IF(AND(G11="Pierdută",L11=""),"Notează motivul pierderii. ","")&IF(AND(OR(G11="Ofertă trimisă",G11="Negociere"),K11=""),"Lipsește numărul ofertei. ",""))) -> Data de închidere a trecut: actualizează etapa.
B12: =IF(C12="","",COUNTA($C$5:C12)) | D12: =IF(C12="","",IFERROR(INDEX(Clienți!$C$5:$C$504,MATCH(C12,Clienți!$B$5:$B$504,0)),"")) | H12: =IF(G12="","",IFERROR(VLOOKUP(G12,TabelEtape,2,FALSE),"")) | I12: =IF(OR(N(F12)=0,H12=""),"",ROUND(F12*H12,2)) | M12: =IF(C12="","",TRIM(IF(D12="","Cod de client inexistent. ","")&IF(AND(G12<>"Câștigată",G12<>"Pierdută",ISNUMBER(J12),J12<AziC),"Data de închidere a trecut: actualizează etapa. ","")&IF(AND(G12="Pierdută",L12=""),"Notează motivul pierderii. ","")&IF(AND(OR(G12="Ofertă trimisă",G12="Negociere"),K12=""),"Lipsește numărul ofertei. ","")))
B13: =IF(C13="","",COUNTA($C$5:C13)) | D13: =IF(C13="","",IFERROR(INDEX(Clienți!$C$5:$C$504,MATCH(C13,Clienți!$B$5:$B$504,0)),"")) | H13: =IF(G13="","",IFERROR(VLOOKUP(G13,TabelEtape,2,FALSE),"")) | I13: =IF(OR(N(F13)=0,H13=""),"",ROUND(F13*H13,2)) | M13: =IF(C13="","",TRIM(IF(D13="","Cod de client inexistent. ","")&IF(AND(G13<>"Câștigată",G13<>"Pierdută",ISNUMBER(J13),J13<AziC),"Data de închidere a trecut: actualizează etapa. ","")&IF(AND(G13="Pierdută",L13=""),"Notează motivul pierderii. ","")&IF(AND(OR(G13="Ofertă trimisă",G13="Negociere"),K13=""),"Lipsește numărul ofertei. ","")))
B14: =IF(C14="","",COUNTA($C$5:C14)) | D14: =IF(C14="","",IFERROR(INDEX(Clienți!$C$5:$C$504,MATCH(C14,Clienți!$B$5:$B$504,0)),"")) | H14: =IF(G14="","",IFERROR(VLOOKUP(G14,TabelEtape,2,FALSE),"")) | I14: =IF(OR(N(F14)=0,H14=""),"",ROUND(F14*H14,2)) | M14: =IF(C14="","",TRIM(IF(D14="","Cod de client inexistent. ","")&IF(AND(G14<>"Câștigată",G14<>"Pierdută",ISNUMBER(J14),J14<AziC),"Data de închidere a trecut: actualizează etapa. ","")&IF(AND(G14="Pierdută",L14=""),"Notează motivul pierderii. ","")&IF(AND(OR(G14="Ofertă trimisă",G14="Negociere"),K14=""),"Lipsește numărul ofertei. ","")))
B15: =IF(C15="","",COUNTA($C$5:C15)) | D15: =IF(C15="","",IFERROR(INDEX(Clienți!$C$5:$C$504,MATCH(C15,Clienți!$B$5:$B$504,0)),"")) | H15: =IF(G15="","",IFERROR(VLOOKUP(G15,TabelEtape,2,FALSE),"")) | I15: =IF(OR(N(F15)=0,H15=""),"",ROUND(F15*H15,2)) | M15: =IF(C15="","",TRIM(IF(D15="","Cod de client inexistent. ","")&IF(AND(G15<>"Câștigată",G15<>"Pierdută",ISNUMBER(J15),J15<AziC),"Data de închidere a trecut: actualizează etapa. ","")&IF(AND(G15="Pierdută",L15=""),"Notează motivul pierderii. ","")&IF(AND(OR(G15="Ofertă trimisă",G15="Negociere"),K15=""),"Lipsește numărul ofertei. ","")))
B16: =IF(C16="","",COUNTA($C$5:C16)) | D16: =IF(C16="","",IFERROR(INDEX(Clienți!$C$5:$C$504,MATCH(C16,Clienți!$B$5:$B$504,0)),"")) | H16: =IF(G16="","",IFERROR(VLOOKUP(G16,TabelEtape,2,FALSE),"")) | I16: =IF(OR(N(F16)=0,H16=""),"",ROUND(F16*H16,2)) | M16: =IF(C16="","",TRIM(IF(D16="","Cod de client inexistent. ","")&IF(AND(G16<>"Câștigată",G16<>"Pierdută",ISNUMBER(J16),J16<AziC),"Data de închidere a trecut: actualizează etapa. ","")&IF(AND(G16="Pierdută",L16=""),"Notează motivul pierderii. ","")&IF(AND(OR(G16="Ofertă trimisă",G16="Negociere"),K16=""),"Lipsește numărul ofertei. ","")))
B17: =IF(C17="","",COUNTA($C$5:C17)) | D17: =IF(C17="","",IFERROR(INDEX(Clienți!$C$5:$C$504,MATCH(C17,Clienți!$B$5:$B$504,0)),"")) | H17: =IF(G17="","",IFERROR(VLOOKUP(G17,TabelEtape,2,FALSE),"")) | I17: =IF(OR(N(F17)=0,H17=""),"",ROUND(F17*H17,2)) | M17: =IF(C17="","",TRIM(IF(D17="","Cod de client inexistent. ","")&IF(AND(G17<>"Câștigată",G17<>"Pierdută",ISNUMBER(J17),J17<AziC),"Data de închidere a trecut: actualizează etapa. ","")&IF(AND(G17="Pierdută",L17=""),"Notează motivul pierderii. ","")&IF(AND(OR(G17="Ofertă trimisă",G17="Negociere"),K17=""),"Lipsește numărul ofertei. ","")))
B18: =IF(C18="","",COUNTA($C$5:C18)) | D18: =IF(C18="","",IFERROR(INDEX(Clienți!$C$5:$C$504,MATCH(C18,Clienți!$B$5:$B$504,0)),"")) | H18: =IF(G18="","",IFERROR(VLOOKUP(G18,TabelEtape,2,FALSE),"")) | I18: =IF(OR(N(F18)=0,H18=""),"",ROUND(F18*H18,2)) | M18: =IF(C18="","",TRIM(IF(D18="","Cod de client inexistent. ","")&IF(AND(G18<>"Câștigată",G18<>"Pierdută",ISNUMBER(J18),J18<AziC),"Data de închidere a trecut: actualizează etapa. ","")&IF(AND(G18="Pierdută",L18=""),"Notează motivul pierderii. ","")&IF(AND(OR(G18="Ofertă trimisă",G18="Negociere"),K18=""),"Lipsește numărul ofertei. ","")))
B19: =IF(C19="","",COUNTA($C$5:C19)) | D19: =IF(C19="","",IFERROR(INDEX(Clienți!$C$5:$C$504,MATCH(C19,Clienți!$B$5:$B$504,0)),"")) | H19: =IF(G19="","",IFERROR(VLOOKUP(G19,TabelEtape,2,FALSE),"")) | I19: =IF(OR(N(F19)=0,H19=""),"",ROUND(F19*H19,2)) | M19: =IF(C19="","",TRIM(IF(D19="","Cod de client inexistent. ","")&IF(AND(G19<>"Câștigată",G19<>"Pierdută",ISNUMBER(J19),J19<AziC),"Data de închidere a trecut: actualizează etapa. ","")&IF(AND(G19="Pierdută",L19=""),"Notează motivul pierderii. ","")&IF(AND(OR(G19="Ofertă trimisă",G19="Negociere"),K19=""),"Lipsește numărul ofertei. ","")))
B20: =IF(C20="","",COUNTA($C$5:C20)) | D20: =IF(C20="","",IFERROR(INDEX(Clienți!$C$5:$C$504,MATCH(C20,Clienți!$B$5:$B$504,0)),"")) | H20: =IF(G20="","",IFERROR(VLOOKUP(G20,TabelEtape,2,FALSE),"")) | I20: =IF(OR(N(F20)=0,H20=""),"",ROUND(F20*H20,2)) | M20: =IF(C20="","",TRIM(IF(D20="","Cod de client inexistent. ","")&IF(AND(G20<>"Câștigată",G20<>"Pierdută",ISNUMBER(J20),J20<AziC),"Data de închidere a trecut: actualizează etapa. ","")&IF(AND(G20="Pierdută",L20=""),"Notează motivul pierderii. ","")&IF(AND(OR(G20="Ofertă trimisă",G20="Negociere"),K20=""),"Lipsește numărul ofertei. ","")))
B21: =IF(C21="","",COUNTA($C$5:C21)) | D21: =IF(C21="","",IFERROR(INDEX(Clienți!$C$5:$C$504,MATCH(C21,Clienți!$B$5:$B$504,0)),"")) | H21: =IF(G21="","",IFERROR(VLOOKUP(G21,TabelEtape,2,FALSE),"")) | I21: =IF(OR(N(F21)=0,H21=""),"",ROUND(F21*H21,2)) | M21: =IF(C21="","",TRIM(IF(D21="","Cod de client inexistent. ","")&IF(AND(G21<>"Câștigată",G21<>"Pierdută",ISNUMBER(J21),J21<AziC),"Data de închidere a trecut: actualizează etapa. ","")&IF(AND(G21="Pierdută",L21=""),"Notează motivul pierderii. ","")&IF(AND(OR(G21="Ofertă trimisă",G21="Negociere"),K21=""),"Lipsește numărul ofertei. ","")))
B22: =IF(C22="","",COUNTA($C$5:C22)) | D22: =IF(C22="","",IFERROR(INDEX(Clienți!$C$5:$C$504,MATCH(C22,Clienți!$B$5:$B$504,0)),"")) | H22: =IF(G22="","",IFERROR(VLOOKUP(G22,TabelEtape,2,FALSE),"")) | I22: =IF(OR(N(F22)=0,H22=""),"",ROUND(F22*H22,2)) | M22: =IF(C22="","",TRIM(IF(D22="","Cod de client inexistent. ","")&IF(AND(G22<>"Câștigată",G22<>"Pierdută",ISNUMBER(J22),J22<AziC),"Data de închidere a trecut: actualizează etapa. ","")&IF(AND(G22="Pierdută",L22=""),"Notează motivul pierderii. ","")&IF(AND(OR(G22="Ofertă trimisă",G22="Negociere"),K22=""),"Lipsește numărul ofertei. ","")))
B23: =IF(C23="","",COUNTA($C$5:C23)) | D23: =IF(C23="","",IFERROR(INDEX(Clienți!$C$5:$C$504,MATCH(C23,Clienți!$B$5:$B$504,0)),"")) | H23: =IF(G23="","",IFERROR(VLOOKUP(G23,TabelEtape,2,FALSE),"")) | I23: =IF(OR(N(F23)=0,H23=""),"",ROUND(F23*H23,2)) | M23: =IF(C23="","",TRIM(IF(D23="","Cod de client inexistent. ","")&IF(AND(G23<>"Câștigată",G23<>"Pierdută",ISNUMBER(J23),J23<AziC),"Data de închidere a trecut: actualizează etapa. ","")&IF(AND(G23="Pierdută",L23=""),"Notează motivul pierderii. ","")&IF(AND(OR(G23="Ofertă trimisă",G23="Negociere"),K23=""),"Lipsește numărul ofertei. ","")))
... B304: =IF(C304="","",COUNTA($C$5:C304)) | D304: =IF(C304="","",IFERROR(INDEX(Clienți!$C$5:$C$504,MATCH(C304,Clienți!$B$5:$B$504,0)),"")) | H304: =IF(G304="","",IFERROR(VLOOKUP(G304,TabelEtape,2,FALSE),"")) | I304: =IF(OR(N(F304)=0,H304=""),"",ROUND(F304*H304,2)) | M304: =IF(C304="","",TRIM(IF(D304="","Cod de client inexistent. ","")&IF(AND(G304<>"Câștigată",G304<>"Pierdută",ISNUMBER(J304),J304<AziC),"Data de închidere a trecut: actualizează etapa. ","")&IF(AND(G304="Pierdută",L304=""),"Notează motivul pierderii. ","")&IF(AND(OR(G304="Ofertă trimisă",G304="Negociere"),K304=""),"Lipsește numărul ofertei. ","")))

Sheet Vânzări
B1: Vânzări pe clienți
B2: Facturile emise (valoare fără TVA), pentru vânzările pe client, clasificarea ABC și data ultimei vânzări. Poți copia aici datele din jurnalul de vânzări.
B4: Data | C4: Cod client | D4: Client | E4: Factura | F4: Valoare (fără TVA) | G4: Verificare
B5: =DATE(2026,2,10) -> 46063 | C5: C002 | D5: =IF(C5="","",IFERROR(INDEX(Clienți!$C$5:$C$504,MATCH(C5,Clienți!$B$5:$B$504,0)),"")) -> Electro Plus SRL | E5: EXF 1101 | F5: 9800 | G5: =IF(C5="","",TRIM(IF(D5="","Cod de client inexistent. ","")&IF(COUNTIF($E$5:$E$2004,E5)>1,"Factură dublată. ","")))
B6: =DATE(2026,3,5) -> 46086 | C6: C005 | D6: =IF(C6="","",IFERROR(INDEX(Clienți!$C$5:$C$504,MATCH(C6,Clienți!$B$5:$B$504,0)),"")) -> Instal Rapid SRL | E6: EXF 1112 | F6: 4200 | G6: =IF(C6="","",TRIM(IF(D6="","Cod de client inexistent. ","")&IF(COUNTIF($E$5:$E$2004,E6)>1,"Factură dublată. ","")))
B7: =DATE(2026,4,18) -> 46130 | C7: C004 | D7: =IF(C7="","",IFERROR(INDEX(Clienți!$C$5:$C$504,MATCH(C7,Clienți!$B$5:$B$504,0)),"")) -> Montaj Expert SRL | E7: EXF 1125 | F7: 14600 | G7: =IF(C7="","",TRIM(IF(D7="","Cod de client inexistent. ","")&IF(COUNTIF($E$5:$E$2004,E7)>1,"Factură dublată. ","")))
B8: =DATE(2026,5,22) -> 46164 | C8: C001 | D8: =IF(C8="","",IFERROR(INDEX(Clienți!$C$5:$C$504,MATCH(C8,Clienți!$B$5:$B$504,0)),"")) -> Exemplu Construct SRL | E8: EXF 1138 | F8: 18400 | G8: =IF(C8="","",TRIM(IF(D8="","Cod de client inexistent. ","")&IF(COUNTIF($E$5:$E$2004,E8)>1,"Factură dublată. ","")))
B9: =DATE(2026,6,30) -> 46203 | C9: C002 | D9: =IF(C9="","",IFERROR(INDEX(Clienți!$C$5:$C$504,MATCH(C9,Clienți!$B$5:$B$504,0)),"")) -> Electro Plus SRL | E9: EXF 1150 | F9: 11420 | G9: =IF(C9="","",TRIM(IF(D9="","Cod de client inexistent. ","")&IF(COUNTIF($E$5:$E$2004,E9)>1,"Factură dublată. ","")))
B10: =DATE(2026,7,15) -> 46218 | C10: C003 | D10: =IF(C10="","",IFERROR(INDEX(Clienți!$C$5:$C$504,MATCH(C10,Clienți!$B$5:$B$504,0)),"")) -> Casa Verde SRL | E10: EXF 1162 | F10: 7650 | G10: =IF(C10="","",TRIM(IF(D10="","Cod de client inexistent. ","")&IF(COUNTIF($E$5:$E$2004,E10)>1,"Factură dublată. ","")))
B11: =DATE(2026,9,30) -> 46295 | C11: C008 | D11: =IF(C11="","",IFERROR(INDEX(Clienți!$C$5:$C$504,MATCH(C11,Clienți!$B$5:$B$504,0)),"")) -> Office Center Ploiești SRL | E11: EXC 1301 | F11: 42120 | G11: =IF(C11="","",TRIM(IF(D11="","Cod de client inexistent. ","")&IF(COUNTIF($E$5:$E$2004,E11)>1,"Factură dublată. ","")))
B12: =DATE(2026,10,1) -> 46296 | C12: C001 | D12: =IF(C12="","",IFERROR(INDEX(Clienți!$C$5:$C$504,MATCH(C12,Clienți!$B$5:$B$504,0)),"")) -> Exemplu Construct SRL | E12: EXF 1201 | F12: 3507 | G12: =IF(C12="","",TRIM(IF(D12="","Cod de client inexistent. ","")&IF(COUNTIF($E$5:$E$2004,E12)>1,"Factură dublată. ","")))
B13: =DATE(2026,10,2) -> 46297 | C13: C002 | D13: =IF(C13="","",IFERROR(INDEX(Clienți!$C$5:$C$504,MATCH(C13,Clienți!$B$5:$B$504,0)),"")) -> Electro Plus SRL | E13: EXF 1202 | F13: 5280 | G13: =IF(C13="","",TRIM(IF(D13="","Cod de client inexistent. ","")&IF(COUNTIF($E$5:$E$2004,E13)>1,"Factură dublată. ","")))
B14: =DATE(2026,10,5) -> 46300 | C14: C003 | D14: =IF(C14="","",IFERROR(INDEX(Clienți!$C$5:$C$504,MATCH(C14,Clienți!$B$5:$B$504,0)),"")) -> Casa Verde SRL | E14: EXF 1203 | F14: 2150 | G14: =IF(C14="","",TRIM(IF(D14="","Cod de client inexistent. ","")&IF(COUNTIF($E$5:$E$2004,E14)>1,"Factură dublată. ","")))
B15: =DATE(2026,10,6) -> 46301 | C15: C009 | D15: =IF(C15="","",IFERROR(INDEX(Clienți!$C$5:$C$504,MATCH(C15,Clienți!$B$5:$B$504,0)),"")) -> Popescu Ion | E15: EXF 1204 | F15: 820 | G15: =IF(C15="","",TRIM(IF(D15="","Cod de client inexistent. ","")&IF(COUNTIF($E$5:$E$2004,E15)>1,"Factură dublată. ","")))
B16: =DATE(2026,10,8) -> 46303 | C16: C004 | D16: =IF(C16="","",IFERROR(INDEX(Clienți!$C$5:$C$504,MATCH(C16,Clienți!$B$5:$B$504,0)),"")) -> Montaj Expert SRL | E16: EXF 1206 | F16: 12400 | G16: =IF(C16="","",TRIM(IF(D16="","Cod de client inexistent. ","")&IF(COUNTIF($E$5:$E$2004,E16)>1,"Factură dublată. ","")))
B17: =DATE(2026,10,12) -> 46307 | C17: C001 | D17: =IF(C17="","",IFERROR(INDEX(Clienți!$C$5:$C$504,MATCH(C17,Clienți!$B$5:$B$504,0)),"")) -> Exemplu Construct SRL | E17: EXF 1213 | F17: -160 | G17: =IF(C17="","",TRIM(IF(D17="","Cod de client inexistent. ","")&IF(COUNTIF($E$5:$E$2004,E17)>1,"Factură dublată. ","")))
D18: =IF(C18="","",IFERROR(INDEX(Clienți!$C$5:$C$504,MATCH(C18,Clienți!$B$5:$B$504,0)),"")) | G18: =IF(C18="","",TRIM(IF(D18="","Cod de client inexistent. ","")&IF(COUNTIF($E$5:$E$2004,E18)>1,"Factură dublată. ","")))
D19: =IF(C19="","",IFERROR(INDEX(Clienți!$C$5:$C$504,MATCH(C19,Clienți!$B$5:$B$504,0)),"")) | G19: =IF(C19="","",TRIM(IF(D19="","Cod de client inexistent. ","")&IF(COUNTIF($E$5:$E$2004,E19)>1,"Factură dublată. ","")))
D20: =IF(C20="","",IFERROR(INDEX(Clienți!$C$5:$C$504,MATCH(C20,Clienți!$B$5:$B$504,0)),"")) | G20: =IF(C20="","",TRIM(IF(D20="","Cod de client inexistent. ","")&IF(COUNTIF($E$5:$E$2004,E20)>1,"Factură dublată. ","")))
D21: =IF(C21="","",IFERROR(INDEX(Clienți!$C$5:$C$504,MATCH(C21,Clienți!$B$5:$B$504,0)),"")) | G21: =IF(C21="","",TRIM(IF(D21="","Cod de client inexistent. ","")&IF(COUNTIF($E$5:$E$2004,E21)>1,"Factură dublată. ","")))
D22: =IF(C22="","",IFERROR(INDEX(Clienți!$C$5:$C$504,MATCH(C22,Clienți!$B$5:$B$504,0)),"")) | G22: =IF(C22="","",TRIM(IF(D22="","Cod de client inexistent. ","")&IF(COUNTIF($E$5:$E$2004,E22)>1,"Factură dublată. ","")))
D23: =IF(C23="","",IFERROR(INDEX(Clienți!$C$5:$C$504,MATCH(C23,Clienți!$B$5:$B$504,0)),"")) | G23: =IF(C23="","",TRIM(IF(D23="","Cod de client inexistent. ","")&IF(COUNTIF($E$5:$E$2004,E23)>1,"Factură dublată. ","")))
D24: =IF(C24="","",IFERROR(INDEX(Clienți!$C$5:$C$504,MATCH(C24,Clienți!$B$5:$B$504,0)),"")) | G24: =IF(C24="","",TRIM(IF(D24="","Cod de client inexistent. ","")&IF(COUNTIF($E$5:$E$2004,E24)>1,"Factură dublată. ","")))
D25: =IF(C25="","",IFERROR(INDEX(Clienți!$C$5:$C$504,MATCH(C25,Clienți!$B$5:$B$504,0)),"")) | G25: =IF(C25="","",TRIM(IF(D25="","Cod de client inexistent. ","")&IF(COUNTIF($E$5:$E$2004,E25)>1,"Factură dublată. ","")))
D26: =IF(C26="","",IFERROR(INDEX(Clienți!$C$5:$C$504,MATCH(C26,Clienți!$B$5:$B$504,0)),"")) | G26: =IF(C26="","",TRIM(IF(D26="","Cod de client inexistent. ","")&IF(COUNTIF($E$5:$E$2004,E26)>1,"Factură dublată. ","")))
D27: =IF(C27="","",IFERROR(INDEX(Clienți!$C$5:$C$504,MATCH(C27,Clienți!$B$5:$B$504,0)),"")) | G27: =IF(C27="","",TRIM(IF(D27="","Cod de client inexistent. ","")&IF(COUNTIF($E$5:$E$2004,E27)>1,"Factură dublată. ","")))
D28: =IF(C28="","",IFERROR(INDEX(Clienți!$C$5:$C$504,MATCH(C28,Clienți!$B$5:$B$504,0)),"")) | G28: =IF(C28="","",TRIM(IF(D28="","Cod de client inexistent. ","")&IF(COUNTIF($E$5:$E$2004,E28)>1,"Factură dublată. ","")))
D29: =IF(C29="","",IFERROR(INDEX(Clienți!$C$5:$C$504,MATCH(C29,Clienți!$B$5:$B$504,0)),"")) | G29: =IF(C29="","",TRIM(IF(D29="","Cod de client inexistent. ","")&IF(COUNTIF($E$5:$E$2004,E29)>1,"Factură dublată. ","")))
... D2004: =IF(C2004="","",IFERROR(INDEX(Clienți!$C$5:$C$504,MATCH(C2004,Clienți!$B$5:$B$504,0)),"")) | G2004: =IF(C2004="","",TRIM(IF(D2004="","Cod de client inexistent. ","")&IF(COUNTIF($E$5:$E$2004,E2004)>1,"Factură dublată. ","")))

Sheet Fișă client
B1: Cod client: | D1: C001 | E1: ← scrie codul clientului | N1: =IFERROR(MATCH(D1,Clienți!$B$5:$B$504,0),0) -> 1
B3: FIȘA CLIENTULUI
B4: =IF(RandK=0,"Codul nu există în baza de date.",IF(RandK=0,"",INDEX(Clienți!$C$5:$C$504,RandK)&"")&" · "&IF(RandK=0,"",INDEX(Clienți!$L$5:$L$504,RandK)&"")) -> Exemplu Construct SRL · Activ
B6: CIF / CNP: | D6: =IF(RandK=0,"",INDEX(Clienți!$D$5:$D$504,RandK)&"") -> RO23456789
B7: Persoană de contact: | D7: =IF(RandK=0,"",IF(RandK=0,"",INDEX(Clienți!$E$5:$E$504,RandK)&"")&IF(IF(RandK=0,"",INDEX(Clienți!$F$5:$F$504,RandK)&"")="",""," ("&IF(RandK=0,"",INDEX(Clienți!$F$5:$F$504,RandK)&"")&")")) -> Dan Ilie (Director tehnic)
B8: Telefon / e-mail: | D8: =IF(RandK=0,"",IF(RandK=0,"",INDEX(Clienți!$G$5:$G$504,RandK)&"")&" "&IF(RandK=0,"",INDEX(Clienți!$H$5:$H$504,RandK)&"")) -> 0722 111 222 office@exemplu-construct.ro
B9: Oraș / sursa: | D9: =IF(RandK=0,"",IF(RandK=0,"",INDEX(Clienți!$I$5:$I$504,RandK)&"")&" · "&IF(RandK=0,"",INDEX(Clienți!$J$5:$J$504,RandK)&"")) -> Câmpina · Recomandare
B10: Responsabil: | D10: =IF(RandK=0,"",INDEX(Clienți!$K$5:$K$504,RandK)&"") -> Maria Stoica
B11: Condiții de plată: | D11: =IF(RandK=0,"",INDEX(Clienți!$M$5:$M$504,RandK)&"") -> OP la 15 zile
B12: Client din: | D12: =IF(RandK=0,"",RIGHT("0"&DAY(INDEX(Clienți!$O$5:$O$504,RandK)),2)&"."&RIGHT("0"&MONTH(INDEX(Clienți!$O$5:$O$504,RandK)),2)&"."&YEAR(INDEX(Clienți!$O$5:$O$504,RandK))) -> 12.03.2024
B14: Vânzări în an | D14: Ultima vânzare | F14: Ultimul contact | H14: Următoarea acțiune
B15: =IF(RandK=0,0,INDEX(Clienți!$S$5:$S$504,RandK)) -> 21747 | D15: =IF(RandK=0,"",IF(ISNUMBER(INDEX(Clienți!$T$5:$T$504,RandK)),RIGHT("0"&DAY(INDEX(Clienți!$T$5:$T$504,RandK)),2)&"."&RIGHT("0"&MONTH(INDEX(Clienți!$T$5:$T$504,RandK)),2)&"."&YEAR(INDEX(Clienți!$T$5:$T$504,RandK)),"–")) -> 12.10.2026 | F15: =IF(RandK=0,"",IF(ISNUMBER(INDEX(Clienți!$P$5:$P$504,RandK)),RIGHT("0"&DAY(INDEX(Clienți!$P$5:$P$504,RandK)),2)&"."&RIGHT("0"&MONTH(INDEX(Clienți!$P$5:$P$504,RandK)),2)&"."&YEAR(INDEX(Clienți!$P$5:$P$504,RandK)),"–")) -> 12.10.2026 | H15: =IF(RandK=0,"",IF(ISNUMBER(INDEX(Clienți!$R$5:$R$504,RandK)),RIGHT("0"&DAY(INDEX(Clienți!$R$5:$R$504,RandK)),2)&"."&RIGHT("0"&MONTH(INDEX(Clienți!$R$5:$R$504,RandK)),2)&"."&YEAR(INDEX(Clienți!$R$5:$R$504,RandK)),"–")) -> 16.10.2026
B16: =IF(RandK=0,"",IF(IF(RandK=0,"",INDEX(Clienți!$W$5:$W$504,RandK)&"")="","","Atenție: "&IF(RandK=0,"",INDEX(Clienți!$W$5:$W$504,RandK)&"")))
B18: ULTIMELE CONTACTE
B19: Data | C19: Tip | D19: Ce s-a discutat | F19: Pasul următor | H19: Până la | I19: Status
B20: =IF($N20=0,"",IF(INDEX(Activități!$B$5:$B$1504,$N20)="","",INDEX(Activități!$B$5:$B$1504,$N20))) -> 46307 | C20: =IF($N20=0,"",IF(INDEX(Activități!$E$5:$E$1504,$N20)="","",INDEX(Activități!$E$5:$E$1504,$N20))) -> E-mail | D20: =IF($N20=0,"",IF(INDEX(Activități!$F$5:$F$1504,$N20)="","",INDEX(Activități!$F$5:$F$1504,$N20))) -> Trimisă factura storno EXF 1213 și explicația | F20: =IF($N20=0,"",IF(INDEX(Activități!$H$5:$H$1504,$N20)="","",INDEX(Activități!$H$5:$H$1504,$N20))) -> Sună pentru confirmare | H20: =IF($N20=0,"",IF(INDEX(Activități!$I$5:$I$1504,$N20)="","",INDEX(Activități!$I$5:$I$1504,$N20))) -> 46311 | I20: =IF($N20=0,"",IF(INDEX(Activități!$L$5:$L$1504,$N20)="","",INDEX(Activități!$L$5:$L$1504,$N20))) -> Planificat | N20: =IFERROR(_xlfn.AGGREGATE(14,6,(ROW(Activități!$C$5:$C$1504)-4)/(Activități!$C$5:$C$1504=$D$1),1),0) -> 10
B21: =IF($N21=0,"",IF(INDEX(Activități!$B$5:$B$1504,$N21)="","",INDEX(Activități!$B$5:$B$1504,$N21))) -> 46302 | C21: =IF($N21=0,"",IF(INDEX(Activități!$E$5:$E$1504,$N21)="","",INDEX(Activități!$E$5:$E$1504,$N21))) -> Apel | D21: =IF($N21=0,"",IF(INDEX(Activități!$F$5:$F$1504,$N21)="","",INDEX(Activități!$F$5:$F$1504,$N21))) -> Nemulțumire la prețul manoperei din factura EXF 1201 | F21: =IF($N21=0,"",IF(INDEX(Activități!$H$5:$H$1504,$N21)="","",INDEX(Activități!$H$5:$H$1504,$N21))) -> Emite factura storno pentru manoperă | H21: =IF($N21=0,"",IF(INDEX(Activități!$I$5:$I$1504,$N21)="","",INDEX(Activități!$I$5:$I$1504,$N21))) -> 46307 | I21: =IF($N21=0,"",IF(INDEX(Activități!$L$5:$L$1504,$N21)="","",INDEX(Activități!$L$5:$L$1504,$N21))) -> Realizat | N21: =IFERROR(_xlfn.AGGREGATE(14,6,(ROW(Activități!$C$5:$C$1504)-4)/(Activități!$C$5:$C$1504=$D$1),2),0) -> 9
B22: =IF($N22=0,"",IF(INDEX(Activități!$B$5:$B$1504,$N22)="","",INDEX(Activități!$B$5:$B$1504,$N22))) -> 46294 | C22: =IF($N22=0,"",IF(INDEX(Activități!$E$5:$E$1504,$N22)="","",INDEX(Activități!$E$5:$E$1504,$N22))) -> Comandă | D22: =IF($N22=0,"",IF(INDEX(Activități!$F$5:$F$1504,$N22)="","",INDEX(Activități!$F$5:$F$1504,$N22))) -> Comanda 315 pentru materiale electrice | F22: =IF($N22=0,"",IF(INDEX(Activități!$H$5:$H$1504,$N22)="","",INDEX(Activități!$H$5:$H$1504,$N22))) -> Confirmă livrarea și emite factura | H22: =IF($N22=0,"",IF(INDEX(Activități!$I$5:$I$1504,$N22)="","",INDEX(Activități!$I$5:$I$1504,$N22))) -> 46296 | I22: =IF($N22=0,"",IF(INDEX(Activități!$L$5:$L$1504,$N22)="","",INDEX(Activități!$L$5:$L$1504,$N22))) -> Realizat | N22: =IFERROR(_xlfn.AGGREGATE(14,6,(ROW(Activități!$C$5:$C$1504)-4)/(Activități!$C$5:$C$1504=$D$1),3),0) -> 5
B23: =IF($N23=0,"",IF(INDEX(Activități!$B$5:$B$1504,$N23)="","",INDEX(Activități!$B$5:$B$1504,$N23))) | C23: =IF($N23=0,"",IF(INDEX(Activități!$E$5:$E$1504,$N23)="","",INDEX(Activități!$E$5:$E$1504,$N23))) | D23: =IF($N23=0,"",IF(INDEX(Activități!$F$5:$F$1504,$N23)="","",INDEX(Activități!$F$5:$F$1504,$N23))) | F23: =IF($N23=0,"",IF(INDEX(Activități!$H$5:$H$1504,$N23)="","",INDEX(Activități!$H$5:$H$1504,$N23))) | H23: =IF($N23=0,"",IF(INDEX(Activități!$I$5:$I$1504,$N23)="","",INDEX(Activități!$I$5:$I$1504,$N23))) | I23: =IF($N23=0,"",IF(INDEX(Activități!$L$5:$L$1504,$N23)="","",INDEX(Activități!$L$5:$L$1504,$N23))) | N23: =IFERROR(_xlfn.AGGREGATE(14,6,(ROW(Activități!$C$5:$C$1504)-4)/(Activități!$C$5:$C$1504=$D$1),4),0) -> 0
B24: =IF($N24=0,"",IF(INDEX(Activități!$B$5:$B$1504,$N24)="","",INDEX(Activități!$B$5:$B$1504,$N24))) | C24: =IF($N24=0,"",IF(INDEX(Activități!$E$5:$E$1504,$N24)="","",INDEX(Activități!$E$5:$E$1504,$N24))) | D24: =IF($N24=0,"",IF(INDEX(Activități!$F$5:$F$1504,$N24)="","",INDEX(Activități!$F$5:$F$1504,$N24))) | F24: =IF($N24=0,"",IF(INDEX(Activități!$H$5:$H$1504,$N24)="","",INDEX(Activități!$H$5:$H$1504,$N24))) | H24: =IF($N24=0,"",IF(INDEX(Activități!$I$5:$I$1504,$N24)="","",INDEX(Activități!$I$5:$I$1504,$N24))) | I24: =IF($N24=0,"",IF(INDEX(Activități!$L$5:$L$1504,$N24)="","",INDEX(Activități!$L$5:$L$1504,$N24))) | N24: =IFERROR(_xlfn.AGGREGATE(14,6,(ROW(Activități!$C$5:$C$1504)-4)/(Activități!$C$5:$C$1504=$D$1),5),0) -> 0
B25: =IF($N25=0,"",IF(INDEX(Activități!$B$5:$B$1504,$N25)="","",INDEX(Activități!$B$5:$B$1504,$N25))) | C25: =IF($N25=0,"",IF(INDEX(Activități!$E$5:$E$1504,$N25)="","",INDEX(Activități!$E$5:$E$1504,$N25))) | D25: =IF($N25=0,"",IF(INDEX(Activități!$F$5:$F$1504,$N25)="","",INDEX(Activități!$F$5:$F$1504,$N25))) | F25: =IF($N25=0,"",IF(INDEX(Activități!$H$5:$H$1504,$N25)="","",INDEX(Activități!$H$5:$H$1504,$N25))) | H25: =IF($N25=0,"",IF(INDEX(Activități!$I$5:$I$1504,$N25)="","",INDEX(Activități!$I$5:$I$1504,$N25))) | I25: =IF($N25=0,"",IF(INDEX(Activități!$L$5:$L$1504,$N25)="","",INDEX(Activități!$L$5:$L$1504,$N25))) | N25: =IFERROR(_xlfn.AGGREGATE(14,6,(ROW(Activități!$C$5:$C$1504)-4)/(Activități!$C$5:$C$1504=$D$1),6),0) -> 0
B26: =IF($N26=0,"",IF(INDEX(Activități!$B$5:$B$1504,$N26)="","",INDEX(Activități!$B$5:$B$1504,$N26))) | C26: =IF($N26=0,"",IF(INDEX(Activități!$E$5:$E$1504,$N26)="","",INDEX(Activități!$E$5:$E$1504,$N26))) | D26: =IF($N26=0,"",IF(INDEX(Activități!$F$5:$F$1504,$N26)="","",INDEX(Activități!$F$5:$F$1504,$N26))) | F26: =IF($N26=0,"",IF(INDEX(Activități!$H$5:$H$1504,$N26)="","",INDEX(Activități!$H$5:$H$1504,$N26))) | H26: =IF($N26=0,"",IF(INDEX(Activități!$I$5:$I$1504,$N26)="","",INDEX(Activități!$I$5:$I$1504,$N26))) | I26: =IF($N26=0,"",IF(INDEX(Activități!$L$5:$L$1504,$N26)="","",INDEX(Activități!$L$5:$L$1504,$N26))) | N26: =IFERROR(_xlfn.AGGREGATE(14,6,(ROW(Activități!$C$5:$C$1504)-4)/(Activități!$C$5:$C$1504=$D$1),7),0) -> 0
B27: =IF($N27=0,"",IF(INDEX(Activități!$B$5:$B$1504,$N27)="","",INDEX(Activități!$B$5:$B$1504,$N27))) | C27: =IF($N27=0,"",IF(INDEX(Activități!$E$5:$E$1504,$N27)="","",INDEX(Activități!$E$5:$E$1504,$N27))) | D27: =IF($N27=0,"",IF(INDEX(Activități!$F$5:$F$1504,$N27)="","",INDEX(Activități!$F$5:$F$1504,$N27))) | F27: =IF($N27=0,"",IF(INDEX(Activități!$H$5:$H$1504,$N27)="","",INDEX(Activități!$H$5:$H$1504,$N27))) | H27: =IF($N27=0,"",IF(INDEX(Activități!$I$5:$I$1504,$N27)="","",INDEX(Activități!$I$5:$I$1504,$N27))) | I27: =IF($N27=0,"",IF(INDEX(Activități!$L$5:$L$1504,$N27)="","",INDEX(Activități!$L$5:$L$1504,$N27))) | N27: =IFERROR(_xlfn.AGGREGATE(14,6,(ROW(Activități!$C$5:$C$1504)-4)/(Activități!$C$5:$C$1504=$D$1),8),0) -> 0
B29: OPORTUNITĂȚI DESCHISE
B30: Descriere | F30: Etapa | G30: Valoare | H30: Închidere | I30: Oferta
B31: =IF($N31=0,"",IF(INDEX(Oportunități!$E$5:$E$304,$N31)="","",INDEX(Oportunități!$E$5:$E$304,$N31))) -> Mentenanță anuală instalații | F31: =IF($N31=0,"",IF(INDEX(Oportunități!$G$5:$G$304,$N31)="","",INDEX(Oportunități!$G$5:$G$304,$N31))) -> Negociere | G31: =IF($N31=0,"",IF(INDEX(Oportunități!$F$5:$F$304,$N31)="","",INDEX(Oportunități!$F$5:$F$304,$N31))) -> 24000 | H31: =IF($N31=0,"",IF(INDEX(Oportunități!$J$5:$J$304,$N31)="","",INDEX(Oportunități!$J$5:$J$304,$N31))) -> 46305 | I31: =IF($N31=0,"",IF(INDEX(Oportunități!$K$5:$K$304,$N31)="","",INDEX(Oportunități!$K$5:$K$304,$N31))) -> OF-058 | N31: =IFERROR(_xlfn.AGGREGATE(15,6,(ROW(Oportunități!$C$5:$C$304)-4)/((Oportunități!$C$5:$C$304=$D$1)*(Oportunități!$G$5:$G$304<>"Câștigată")*(Oportunități!$G$5:$G$304<>"Pierdută")),1),0) -> 7
B32: =IF($N32=0,"",IF(INDEX(Oportunități!$E$5:$E$304,$N32)="","",INDEX(Oportunități!$E$5:$E$304,$N32))) | F32: =IF($N32=0,"",IF(INDEX(Oportunități!$G$5:$G$304,$N32)="","",INDEX(Oportunități!$G$5:$G$304,$N32))) | G32: =IF($N32=0,"",IF(INDEX(Oportunități!$F$5:$F$304,$N32)="","",INDEX(Oportunități!$F$5:$F$304,$N32))) | H32: =IF($N32=0,"",IF(INDEX(Oportunități!$J$5:$J$304,$N32)="","",INDEX(Oportunități!$J$5:$J$304,$N32))) | I32: =IF($N32=0,"",IF(INDEX(Oportunități!$K$5:$K$304,$N32)="","",INDEX(Oportunități!$K$5:$K$304,$N32))) | N32: =IFERROR(_xlfn.AGGREGATE(15,6,(ROW(Oportunități!$C$5:$C$304)-4)/((Oportunități!$C$5:$C$304=$D$1)*(Oportunități!$G$5:$G$304<>"Câștigată")*(Oportunități!$G$5:$G$304<>"Pierdută")),2),0) -> 0
B33: =IF($N33=0,"",IF(INDEX(Oportunități!$E$5:$E$304,$N33)="","",INDEX(Oportunități!$E$5:$E$304,$N33))) | F33: =IF($N33=0,"",IF(INDEX(Oportunități!$G$5:$G$304,$N33)="","",INDEX(Oportunități!$G$5:$G$304,$N33))) | G33: =IF($N33=0,"",IF(INDEX(Oportunități!$F$5:$F$304,$N33)="","",INDEX(Oportunități!$F$5:$F$304,$N33))) | H33: =IF($N33=0,"",IF(INDEX(Oportunități!$J$5:$J$304,$N33)="","",INDEX(Oportunități!$J$5:$J$304,$N33))) | I33: =IF($N33=0,"",IF(INDEX(Oportunități!$K$5:$K$304,$N33)="","",INDEX(Oportunități!$K$5:$K$304,$N33))) | N33: =IFERROR(_xlfn.AGGREGATE(15,6,(ROW(Oportunități!$C$5:$C$304)-4)/((Oportunități!$C$5:$C$304=$D$1)*(Oportunități!$G$5:$G$304<>"Câștigată")*(Oportunități!$G$5:$G$304<>"Pierdută")),3),0) -> 0
B34: =IF($N34=0,"",IF(INDEX(Oportunități!$E$5:$E$304,$N34)="","",INDEX(Oportunități!$E$5:$E$304,$N34))) | F34: =IF($N34=0,"",IF(INDEX(Oportunități!$G$5:$G$304,$N34)="","",INDEX(Oportunități!$G$5:$G$304,$N34))) | G34: =IF($N34=0,"",IF(INDEX(Oportunități!$F$5:$F$304,$N34)="","",INDEX(Oportunități!$F$5:$F$304,$N34))) | H34: =IF($N34=0,"",IF(INDEX(Oportunități!$J$5:$J$304,$N34)="","",INDEX(Oportunități!$J$5:$J$304,$N34))) | I34: =IF($N34=0,"",IF(INDEX(Oportunități!$K$5:$K$304,$N34)="","",INDEX(Oportunități!$K$5:$K$304,$N34))) | N34: =IFERROR(_xlfn.AGGREGATE(15,6,(ROW(Oportunități!$C$5:$C$304)-4)/((Oportunități!$C$5:$C$304=$D$1)*(Oportunități!$G$5:$G$304<>"Câștigată")*(Oportunități!$G$5:$G$304<>"Pierdută")),4),0) -> 0

Sheet Setări
B1: Setări
B2: Listele din meniuri și pragurile de alertă. Etapele oportunităților au o probabilitate de câștig, folosită pentru valoarea ponderată.
B4: Firma | C4: Exemplu Instalații SRL | E4: Tip client | F4: Sursa | G4: Tip activitate | H4: Responsabili | I4: Etapa oportunității | J4: Probabilitate | K4: Da / Nu
B5: Anul vânzărilor | C5: 2026 | E5: Potențial | F5: Recomandare | G5: Apel | H5: Maria Stoica | I5: Contact inițial | J5: 0.1 | K5: Da
B6: Alertă: zile fără contact | C6: 30 | E6: Activ | F6: Site | G6: E-mail | H6: Andrei Toma | I6: Nevoie confirmată | J6: 0.25 | K6: Nu
B7: Alertă: client activ fără vânzări (zile) | C7: 90 | E7: Inactiv | F7: Telefon | G7: Întâlnire | H7: Dan Ilie | I7: Ofertă trimisă | J7: 0.5
B8: Data de referință (implicit azi) | C8: =TODAY() -> 46309 | E8: Pierdut | F8: Târg / eveniment | G8: Ofertă trimisă | I8: Negociere | J8: 0.75
F9: LinkedIn | G9: Comandă | I9: Câștigată | J9: 1
B10: Datele de contact ale persoanelor sunt date personale: păstrează fișierul într-un loc protejat și folosește-le doar în scopul relației comerciale. | F10: Altă sursă | G10: Reclamație | I10: Pierdută | J10: 0
G11: Altele
B16: © 2026 Ray Moreno – modelexcel.ro
B17: Model gratuit: îl poți folosi și adapta în activitatea ta. Nu este permisă revânzarea lui sau publicarea pe alte site-uri.
B18: Instrucțiuni și alte modele: modelexcel.ro/baza-de-date-clienti-excel/
