Workbook
Name An: Setări!$C$5
Name Categorii: Setări!$E$5:$E$19
Name Firma: Setări!$C$4
Name SoldInitial: Setări!$C$6
Name SoldMinim: Setări!$C$7
Name TipCat: Setări!$F$5:$F$19
Name UltimaLuna: Setări!$C$8

Sheet Cash flow
B1: Cash flow (flux de numerar) lunar
B2: Lunile încheiate arată ce s-a încasat și plătit efectiv; lunile următoare arată previziunea. Alerta apare când soldul scade sub rezerva dorită.
B3: ="Firma: "&Firma&" · Anul "&An -> Firma: Exemplu Distribuție SRL · Anul 2026
B4: Categorie | C4: Ian | D4: Feb | E4: Mar | F4: Apr | G4: Mai | H4: Iun | I4: Iul | J4: Aug | K4: Sep | L4: Oct | M4: Nov | N4: Dec | O4: Total an
B5: ÎNCASĂRI | C5: =IF(1<=UltimaLuna,"realizat","previziune") -> realizat | D5: =IF(2<=UltimaLuna,"realizat","previziune") -> realizat | E5: =IF(3<=UltimaLuna,"realizat","previziune") -> realizat | F5: =IF(4<=UltimaLuna,"realizat","previziune") -> realizat | G5: =IF(5<=UltimaLuna,"realizat","previziune") -> realizat | H5: =IF(6<=UltimaLuna,"realizat","previziune") -> realizat | I5: =IF(7<=UltimaLuna,"realizat","previziune") -> realizat | J5: =IF(8<=UltimaLuna,"realizat","previziune") -> realizat | K5: =IF(9<=UltimaLuna,"realizat","previziune") -> realizat | L5: =IF(10<=UltimaLuna,"realizat","previziune") -> previziune | M5: =IF(11<=UltimaLuna,"realizat","previziune") -> previziune | N5: =IF(12<=UltimaLuna,"realizat","previziune") -> previziune
B6: =Setări!$E$5 -> Încasări de la clienți | C6: =IF(COLUMN()-2<=UltimaLuna,'Realizat lunar'!C6,Previziune!C6) -> 74880 | D6: =IF(COLUMN()-2<=UltimaLuna,'Realizat lunar'!D6,Previziune!D6) -> 75480 | E6: =IF(COLUMN()-2<=UltimaLuna,'Realizat lunar'!E6,Previziune!E6) -> 79050 | F6: =IF(COLUMN()-2<=UltimaLuna,'Realizat lunar'!F6,Previziune!F6) -> 92400 | G6: =IF(COLUMN()-2<=UltimaLuna,'Realizat lunar'!G6,Previziune!G6) -> 90160 | H6: =IF(COLUMN()-2<=UltimaLuna,'Realizat lunar'!H6,Previziune!H6) -> 86450 | I6: =IF(COLUMN()-2<=UltimaLuna,'Realizat lunar'!I6,Previziune!I6) -> 92700 | J6: =IF(COLUMN()-2<=UltimaLuna,'Realizat lunar'!J6,Previziune!J6) -> 57400 | ... N6: =IF(COLUMN()-2<=UltimaLuna,'Realizat lunar'!N6,Previziune!N6) -> 110000 | O6: =SUM(C6:N6) -> 1046760
B7: =Setări!$E$6 -> Avansuri de la clienți | C7: =IF(COLUMN()-2<=UltimaLuna,'Realizat lunar'!C7,Previziune!C7) -> 0 | D7: =IF(COLUMN()-2<=UltimaLuna,'Realizat lunar'!D7,Previziune!D7) -> 0 | E7: =IF(COLUMN()-2<=UltimaLuna,'Realizat lunar'!E7,Previziune!E7) -> 10000 | F7: =IF(COLUMN()-2<=UltimaLuna,'Realizat lunar'!F7,Previziune!F7) -> 0 | G7: =IF(COLUMN()-2<=UltimaLuna,'Realizat lunar'!G7,Previziune!G7) -> 0 | H7: =IF(COLUMN()-2<=UltimaLuna,'Realizat lunar'!H7,Previziune!H7) -> 15000 | I7: =IF(COLUMN()-2<=UltimaLuna,'Realizat lunar'!I7,Previziune!I7) -> 0 | J7: =IF(COLUMN()-2<=UltimaLuna,'Realizat lunar'!J7,Previziune!J7) -> 0 | ... N7: =IF(COLUMN()-2<=UltimaLuna,'Realizat lunar'!N7,Previziune!N7) -> 20000 | O7: =SUM(C7:N7) -> 45000
B8: =Setări!$E$7 -> Credite și împrumuturi primite | C8: =IF(COLUMN()-2<=UltimaLuna,'Realizat lunar'!C8,Previziune!C8) -> 0 | D8: =IF(COLUMN()-2<=UltimaLuna,'Realizat lunar'!D8,Previziune!D8) -> 0 | E8: =IF(COLUMN()-2<=UltimaLuna,'Realizat lunar'!E8,Previziune!E8) -> 0 | F8: =IF(COLUMN()-2<=UltimaLuna,'Realizat lunar'!F8,Previziune!F8) -> 0 | G8: =IF(COLUMN()-2<=UltimaLuna,'Realizat lunar'!G8,Previziune!G8) -> 0 | H8: =IF(COLUMN()-2<=UltimaLuna,'Realizat lunar'!H8,Previziune!H8) -> 0 | I8: =IF(COLUMN()-2<=UltimaLuna,'Realizat lunar'!I8,Previziune!I8) -> 0 | J8: =IF(COLUMN()-2<=UltimaLuna,'Realizat lunar'!J8,Previziune!J8) -> 0 | ... N8: =IF(COLUMN()-2<=UltimaLuna,'Realizat lunar'!N8,Previziune!N8) -> 0 | O8: =SUM(C8:N8) -> 0
B9: =Setări!$E$8 -> Aport al asociaților | C9: =IF(COLUMN()-2<=UltimaLuna,'Realizat lunar'!C9,Previziune!C9) -> 0 | D9: =IF(COLUMN()-2<=UltimaLuna,'Realizat lunar'!D9,Previziune!D9) -> 0 | E9: =IF(COLUMN()-2<=UltimaLuna,'Realizat lunar'!E9,Previziune!E9) -> 0 | F9: =IF(COLUMN()-2<=UltimaLuna,'Realizat lunar'!F9,Previziune!F9) -> 0 | G9: =IF(COLUMN()-2<=UltimaLuna,'Realizat lunar'!G9,Previziune!G9) -> 0 | H9: =IF(COLUMN()-2<=UltimaLuna,'Realizat lunar'!H9,Previziune!H9) -> 0 | I9: =IF(COLUMN()-2<=UltimaLuna,'Realizat lunar'!I9,Previziune!I9) -> 0 | J9: =IF(COLUMN()-2<=UltimaLuna,'Realizat lunar'!J9,Previziune!J9) -> 0 | ... N9: =IF(COLUMN()-2<=UltimaLuna,'Realizat lunar'!N9,Previziune!N9) -> 0 | O9: =SUM(C9:N9) -> 0
B10: =Setări!$E$9 -> Alte încasări | C10: =IF(COLUMN()-2<=UltimaLuna,'Realizat lunar'!C10,Previziune!C10) -> 500 | D10: =IF(COLUMN()-2<=UltimaLuna,'Realizat lunar'!D10,Previziune!D10) -> 500 | E10: =IF(COLUMN()-2<=UltimaLuna,'Realizat lunar'!E10,Previziune!E10) -> 500 | F10: =IF(COLUMN()-2<=UltimaLuna,'Realizat lunar'!F10,Previziune!F10) -> 500 | G10: =IF(COLUMN()-2<=UltimaLuna,'Realizat lunar'!G10,Previziune!G10) -> 500 | H10: =IF(COLUMN()-2<=UltimaLuna,'Realizat lunar'!H10,Previziune!H10) -> 500 | I10: =IF(COLUMN()-2<=UltimaLuna,'Realizat lunar'!I10,Previziune!I10) -> 500 | J10: =IF(COLUMN()-2<=UltimaLuna,'Realizat lunar'!J10,Previziune!J10) -> 500 | ... N10: =IF(COLUMN()-2<=UltimaLuna,'Realizat lunar'!N10,Previziune!N10) -> 500 | O10: =SUM(C10:N10) -> 6000
B11: Total încasări | C11: =SUM(C6:C10) -> 75380 | D11: =SUM(D6:D10) -> 75980 | E11: =SUM(E6:E10) -> 89550 | F11: =SUM(F6:F10) -> 92900 | G11: =SUM(G6:G10) -> 90660 | H11: =SUM(H6:H10) -> 101950 | I11: =SUM(I6:I10) -> 93200 | J11: =SUM(J6:J10) -> 57900 | ... N11: =SUM(N6:N10) -> 130500 | O11: =SUM(C11:N11) -> 1097760
B13: PLĂȚI
B14: =Setări!$E$10 -> Furnizori (marfă, materiale, servicii) | C14: =IF(COLUMN()-2<=UltimaLuna,'Realizat lunar'!C14,Previziune!C14) -> 32800 | D14: =IF(COLUMN()-2<=UltimaLuna,'Realizat lunar'!D14,Previziune!D14) -> 30480 | E14: =IF(COLUMN()-2<=UltimaLuna,'Realizat lunar'!E14,Previziune!E14) -> 37130 | F14: =IF(COLUMN()-2<=UltimaLuna,'Realizat lunar'!F14,Previziune!F14) -> 37370 | G14: =IF(COLUMN()-2<=UltimaLuna,'Realizat lunar'!G14,Previziune!G14) -> 38210 | H14: =IF(COLUMN()-2<=UltimaLuna,'Realizat lunar'!H14,Previziune!H14) -> 40700 | I14: =IF(COLUMN()-2<=UltimaLuna,'Realizat lunar'!I14,Previziune!I14) -> 37800 | J14: =IF(COLUMN()-2<=UltimaLuna,'Realizat lunar'!J14,Previziune!J14) -> 28520 | ... N14: =IF(COLUMN()-2<=UltimaLuna,'Realizat lunar'!N14,Previziune!N14) -> 46200 | O14: =SUM(C14:N14) -> 453920
B15: =Setări!$E$11 -> Salarii nete | C15: =IF(COLUMN()-2<=UltimaLuna,'Realizat lunar'!C15,Previziune!C15) -> 16000 | D15: =IF(COLUMN()-2<=UltimaLuna,'Realizat lunar'!D15,Previziune!D15) -> 16000 | E15: =IF(COLUMN()-2<=UltimaLuna,'Realizat lunar'!E15,Previziune!E15) -> 16000 | F15: =IF(COLUMN()-2<=UltimaLuna,'Realizat lunar'!F15,Previziune!F15) -> 16000 | G15: =IF(COLUMN()-2<=UltimaLuna,'Realizat lunar'!G15,Previziune!G15) -> 16000 | H15: =IF(COLUMN()-2<=UltimaLuna,'Realizat lunar'!H15,Previziune!H15) -> 16000 | I15: =IF(COLUMN()-2<=UltimaLuna,'Realizat lunar'!I15,Previziune!I15) -> 16000 | J15: =IF(COLUMN()-2<=UltimaLuna,'Realizat lunar'!J15,Previziune!J15) -> 16000 | ... N15: =IF(COLUMN()-2<=UltimaLuna,'Realizat lunar'!N15,Previziune!N15) -> 21000 | O15: =SUM(C15:N15) -> 197000
B16: =Setări!$E$12 -> Contribuții și impozit pe salarii | C16: =IF(COLUMN()-2<=UltimaLuna,'Realizat lunar'!C16,Previziune!C16) -> 10500 | D16: =IF(COLUMN()-2<=UltimaLuna,'Realizat lunar'!D16,Previziune!D16) -> 10500 | E16: =IF(COLUMN()-2<=UltimaLuna,'Realizat lunar'!E16,Previziune!E16) -> 10500 | F16: =IF(COLUMN()-2<=UltimaLuna,'Realizat lunar'!F16,Previziune!F16) -> 10500 | G16: =IF(COLUMN()-2<=UltimaLuna,'Realizat lunar'!G16,Previziune!G16) -> 10500 | H16: =IF(COLUMN()-2<=UltimaLuna,'Realizat lunar'!H16,Previziune!H16) -> 10500 | I16: =IF(COLUMN()-2<=UltimaLuna,'Realizat lunar'!I16,Previziune!I16) -> 10500 | J16: =IF(COLUMN()-2<=UltimaLuna,'Realizat lunar'!J16,Previziune!J16) -> 10500 | ... N16: =IF(COLUMN()-2<=UltimaLuna,'Realizat lunar'!N16,Previziune!N16) -> 13800 | O16: =SUM(C16:N16) -> 129300
B17: =Setări!$E$13 -> TVA de plată | C17: =IF(COLUMN()-2<=UltimaLuna,'Realizat lunar'!C17,Previziune!C17) -> 5200 | D17: =IF(COLUMN()-2<=UltimaLuna,'Realizat lunar'!D17,Previziune!D17) -> 5200 | E17: =IF(COLUMN()-2<=UltimaLuna,'Realizat lunar'!E17,Previziune!E17) -> 5200 | F17: =IF(COLUMN()-2<=UltimaLuna,'Realizat lunar'!F17,Previziune!F17) -> 5200 | G17: =IF(COLUMN()-2<=UltimaLuna,'Realizat lunar'!G17,Previziune!G17) -> 5200 | H17: =IF(COLUMN()-2<=UltimaLuna,'Realizat lunar'!H17,Previziune!H17) -> 5200 | I17: =IF(COLUMN()-2<=UltimaLuna,'Realizat lunar'!I17,Previziune!I17) -> 5200 | J17: =IF(COLUMN()-2<=UltimaLuna,'Realizat lunar'!J17,Previziune!J17) -> 5200 | ... N17: =IF(COLUMN()-2<=UltimaLuna,'Realizat lunar'!N17,Previziune!N17) -> 5200 | O17: =SUM(C17:N17) -> 62400
B18: =Setări!$E$14 -> Impozit pe profit / venit | C18: =IF(COLUMN()-2<=UltimaLuna,'Realizat lunar'!C18,Previziune!C18) -> 2400 | D18: =IF(COLUMN()-2<=UltimaLuna,'Realizat lunar'!D18,Previziune!D18) -> 0 | E18: =IF(COLUMN()-2<=UltimaLuna,'Realizat lunar'!E18,Previziune!E18) -> 0 | F18: =IF(COLUMN()-2<=UltimaLuna,'Realizat lunar'!F18,Previziune!F18) -> 2600 | G18: =IF(COLUMN()-2<=UltimaLuna,'Realizat lunar'!G18,Previziune!G18) -> 0 | H18: =IF(COLUMN()-2<=UltimaLuna,'Realizat lunar'!H18,Previziune!H18) -> 0 | I18: =IF(COLUMN()-2<=UltimaLuna,'Realizat lunar'!I18,Previziune!I18) -> 2700 | J18: =IF(COLUMN()-2<=UltimaLuna,'Realizat lunar'!J18,Previziune!J18) -> 0 | ... N18: =IF(COLUMN()-2<=UltimaLuna,'Realizat lunar'!N18,Previziune!N18) -> 0 | O18: =SUM(C18:N18) -> 10500
B19: =Setări!$E$15 -> Chirie și utilități | C19: =IF(COLUMN()-2<=UltimaLuna,'Realizat lunar'!C19,Previziune!C19) -> 6050 | D19: =IF(COLUMN()-2<=UltimaLuna,'Realizat lunar'!D19,Previziune!D19) -> 6110 | E19: =IF(COLUMN()-2<=UltimaLuna,'Realizat lunar'!E19,Previziune!E19) -> 5980 | F19: =IF(COLUMN()-2<=UltimaLuna,'Realizat lunar'!F19,Previziune!F19) -> 5800 | G19: =IF(COLUMN()-2<=UltimaLuna,'Realizat lunar'!G19,Previziune!G19) -> 5680 | H19: =IF(COLUMN()-2<=UltimaLuna,'Realizat lunar'!H19,Previziune!H19) -> 5890 | I19: =IF(COLUMN()-2<=UltimaLuna,'Realizat lunar'!I19,Previziune!I19) -> 6020 | J19: =IF(COLUMN()-2<=UltimaLuna,'Realizat lunar'!J19,Previziune!J19) -> 6060 | ... N19: =IF(COLUMN()-2<=UltimaLuna,'Realizat lunar'!N19,Previziune!N19) -> 5800 | O19: =SUM(C19:N19) -> 70930
B20: =Setări!$E$16 -> Rate de credit și dobânzi | C20: =IF(COLUMN()-2<=UltimaLuna,'Realizat lunar'!C20,Previziune!C20) -> 3100 | D20: =IF(COLUMN()-2<=UltimaLuna,'Realizat lunar'!D20,Previziune!D20) -> 3100 | E20: =IF(COLUMN()-2<=UltimaLuna,'Realizat lunar'!E20,Previziune!E20) -> 3100 | F20: =IF(COLUMN()-2<=UltimaLuna,'Realizat lunar'!F20,Previziune!F20) -> 3100 | G20: =IF(COLUMN()-2<=UltimaLuna,'Realizat lunar'!G20,Previziune!G20) -> 3100 | H20: =IF(COLUMN()-2<=UltimaLuna,'Realizat lunar'!H20,Previziune!H20) -> 3100 | I20: =IF(COLUMN()-2<=UltimaLuna,'Realizat lunar'!I20,Previziune!I20) -> 3100 | J20: =IF(COLUMN()-2<=UltimaLuna,'Realizat lunar'!J20,Previziune!J20) -> 3100 | ... N20: =IF(COLUMN()-2<=UltimaLuna,'Realizat lunar'!N20,Previziune!N20) -> 3100 | O20: =SUM(C20:N20) -> 37200
B21: =Setări!$E$17 -> Investiții (echipamente, mașini) | C21: =IF(COLUMN()-2<=UltimaLuna,'Realizat lunar'!C21,Previziune!C21) -> 0 | D21: =IF(COLUMN()-2<=UltimaLuna,'Realizat lunar'!D21,Previziune!D21) -> 0 | E21: =IF(COLUMN()-2<=UltimaLuna,'Realizat lunar'!E21,Previziune!E21) -> 0 | F21: =IF(COLUMN()-2<=UltimaLuna,'Realizat lunar'!F21,Previziune!F21) -> 0 | G21: =IF(COLUMN()-2<=UltimaLuna,'Realizat lunar'!G21,Previziune!G21) -> 0 | H21: =IF(COLUMN()-2<=UltimaLuna,'Realizat lunar'!H21,Previziune!H21) -> 15000 | I21: =IF(COLUMN()-2<=UltimaLuna,'Realizat lunar'!I21,Previziune!I21) -> 0 | J21: =IF(COLUMN()-2<=UltimaLuna,'Realizat lunar'!J21,Previziune!J21) -> 0 | ... N21: =IF(COLUMN()-2<=UltimaLuna,'Realizat lunar'!N21,Previziune!N21) -> 0 | O21: =SUM(C21:N21) -> 95000
B22: =Setări!$E$18 -> Dividende | C22: =IF(COLUMN()-2<=UltimaLuna,'Realizat lunar'!C22,Previziune!C22) -> 0 | D22: =IF(COLUMN()-2<=UltimaLuna,'Realizat lunar'!D22,Previziune!D22) -> 0 | E22: =IF(COLUMN()-2<=UltimaLuna,'Realizat lunar'!E22,Previziune!E22) -> 0 | F22: =IF(COLUMN()-2<=UltimaLuna,'Realizat lunar'!F22,Previziune!F22) -> 0 | G22: =IF(COLUMN()-2<=UltimaLuna,'Realizat lunar'!G22,Previziune!G22) -> 0 | H22: =IF(COLUMN()-2<=UltimaLuna,'Realizat lunar'!H22,Previziune!H22) -> 30000 | I22: =IF(COLUMN()-2<=UltimaLuna,'Realizat lunar'!I22,Previziune!I22) -> 0 | J22: =IF(COLUMN()-2<=UltimaLuna,'Realizat lunar'!J22,Previziune!J22) -> 0 | ... N22: =IF(COLUMN()-2<=UltimaLuna,'Realizat lunar'!N22,Previziune!N22) -> 0 | O22: =SUM(C22:N22) -> 30000
B23: =Setări!$E$19 -> Alte plăți | C23: =IF(COLUMN()-2<=UltimaLuna,'Realizat lunar'!C23,Previziune!C23) -> 1500 | D23: =IF(COLUMN()-2<=UltimaLuna,'Realizat lunar'!D23,Previziune!D23) -> 1500 | E23: =IF(COLUMN()-2<=UltimaLuna,'Realizat lunar'!E23,Previziune!E23) -> 1500 | F23: =IF(COLUMN()-2<=UltimaLuna,'Realizat lunar'!F23,Previziune!F23) -> 1500 | G23: =IF(COLUMN()-2<=UltimaLuna,'Realizat lunar'!G23,Previziune!G23) -> 1500 | H23: =IF(COLUMN()-2<=UltimaLuna,'Realizat lunar'!H23,Previziune!H23) -> 1500 | I23: =IF(COLUMN()-2<=UltimaLuna,'Realizat lunar'!I23,Previziune!I23) -> 1500 | J23: =IF(COLUMN()-2<=UltimaLuna,'Realizat lunar'!J23,Previziune!J23) -> 1500 | ... N23: =IF(COLUMN()-2<=UltimaLuna,'Realizat lunar'!N23,Previziune!N23) -> 1500 | O23: =SUM(C23:N23) -> 18000
B24: Total plăți | C24: =SUM(C14:C23) -> 77550 | D24: =SUM(D14:D23) -> 72890 | E24: =SUM(E14:E23) -> 79410 | F24: =SUM(F14:F23) -> 82070 | G24: =SUM(G14:G23) -> 80190 | H24: =SUM(H14:H23) -> 127890 | I24: =SUM(I14:I23) -> 82820 | J24: =SUM(J14:J23) -> 70880 | ... N24: =SUM(N14:N23) -> 96600 | O24: =SUM(C24:N24) -> 1104250
B26: Flux net al lunii (încasări – plăți) | C26: =C11-C24 -> -2170 | D26: =D11-D24 -> 3090 | E26: =E11-E24 -> 10140 | F26: =F11-F24 -> 10830 | G26: =G11-G24 -> 10470 | H26: =H11-H24 -> -25940 | I26: =I11-I24 -> 10380 | J26: =J11-J24 -> -12980 | ... N26: =N11-N24 -> 33900 | O26: =SUM(C26:N26) -> -6490
B27: Sold la începutul lunii | C27: =SoldInitial -> 45000 | D27: =C28 -> 42830 | E27: =D28 -> 45920 | F27: =E28 -> 56060 | G27: =F28 -> 66890 | H27: =G28 -> 77360 | I27: =H28 -> 51420 | J27: =I28 -> 61800 | K27: =J28 -> 48820 | ... N27: =M28 -> 4610
B28: Sold la sfârșitul lunii | C28: =C27+C26 -> 42830 | D28: =D27+D26 -> 45920 | E28: =E27+E26 -> 56060 | F28: =F27+F26 -> 66890 | G28: =G27+G26 -> 77360 | H28: =H27+H26 -> 51420 | I28: =I27+I26 -> 61800 | J28: =J27+J26 -> 48820 | ... N28: =N27+N26 -> 38510 | O28: =N28 -> 38510
B29: Sold minim dorit | C29: =SoldMinim -> 20000 | D29: =SoldMinim -> 20000 | E29: =SoldMinim -> 20000 | F29: =SoldMinim -> 20000 | G29: =SoldMinim -> 20000 | H29: =SoldMinim -> 20000 | I29: =SoldMinim -> 20000 | J29: =SoldMinim -> 20000 | ... N29: =SoldMinim -> 20000
B30: Situație | C30: =IF(C28<0,"Sold negativ",IF(C28<C29,"Sub rezervă","OK")) -> OK | D30: =IF(D28<0,"Sold negativ",IF(D28<D29,"Sub rezervă","OK")) -> OK | E30: =IF(E28<0,"Sold negativ",IF(E28<E29,"Sub rezervă","OK")) -> OK | F30: =IF(F28<0,"Sold negativ",IF(F28<F29,"Sub rezervă","OK")) -> OK | G30: =IF(G28<0,"Sold negativ",IF(G28<G29,"Sub rezervă","OK")) -> OK | H30: =IF(H28<0,"Sold negativ",IF(H28<H29,"Sub rezervă","OK")) -> OK | I30: =IF(I28<0,"Sold negativ",IF(I28<I29,"Sub rezervă","OK")) -> OK | J30: =IF(J28<0,"Sold negativ",IF(J28<J29,"Sub rezervă","OK")) -> OK | ... N30: =IF(N28<0,"Sold negativ",IF(N28<N29,"Sub rezervă","OK")) -> OK
B32: =IF(COUNTIF(C30:N30,"OK")=12,"✔ Soldul rămâne peste rezerva dorită în toate lunile.","Atenție: în "&COUNTIF(C30:N30,"<>OK")&IF(COUNTIF(C30:N30,"<>OK")=1," lună"," luni")&" soldul scade sub rezervă. Cel mai mic sold: "&FIXED(MIN(C28:N28),0)&" lei, în luna "&INDEX(C4:N4,MATCH(MIN(C28:N28),C28:N28,0))&". Necesar de finanțare pentru a păstra rezerva: "&FIXED(MAX(0,SoldMinim-MIN(C28:N28)),0)&" lei.") -> Atenție: în 1 lună soldul scade sub rezervă. Cel mai mic sold: 4.610 lei, în luna Nov. Necesar de finanțare pentru a păstra rezerva: 15.390 lei.

Sheet Previziune
B1: Previziunea încasărilor și plăților
B2: Completează sumele pe care te aștepți să le încasezi și să le plătești în fiecare lună (cu TVA, așa cum intră și ies efectiv banii).
B4: Categorie | C4: Ian | D4: Feb | E4: Mar | F4: Apr | G4: Mai | H4: Iun | I4: Iul | J4: Aug | K4: Sep | L4: Oct | M4: Nov | N4: Dec | O4: Total an
B5: ÎNCASĂRI
B6: =Setări!$E$5 -> Încasări de la clienți | C6: 78000 | D6: 74000 | E6: 85000 | F6: 88000 | G6: 92000 | H6: 95000 | I6: 90000 | J6: 70000 | K6: 96000 | L6: 100000 | M6: 98000 | N6: 110000 | O6: =SUM(C6:N6) -> 1076000
B7: =Setări!$E$6 -> Avansuri de la clienți | E7: 10000 | H7: 15000 | K7: 12000 | N7: 20000 | O7: =SUM(C7:N7) -> 57000
B8: =Setări!$E$7 -> Credite și împrumuturi primite | O8: =SUM(C8:N8) -> 0
B9: =Setări!$E$8 -> Aport al asociaților | O9: =SUM(C9:N9) -> 0
B10: =Setări!$E$9 -> Alte încasări | C10: 500 | D10: 500 | E10: 500 | F10: 500 | G10: 500 | H10: 500 | I10: 500 | J10: 500 | K10: 500 | L10: 500 | M10: 500 | N10: 500 | O10: =SUM(C10:N10) -> 6000
B11: Total încasări | C11: =SUM(C6:C10) -> 78500 | D11: =SUM(D6:D10) -> 74500 | E11: =SUM(E6:E10) -> 95500 | F11: =SUM(F6:F10) -> 88500 | G11: =SUM(G6:G10) -> 92500 | H11: =SUM(H6:H10) -> 110500 | I11: =SUM(I6:I10) -> 90500 | J11: =SUM(J6:J10) -> 70500 | ... N11: =SUM(N6:N10) -> 130500 | O11: =SUM(C11:N11) -> 1139000
B13: PLĂȚI
B14: =Setări!$E$10 -> Furnizori (marfă, materiale, servicii) | C14: 32800 | D14: 31100 | E14: 35700 | F14: 37000 | G14: 38600 | H14: 39900 | I14: 37800 | J14: 29400 | K14: 40300 | L14: 42000 | M14: 41200 | N14: 46200 | O14: =SUM(C14:N14) -> 452000
B15: =Setări!$E$11 -> Salarii nete | C15: 16000 | D15: 16000 | E15: 16000 | F15: 16000 | G15: 16000 | H15: 16000 | I15: 16000 | J15: 16000 | K15: 16000 | L15: 16000 | M15: 16000 | N15: 21000 | O15: =SUM(C15:N15) -> 197000
B16: =Setări!$E$12 -> Contribuții și impozit pe salarii | C16: 10500 | D16: 10500 | E16: 10500 | F16: 10500 | G16: 10500 | H16: 10500 | I16: 10500 | J16: 10500 | K16: 10500 | L16: 10500 | M16: 10500 | N16: 13800 | O16: =SUM(C16:N16) -> 129300
B17: =Setări!$E$13 -> TVA de plată | C17: 5200 | D17: 5200 | E17: 5200 | F17: 5200 | G17: 5200 | H17: 5200 | I17: 5200 | J17: 5200 | K17: 5200 | L17: 5200 | M17: 5200 | N17: 5200 | O17: =SUM(C17:N17) -> 62400
B18: =Setări!$E$14 -> Impozit pe profit / venit | C18: 2400 | F18: 2600 | I18: 2700 | L18: 2800 | O18: =SUM(C18:N18) -> 10500
B19: =Setări!$E$15 -> Chirie și utilități | C19: 5800 | D19: 5800 | E19: 5800 | F19: 5800 | G19: 5800 | H19: 5800 | I19: 5800 | J19: 5800 | K19: 5800 | L19: 5800 | M19: 5800 | N19: 5800 | O19: =SUM(C19:N19) -> 69600
B20: =Setări!$E$16 -> Rate de credit și dobânzi | C20: 3100 | D20: 3100 | E20: 3100 | F20: 3100 | G20: 3100 | H20: 3100 | I20: 3100 | J20: 3100 | K20: 3100 | L20: 3100 | M20: 3100 | N20: 3100 | O20: =SUM(C20:N20) -> 37200
B21: =Setări!$E$17 -> Investiții (echipamente, mașini) | H21: 15000 | M21: 80000 | O21: =SUM(C21:N21) -> 95000
B22: =Setări!$E$18 -> Dividende | H22: 30000 | O22: =SUM(C22:N22) -> 30000
B23: =Setări!$E$19 -> Alte plăți | C23: 1500 | D23: 1500 | E23: 1500 | F23: 1500 | G23: 1500 | H23: 1500 | I23: 1500 | J23: 1500 | K23: 1500 | L23: 1500 | M23: 1500 | N23: 1500 | O23: =SUM(C23:N23) -> 18000
B24: Total plăți | C24: =SUM(C14:C23) -> 77300 | D24: =SUM(D14:D23) -> 73200 | E24: =SUM(E14:E23) -> 77800 | F24: =SUM(F14:F23) -> 81700 | G24: =SUM(G14:G23) -> 80700 | H24: =SUM(H14:H23) -> 127000 | I24: =SUM(I14:I23) -> 82600 | J24: =SUM(J14:J23) -> 71500 | ... N24: =SUM(N14:N23) -> 96600 | O24: =SUM(C24:N24) -> 1101000

Sheet Încasări și plăți
B1: Încasări și plăți realizate
B2: Un rând pentru fiecare încasare sau plată efectivă (bancă sau casă). Tipul și luna se completează automat din categorie și dată.
B4: Data | C4: Categorie | D4: Descriere / document | E4: Suma (lei) | F4: Tip | G4: Luna | H4: Verificare
B5: =DATE(2026,1,5) -> 46027 | C5: Chirie și utilități | D5: Chirie depozit și utilități | E5: 6050 | F5: =IF(C5="","",IFERROR(INDEX(TipCat,MATCH(C5,Categorii,0)),"?")) -> Plată | G5: =IF(B5="","",IF(YEAR(B5)=An,MONTH(B5),0)) -> 1 | H5: =IF(AND(B5="",C5="",E5=""),"",TRIM(IF(OR(B5="",C5="",E5=""),"Date incomplete. ","")&IF(F5="?","Categorie necunoscută. ","")&IF(N(E5)<0,"Scrie suma fără minus. ","")&IF(AND(B5<>"",G5=0),"Data nu e din anul "&An&". ","")&IF(AND(G5<>"",G5>UltimaLuna),"Lună neîncheiată: nu intră încă în cash flow. ","")))
B6: =DATE(2026,1,8) -> 46030 | C6: Încasări de la clienți | D6: Încasări clienți – extras bancă | E6: 29950 | F6: =IF(C6="","",IFERROR(INDEX(TipCat,MATCH(C6,Categorii,0)),"?")) -> Încasare | G6: =IF(B6="","",IF(YEAR(B6)=An,MONTH(B6),0)) -> 1 | H6: =IF(AND(B6="",C6="",E6=""),"",TRIM(IF(OR(B6="",C6="",E6=""),"Date incomplete. ","")&IF(F6="?","Categorie necunoscută. ","")&IF(N(E6)<0,"Scrie suma fără minus. ","")&IF(AND(B6<>"",G6=0),"Data nu e din anul "&An&". ","")&IF(AND(G6<>"",G6>UltimaLuna),"Lună neîncheiată: nu intră încă în cash flow. ","")))
B7: =DATE(2026,1,10) -> 46032 | C7: Salarii nete | D7: Salarii nete luna anterioară | E7: 16000 | F7: =IF(C7="","",IFERROR(INDEX(TipCat,MATCH(C7,Categorii,0)),"?")) -> Plată | G7: =IF(B7="","",IF(YEAR(B7)=An,MONTH(B7),0)) -> 1 | H7: =IF(AND(B7="",C7="",E7=""),"",TRIM(IF(OR(B7="",C7="",E7=""),"Date incomplete. ","")&IF(F7="?","Categorie necunoscută. ","")&IF(N(E7)<0,"Scrie suma fără minus. ","")&IF(AND(B7<>"",G7=0),"Data nu e din anul "&An&". ","")&IF(AND(G7<>"",G7>UltimaLuna),"Lună neîncheiată: nu intră încă în cash flow. ","")))
B8: =DATE(2026,1,14) -> 46036 | C8: Furnizori (marfă, materiale, servicii) | D8: Plăți furnizori – extras bancă | E8: 19680 | F8: =IF(C8="","",IFERROR(INDEX(TipCat,MATCH(C8,Categorii,0)),"?")) -> Plată | G8: =IF(B8="","",IF(YEAR(B8)=An,MONTH(B8),0)) -> 1 | H8: =IF(AND(B8="",C8="",E8=""),"",TRIM(IF(OR(B8="",C8="",E8=""),"Date incomplete. ","")&IF(F8="?","Categorie necunoscută. ","")&IF(N(E8)<0,"Scrie suma fără minus. ","")&IF(AND(B8<>"",G8=0),"Data nu e din anul "&An&". ","")&IF(AND(G8<>"",G8>UltimaLuna),"Lună neîncheiată: nu intră încă în cash flow. ","")))
B9: =DATE(2026,1,15) -> 46037 | C9: Rate de credit și dobânzi | D9: Rată credit echipamente | E9: 3100 | F9: =IF(C9="","",IFERROR(INDEX(TipCat,MATCH(C9,Categorii,0)),"?")) -> Plată | G9: =IF(B9="","",IF(YEAR(B9)=An,MONTH(B9),0)) -> 1 | H9: =IF(AND(B9="",C9="",E9=""),"",TRIM(IF(OR(B9="",C9="",E9=""),"Date incomplete. ","")&IF(F9="?","Categorie necunoscută. ","")&IF(N(E9)<0,"Scrie suma fără minus. ","")&IF(AND(B9<>"",G9=0),"Data nu e din anul "&An&". ","")&IF(AND(G9<>"",G9>UltimaLuna),"Lună neîncheiată: nu intră încă în cash flow. ","")))
B10: =DATE(2026,1,17) -> 46039 | C10: Încasări de la clienți | D10: Încasări clienți – extras bancă | E10: 26210 | F10: =IF(C10="","",IFERROR(INDEX(TipCat,MATCH(C10,Categorii,0)),"?")) -> Încasare | G10: =IF(B10="","",IF(YEAR(B10)=An,MONTH(B10),0)) -> 1 | H10: =IF(AND(B10="",C10="",E10=""),"",TRIM(IF(OR(B10="",C10="",E10=""),"Date incomplete. ","")&IF(F10="?","Categorie necunoscută. ","")&IF(N(E10)<0,"Scrie suma fără minus. ","")&IF(AND(B10<>"",G10=0),"Data nu e din anul "&An&". ","")&IF(AND(G10<>"",G10>UltimaLuna),"Lună neîncheiată: nu intră încă în cash flow. ","")))
B11: =DATE(2026,1,25) -> 46047 | C11: TVA de plată | D11: TVA de plată (D300) | E11: 5200 | F11: =IF(C11="","",IFERROR(INDEX(TipCat,MATCH(C11,Categorii,0)),"?")) -> Plată | G11: =IF(B11="","",IF(YEAR(B11)=An,MONTH(B11),0)) -> 1 | H11: =IF(AND(B11="",C11="",E11=""),"",TRIM(IF(OR(B11="",C11="",E11=""),"Date incomplete. ","")&IF(F11="?","Categorie necunoscută. ","")&IF(N(E11)<0,"Scrie suma fără minus. ","")&IF(AND(B11<>"",G11=0),"Data nu e din anul "&An&". ","")&IF(AND(G11<>"",G11>UltimaLuna),"Lună neîncheiată: nu intră încă în cash flow. ","")))
B12: =DATE(2026,1,25) -> 46047 | C12: Impozit pe profit / venit | D12: Impozit trimestrial | E12: 2400 | F12: =IF(C12="","",IFERROR(INDEX(TipCat,MATCH(C12,Categorii,0)),"?")) -> Plată | G12: =IF(B12="","",IF(YEAR(B12)=An,MONTH(B12),0)) -> 1 | H12: =IF(AND(B12="",C12="",E12=""),"",TRIM(IF(OR(B12="",C12="",E12=""),"Date incomplete. ","")&IF(F12="?","Categorie necunoscută. ","")&IF(N(E12)<0,"Scrie suma fără minus. ","")&IF(AND(B12<>"",G12=0),"Data nu e din anul "&An&". ","")&IF(AND(G12<>"",G12>UltimaLuna),"Lună neîncheiată: nu intră încă în cash flow. ","")))
B13: =DATE(2026,1,25) -> 46047 | C13: Contribuții și impozit pe salarii | D13: D112 – contribuții și impozit | E13: 10500 | F13: =IF(C13="","",IFERROR(INDEX(TipCat,MATCH(C13,Categorii,0)),"?")) -> Plată | G13: =IF(B13="","",IF(YEAR(B13)=An,MONTH(B13),0)) -> 1 | H13: =IF(AND(B13="",C13="",E13=""),"",TRIM(IF(OR(B13="",C13="",E13=""),"Date incomplete. ","")&IF(F13="?","Categorie necunoscută. ","")&IF(N(E13)<0,"Scrie suma fără minus. ","")&IF(AND(B13<>"",G13=0),"Data nu e din anul "&An&". ","")&IF(AND(G13<>"",G13>UltimaLuna),"Lună neîncheiată: nu intră încă în cash flow. ","")))
B14: =DATE(2026,1,26) -> 46048 | C14: Încasări de la clienți | D14: Încasări clienți – extras bancă | E14: 18720 | F14: =IF(C14="","",IFERROR(INDEX(TipCat,MATCH(C14,Categorii,0)),"?")) -> Încasare | G14: =IF(B14="","",IF(YEAR(B14)=An,MONTH(B14),0)) -> 1 | H14: =IF(AND(B14="",C14="",E14=""),"",TRIM(IF(OR(B14="",C14="",E14=""),"Date incomplete. ","")&IF(F14="?","Categorie necunoscută. ","")&IF(N(E14)<0,"Scrie suma fără minus. ","")&IF(AND(B14<>"",G14=0),"Data nu e din anul "&An&". ","")&IF(AND(G14<>"",G14>UltimaLuna),"Lună neîncheiată: nu intră încă în cash flow. ","")))
B15: =DATE(2026,1,27) -> 46049 | C15: Alte plăți | D15: Diverse (bancă, curierat) | E15: 1500 | F15: =IF(C15="","",IFERROR(INDEX(TipCat,MATCH(C15,Categorii,0)),"?")) -> Plată | G15: =IF(B15="","",IF(YEAR(B15)=An,MONTH(B15),0)) -> 1 | H15: =IF(AND(B15="",C15="",E15=""),"",TRIM(IF(OR(B15="",C15="",E15=""),"Date incomplete. ","")&IF(F15="?","Categorie necunoscută. ","")&IF(N(E15)<0,"Scrie suma fără minus. ","")&IF(AND(B15<>"",G15=0),"Data nu e din anul "&An&". ","")&IF(AND(G15<>"",G15>UltimaLuna),"Lună neîncheiată: nu intră încă în cash flow. ","")))
B16: =DATE(2026,1,28) -> 46050 | C16: Furnizori (marfă, materiale, servicii) | D16: Plăți furnizori – extras bancă | E16: 13120 | F16: =IF(C16="","",IFERROR(INDEX(TipCat,MATCH(C16,Categorii,0)),"?")) -> Plată | G16: =IF(B16="","",IF(YEAR(B16)=An,MONTH(B16),0)) -> 1 | H16: =IF(AND(B16="",C16="",E16=""),"",TRIM(IF(OR(B16="",C16="",E16=""),"Date incomplete. ","")&IF(F16="?","Categorie necunoscută. ","")&IF(N(E16)<0,"Scrie suma fără minus. ","")&IF(AND(B16<>"",G16=0),"Data nu e din anul "&An&". ","")&IF(AND(G16<>"",G16>UltimaLuna),"Lună neîncheiată: nu intră încă în cash flow. ","")))
B17: =DATE(2026,1,28) -> 46050 | C17: Alte încasări | D17: Dobândă cont / diverse | E17: 500 | F17: =IF(C17="","",IFERROR(INDEX(TipCat,MATCH(C17,Categorii,0)),"?")) -> Încasare | G17: =IF(B17="","",IF(YEAR(B17)=An,MONTH(B17),0)) -> 1 | H17: =IF(AND(B17="",C17="",E17=""),"",TRIM(IF(OR(B17="",C17="",E17=""),"Date incomplete. ","")&IF(F17="?","Categorie necunoscută. ","")&IF(N(E17)<0,"Scrie suma fără minus. ","")&IF(AND(B17<>"",G17=0),"Data nu e din anul "&An&". ","")&IF(AND(G17<>"",G17>UltimaLuna),"Lună neîncheiată: nu intră încă în cash flow. ","")))
B18: =DATE(2026,2,5) -> 46058 | C18: Chirie și utilități | D18: Chirie depozit și utilități | E18: 6110 | F18: =IF(C18="","",IFERROR(INDEX(TipCat,MATCH(C18,Categorii,0)),"?")) -> Plată | G18: =IF(B18="","",IF(YEAR(B18)=An,MONTH(B18),0)) -> 2 | H18: =IF(AND(B18="",C18="",E18=""),"",TRIM(IF(OR(B18="",C18="",E18=""),"Date incomplete. ","")&IF(F18="?","Categorie necunoscută. ","")&IF(N(E18)<0,"Scrie suma fără minus. ","")&IF(AND(B18<>"",G18=0),"Data nu e din anul "&An&". ","")&IF(AND(G18<>"",G18>UltimaLuna),"Lună neîncheiată: nu intră încă în cash flow. ","")))
B19: =DATE(2026,2,8) -> 46061 | C19: Încasări de la clienți | D19: Încasări clienți – extras bancă | E19: 30190 | F19: =IF(C19="","",IFERROR(INDEX(TipCat,MATCH(C19,Categorii,0)),"?")) -> Încasare | G19: =IF(B19="","",IF(YEAR(B19)=An,MONTH(B19),0)) -> 2 | H19: =IF(AND(B19="",C19="",E19=""),"",TRIM(IF(OR(B19="",C19="",E19=""),"Date incomplete. ","")&IF(F19="?","Categorie necunoscută. ","")&IF(N(E19)<0,"Scrie suma fără minus. ","")&IF(AND(B19<>"",G19=0),"Data nu e din anul "&An&". ","")&IF(AND(G19<>"",G19>UltimaLuna),"Lună neîncheiată: nu intră încă în cash flow. ","")))
B20: =DATE(2026,2,10) -> 46063 | C20: Salarii nete | D20: Salarii nete luna anterioară | E20: 16000 | F20: =IF(C20="","",IFERROR(INDEX(TipCat,MATCH(C20,Categorii,0)),"?")) -> Plată | G20: =IF(B20="","",IF(YEAR(B20)=An,MONTH(B20),0)) -> 2 | H20: =IF(AND(B20="",C20="",E20=""),"",TRIM(IF(OR(B20="",C20="",E20=""),"Date incomplete. ","")&IF(F20="?","Categorie necunoscută. ","")&IF(N(E20)<0,"Scrie suma fără minus. ","")&IF(AND(B20<>"",G20=0),"Data nu e din anul "&An&". ","")&IF(AND(G20<>"",G20>UltimaLuna),"Lună neîncheiată: nu intră încă în cash flow. ","")))
B21: =DATE(2026,2,14) -> 46067 | C21: Furnizori (marfă, materiale, servicii) | D21: Plăți furnizori – extras bancă | E21: 18290 | F21: =IF(C21="","",IFERROR(INDEX(TipCat,MATCH(C21,Categorii,0)),"?")) -> Plată | G21: =IF(B21="","",IF(YEAR(B21)=An,MONTH(B21),0)) -> 2 | H21: =IF(AND(B21="",C21="",E21=""),"",TRIM(IF(OR(B21="",C21="",E21=""),"Date incomplete. ","")&IF(F21="?","Categorie necunoscută. ","")&IF(N(E21)<0,"Scrie suma fără minus. ","")&IF(AND(B21<>"",G21=0),"Data nu e din anul "&An&". ","")&IF(AND(G21<>"",G21>UltimaLuna),"Lună neîncheiată: nu intră încă în cash flow. ","")))
B22: =DATE(2026,2,15) -> 46068 | C22: Rate de credit și dobânzi | D22: Rată credit echipamente | E22: 3100 | F22: =IF(C22="","",IFERROR(INDEX(TipCat,MATCH(C22,Categorii,0)),"?")) -> Plată | G22: =IF(B22="","",IF(YEAR(B22)=An,MONTH(B22),0)) -> 2 | H22: =IF(AND(B22="",C22="",E22=""),"",TRIM(IF(OR(B22="",C22="",E22=""),"Date incomplete. ","")&IF(F22="?","Categorie necunoscută. ","")&IF(N(E22)<0,"Scrie suma fără minus. ","")&IF(AND(B22<>"",G22=0),"Data nu e din anul "&An&". ","")&IF(AND(G22<>"",G22>UltimaLuna),"Lună neîncheiată: nu intră încă în cash flow. ","")))
B23: =DATE(2026,2,17) -> 46070 | C23: Încasări de la clienți | D23: Încasări clienți – extras bancă | E23: 26420 | F23: =IF(C23="","",IFERROR(INDEX(TipCat,MATCH(C23,Categorii,0)),"?")) -> Încasare | G23: =IF(B23="","",IF(YEAR(B23)=An,MONTH(B23),0)) -> 2 | H23: =IF(AND(B23="",C23="",E23=""),"",TRIM(IF(OR(B23="",C23="",E23=""),"Date incomplete. ","")&IF(F23="?","Categorie necunoscută. ","")&IF(N(E23)<0,"Scrie suma fără minus. ","")&IF(AND(B23<>"",G23=0),"Data nu e din anul "&An&". ","")&IF(AND(G23<>"",G23>UltimaLuna),"Lună neîncheiată: nu intră încă în cash flow. ","")))
B24: =DATE(2026,2,25) -> 46078 | C24: Contribuții și impozit pe salarii | D24: D112 – contribuții și impozit | E24: 10500 | F24: =IF(C24="","",IFERROR(INDEX(TipCat,MATCH(C24,Categorii,0)),"?")) -> Plată | G24: =IF(B24="","",IF(YEAR(B24)=An,MONTH(B24),0)) -> 2 | H24: =IF(AND(B24="",C24="",E24=""),"",TRIM(IF(OR(B24="",C24="",E24=""),"Date incomplete. ","")&IF(F24="?","Categorie necunoscută. ","")&IF(N(E24)<0,"Scrie suma fără minus. ","")&IF(AND(B24<>"",G24=0),"Data nu e din anul "&An&". ","")&IF(AND(G24<>"",G24>UltimaLuna),"Lună neîncheiată: nu intră încă în cash flow. ","")))
B25: =DATE(2026,2,25) -> 46078 | C25: TVA de plată | D25: TVA de plată (D300) | E25: 5200 | F25: =IF(C25="","",IFERROR(INDEX(TipCat,MATCH(C25,Categorii,0)),"?")) -> Plată | G25: =IF(B25="","",IF(YEAR(B25)=An,MONTH(B25),0)) -> 2 | H25: =IF(AND(B25="",C25="",E25=""),"",TRIM(IF(OR(B25="",C25="",E25=""),"Date incomplete. ","")&IF(F25="?","Categorie necunoscută. ","")&IF(N(E25)<0,"Scrie suma fără minus. ","")&IF(AND(B25<>"",G25=0),"Data nu e din anul "&An&". ","")&IF(AND(G25<>"",G25>UltimaLuna),"Lună neîncheiată: nu intră încă în cash flow. ","")))
B26: =DATE(2026,2,26) -> 46079 | C26: Încasări de la clienți | D26: Încasări clienți – extras bancă | E26: 18870 | F26: =IF(C26="","",IFERROR(INDEX(TipCat,MATCH(C26,Categorii,0)),"?")) -> Încasare | G26: =IF(B26="","",IF(YEAR(B26)=An,MONTH(B26),0)) -> 2 | H26: =IF(AND(B26="",C26="",E26=""),"",TRIM(IF(OR(B26="",C26="",E26=""),"Date incomplete. ","")&IF(F26="?","Categorie necunoscută. ","")&IF(N(E26)<0,"Scrie suma fără minus. ","")&IF(AND(B26<>"",G26=0),"Data nu e din anul "&An&". ","")&IF(AND(G26<>"",G26>UltimaLuna),"Lună neîncheiată: nu intră încă în cash flow. ","")))
B27: =DATE(2026,2,27) -> 46080 | C27: Alte plăți | D27: Diverse (bancă, curierat) | E27: 1500 | F27: =IF(C27="","",IFERROR(INDEX(TipCat,MATCH(C27,Categorii,0)),"?")) -> Plată | G27: =IF(B27="","",IF(YEAR(B27)=An,MONTH(B27),0)) -> 2 | H27: =IF(AND(B27="",C27="",E27=""),"",TRIM(IF(OR(B27="",C27="",E27=""),"Date incomplete. ","")&IF(F27="?","Categorie necunoscută. ","")&IF(N(E27)<0,"Scrie suma fără minus. ","")&IF(AND(B27<>"",G27=0),"Data nu e din anul "&An&". ","")&IF(AND(G27<>"",G27>UltimaLuna),"Lună neîncheiată: nu intră încă în cash flow. ","")))
B28: =DATE(2026,2,28) -> 46081 | C28: Alte încasări | D28: Dobândă cont / diverse | E28: 500 | F28: =IF(C28="","",IFERROR(INDEX(TipCat,MATCH(C28,Categorii,0)),"?")) -> Încasare | G28: =IF(B28="","",IF(YEAR(B28)=An,MONTH(B28),0)) -> 2 | H28: =IF(AND(B28="",C28="",E28=""),"",TRIM(IF(OR(B28="",C28="",E28=""),"Date incomplete. ","")&IF(F28="?","Categorie necunoscută. ","")&IF(N(E28)<0,"Scrie suma fără minus. ","")&IF(AND(B28<>"",G28=0),"Data nu e din anul "&An&". ","")&IF(AND(G28<>"",G28>UltimaLuna),"Lună neîncheiată: nu intră încă în cash flow. ","")))
B29: =DATE(2026,2,28) -> 46081 | C29: Furnizori (marfă, materiale, servicii) | D29: Plăți furnizori – extras bancă | E29: 12190 | F29: =IF(C29="","",IFERROR(INDEX(TipCat,MATCH(C29,Categorii,0)),"?")) -> Plată | G29: =IF(B29="","",IF(YEAR(B29)=An,MONTH(B29),0)) -> 2 | H29: =IF(AND(B29="",C29="",E29=""),"",TRIM(IF(OR(B29="",C29="",E29=""),"Date incomplete. ","")&IF(F29="?","Categorie necunoscută. ","")&IF(N(E29)<0,"Scrie suma fără minus. ","")&IF(AND(B29<>"",G29=0),"Data nu e din anul "&An&". ","")&IF(AND(G29<>"",G29>UltimaLuna),"Lună neîncheiată: nu intră încă în cash flow. ","")))
B30: =DATE(2026,3,5) -> 46086 | C30: Chirie și utilități | D30: Chirie depozit și utilități | E30: 5980 | F30: =IF(C30="","",IFERROR(INDEX(TipCat,MATCH(C30,Categorii,0)),"?")) -> Plată | G30: =IF(B30="","",IF(YEAR(B30)=An,MONTH(B30),0)) -> 3 | H30: =IF(AND(B30="",C30="",E30=""),"",TRIM(IF(OR(B30="",C30="",E30=""),"Date incomplete. ","")&IF(F30="?","Categorie necunoscută. ","")&IF(N(E30)<0,"Scrie suma fără minus. ","")&IF(AND(B30<>"",G30=0),"Data nu e din anul "&An&". ","")&IF(AND(G30<>"",G30>UltimaLuna),"Lună neîncheiată: nu intră încă în cash flow. ","")))
B31: =DATE(2026,3,8) -> 46089 | C31: Încasări de la clienți | D31: Încasări clienți – extras bancă | E31: 31620 | F31: =IF(C31="","",IFERROR(INDEX(TipCat,MATCH(C31,Categorii,0)),"?")) -> Încasare | G31: =IF(B31="","",IF(YEAR(B31)=An,MONTH(B31),0)) -> 3 | H31: =IF(AND(B31="",C31="",E31=""),"",TRIM(IF(OR(B31="",C31="",E31=""),"Date incomplete. ","")&IF(F31="?","Categorie necunoscută. ","")&IF(N(E31)<0,"Scrie suma fără minus. ","")&IF(AND(B31<>"",G31=0),"Data nu e din anul "&An&". ","")&IF(AND(G31<>"",G31>UltimaLuna),"Lună neîncheiată: nu intră încă în cash flow. ","")))
B32: =DATE(2026,3,10) -> 46091 | C32: Salarii nete | D32: Salarii nete luna anterioară | E32: 16000 | F32: =IF(C32="","",IFERROR(INDEX(TipCat,MATCH(C32,Categorii,0)),"?")) -> Plată | G32: =IF(B32="","",IF(YEAR(B32)=An,MONTH(B32),0)) -> 3 | H32: =IF(AND(B32="",C32="",E32=""),"",TRIM(IF(OR(B32="",C32="",E32=""),"Date incomplete. ","")&IF(F32="?","Categorie necunoscută. ","")&IF(N(E32)<0,"Scrie suma fără minus. ","")&IF(AND(B32<>"",G32=0),"Data nu e din anul "&An&". ","")&IF(AND(G32<>"",G32>UltimaLuna),"Lună neîncheiată: nu intră încă în cash flow. ","")))
B33: =DATE(2026,3,12) -> 46093 | C33: Avansuri de la clienți | D33: Avans comandă client | E33: 10000 | F33: =IF(C33="","",IFERROR(INDEX(TipCat,MATCH(C33,Categorii,0)),"?")) -> Încasare | G33: =IF(B33="","",IF(YEAR(B33)=An,MONTH(B33),0)) -> 3 | H33: =IF(AND(B33="",C33="",E33=""),"",TRIM(IF(OR(B33="",C33="",E33=""),"Date incomplete. ","")&IF(F33="?","Categorie necunoscută. ","")&IF(N(E33)<0,"Scrie suma fără minus. ","")&IF(AND(B33<>"",G33=0),"Data nu e din anul "&An&". ","")&IF(AND(G33<>"",G33>UltimaLuna),"Lună neîncheiată: nu intră încă în cash flow. ","")))
B34: =DATE(2026,3,14) -> 46095 | C34: Furnizori (marfă, materiale, servicii) | D34: Plăți furnizori – extras bancă | E34: 22280 | F34: =IF(C34="","",IFERROR(INDEX(TipCat,MATCH(C34,Categorii,0)),"?")) -> Plată | G34: =IF(B34="","",IF(YEAR(B34)=An,MONTH(B34),0)) -> 3 | H34: =IF(AND(B34="",C34="",E34=""),"",TRIM(IF(OR(B34="",C34="",E34=""),"Date incomplete. ","")&IF(F34="?","Categorie necunoscută. ","")&IF(N(E34)<0,"Scrie suma fără minus. ","")&IF(AND(B34<>"",G34=0),"Data nu e din anul "&An&". ","")&IF(AND(G34<>"",G34>UltimaLuna),"Lună neîncheiată: nu intră încă în cash flow. ","")))
B35: =DATE(2026,3,15) -> 46096 | C35: Rate de credit și dobânzi | D35: Rată credit echipamente | E35: 3100 | F35: =IF(C35="","",IFERROR(INDEX(TipCat,MATCH(C35,Categorii,0)),"?")) -> Plată | G35: =IF(B35="","",IF(YEAR(B35)=An,MONTH(B35),0)) -> 3 | H35: =IF(AND(B35="",C35="",E35=""),"",TRIM(IF(OR(B35="",C35="",E35=""),"Date incomplete. ","")&IF(F35="?","Categorie necunoscută. ","")&IF(N(E35)<0,"Scrie suma fără minus. ","")&IF(AND(B35<>"",G35=0),"Data nu e din anul "&An&". ","")&IF(AND(G35<>"",G35>UltimaLuna),"Lună neîncheiată: nu intră încă în cash flow. ","")))
B36: =DATE(2026,3,17) -> 46098 | C36: Încasări de la clienți | D36: Încasări clienți – extras bancă | E36: 27670 | F36: =IF(C36="","",IFERROR(INDEX(TipCat,MATCH(C36,Categorii,0)),"?")) -> Încasare | G36: =IF(B36="","",IF(YEAR(B36)=An,MONTH(B36),0)) -> 3 | H36: =IF(AND(B36="",C36="",E36=""),"",TRIM(IF(OR(B36="",C36="",E36=""),"Date incomplete. ","")&IF(F36="?","Categorie necunoscută. ","")&IF(N(E36)<0,"Scrie suma fără minus. ","")&IF(AND(B36<>"",G36=0),"Data nu e din anul "&An&". ","")&IF(AND(G36<>"",G36>UltimaLuna),"Lună neîncheiată: nu intră încă în cash flow. ","")))
B37: =DATE(2026,3,25) -> 46106 | C37: Contribuții și impozit pe salarii | D37: D112 – contribuții și impozit | E37: 10500 | F37: =IF(C37="","",IFERROR(INDEX(TipCat,MATCH(C37,Categorii,0)),"?")) -> Plată | G37: =IF(B37="","",IF(YEAR(B37)=An,MONTH(B37),0)) -> 3 | H37: =IF(AND(B37="",C37="",E37=""),"",TRIM(IF(OR(B37="",C37="",E37=""),"Date incomplete. ","")&IF(F37="?","Categorie necunoscută. ","")&IF(N(E37)<0,"Scrie suma fără minus. ","")&IF(AND(B37<>"",G37=0),"Data nu e din anul "&An&". ","")&IF(AND(G37<>"",G37>UltimaLuna),"Lună neîncheiată: nu intră încă în cash flow. ","")))
B38: =DATE(2026,3,25) -> 46106 | C38: TVA de plată | D38: TVA de plată (D300) | E38: 5200 | F38: =IF(C38="","",IFERROR(INDEX(TipCat,MATCH(C38,Categorii,0)),"?")) -> Plată | G38: =IF(B38="","",IF(YEAR(B38)=An,MONTH(B38),0)) -> 3 | H38: =IF(AND(B38="",C38="",E38=""),"",TRIM(IF(OR(B38="",C38="",E38=""),"Date incomplete. ","")&IF(F38="?","Categorie necunoscută. ","")&IF(N(E38)<0,"Scrie suma fără minus. ","")&IF(AND(B38<>"",G38=0),"Data nu e din anul "&An&". ","")&IF(AND(G38<>"",G38>UltimaLuna),"Lună neîncheiată: nu intră încă în cash flow. ","")))
B39: =DATE(2026,3,26) -> 46107 | C39: Încasări de la clienți | D39: Încasări clienți – extras bancă | E39: 19760 | F39: =IF(C39="","",IFERROR(INDEX(TipCat,MATCH(C39,Categorii,0)),"?")) -> Încasare | G39: =IF(B39="","",IF(YEAR(B39)=An,MONTH(B39),0)) -> 3 | H39: =IF(AND(B39="",C39="",E39=""),"",TRIM(IF(OR(B39="",C39="",E39=""),"Date incomplete. ","")&IF(F39="?","Categorie necunoscută. ","")&IF(N(E39)<0,"Scrie suma fără minus. ","")&IF(AND(B39<>"",G39=0),"Data nu e din anul "&An&". ","")&IF(AND(G39<>"",G39>UltimaLuna),"Lună neîncheiată: nu intră încă în cash flow. ","")))
B40: =DATE(2026,3,27) -> 46108 | C40: Alte plăți | D40: Diverse (bancă, curierat) | E40: 1500 | F40: =IF(C40="","",IFERROR(INDEX(TipCat,MATCH(C40,Categorii,0)),"?")) -> Plată | G40: =IF(B40="","",IF(YEAR(B40)=An,MONTH(B40),0)) -> 3 | H40: =IF(AND(B40="",C40="",E40=""),"",TRIM(IF(OR(B40="",C40="",E40=""),"Date incomplete. ","")&IF(F40="?","Categorie necunoscută. ","")&IF(N(E40)<0,"Scrie suma fără minus. ","")&IF(AND(B40<>"",G40=0),"Data nu e din anul "&An&". ","")&IF(AND(G40<>"",G40>UltimaLuna),"Lună neîncheiată: nu intră încă în cash flow. ","")))
B41: =DATE(2026,3,28) -> 46109 | C41: Furnizori (marfă, materiale, servicii) | D41: Plăți furnizori – extras bancă | E41: 14850 | F41: =IF(C41="","",IFERROR(INDEX(TipCat,MATCH(C41,Categorii,0)),"?")) -> Plată | G41: =IF(B41="","",IF(YEAR(B41)=An,MONTH(B41),0)) -> 3 | H41: =IF(AND(B41="",C41="",E41=""),"",TRIM(IF(OR(B41="",C41="",E41=""),"Date incomplete. ","")&IF(F41="?","Categorie necunoscută. ","")&IF(N(E41)<0,"Scrie suma fără minus. ","")&IF(AND(B41<>"",G41=0),"Data nu e din anul "&An&". ","")&IF(AND(G41<>"",G41>UltimaLuna),"Lună neîncheiată: nu intră încă în cash flow. ","")))
...

Sheet Realizat lunar
B1: Încasări și plăți realizate, pe luni
B2: Se calculează automat din foaia „Încasări și plăți”.
B4: Categorie | C4: Ian | D4: Feb | E4: Mar | F4: Apr | G4: Mai | H4: Iun | I4: Iul | J4: Aug | K4: Sep | L4: Oct | M4: Nov | N4: Dec | O4: Total an
B5: ÎNCASĂRI
B6: =Setări!$E$5 -> Încasări de la clienți | C6: =SUMIFS('Încasări și plăți'!$E$5:$E$804,'Încasări și plăți'!$C$5:$C$804,$B6,'Încasări și plăți'!$G$5:$G$804,COLUMN()-2) -> 74880 | D6: =SUMIFS('Încasări și plăți'!$E$5:$E$804,'Încasări și plăți'!$C$5:$C$804,$B6,'Încasări și plăți'!$G$5:$G$804,COLUMN()-2) -> 75480 | E6: =SUMIFS('Încasări și plăți'!$E$5:$E$804,'Încasări și plăți'!$C$5:$C$804,$B6,'Încasări și plăți'!$G$5:$G$804,COLUMN()-2) -> 79050 | F6: =SUMIFS('Încasări și plăți'!$E$5:$E$804,'Încasări și plăți'!$C$5:$C$804,$B6,'Încasări și plăți'!$G$5:$G$804,COLUMN()-2) -> 92400 | G6: =SUMIFS('Încasări și plăți'!$E$5:$E$804,'Încasări și plăți'!$C$5:$C$804,$B6,'Încasări și plăți'!$G$5:$G$804,COLUMN()-2) -> 90160 | H6: =SUMIFS('Încasări și plăți'!$E$5:$E$804,'Încasări și plăți'!$C$5:$C$804,$B6,'Încasări și plăți'!$G$5:$G$804,COLUMN()-2) -> 86450 | I6: =SUMIFS('Încasări și plăți'!$E$5:$E$804,'Încasări și plăți'!$C$5:$C$804,$B6,'Încasări și plăți'!$G$5:$G$804,COLUMN()-2) -> 92700 | J6: =SUMIFS('Încasări și plăți'!$E$5:$E$804,'Încasări și plăți'!$C$5:$C$804,$B6,'Încasări și plăți'!$G$5:$G$804,COLUMN()-2) -> 57400 | ... N6: =SUMIFS('Încasări și plăți'!$E$5:$E$804,'Încasări și plăți'!$C$5:$C$804,$B6,'Încasări și plăți'!$G$5:$G$804,COLUMN()-2) -> 0 | O6: =SUM(C6:N6) -> 738760
B7: =Setări!$E$6 -> Avansuri de la clienți | C7: =SUMIFS('Încasări și plăți'!$E$5:$E$804,'Încasări și plăți'!$C$5:$C$804,$B7,'Încasări și plăți'!$G$5:$G$804,COLUMN()-2) -> 0 | D7: =SUMIFS('Încasări și plăți'!$E$5:$E$804,'Încasări și plăți'!$C$5:$C$804,$B7,'Încasări și plăți'!$G$5:$G$804,COLUMN()-2) -> 0 | E7: =SUMIFS('Încasări și plăți'!$E$5:$E$804,'Încasări și plăți'!$C$5:$C$804,$B7,'Încasări și plăți'!$G$5:$G$804,COLUMN()-2) -> 10000 | F7: =SUMIFS('Încasări și plăți'!$E$5:$E$804,'Încasări și plăți'!$C$5:$C$804,$B7,'Încasări și plăți'!$G$5:$G$804,COLUMN()-2) -> 0 | G7: =SUMIFS('Încasări și plăți'!$E$5:$E$804,'Încasări și plăți'!$C$5:$C$804,$B7,'Încasări și plăți'!$G$5:$G$804,COLUMN()-2) -> 0 | H7: =SUMIFS('Încasări și plăți'!$E$5:$E$804,'Încasări și plăți'!$C$5:$C$804,$B7,'Încasări și plăți'!$G$5:$G$804,COLUMN()-2) -> 15000 | I7: =SUMIFS('Încasări și plăți'!$E$5:$E$804,'Încasări și plăți'!$C$5:$C$804,$B7,'Încasări și plăți'!$G$5:$G$804,COLUMN()-2) -> 0 | J7: =SUMIFS('Încasări și plăți'!$E$5:$E$804,'Încasări și plăți'!$C$5:$C$804,$B7,'Încasări și plăți'!$G$5:$G$804,COLUMN()-2) -> 0 | ... N7: =SUMIFS('Încasări și plăți'!$E$5:$E$804,'Încasări și plăți'!$C$5:$C$804,$B7,'Încasări și plăți'!$G$5:$G$804,COLUMN()-2) -> 0 | O7: =SUM(C7:N7) -> 25000
B8: =Setări!$E$7 -> Credite și împrumuturi primite | C8: =SUMIFS('Încasări și plăți'!$E$5:$E$804,'Încasări și plăți'!$C$5:$C$804,$B8,'Încasări și plăți'!$G$5:$G$804,COLUMN()-2) -> 0 | D8: =SUMIFS('Încasări și plăți'!$E$5:$E$804,'Încasări și plăți'!$C$5:$C$804,$B8,'Încasări și plăți'!$G$5:$G$804,COLUMN()-2) -> 0 | E8: =SUMIFS('Încasări și plăți'!$E$5:$E$804,'Încasări și plăți'!$C$5:$C$804,$B8,'Încasări și plăți'!$G$5:$G$804,COLUMN()-2) -> 0 | F8: =SUMIFS('Încasări și plăți'!$E$5:$E$804,'Încasări și plăți'!$C$5:$C$804,$B8,'Încasări și plăți'!$G$5:$G$804,COLUMN()-2) -> 0 | G8: =SUMIFS('Încasări și plăți'!$E$5:$E$804,'Încasări și plăți'!$C$5:$C$804,$B8,'Încasări și plăți'!$G$5:$G$804,COLUMN()-2) -> 0 | H8: =SUMIFS('Încasări și plăți'!$E$5:$E$804,'Încasări și plăți'!$C$5:$C$804,$B8,'Încasări și plăți'!$G$5:$G$804,COLUMN()-2) -> 0 | I8: =SUMIFS('Încasări și plăți'!$E$5:$E$804,'Încasări și plăți'!$C$5:$C$804,$B8,'Încasări și plăți'!$G$5:$G$804,COLUMN()-2) -> 0 | J8: =SUMIFS('Încasări și plăți'!$E$5:$E$804,'Încasări și plăți'!$C$5:$C$804,$B8,'Încasări și plăți'!$G$5:$G$804,COLUMN()-2) -> 0 | ... N8: =SUMIFS('Încasări și plăți'!$E$5:$E$804,'Încasări și plăți'!$C$5:$C$804,$B8,'Încasări și plăți'!$G$5:$G$804,COLUMN()-2) -> 0 | O8: =SUM(C8:N8) -> 0
B9: =Setări!$E$8 -> Aport al asociaților | C9: =SUMIFS('Încasări și plăți'!$E$5:$E$804,'Încasări și plăți'!$C$5:$C$804,$B9,'Încasări și plăți'!$G$5:$G$804,COLUMN()-2) -> 0 | D9: =SUMIFS('Încasări și plăți'!$E$5:$E$804,'Încasări și plăți'!$C$5:$C$804,$B9,'Încasări și plăți'!$G$5:$G$804,COLUMN()-2) -> 0 | E9: =SUMIFS('Încasări și plăți'!$E$5:$E$804,'Încasări și plăți'!$C$5:$C$804,$B9,'Încasări și plăți'!$G$5:$G$804,COLUMN()-2) -> 0 | F9: =SUMIFS('Încasări și plăți'!$E$5:$E$804,'Încasări și plăți'!$C$5:$C$804,$B9,'Încasări și plăți'!$G$5:$G$804,COLUMN()-2) -> 0 | G9: =SUMIFS('Încasări și plăți'!$E$5:$E$804,'Încasări și plăți'!$C$5:$C$804,$B9,'Încasări și plăți'!$G$5:$G$804,COLUMN()-2) -> 0 | H9: =SUMIFS('Încasări și plăți'!$E$5:$E$804,'Încasări și plăți'!$C$5:$C$804,$B9,'Încasări și plăți'!$G$5:$G$804,COLUMN()-2) -> 0 | I9: =SUMIFS('Încasări și plăți'!$E$5:$E$804,'Încasări și plăți'!$C$5:$C$804,$B9,'Încasări și plăți'!$G$5:$G$804,COLUMN()-2) -> 0 | J9: =SUMIFS('Încasări și plăți'!$E$5:$E$804,'Încasări și plăți'!$C$5:$C$804,$B9,'Încasări și plăți'!$G$5:$G$804,COLUMN()-2) -> 0 | ... N9: =SUMIFS('Încasări și plăți'!$E$5:$E$804,'Încasări și plăți'!$C$5:$C$804,$B9,'Încasări și plăți'!$G$5:$G$804,COLUMN()-2) -> 0 | O9: =SUM(C9:N9) -> 0
B10: =Setări!$E$9 -> Alte încasări | C10: =SUMIFS('Încasări și plăți'!$E$5:$E$804,'Încasări și plăți'!$C$5:$C$804,$B10,'Încasări și plăți'!$G$5:$G$804,COLUMN()-2) -> 500 | D10: =SUMIFS('Încasări și plăți'!$E$5:$E$804,'Încasări și plăți'!$C$5:$C$804,$B10,'Încasări și plăți'!$G$5:$G$804,COLUMN()-2) -> 500 | E10: =SUMIFS('Încasări și plăți'!$E$5:$E$804,'Încasări și plăți'!$C$5:$C$804,$B10,'Încasări și plăți'!$G$5:$G$804,COLUMN()-2) -> 500 | F10: =SUMIFS('Încasări și plăți'!$E$5:$E$804,'Încasări și plăți'!$C$5:$C$804,$B10,'Încasări și plăți'!$G$5:$G$804,COLUMN()-2) -> 500 | G10: =SUMIFS('Încasări și plăți'!$E$5:$E$804,'Încasări și plăți'!$C$5:$C$804,$B10,'Încasări și plăți'!$G$5:$G$804,COLUMN()-2) -> 500 | H10: =SUMIFS('Încasări și plăți'!$E$5:$E$804,'Încasări și plăți'!$C$5:$C$804,$B10,'Încasări și plăți'!$G$5:$G$804,COLUMN()-2) -> 500 | I10: =SUMIFS('Încasări și plăți'!$E$5:$E$804,'Încasări și plăți'!$C$5:$C$804,$B10,'Încasări și plăți'!$G$5:$G$804,COLUMN()-2) -> 500 | J10: =SUMIFS('Încasări și plăți'!$E$5:$E$804,'Încasări și plăți'!$C$5:$C$804,$B10,'Încasări și plăți'!$G$5:$G$804,COLUMN()-2) -> 500 | ... N10: =SUMIFS('Încasări și plăți'!$E$5:$E$804,'Încasări și plăți'!$C$5:$C$804,$B10,'Încasări și plăți'!$G$5:$G$804,COLUMN()-2) -> 0 | O10: =SUM(C10:N10) -> 4500
B11: Total încasări | C11: =SUM(C6:C10) -> 75380 | D11: =SUM(D6:D10) -> 75980 | E11: =SUM(E6:E10) -> 89550 | F11: =SUM(F6:F10) -> 92900 | G11: =SUM(G6:G10) -> 90660 | H11: =SUM(H6:H10) -> 101950 | I11: =SUM(I6:I10) -> 93200 | J11: =SUM(J6:J10) -> 57900 | ... N11: =SUM(N6:N10) -> 0 | O11: =SUM(C11:N11) -> 768260
B13: PLĂȚI
B14: =Setări!$E$10 -> Furnizori (marfă, materiale, servicii) | C14: =SUMIFS('Încasări și plăți'!$E$5:$E$804,'Încasări și plăți'!$C$5:$C$804,$B14,'Încasări și plăți'!$G$5:$G$804,COLUMN()-2) -> 32800 | D14: =SUMIFS('Încasări și plăți'!$E$5:$E$804,'Încasări și plăți'!$C$5:$C$804,$B14,'Încasări și plăți'!$G$5:$G$804,COLUMN()-2) -> 30480 | E14: =SUMIFS('Încasări și plăți'!$E$5:$E$804,'Încasări și plăți'!$C$5:$C$804,$B14,'Încasări și plăți'!$G$5:$G$804,COLUMN()-2) -> 37130 | F14: =SUMIFS('Încasări și plăți'!$E$5:$E$804,'Încasări și plăți'!$C$5:$C$804,$B14,'Încasări și plăți'!$G$5:$G$804,COLUMN()-2) -> 37370 | G14: =SUMIFS('Încasări și plăți'!$E$5:$E$804,'Încasări și plăți'!$C$5:$C$804,$B14,'Încasări și plăți'!$G$5:$G$804,COLUMN()-2) -> 38210 | H14: =SUMIFS('Încasări și plăți'!$E$5:$E$804,'Încasări și plăți'!$C$5:$C$804,$B14,'Încasări și plăți'!$G$5:$G$804,COLUMN()-2) -> 40700 | I14: =SUMIFS('Încasări și plăți'!$E$5:$E$804,'Încasări și plăți'!$C$5:$C$804,$B14,'Încasări și plăți'!$G$5:$G$804,COLUMN()-2) -> 37800 | J14: =SUMIFS('Încasări și plăți'!$E$5:$E$804,'Încasări și plăți'!$C$5:$C$804,$B14,'Încasări și plăți'!$G$5:$G$804,COLUMN()-2) -> 28520 | ... N14: =SUMIFS('Încasări și plăți'!$E$5:$E$804,'Încasări și plăți'!$C$5:$C$804,$B14,'Încasări și plăți'!$G$5:$G$804,COLUMN()-2) -> 0 | O14: =SUM(C14:N14) -> 324520
B15: =Setări!$E$11 -> Salarii nete | C15: =SUMIFS('Încasări și plăți'!$E$5:$E$804,'Încasări și plăți'!$C$5:$C$804,$B15,'Încasări și plăți'!$G$5:$G$804,COLUMN()-2) -> 16000 | D15: =SUMIFS('Încasări și plăți'!$E$5:$E$804,'Încasări și plăți'!$C$5:$C$804,$B15,'Încasări și plăți'!$G$5:$G$804,COLUMN()-2) -> 16000 | E15: =SUMIFS('Încasări și plăți'!$E$5:$E$804,'Încasări și plăți'!$C$5:$C$804,$B15,'Încasări și plăți'!$G$5:$G$804,COLUMN()-2) -> 16000 | F15: =SUMIFS('Încasări și plăți'!$E$5:$E$804,'Încasări și plăți'!$C$5:$C$804,$B15,'Încasări și plăți'!$G$5:$G$804,COLUMN()-2) -> 16000 | G15: =SUMIFS('Încasări și plăți'!$E$5:$E$804,'Încasări și plăți'!$C$5:$C$804,$B15,'Încasări și plăți'!$G$5:$G$804,COLUMN()-2) -> 16000 | H15: =SUMIFS('Încasări și plăți'!$E$5:$E$804,'Încasări și plăți'!$C$5:$C$804,$B15,'Încasări și plăți'!$G$5:$G$804,COLUMN()-2) -> 16000 | I15: =SUMIFS('Încasări și plăți'!$E$5:$E$804,'Încasări și plăți'!$C$5:$C$804,$B15,'Încasări și plăți'!$G$5:$G$804,COLUMN()-2) -> 16000 | J15: =SUMIFS('Încasări și plăți'!$E$5:$E$804,'Încasări și plăți'!$C$5:$C$804,$B15,'Încasări și plăți'!$G$5:$G$804,COLUMN()-2) -> 16000 | ... N15: =SUMIFS('Încasări și plăți'!$E$5:$E$804,'Încasări și plăți'!$C$5:$C$804,$B15,'Încasări și plăți'!$G$5:$G$804,COLUMN()-2) -> 0 | O15: =SUM(C15:N15) -> 144000
B16: =Setări!$E$12 -> Contribuții și impozit pe salarii | C16: =SUMIFS('Încasări și plăți'!$E$5:$E$804,'Încasări și plăți'!$C$5:$C$804,$B16,'Încasări și plăți'!$G$5:$G$804,COLUMN()-2) -> 10500 | D16: =SUMIFS('Încasări și plăți'!$E$5:$E$804,'Încasări și plăți'!$C$5:$C$804,$B16,'Încasări și plăți'!$G$5:$G$804,COLUMN()-2) -> 10500 | E16: =SUMIFS('Încasări și plăți'!$E$5:$E$804,'Încasări și plăți'!$C$5:$C$804,$B16,'Încasări și plăți'!$G$5:$G$804,COLUMN()-2) -> 10500 | F16: =SUMIFS('Încasări și plăți'!$E$5:$E$804,'Încasări și plăți'!$C$5:$C$804,$B16,'Încasări și plăți'!$G$5:$G$804,COLUMN()-2) -> 10500 | G16: =SUMIFS('Încasări și plăți'!$E$5:$E$804,'Încasări și plăți'!$C$5:$C$804,$B16,'Încasări și plăți'!$G$5:$G$804,COLUMN()-2) -> 10500 | H16: =SUMIFS('Încasări și plăți'!$E$5:$E$804,'Încasări și plăți'!$C$5:$C$804,$B16,'Încasări și plăți'!$G$5:$G$804,COLUMN()-2) -> 10500 | I16: =SUMIFS('Încasări și plăți'!$E$5:$E$804,'Încasări și plăți'!$C$5:$C$804,$B16,'Încasări și plăți'!$G$5:$G$804,COLUMN()-2) -> 10500 | J16: =SUMIFS('Încasări și plăți'!$E$5:$E$804,'Încasări și plăți'!$C$5:$C$804,$B16,'Încasări și plăți'!$G$5:$G$804,COLUMN()-2) -> 10500 | ... N16: =SUMIFS('Încasări și plăți'!$E$5:$E$804,'Încasări și plăți'!$C$5:$C$804,$B16,'Încasări și plăți'!$G$5:$G$804,COLUMN()-2) -> 0 | O16: =SUM(C16:N16) -> 94500
B17: =Setări!$E$13 -> TVA de plată | C17: =SUMIFS('Încasări și plăți'!$E$5:$E$804,'Încasări și plăți'!$C$5:$C$804,$B17,'Încasări și plăți'!$G$5:$G$804,COLUMN()-2) -> 5200 | D17: =SUMIFS('Încasări și plăți'!$E$5:$E$804,'Încasări și plăți'!$C$5:$C$804,$B17,'Încasări și plăți'!$G$5:$G$804,COLUMN()-2) -> 5200 | E17: =SUMIFS('Încasări și plăți'!$E$5:$E$804,'Încasări și plăți'!$C$5:$C$804,$B17,'Încasări și plăți'!$G$5:$G$804,COLUMN()-2) -> 5200 | F17: =SUMIFS('Încasări și plăți'!$E$5:$E$804,'Încasări și plăți'!$C$5:$C$804,$B17,'Încasări și plăți'!$G$5:$G$804,COLUMN()-2) -> 5200 | G17: =SUMIFS('Încasări și plăți'!$E$5:$E$804,'Încasări și plăți'!$C$5:$C$804,$B17,'Încasări și plăți'!$G$5:$G$804,COLUMN()-2) -> 5200 | H17: =SUMIFS('Încasări și plăți'!$E$5:$E$804,'Încasări și plăți'!$C$5:$C$804,$B17,'Încasări și plăți'!$G$5:$G$804,COLUMN()-2) -> 5200 | I17: =SUMIFS('Încasări și plăți'!$E$5:$E$804,'Încasări și plăți'!$C$5:$C$804,$B17,'Încasări și plăți'!$G$5:$G$804,COLUMN()-2) -> 5200 | J17: =SUMIFS('Încasări și plăți'!$E$5:$E$804,'Încasări și plăți'!$C$5:$C$804,$B17,'Încasări și plăți'!$G$5:$G$804,COLUMN()-2) -> 5200 | ... N17: =SUMIFS('Încasări și plăți'!$E$5:$E$804,'Încasări și plăți'!$C$5:$C$804,$B17,'Încasări și plăți'!$G$5:$G$804,COLUMN()-2) -> 0 | O17: =SUM(C17:N17) -> 46800
B18: =Setări!$E$14 -> Impozit pe profit / venit | C18: =SUMIFS('Încasări și plăți'!$E$5:$E$804,'Încasări și plăți'!$C$5:$C$804,$B18,'Încasări și plăți'!$G$5:$G$804,COLUMN()-2) -> 2400 | D18: =SUMIFS('Încasări și plăți'!$E$5:$E$804,'Încasări și plăți'!$C$5:$C$804,$B18,'Încasări și plăți'!$G$5:$G$804,COLUMN()-2) -> 0 | E18: =SUMIFS('Încasări și plăți'!$E$5:$E$804,'Încasări și plăți'!$C$5:$C$804,$B18,'Încasări și plăți'!$G$5:$G$804,COLUMN()-2) -> 0 | F18: =SUMIFS('Încasări și plăți'!$E$5:$E$804,'Încasări și plăți'!$C$5:$C$804,$B18,'Încasări și plăți'!$G$5:$G$804,COLUMN()-2) -> 2600 | G18: =SUMIFS('Încasări și plăți'!$E$5:$E$804,'Încasări și plăți'!$C$5:$C$804,$B18,'Încasări și plăți'!$G$5:$G$804,COLUMN()-2) -> 0 | H18: =SUMIFS('Încasări și plăți'!$E$5:$E$804,'Încasări și plăți'!$C$5:$C$804,$B18,'Încasări și plăți'!$G$5:$G$804,COLUMN()-2) -> 0 | I18: =SUMIFS('Încasări și plăți'!$E$5:$E$804,'Încasări și plăți'!$C$5:$C$804,$B18,'Încasări și plăți'!$G$5:$G$804,COLUMN()-2) -> 2700 | J18: =SUMIFS('Încasări și plăți'!$E$5:$E$804,'Încasări și plăți'!$C$5:$C$804,$B18,'Încasări și plăți'!$G$5:$G$804,COLUMN()-2) -> 0 | ... N18: =SUMIFS('Încasări și plăți'!$E$5:$E$804,'Încasări și plăți'!$C$5:$C$804,$B18,'Încasări și plăți'!$G$5:$G$804,COLUMN()-2) -> 0 | O18: =SUM(C18:N18) -> 7700
B19: =Setări!$E$15 -> Chirie și utilități | C19: =SUMIFS('Încasări și plăți'!$E$5:$E$804,'Încasări și plăți'!$C$5:$C$804,$B19,'Încasări și plăți'!$G$5:$G$804,COLUMN()-2) -> 6050 | D19: =SUMIFS('Încasări și plăți'!$E$5:$E$804,'Încasări și plăți'!$C$5:$C$804,$B19,'Încasări și plăți'!$G$5:$G$804,COLUMN()-2) -> 6110 | E19: =SUMIFS('Încasări și plăți'!$E$5:$E$804,'Încasări și plăți'!$C$5:$C$804,$B19,'Încasări și plăți'!$G$5:$G$804,COLUMN()-2) -> 5980 | F19: =SUMIFS('Încasări și plăți'!$E$5:$E$804,'Încasări și plăți'!$C$5:$C$804,$B19,'Încasări și plăți'!$G$5:$G$804,COLUMN()-2) -> 5800 | G19: =SUMIFS('Încasări și plăți'!$E$5:$E$804,'Încasări și plăți'!$C$5:$C$804,$B19,'Încasări și plăți'!$G$5:$G$804,COLUMN()-2) -> 5680 | H19: =SUMIFS('Încasări și plăți'!$E$5:$E$804,'Încasări și plăți'!$C$5:$C$804,$B19,'Încasări și plăți'!$G$5:$G$804,COLUMN()-2) -> 5890 | I19: =SUMIFS('Încasări și plăți'!$E$5:$E$804,'Încasări și plăți'!$C$5:$C$804,$B19,'Încasări și plăți'!$G$5:$G$804,COLUMN()-2) -> 6020 | J19: =SUMIFS('Încasări și plăți'!$E$5:$E$804,'Încasări și plăți'!$C$5:$C$804,$B19,'Încasări și plăți'!$G$5:$G$804,COLUMN()-2) -> 6060 | ... N19: =SUMIFS('Încasări și plăți'!$E$5:$E$804,'Încasări și plăți'!$C$5:$C$804,$B19,'Încasări și plăți'!$G$5:$G$804,COLUMN()-2) -> 0 | O19: =SUM(C19:N19) -> 53530
B20: =Setări!$E$16 -> Rate de credit și dobânzi | C20: =SUMIFS('Încasări și plăți'!$E$5:$E$804,'Încasări și plăți'!$C$5:$C$804,$B20,'Încasări și plăți'!$G$5:$G$804,COLUMN()-2) -> 3100 | D20: =SUMIFS('Încasări și plăți'!$E$5:$E$804,'Încasări și plăți'!$C$5:$C$804,$B20,'Încasări și plăți'!$G$5:$G$804,COLUMN()-2) -> 3100 | E20: =SUMIFS('Încasări și plăți'!$E$5:$E$804,'Încasări și plăți'!$C$5:$C$804,$B20,'Încasări și plăți'!$G$5:$G$804,COLUMN()-2) -> 3100 | F20: =SUMIFS('Încasări și plăți'!$E$5:$E$804,'Încasări și plăți'!$C$5:$C$804,$B20,'Încasări și plăți'!$G$5:$G$804,COLUMN()-2) -> 3100 | G20: =SUMIFS('Încasări și plăți'!$E$5:$E$804,'Încasări și plăți'!$C$5:$C$804,$B20,'Încasări și plăți'!$G$5:$G$804,COLUMN()-2) -> 3100 | H20: =SUMIFS('Încasări și plăți'!$E$5:$E$804,'Încasări și plăți'!$C$5:$C$804,$B20,'Încasări și plăți'!$G$5:$G$804,COLUMN()-2) -> 3100 | I20: =SUMIFS('Încasări și plăți'!$E$5:$E$804,'Încasări și plăți'!$C$5:$C$804,$B20,'Încasări și plăți'!$G$5:$G$804,COLUMN()-2) -> 3100 | J20: =SUMIFS('Încasări și plăți'!$E$5:$E$804,'Încasări și plăți'!$C$5:$C$804,$B20,'Încasări și plăți'!$G$5:$G$804,COLUMN()-2) -> 3100 | ... N20: =SUMIFS('Încasări și plăți'!$E$5:$E$804,'Încasări și plăți'!$C$5:$C$804,$B20,'Încasări și plăți'!$G$5:$G$804,COLUMN()-2) -> 0 | O20: =SUM(C20:N20) -> 27900
B21: =Setări!$E$17 -> Investiții (echipamente, mașini) | C21: =SUMIFS('Încasări și plăți'!$E$5:$E$804,'Încasări și plăți'!$C$5:$C$804,$B21,'Încasări și plăți'!$G$5:$G$804,COLUMN()-2) -> 0 | D21: =SUMIFS('Încasări și plăți'!$E$5:$E$804,'Încasări și plăți'!$C$5:$C$804,$B21,'Încasări și plăți'!$G$5:$G$804,COLUMN()-2) -> 0 | E21: =SUMIFS('Încasări și plăți'!$E$5:$E$804,'Încasări și plăți'!$C$5:$C$804,$B21,'Încasări și plăți'!$G$5:$G$804,COLUMN()-2) -> 0 | F21: =SUMIFS('Încasări și plăți'!$E$5:$E$804,'Încasări și plăți'!$C$5:$C$804,$B21,'Încasări și plăți'!$G$5:$G$804,COLUMN()-2) -> 0 | G21: =SUMIFS('Încasări și plăți'!$E$5:$E$804,'Încasări și plăți'!$C$5:$C$804,$B21,'Încasări și plăți'!$G$5:$G$804,COLUMN()-2) -> 0 | H21: =SUMIFS('Încasări și plăți'!$E$5:$E$804,'Încasări și plăți'!$C$5:$C$804,$B21,'Încasări și plăți'!$G$5:$G$804,COLUMN()-2) -> 15000 | I21: =SUMIFS('Încasări și plăți'!$E$5:$E$804,'Încasări și plăți'!$C$5:$C$804,$B21,'Încasări și plăți'!$G$5:$G$804,COLUMN()-2) -> 0 | J21: =SUMIFS('Încasări și plăți'!$E$5:$E$804,'Încasări și plăți'!$C$5:$C$804,$B21,'Încasări și plăți'!$G$5:$G$804,COLUMN()-2) -> 0 | ... N21: =SUMIFS('Încasări și plăți'!$E$5:$E$804,'Încasări și plăți'!$C$5:$C$804,$B21,'Încasări și plăți'!$G$5:$G$804,COLUMN()-2) -> 0 | O21: =SUM(C21:N21) -> 15000
B22: =Setări!$E$18 -> Dividende | C22: =SUMIFS('Încasări și plăți'!$E$5:$E$804,'Încasări și plăți'!$C$5:$C$804,$B22,'Încasări și plăți'!$G$5:$G$804,COLUMN()-2) -> 0 | D22: =SUMIFS('Încasări și plăți'!$E$5:$E$804,'Încasări și plăți'!$C$5:$C$804,$B22,'Încasări și plăți'!$G$5:$G$804,COLUMN()-2) -> 0 | E22: =SUMIFS('Încasări și plăți'!$E$5:$E$804,'Încasări și plăți'!$C$5:$C$804,$B22,'Încasări și plăți'!$G$5:$G$804,COLUMN()-2) -> 0 | F22: =SUMIFS('Încasări și plăți'!$E$5:$E$804,'Încasări și plăți'!$C$5:$C$804,$B22,'Încasări și plăți'!$G$5:$G$804,COLUMN()-2) -> 0 | G22: =SUMIFS('Încasări și plăți'!$E$5:$E$804,'Încasări și plăți'!$C$5:$C$804,$B22,'Încasări și plăți'!$G$5:$G$804,COLUMN()-2) -> 0 | H22: =SUMIFS('Încasări și plăți'!$E$5:$E$804,'Încasări și plăți'!$C$5:$C$804,$B22,'Încasări și plăți'!$G$5:$G$804,COLUMN()-2) -> 30000 | I22: =SUMIFS('Încasări și plăți'!$E$5:$E$804,'Încasări și plăți'!$C$5:$C$804,$B22,'Încasări și plăți'!$G$5:$G$804,COLUMN()-2) -> 0 | J22: =SUMIFS('Încasări și plăți'!$E$5:$E$804,'Încasări și plăți'!$C$5:$C$804,$B22,'Încasări și plăți'!$G$5:$G$804,COLUMN()-2) -> 0 | ... N22: =SUMIFS('Încasări și plăți'!$E$5:$E$804,'Încasări și plăți'!$C$5:$C$804,$B22,'Încasări și plăți'!$G$5:$G$804,COLUMN()-2) -> 0 | O22: =SUM(C22:N22) -> 30000
