Workbook
Name AcopWeekend: 'Ture și reguli'!$D$20
Name AnT: 'Grafic ture'!$C$2
Name CodTura: 'Ture și reguli'!$B$5:$B$13
Name CoduriLucru: 'Ture și reguli'!$B$5:$B$10
Name ListaLuniT: 'Ture și reguli'!$N$30:$N$41
Name LunaT: 'Grafic ture'!$AJ$2
Name MaxConsec: 'Ture și reguli'!$D$18
Name MinRepaus: 'Ture și reguli'!$D$16
Name Necesar: 'Ture și reguli'!$I$5:$I$10
Name NormaZiT: 'Ture și reguli'!$D$19
Name OreNoapteTura: 'Ture și reguli'!$H$5:$H$10
Name OreTura: 'Ture și reguli'!$G$5:$G$10
Name Repaus12: 'Ture și reguli'!$D$17
Name SarbT: 'Zile libere'!$G$5:$G$21
Name SfarsitH: 'Ture și reguli'!$L$5:$L$10
Name StartH: 'Ture și reguli'!$K$5:$K$10

Sheet Grafic ture
A1: Grafic de lucru în ture
A2: Luna: | B2: Noiembrie | C2: 2026 | F2: Scrie codul turei în fiecare zi (D, A, N, Z12, N12, L, CO, CM). Portocaliu = repaus prea scurt față de tura anterioară; roșu = prea multe zile de lucru la rând. | AJ2: =MATCH($B$2,ListaLuniT,0) -> 11
A4: Nr. | B4: Nume și prenume | C4: Funcția | D4: =IF(D$6="","",DAY(D$6)) -> 1 | E4: =IF(E$6="","",DAY(E$6)) -> 2 | F4: =IF(F$6="","",DAY(F$6)) -> 3 | G4: =IF(G$6="","",DAY(G$6)) -> 4 | H4: =IF(H$6="","",DAY(H$6)) -> 5 | I4: =IF(I$6="","",DAY(I$6)) -> 6 | J4: =IF(J$6="","",DAY(J$6)) -> 7 | K4: =IF(K$6="","",DAY(K$6)) -> 8 | ... AH4: =IF(AH$6="","",DAY(AH$6)) | AI4: Ore lucrate | AJ4: Ore de noapte | AK4: Ture | AL4: Zile libere | AM4: CO + CM | AN4: Ore normă | AO4: Diferență | AP4: Alerte
D5: =IF(D$6="","",CHOOSE(WEEKDAY(D$6,2),"L","Ma","Mi","J","V","S","D")) -> D | E5: =IF(E$6="","",CHOOSE(WEEKDAY(E$6,2),"L","Ma","Mi","J","V","S","D")) -> L | F5: =IF(F$6="","",CHOOSE(WEEKDAY(F$6,2),"L","Ma","Mi","J","V","S","D")) -> Ma | G5: =IF(G$6="","",CHOOSE(WEEKDAY(G$6,2),"L","Ma","Mi","J","V","S","D")) -> Mi | H5: =IF(H$6="","",CHOOSE(WEEKDAY(H$6,2),"L","Ma","Mi","J","V","S","D")) -> J | I5: =IF(I$6="","",CHOOSE(WEEKDAY(I$6,2),"L","Ma","Mi","J","V","S","D")) -> V | J5: =IF(J$6="","",CHOOSE(WEEKDAY(J$6,2),"L","Ma","Mi","J","V","S","D")) -> S | K5: =IF(K$6="","",CHOOSE(WEEKDAY(K$6,2),"L","Ma","Mi","J","V","S","D")) -> D | ... AH5: =IF(AH$6="","",CHOOSE(WEEKDAY(AH$6,2),"L","Ma","Mi","J","V","S","D"))
D6: =IF(1<=DAY(EOMONTH(DATE(AnT,LunaT,1),0)),DATE(AnT,LunaT,1),"") -> 46327 | E6: =IF(2<=DAY(EOMONTH(DATE(AnT,LunaT,1),0)),DATE(AnT,LunaT,2),"") -> 46328 | F6: =IF(3<=DAY(EOMONTH(DATE(AnT,LunaT,1),0)),DATE(AnT,LunaT,3),"") -> 46329 | G6: =IF(4<=DAY(EOMONTH(DATE(AnT,LunaT,1),0)),DATE(AnT,LunaT,4),"") -> 46330 | H6: =IF(5<=DAY(EOMONTH(DATE(AnT,LunaT,1),0)),DATE(AnT,LunaT,5),"") -> 46331 | I6: =IF(6<=DAY(EOMONTH(DATE(AnT,LunaT,1),0)),DATE(AnT,LunaT,6),"") -> 46332 | J6: =IF(7<=DAY(EOMONTH(DATE(AnT,LunaT,1),0)),DATE(AnT,LunaT,7),"") -> 46333 | K6: =IF(8<=DAY(EOMONTH(DATE(AnT,LunaT,1),0)),DATE(AnT,LunaT,8),"") -> 46334 | L6: =IF(9<=DAY(EOMONTH(DATE(AnT,LunaT,1),0)),DATE(AnT,LunaT,9),"") -> 46335 | M6: =IF(10<=DAY(EOMONTH(DATE(AnT,LunaT,1),0)),DATE(AnT,LunaT,10),"") -> 46336 | N6: =IF(11<=DAY(EOMONTH(DATE(AnT,LunaT,1),0)),DATE(AnT,LunaT,11),"") -> 46337 | O6: =IF(12<=DAY(EOMONTH(DATE(AnT,LunaT,1),0)),DATE(AnT,LunaT,12),"") -> 46338 | P6: =IF(13<=DAY(EOMONTH(DATE(AnT,LunaT,1),0)),DATE(AnT,LunaT,13),"") -> 46339 | Q6: =IF(14<=DAY(EOMONTH(DATE(AnT,LunaT,1),0)),DATE(AnT,LunaT,14),"") -> 46340 | R6: =IF(15<=DAY(EOMONTH(DATE(AnT,LunaT,1),0)),DATE(AnT,LunaT,15),"") -> 46341 | S6: =IF(16<=DAY(EOMONTH(DATE(AnT,LunaT,1),0)),DATE(AnT,LunaT,16),"") -> 46342 | T6: =IF(17<=DAY(EOMONTH(DATE(AnT,LunaT,1),0)),DATE(AnT,LunaT,17),"") -> 46343 | U6: =IF(18<=DAY(EOMONTH(DATE(AnT,LunaT,1),0)),DATE(AnT,LunaT,18),"") -> 46344 | V6: =IF(19<=DAY(EOMONTH(DATE(AnT,LunaT,1),0)),DATE(AnT,LunaT,19),"") -> 46345 | W6: =IF(20<=DAY(EOMONTH(DATE(AnT,LunaT,1),0)),DATE(AnT,LunaT,20),"") -> 46346 | X6: =IF(21<=DAY(EOMONTH(DATE(AnT,LunaT,1),0)),DATE(AnT,LunaT,21),"") -> 46347 | Y6: =IF(22<=DAY(EOMONTH(DATE(AnT,LunaT,1),0)),DATE(AnT,LunaT,22),"") -> 46348 | Z6: =IF(23<=DAY(EOMONTH(DATE(AnT,LunaT,1),0)),DATE(AnT,LunaT,23),"") -> 46349 | AA6: =IF(24<=DAY(EOMONTH(DATE(AnT,LunaT,1),0)),DATE(AnT,LunaT,24),"") -> 46350 | AB6: =IF(25<=DAY(EOMONTH(DATE(AnT,LunaT,1),0)),DATE(AnT,LunaT,25),"") -> 46351 | AC6: =IF(26<=DAY(EOMONTH(DATE(AnT,LunaT,1),0)),DATE(AnT,LunaT,26),"") -> 46352 | AD6: =IF(27<=DAY(EOMONTH(DATE(AnT,LunaT,1),0)),DATE(AnT,LunaT,27),"") -> 46353 | AE6: =IF(28<=DAY(EOMONTH(DATE(AnT,LunaT,1),0)),DATE(AnT,LunaT,28),"") -> 46354 | AF6: =IF(29<=DAY(EOMONTH(DATE(AnT,LunaT,1),0)),DATE(AnT,LunaT,29),"") -> 46355 | AG6: =IF(30<=DAY(EOMONTH(DATE(AnT,LunaT,1),0)),DATE(AnT,LunaT,30),"") -> 46356 | AH6: =IF(31<=DAY(EOMONTH(DATE(AnT,LunaT,1),0)),DATE(AnT,LunaT,31),"")
A7: 1 | B7: Exemplu: Popescu Ana | C7: Operator | D7: L | E7: A | F7: A | G7: A | H7: A | I7: A | J7: L | K7: L | L7: N | M7: N | N7: N | O7: N | P7: N | Q7: L | R7: L | S7: D | T7: D | U7: N | V7: D | W7: D | X7: L | Y7: L | Z7: A | AA7: A | AB7: A | AC7: A | AD7: A | AE7: L | AF7: L | AG7: N | AI7: =IF($B7="","",SUMPRODUCT(COUNTIF($D7:$AH7,CoduriLucru)*OreTura)) -> 168 | AJ7: =IF($B7="","",SUMPRODUCT(COUNTIF($D7:$AH7,CoduriLucru)*OreNoapteTura)) -> 56 | AK7: =IF($B7="","",SUMPRODUCT(COUNTIF($D7:$AH7,CoduriLucru)*(CoduriLucru<>""))) -> 21 | AL7: =IF($B7="","",COUNTIF($D7:$AH7,"L")) -> 9 | AM7: =IF($B7="","",COUNTIF($D7:$AH7,"CO")+COUNTIF($D7:$AH7,"CM")) -> 0 | AN7: =IF($B7="","",(NETWORKDAYS(DATE(AnT,LunaT,1),EOMONTH(DATE(AnT,LunaT,1),0),SarbT)-COUNTIF($D7:$AH7,"CO")-COUNTIF($D7:$AH7,"CM"))*NormaZiT) -> 160 | AO7: =IF($B7="","",AI7-AN7) -> 8 | AP7: =IF($B7="","",SUM($D40:$AH40)+COUNTIF($D60:$AH60,">"&MaxConsec)) -> 1
A8: 2 | B8: Exemplu: Ionescu Dan | C8: Operator | D8: L | E8: N | F8: N | G8: N | H8: N | I8: N | J8: L | K8: L | L8: D | M8: D | N8: D | O8: D | P8: D | Q8: L | R8: L | S8: A | T8: A | U8: A | V8: A | W8: A | X8: L | Y8: L | Z8: N | AA8: N | AB8: N | AC8: N | AD8: N | AE8: L | AF8: L | AG8: D | AI8: =IF($B8="","",SUMPRODUCT(COUNTIF($D8:$AH8,CoduriLucru)*OreTura)) -> 168 | AJ8: =IF($B8="","",SUMPRODUCT(COUNTIF($D8:$AH8,CoduriLucru)*OreNoapteTura)) -> 80 | AK8: =IF($B8="","",SUMPRODUCT(COUNTIF($D8:$AH8,CoduriLucru)*(CoduriLucru<>""))) -> 21 | AL8: =IF($B8="","",COUNTIF($D8:$AH8,"L")) -> 9 | AM8: =IF($B8="","",COUNTIF($D8:$AH8,"CO")+COUNTIF($D8:$AH8,"CM")) -> 0 | AN8: =IF($B8="","",(NETWORKDAYS(DATE(AnT,LunaT,1),EOMONTH(DATE(AnT,LunaT,1),0),SarbT)-COUNTIF($D8:$AH8,"CO")-COUNTIF($D8:$AH8,"CM"))*NormaZiT) -> 160 | AO8: =IF($B8="","",AI8-AN8) -> 8 | AP8: =IF($B8="","",SUM($D41:$AH41)+COUNTIF($D61:$AH61,">"&MaxConsec)) -> 0
A9: 3 | B9: Exemplu: Stan Maria | C9: Operator | D9: L | E9: D | F9: D | G9: D | H9: D | I9: D | J9: L | K9: L | L9: A | M9: A | N9: A | O9: A | P9: A | Q9: L | R9: L | S9: N | T9: N | U9: N | V9: N | W9: N | X9: L | Y9: L | Z9: D | AA9: D | AB9: D | AC9: D | AD9: D | AE9: L | AF9: L | AG9: A | AI9: =IF($B9="","",SUMPRODUCT(COUNTIF($D9:$AH9,CoduriLucru)*OreTura)) -> 168 | AJ9: =IF($B9="","",SUMPRODUCT(COUNTIF($D9:$AH9,CoduriLucru)*OreNoapteTura)) -> 40 | AK9: =IF($B9="","",SUMPRODUCT(COUNTIF($D9:$AH9,CoduriLucru)*(CoduriLucru<>""))) -> 21 | AL9: =IF($B9="","",COUNTIF($D9:$AH9,"L")) -> 9 | AM9: =IF($B9="","",COUNTIF($D9:$AH9,"CO")+COUNTIF($D9:$AH9,"CM")) -> 0 | AN9: =IF($B9="","",(NETWORKDAYS(DATE(AnT,LunaT,1),EOMONTH(DATE(AnT,LunaT,1),0),SarbT)-COUNTIF($D9:$AH9,"CO")-COUNTIF($D9:$AH9,"CM"))*NormaZiT) -> 160 | AO9: =IF($B9="","",AI9-AN9) -> 8 | AP9: =IF($B9="","",SUM($D42:$AH42)+COUNTIF($D62:$AH62,">"&MaxConsec)) -> 0
A10: 4 | B10: Exemplu: Radu Vlad | C10: Agent pază | D10: Z12 | E10: N12 | F10: L | G10: L | H10: Z12 | I10: N12 | J10: L | K10: L | L10: Z12 | M10: N12 | N10: L | O10: L | P10: Z12 | Q10: N12 | R10: L | S10: L | T10: Z12 | U10: N12 | V10: L | W10: L | X10: Z12 | Y10: N12 | Z10: L | AA10: L | AB10: Z12 | AC10: N12 | AD10: L | AE10: L | AF10: Z12 | AG10: N12 | AI10: =IF($B10="","",SUMPRODUCT(COUNTIF($D10:$AH10,CoduriLucru)*OreTura)) -> 176 | AJ10: =IF($B10="","",SUMPRODUCT(COUNTIF($D10:$AH10,CoduriLucru)*OreNoapteTura)) -> 64 | AK10: =IF($B10="","",SUMPRODUCT(COUNTIF($D10:$AH10,CoduriLucru)*(CoduriLucru<>""))) -> 16 | AL10: =IF($B10="","",COUNTIF($D10:$AH10,"L")) -> 14 | AM10: =IF($B10="","",COUNTIF($D10:$AH10,"CO")+COUNTIF($D10:$AH10,"CM")) -> 0 | AN10: =IF($B10="","",(NETWORKDAYS(DATE(AnT,LunaT,1),EOMONTH(DATE(AnT,LunaT,1),0),SarbT)-COUNTIF($D10:$AH10,"CO")-COUNTIF($D10:$AH10,"CM"))*NormaZiT) -> 160 | AO10: =IF($B10="","",AI10-AN10) -> 16 | AP10: =IF($B10="","",SUM($D43:$AH43)+COUNTIF($D63:$AH63,">"&MaxConsec)) -> 0
A11: 5 | B11: Exemplu: Dima Ioana | C11: Agent pază | D11: L | E11: L | F11: Z12 | G11: N12 | H11: L | I11: L | J11: Z12 | K11: N12 | L11: L | M11: L | N11: Z12 | O11: N12 | P11: L | Q11: L | R11: Z12 | S11: N12 | T11: L | U11: L | V11: Z12 | W11: N12 | X11: L | Y11: L | Z11: Z12 | AA11: N12 | AB11: L | AC11: L | AD11: Z12 | AE11: N12 | AF11: L | AG11: L | AI11: =IF($B11="","",SUMPRODUCT(COUNTIF($D11:$AH11,CoduriLucru)*OreTura)) -> 154 | AJ11: =IF($B11="","",SUMPRODUCT(COUNTIF($D11:$AH11,CoduriLucru)*OreNoapteTura)) -> 56 | AK11: =IF($B11="","",SUMPRODUCT(COUNTIF($D11:$AH11,CoduriLucru)*(CoduriLucru<>""))) -> 14 | AL11: =IF($B11="","",COUNTIF($D11:$AH11,"L")) -> 16 | AM11: =IF($B11="","",COUNTIF($D11:$AH11,"CO")+COUNTIF($D11:$AH11,"CM")) -> 0 | AN11: =IF($B11="","",(NETWORKDAYS(DATE(AnT,LunaT,1),EOMONTH(DATE(AnT,LunaT,1),0),SarbT)-COUNTIF($D11:$AH11,"CO")-COUNTIF($D11:$AH11,"CM"))*NormaZiT) -> 160 | AO11: =IF($B11="","",AI11-AN11) -> -6 | AP11: =IF($B11="","",SUM($D44:$AH44)+COUNTIF($D64:$AH64,">"&MaxConsec)) -> 0
A12: 6 | B12: Exemplu: Marin Elena | C12: Operator | D12: L | E12: D | F12: D | G12: D | H12: D | I12: D | J12: L | K12: L | L12: D | M12: D | N12: D | O12: D | P12: D | Q12: D | R12: D | S12: D | T12: D | U12: D | V12: D | W12: D | X12: L | Y12: L | Z12: D | AA12: D | AB12: CO | AC12: CO | AD12: D | AE12: L | AF12: L | AG12: D | AI12: =IF($B12="","",SUMPRODUCT(COUNTIF($D12:$AH12,CoduriLucru)*OreTura)) -> 168 | AJ12: =IF($B12="","",SUMPRODUCT(COUNTIF($D12:$AH12,CoduriLucru)*OreNoapteTura)) -> 0 | AK12: =IF($B12="","",SUMPRODUCT(COUNTIF($D12:$AH12,CoduriLucru)*(CoduriLucru<>""))) -> 21 | AL12: =IF($B12="","",COUNTIF($D12:$AH12,"L")) -> 7 | AM12: =IF($B12="","",COUNTIF($D12:$AH12,"CO")+COUNTIF($D12:$AH12,"CM")) -> 2 | AN12: =IF($B12="","",(NETWORKDAYS(DATE(AnT,LunaT,1),EOMONTH(DATE(AnT,LunaT,1),0),SarbT)-COUNTIF($D12:$AH12,"CO")-COUNTIF($D12:$AH12,"CM"))*NormaZiT) -> 144 | AO12: =IF($B12="","",AI12-AN12) -> 24 | AP12: =IF($B12="","",SUM($D45:$AH45)+COUNTIF($D65:$AH65,">"&MaxConsec)) -> 6
A13: 7 | AI13: =IF($B13="","",SUMPRODUCT(COUNTIF($D13:$AH13,CoduriLucru)*OreTura)) | AJ13: =IF($B13="","",SUMPRODUCT(COUNTIF($D13:$AH13,CoduriLucru)*OreNoapteTura)) | AK13: =IF($B13="","",SUMPRODUCT(COUNTIF($D13:$AH13,CoduriLucru)*(CoduriLucru<>""))) | AL13: =IF($B13="","",COUNTIF($D13:$AH13,"L")) | AM13: =IF($B13="","",COUNTIF($D13:$AH13,"CO")+COUNTIF($D13:$AH13,"CM")) | AN13: =IF($B13="","",(NETWORKDAYS(DATE(AnT,LunaT,1),EOMONTH(DATE(AnT,LunaT,1),0),SarbT)-COUNTIF($D13:$AH13,"CO")-COUNTIF($D13:$AH13,"CM"))*NormaZiT) | AO13: =IF($B13="","",AI13-AN13) | AP13: =IF($B13="","",SUM($D46:$AH46)+COUNTIF($D66:$AH66,">"&MaxConsec))
A14: 8 | AI14: =IF($B14="","",SUMPRODUCT(COUNTIF($D14:$AH14,CoduriLucru)*OreTura)) | AJ14: =IF($B14="","",SUMPRODUCT(COUNTIF($D14:$AH14,CoduriLucru)*OreNoapteTura)) | AK14: =IF($B14="","",SUMPRODUCT(COUNTIF($D14:$AH14,CoduriLucru)*(CoduriLucru<>""))) | AL14: =IF($B14="","",COUNTIF($D14:$AH14,"L")) | AM14: =IF($B14="","",COUNTIF($D14:$AH14,"CO")+COUNTIF($D14:$AH14,"CM")) | AN14: =IF($B14="","",(NETWORKDAYS(DATE(AnT,LunaT,1),EOMONTH(DATE(AnT,LunaT,1),0),SarbT)-COUNTIF($D14:$AH14,"CO")-COUNTIF($D14:$AH14,"CM"))*NormaZiT) | AO14: =IF($B14="","",AI14-AN14) | AP14: =IF($B14="","",SUM($D47:$AH47)+COUNTIF($D67:$AH67,">"&MaxConsec))
A15: 9 | AI15: =IF($B15="","",SUMPRODUCT(COUNTIF($D15:$AH15,CoduriLucru)*OreTura)) | AJ15: =IF($B15="","",SUMPRODUCT(COUNTIF($D15:$AH15,CoduriLucru)*OreNoapteTura)) | AK15: =IF($B15="","",SUMPRODUCT(COUNTIF($D15:$AH15,CoduriLucru)*(CoduriLucru<>""))) | AL15: =IF($B15="","",COUNTIF($D15:$AH15,"L")) | AM15: =IF($B15="","",COUNTIF($D15:$AH15,"CO")+COUNTIF($D15:$AH15,"CM")) | AN15: =IF($B15="","",(NETWORKDAYS(DATE(AnT,LunaT,1),EOMONTH(DATE(AnT,LunaT,1),0),SarbT)-COUNTIF($D15:$AH15,"CO")-COUNTIF($D15:$AH15,"CM"))*NormaZiT) | AO15: =IF($B15="","",AI15-AN15) | AP15: =IF($B15="","",SUM($D48:$AH48)+COUNTIF($D68:$AH68,">"&MaxConsec))
A16: 10 | AI16: =IF($B16="","",SUMPRODUCT(COUNTIF($D16:$AH16,CoduriLucru)*OreTura)) | AJ16: =IF($B16="","",SUMPRODUCT(COUNTIF($D16:$AH16,CoduriLucru)*OreNoapteTura)) | AK16: =IF($B16="","",SUMPRODUCT(COUNTIF($D16:$AH16,CoduriLucru)*(CoduriLucru<>""))) | AL16: =IF($B16="","",COUNTIF($D16:$AH16,"L")) | AM16: =IF($B16="","",COUNTIF($D16:$AH16,"CO")+COUNTIF($D16:$AH16,"CM")) | AN16: =IF($B16="","",(NETWORKDAYS(DATE(AnT,LunaT,1),EOMONTH(DATE(AnT,LunaT,1),0),SarbT)-COUNTIF($D16:$AH16,"CO")-COUNTIF($D16:$AH16,"CM"))*NormaZiT) | AO16: =IF($B16="","",AI16-AN16) | AP16: =IF($B16="","",SUM($D49:$AH49)+COUNTIF($D69:$AH69,">"&MaxConsec))
A17: 11 | AI17: =IF($B17="","",SUMPRODUCT(COUNTIF($D17:$AH17,CoduriLucru)*OreTura)) | AJ17: =IF($B17="","",SUMPRODUCT(COUNTIF($D17:$AH17,CoduriLucru)*OreNoapteTura)) | AK17: =IF($B17="","",SUMPRODUCT(COUNTIF($D17:$AH17,CoduriLucru)*(CoduriLucru<>""))) | AL17: =IF($B17="","",COUNTIF($D17:$AH17,"L")) | AM17: =IF($B17="","",COUNTIF($D17:$AH17,"CO")+COUNTIF($D17:$AH17,"CM")) | AN17: =IF($B17="","",(NETWORKDAYS(DATE(AnT,LunaT,1),EOMONTH(DATE(AnT,LunaT,1),0),SarbT)-COUNTIF($D17:$AH17,"CO")-COUNTIF($D17:$AH17,"CM"))*NormaZiT) | AO17: =IF($B17="","",AI17-AN17) | AP17: =IF($B17="","",SUM($D50:$AH50)+COUNTIF($D70:$AH70,">"&MaxConsec))
A18: 12 | AI18: =IF($B18="","",SUMPRODUCT(COUNTIF($D18:$AH18,CoduriLucru)*OreTura)) | AJ18: =IF($B18="","",SUMPRODUCT(COUNTIF($D18:$AH18,CoduriLucru)*OreNoapteTura)) | AK18: =IF($B18="","",SUMPRODUCT(COUNTIF($D18:$AH18,CoduriLucru)*(CoduriLucru<>""))) | AL18: =IF($B18="","",COUNTIF($D18:$AH18,"L")) | AM18: =IF($B18="","",COUNTIF($D18:$AH18,"CO")+COUNTIF($D18:$AH18,"CM")) | AN18: =IF($B18="","",(NETWORKDAYS(DATE(AnT,LunaT,1),EOMONTH(DATE(AnT,LunaT,1),0),SarbT)-COUNTIF($D18:$AH18,"CO")-COUNTIF($D18:$AH18,"CM"))*NormaZiT) | AO18: =IF($B18="","",AI18-AN18) | AP18: =IF($B18="","",SUM($D51:$AH51)+COUNTIF($D71:$AH71,">"&MaxConsec))
A19: 13 | AI19: =IF($B19="","",SUMPRODUCT(COUNTIF($D19:$AH19,CoduriLucru)*OreTura)) | AJ19: =IF($B19="","",SUMPRODUCT(COUNTIF($D19:$AH19,CoduriLucru)*OreNoapteTura)) | AK19: =IF($B19="","",SUMPRODUCT(COUNTIF($D19:$AH19,CoduriLucru)*(CoduriLucru<>""))) | AL19: =IF($B19="","",COUNTIF($D19:$AH19,"L")) | AM19: =IF($B19="","",COUNTIF($D19:$AH19,"CO")+COUNTIF($D19:$AH19,"CM")) | AN19: =IF($B19="","",(NETWORKDAYS(DATE(AnT,LunaT,1),EOMONTH(DATE(AnT,LunaT,1),0),SarbT)-COUNTIF($D19:$AH19,"CO")-COUNTIF($D19:$AH19,"CM"))*NormaZiT) | AO19: =IF($B19="","",AI19-AN19) | AP19: =IF($B19="","",SUM($D52:$AH52)+COUNTIF($D72:$AH72,">"&MaxConsec))
A20: 14 | AI20: =IF($B20="","",SUMPRODUCT(COUNTIF($D20:$AH20,CoduriLucru)*OreTura)) | AJ20: =IF($B20="","",SUMPRODUCT(COUNTIF($D20:$AH20,CoduriLucru)*OreNoapteTura)) | AK20: =IF($B20="","",SUMPRODUCT(COUNTIF($D20:$AH20,CoduriLucru)*(CoduriLucru<>""))) | AL20: =IF($B20="","",COUNTIF($D20:$AH20,"L")) | AM20: =IF($B20="","",COUNTIF($D20:$AH20,"CO")+COUNTIF($D20:$AH20,"CM")) | AN20: =IF($B20="","",(NETWORKDAYS(DATE(AnT,LunaT,1),EOMONTH(DATE(AnT,LunaT,1),0),SarbT)-COUNTIF($D20:$AH20,"CO")-COUNTIF($D20:$AH20,"CM"))*NormaZiT) | AO20: =IF($B20="","",AI20-AN20) | AP20: =IF($B20="","",SUM($D53:$AH53)+COUNTIF($D73:$AH73,">"&MaxConsec))
A21: 15 | AI21: =IF($B21="","",SUMPRODUCT(COUNTIF($D21:$AH21,CoduriLucru)*OreTura)) | AJ21: =IF($B21="","",SUMPRODUCT(COUNTIF($D21:$AH21,CoduriLucru)*OreNoapteTura)) | AK21: =IF($B21="","",SUMPRODUCT(COUNTIF($D21:$AH21,CoduriLucru)*(CoduriLucru<>""))) | AL21: =IF($B21="","",COUNTIF($D21:$AH21,"L")) | AM21: =IF($B21="","",COUNTIF($D21:$AH21,"CO")+COUNTIF($D21:$AH21,"CM")) | AN21: =IF($B21="","",(NETWORKDAYS(DATE(AnT,LunaT,1),EOMONTH(DATE(AnT,LunaT,1),0),SarbT)-COUNTIF($D21:$AH21,"CO")-COUNTIF($D21:$AH21,"CM"))*NormaZiT) | AO21: =IF($B21="","",AI21-AN21) | AP21: =IF($B21="","",SUM($D54:$AH54)+COUNTIF($D74:$AH74,">"&MaxConsec))
B23: Acoperire pe ture (persoane / zi)
B24: =IF('Ture și reguli'!$B$5="","",'Ture și reguli'!$B$5&" – "&'Ture și reguli'!$C$5) -> D – Dimineață | C24: =IF('Ture și reguli'!$B$5="","","necesar: "&'Ture și reguli'!$I$5) -> necesar: 1 | D24: =IF(OR(D$6="",'Ture și reguli'!$B$5=""),"",COUNTIF(D$7:D$21,'Ture și reguli'!$B$5)) -> 0 | E24: =IF(OR(E$6="",'Ture și reguli'!$B$5=""),"",COUNTIF(E$7:E$21,'Ture și reguli'!$B$5)) -> 2 | F24: =IF(OR(F$6="",'Ture și reguli'!$B$5=""),"",COUNTIF(F$7:F$21,'Ture și reguli'!$B$5)) -> 2 | G24: =IF(OR(G$6="",'Ture și reguli'!$B$5=""),"",COUNTIF(G$7:G$21,'Ture și reguli'!$B$5)) -> 2 | H24: =IF(OR(H$6="",'Ture și reguli'!$B$5=""),"",COUNTIF(H$7:H$21,'Ture și reguli'!$B$5)) -> 2 | I24: =IF(OR(I$6="",'Ture și reguli'!$B$5=""),"",COUNTIF(I$7:I$21,'Ture și reguli'!$B$5)) -> 2 | J24: =IF(OR(J$6="",'Ture și reguli'!$B$5=""),"",COUNTIF(J$7:J$21,'Ture și reguli'!$B$5)) -> 0 | K24: =IF(OR(K$6="",'Ture și reguli'!$B$5=""),"",COUNTIF(K$7:K$21,'Ture și reguli'!$B$5)) -> 0 | ... AH24: =IF(OR(AH$6="",'Ture și reguli'!$B$5=""),"",COUNTIF(AH$7:AH$21,'Ture și reguli'!$B$5))
B25: =IF('Ture și reguli'!$B$6="","",'Ture și reguli'!$B$6&" – "&'Ture și reguli'!$C$6) -> A – După-amiază | C25: =IF('Ture și reguli'!$B$6="","","necesar: "&'Ture și reguli'!$I$6) -> necesar: 1 | D25: =IF(OR(D$6="",'Ture și reguli'!$B$6=""),"",COUNTIF(D$7:D$21,'Ture și reguli'!$B$6)) -> 0 | E25: =IF(OR(E$6="",'Ture și reguli'!$B$6=""),"",COUNTIF(E$7:E$21,'Ture și reguli'!$B$6)) -> 1 | F25: =IF(OR(F$6="",'Ture și reguli'!$B$6=""),"",COUNTIF(F$7:F$21,'Ture și reguli'!$B$6)) -> 1 | G25: =IF(OR(G$6="",'Ture și reguli'!$B$6=""),"",COUNTIF(G$7:G$21,'Ture și reguli'!$B$6)) -> 1 | H25: =IF(OR(H$6="",'Ture și reguli'!$B$6=""),"",COUNTIF(H$7:H$21,'Ture și reguli'!$B$6)) -> 1 | I25: =IF(OR(I$6="",'Ture și reguli'!$B$6=""),"",COUNTIF(I$7:I$21,'Ture și reguli'!$B$6)) -> 1 | J25: =IF(OR(J$6="",'Ture și reguli'!$B$6=""),"",COUNTIF(J$7:J$21,'Ture și reguli'!$B$6)) -> 0 | K25: =IF(OR(K$6="",'Ture și reguli'!$B$6=""),"",COUNTIF(K$7:K$21,'Ture și reguli'!$B$6)) -> 0 | ... AH25: =IF(OR(AH$6="",'Ture și reguli'!$B$6=""),"",COUNTIF(AH$7:AH$21,'Ture și reguli'!$B$6))
B26: =IF('Ture și reguli'!$B$7="","",'Ture și reguli'!$B$7&" – "&'Ture și reguli'!$C$7) -> N – Noapte | C26: =IF('Ture și reguli'!$B$7="","","necesar: "&'Ture și reguli'!$I$7) -> necesar: 1 | D26: =IF(OR(D$6="",'Ture și reguli'!$B$7=""),"",COUNTIF(D$7:D$21,'Ture și reguli'!$B$7)) -> 0 | E26: =IF(OR(E$6="",'Ture și reguli'!$B$7=""),"",COUNTIF(E$7:E$21,'Ture și reguli'!$B$7)) -> 1 | F26: =IF(OR(F$6="",'Ture și reguli'!$B$7=""),"",COUNTIF(F$7:F$21,'Ture și reguli'!$B$7)) -> 1 | G26: =IF(OR(G$6="",'Ture și reguli'!$B$7=""),"",COUNTIF(G$7:G$21,'Ture și reguli'!$B$7)) -> 1 | H26: =IF(OR(H$6="",'Ture și reguli'!$B$7=""),"",COUNTIF(H$7:H$21,'Ture și reguli'!$B$7)) -> 1 | I26: =IF(OR(I$6="",'Ture și reguli'!$B$7=""),"",COUNTIF(I$7:I$21,'Ture și reguli'!$B$7)) -> 1 | J26: =IF(OR(J$6="",'Ture și reguli'!$B$7=""),"",COUNTIF(J$7:J$21,'Ture și reguli'!$B$7)) -> 0 | K26: =IF(OR(K$6="",'Ture și reguli'!$B$7=""),"",COUNTIF(K$7:K$21,'Ture și reguli'!$B$7)) -> 0 | ... AH26: =IF(OR(AH$6="",'Ture și reguli'!$B$7=""),"",COUNTIF(AH$7:AH$21,'Ture și reguli'!$B$7))
B27: =IF('Ture și reguli'!$B$8="","",'Ture și reguli'!$B$8&" – "&'Ture și reguli'!$C$8) -> Z12 – Zi 12 ore | C27: =IF('Ture și reguli'!$B$8="","","necesar: "&'Ture și reguli'!$I$8) -> necesar: 0 | D27: =IF(OR(D$6="",'Ture și reguli'!$B$8=""),"",COUNTIF(D$7:D$21,'Ture și reguli'!$B$8)) -> 1 | E27: =IF(OR(E$6="",'Ture și reguli'!$B$8=""),"",COUNTIF(E$7:E$21,'Ture și reguli'!$B$8)) -> 0 | F27: =IF(OR(F$6="",'Ture și reguli'!$B$8=""),"",COUNTIF(F$7:F$21,'Ture și reguli'!$B$8)) -> 1 | G27: =IF(OR(G$6="",'Ture și reguli'!$B$8=""),"",COUNTIF(G$7:G$21,'Ture și reguli'!$B$8)) -> 0 | H27: =IF(OR(H$6="",'Ture și reguli'!$B$8=""),"",COUNTIF(H$7:H$21,'Ture și reguli'!$B$8)) -> 1 | I27: =IF(OR(I$6="",'Ture și reguli'!$B$8=""),"",COUNTIF(I$7:I$21,'Ture și reguli'!$B$8)) -> 0 | J27: =IF(OR(J$6="",'Ture și reguli'!$B$8=""),"",COUNTIF(J$7:J$21,'Ture și reguli'!$B$8)) -> 1 | K27: =IF(OR(K$6="",'Ture și reguli'!$B$8=""),"",COUNTIF(K$7:K$21,'Ture și reguli'!$B$8)) -> 0 | ... AH27: =IF(OR(AH$6="",'Ture și reguli'!$B$8=""),"",COUNTIF(AH$7:AH$21,'Ture și reguli'!$B$8))
B28: =IF('Ture și reguli'!$B$9="","",'Ture și reguli'!$B$9&" – "&'Ture și reguli'!$C$9) -> N12 – Noapte 12 ore | C28: =IF('Ture și reguli'!$B$9="","","necesar: "&'Ture și reguli'!$I$9) -> necesar: 0 | D28: =IF(OR(D$6="",'Ture și reguli'!$B$9=""),"",COUNTIF(D$7:D$21,'Ture și reguli'!$B$9)) -> 0 | E28: =IF(OR(E$6="",'Ture și reguli'!$B$9=""),"",COUNTIF(E$7:E$21,'Ture și reguli'!$B$9)) -> 1 | F28: =IF(OR(F$6="",'Ture și reguli'!$B$9=""),"",COUNTIF(F$7:F$21,'Ture și reguli'!$B$9)) -> 0 | G28: =IF(OR(G$6="",'Ture și reguli'!$B$9=""),"",COUNTIF(G$7:G$21,'Ture și reguli'!$B$9)) -> 1 | H28: =IF(OR(H$6="",'Ture și reguli'!$B$9=""),"",COUNTIF(H$7:H$21,'Ture și reguli'!$B$9)) -> 0 | I28: =IF(OR(I$6="",'Ture și reguli'!$B$9=""),"",COUNTIF(I$7:I$21,'Ture și reguli'!$B$9)) -> 1 | J28: =IF(OR(J$6="",'Ture și reguli'!$B$9=""),"",COUNTIF(J$7:J$21,'Ture și reguli'!$B$9)) -> 0 | K28: =IF(OR(K$6="",'Ture și reguli'!$B$9=""),"",COUNTIF(K$7:K$21,'Ture și reguli'!$B$9)) -> 1 | ... AH28: =IF(OR(AH$6="",'Ture și reguli'!$B$9=""),"",COUNTIF(AH$7:AH$21,'Ture și reguli'!$B$9))
B29: =IF('Ture și reguli'!$B$10="","",'Ture și reguli'!$B$10&" – "&'Ture și reguli'!$C$10) | C29: =IF('Ture și reguli'!$B$10="","","necesar: "&'Ture și reguli'!$I$10) | D29: =IF(OR(D$6="",'Ture și reguli'!$B$10=""),"",COUNTIF(D$7:D$21,'Ture și reguli'!$B$10)) | E29: =IF(OR(E$6="",'Ture și reguli'!$B$10=""),"",COUNTIF(E$7:E$21,'Ture și reguli'!$B$10)) | F29: =IF(OR(F$6="",'Ture și reguli'!$B$10=""),"",COUNTIF(F$7:F$21,'Ture și reguli'!$B$10)) | G29: =IF(OR(G$6="",'Ture și reguli'!$B$10=""),"",COUNTIF(G$7:G$21,'Ture și reguli'!$B$10)) | H29: =IF(OR(H$6="",'Ture și reguli'!$B$10=""),"",COUNTIF(H$7:H$21,'Ture și reguli'!$B$10)) | I29: =IF(OR(I$6="",'Ture și reguli'!$B$10=""),"",COUNTIF(I$7:I$21,'Ture și reguli'!$B$10)) | J29: =IF(OR(J$6="",'Ture și reguli'!$B$10=""),"",COUNTIF(J$7:J$21,'Ture și reguli'!$B$10)) | K29: =IF(OR(K$6="",'Ture și reguli'!$B$10=""),"",COUNTIF(K$7:K$21,'Ture și reguli'!$B$10)) | ... AH29: =IF(OR(AH$6="",'Ture și reguli'!$B$10=""),"",COUNTIF(AH$7:AH$21,'Ture și reguli'!$B$10))
D40: 0 | E40: =IF(AND(D7<>"",E7<>"",ISNUMBER(MATCH(D7,CoduriLucru,0)),ISNUMBER(MATCH(E7,CoduriLucru,0))),IF(24+INDEX(StartH,MATCH(E7,CoduriLucru,0))-INDEX(SfarsitH,MATCH(D7,CoduriLucru,0))<IF(INDEX(OreTura,MATCH(D7,CoduriLucru,0))>=12,Repaus12,MinRepaus),1,0),0) -> 0 | F40: =IF(AND(E7<>"",F7<>"",ISNUMBER(MATCH(E7,CoduriLucru,0)),ISNUMBER(MATCH(F7,CoduriLucru,0))),IF(24+INDEX(StartH,MATCH(F7,CoduriLucru,0))-INDEX(SfarsitH,MATCH(E7,CoduriLucru,0))<IF(INDEX(OreTura,MATCH(E7,CoduriLucru,0))>=12,Repaus12,MinRepaus),1,0),0) -> 0 | G40: =IF(AND(F7<>"",G7<>"",ISNUMBER(MATCH(F7,CoduriLucru,0)),ISNUMBER(MATCH(G7,CoduriLucru,0))),IF(24+INDEX(StartH,MATCH(G7,CoduriLucru,0))-INDEX(SfarsitH,MATCH(F7,CoduriLucru,0))<IF(INDEX(OreTura,MATCH(F7,CoduriLucru,0))>=12,Repaus12,MinRepaus),1,0),0) -> 0 | H40: =IF(AND(G7<>"",H7<>"",ISNUMBER(MATCH(G7,CoduriLucru,0)),ISNUMBER(MATCH(H7,CoduriLucru,0))),IF(24+INDEX(StartH,MATCH(H7,CoduriLucru,0))-INDEX(SfarsitH,MATCH(G7,CoduriLucru,0))<IF(INDEX(OreTura,MATCH(G7,CoduriLucru,0))>=12,Repaus12,MinRepaus),1,0),0) -> 0 | I40: =IF(AND(H7<>"",I7<>"",ISNUMBER(MATCH(H7,CoduriLucru,0)),ISNUMBER(MATCH(I7,CoduriLucru,0))),IF(24+INDEX(StartH,MATCH(I7,CoduriLucru,0))-INDEX(SfarsitH,MATCH(H7,CoduriLucru,0))<IF(INDEX(OreTura,MATCH(H7,CoduriLucru,0))>=12,Repaus12,MinRepaus),1,0),0) -> 0 | J40: =IF(AND(I7<>"",J7<>"",ISNUMBER(MATCH(I7,CoduriLucru,0)),ISNUMBER(MATCH(J7,CoduriLucru,0))),IF(24+INDEX(StartH,MATCH(J7,CoduriLucru,0))-INDEX(SfarsitH,MATCH(I7,CoduriLucru,0))<IF(INDEX(OreTura,MATCH(I7,CoduriLucru,0))>=12,Repaus12,MinRepaus),1,0),0) -> 0 | K40: =IF(AND(J7<>"",K7<>"",ISNUMBER(MATCH(J7,CoduriLucru,0)),ISNUMBER(MATCH(K7,CoduriLucru,0))),IF(24+INDEX(StartH,MATCH(K7,CoduriLucru,0))-INDEX(SfarsitH,MATCH(J7,CoduriLucru,0))<IF(INDEX(OreTura,MATCH(J7,CoduriLucru,0))>=12,Repaus12,MinRepaus),1,0),0) -> 0 | L40: =IF(AND(K7<>"",L7<>"",ISNUMBER(MATCH(K7,CoduriLucru,0)),ISNUMBER(MATCH(L7,CoduriLucru,0))),IF(24+INDEX(StartH,MATCH(L7,CoduriLucru,0))-INDEX(SfarsitH,MATCH(K7,CoduriLucru,0))<IF(INDEX(OreTura,MATCH(K7,CoduriLucru,0))>=12,Repaus12,MinRepaus),1,0),0) -> 0 | ... AH40: =IF(AND(AG7<>"",AH7<>"",ISNUMBER(MATCH(AG7,CoduriLucru,0)),ISNUMBER(MATCH(AH7,CoduriLucru,0))),IF(24+INDEX(StartH,MATCH(AH7,CoduriLucru,0))-INDEX(SfarsitH,MATCH(AG7,CoduriLucru,0))<IF(INDEX(OreTura,MATCH(AG7,CoduriLucru,0))>=12,Repaus12,MinRepaus),1,0),0) -> 0
D41: 0 | E41: =IF(AND(D8<>"",E8<>"",ISNUMBER(MATCH(D8,CoduriLucru,0)),ISNUMBER(MATCH(E8,CoduriLucru,0))),IF(24+INDEX(StartH,MATCH(E8,CoduriLucru,0))-INDEX(SfarsitH,MATCH(D8,CoduriLucru,0))<IF(INDEX(OreTura,MATCH(D8,CoduriLucru,0))>=12,Repaus12,MinRepaus),1,0),0) -> 0 | F41: =IF(AND(E8<>"",F8<>"",ISNUMBER(MATCH(E8,CoduriLucru,0)),ISNUMBER(MATCH(F8,CoduriLucru,0))),IF(24+INDEX(StartH,MATCH(F8,CoduriLucru,0))-INDEX(SfarsitH,MATCH(E8,CoduriLucru,0))<IF(INDEX(OreTura,MATCH(E8,CoduriLucru,0))>=12,Repaus12,MinRepaus),1,0),0) -> 0 | G41: =IF(AND(F8<>"",G8<>"",ISNUMBER(MATCH(F8,CoduriLucru,0)),ISNUMBER(MATCH(G8,CoduriLucru,0))),IF(24+INDEX(StartH,MATCH(G8,CoduriLucru,0))-INDEX(SfarsitH,MATCH(F8,CoduriLucru,0))<IF(INDEX(OreTura,MATCH(F8,CoduriLucru,0))>=12,Repaus12,MinRepaus),1,0),0) -> 0 | H41: =IF(AND(G8<>"",H8<>"",ISNUMBER(MATCH(G8,CoduriLucru,0)),ISNUMBER(MATCH(H8,CoduriLucru,0))),IF(24+INDEX(StartH,MATCH(H8,CoduriLucru,0))-INDEX(SfarsitH,MATCH(G8,CoduriLucru,0))<IF(INDEX(OreTura,MATCH(G8,CoduriLucru,0))>=12,Repaus12,MinRepaus),1,0),0) -> 0 | I41: =IF(AND(H8<>"",I8<>"",ISNUMBER(MATCH(H8,CoduriLucru,0)),ISNUMBER(MATCH(I8,CoduriLucru,0))),IF(24+INDEX(StartH,MATCH(I8,CoduriLucru,0))-INDEX(SfarsitH,MATCH(H8,CoduriLucru,0))<IF(INDEX(OreTura,MATCH(H8,CoduriLucru,0))>=12,Repaus12,MinRepaus),1,0),0) -> 0 | J41: =IF(AND(I8<>"",J8<>"",ISNUMBER(MATCH(I8,CoduriLucru,0)),ISNUMBER(MATCH(J8,CoduriLucru,0))),IF(24+INDEX(StartH,MATCH(J8,CoduriLucru,0))-INDEX(SfarsitH,MATCH(I8,CoduriLucru,0))<IF(INDEX(OreTura,MATCH(I8,CoduriLucru,0))>=12,Repaus12,MinRepaus),1,0),0) -> 0 | K41: =IF(AND(J8<>"",K8<>"",ISNUMBER(MATCH(J8,CoduriLucru,0)),ISNUMBER(MATCH(K8,CoduriLucru,0))),IF(24+INDEX(StartH,MATCH(K8,CoduriLucru,0))-INDEX(SfarsitH,MATCH(J8,CoduriLucru,0))<IF(INDEX(OreTura,MATCH(J8,CoduriLucru,0))>=12,Repaus12,MinRepaus),1,0),0) -> 0 | L41: =IF(AND(K8<>"",L8<>"",ISNUMBER(MATCH(K8,CoduriLucru,0)),ISNUMBER(MATCH(L8,CoduriLucru,0))),IF(24+INDEX(StartH,MATCH(L8,CoduriLucru,0))-INDEX(SfarsitH,MATCH(K8,CoduriLucru,0))<IF(INDEX(OreTura,MATCH(K8,CoduriLucru,0))>=12,Repaus12,MinRepaus),1,0),0) -> 0 | ... AH41: =IF(AND(AG8<>"",AH8<>"",ISNUMBER(MATCH(AG8,CoduriLucru,0)),ISNUMBER(MATCH(AH8,CoduriLucru,0))),IF(24+INDEX(StartH,MATCH(AH8,CoduriLucru,0))-INDEX(SfarsitH,MATCH(AG8,CoduriLucru,0))<IF(INDEX(OreTura,MATCH(AG8,CoduriLucru,0))>=12,Repaus12,MinRepaus),1,0),0) -> 0
D42: 0 | E42: =IF(AND(D9<>"",E9<>"",ISNUMBER(MATCH(D9,CoduriLucru,0)),ISNUMBER(MATCH(E9,CoduriLucru,0))),IF(24+INDEX(StartH,MATCH(E9,CoduriLucru,0))-INDEX(SfarsitH,MATCH(D9,CoduriLucru,0))<IF(INDEX(OreTura,MATCH(D9,CoduriLucru,0))>=12,Repaus12,MinRepaus),1,0),0) -> 0 | F42: =IF(AND(E9<>"",F9<>"",ISNUMBER(MATCH(E9,CoduriLucru,0)),ISNUMBER(MATCH(F9,CoduriLucru,0))),IF(24+INDEX(StartH,MATCH(F9,CoduriLucru,0))-INDEX(SfarsitH,MATCH(E9,CoduriLucru,0))<IF(INDEX(OreTura,MATCH(E9,CoduriLucru,0))>=12,Repaus12,MinRepaus),1,0),0) -> 0 | G42: =IF(AND(F9<>"",G9<>"",ISNUMBER(MATCH(F9,CoduriLucru,0)),ISNUMBER(MATCH(G9,CoduriLucru,0))),IF(24+INDEX(StartH,MATCH(G9,CoduriLucru,0))-INDEX(SfarsitH,MATCH(F9,CoduriLucru,0))<IF(INDEX(OreTura,MATCH(F9,CoduriLucru,0))>=12,Repaus12,MinRepaus),1,0),0) -> 0 | H42: =IF(AND(G9<>"",H9<>"",ISNUMBER(MATCH(G9,CoduriLucru,0)),ISNUMBER(MATCH(H9,CoduriLucru,0))),IF(24+INDEX(StartH,MATCH(H9,CoduriLucru,0))-INDEX(SfarsitH,MATCH(G9,CoduriLucru,0))<IF(INDEX(OreTura,MATCH(G9,CoduriLucru,0))>=12,Repaus12,MinRepaus),1,0),0) -> 0 | I42: =IF(AND(H9<>"",I9<>"",ISNUMBER(MATCH(H9,CoduriLucru,0)),ISNUMBER(MATCH(I9,CoduriLucru,0))),IF(24+INDEX(StartH,MATCH(I9,CoduriLucru,0))-INDEX(SfarsitH,MATCH(H9,CoduriLucru,0))<IF(INDEX(OreTura,MATCH(H9,CoduriLucru,0))>=12,Repaus12,MinRepaus),1,0),0) -> 0 | J42: =IF(AND(I9<>"",J9<>"",ISNUMBER(MATCH(I9,CoduriLucru,0)),ISNUMBER(MATCH(J9,CoduriLucru,0))),IF(24+INDEX(StartH,MATCH(J9,CoduriLucru,0))-INDEX(SfarsitH,MATCH(I9,CoduriLucru,0))<IF(INDEX(OreTura,MATCH(I9,CoduriLucru,0))>=12,Repaus12,MinRepaus),1,0),0) -> 0 | K42: =IF(AND(J9<>"",K9<>"",ISNUMBER(MATCH(J9,CoduriLucru,0)),ISNUMBER(MATCH(K9,CoduriLucru,0))),IF(24+INDEX(StartH,MATCH(K9,CoduriLucru,0))-INDEX(SfarsitH,MATCH(J9,CoduriLucru,0))<IF(INDEX(OreTura,MATCH(J9,CoduriLucru,0))>=12,Repaus12,MinRepaus),1,0),0) -> 0 | L42: =IF(AND(K9<>"",L9<>"",ISNUMBER(MATCH(K9,CoduriLucru,0)),ISNUMBER(MATCH(L9,CoduriLucru,0))),IF(24+INDEX(StartH,MATCH(L9,CoduriLucru,0))-INDEX(SfarsitH,MATCH(K9,CoduriLucru,0))<IF(INDEX(OreTura,MATCH(K9,CoduriLucru,0))>=12,Repaus12,MinRepaus),1,0),0) -> 0 | ... AH42: =IF(AND(AG9<>"",AH9<>"",ISNUMBER(MATCH(AG9,CoduriLucru,0)),ISNUMBER(MATCH(AH9,CoduriLucru,0))),IF(24+INDEX(StartH,MATCH(AH9,CoduriLucru,0))-INDEX(SfarsitH,MATCH(AG9,CoduriLucru,0))<IF(INDEX(OreTura,MATCH(AG9,CoduriLucru,0))>=12,Repaus12,MinRepaus),1,0),0) -> 0
D43: 0 | E43: =IF(AND(D10<>"",E10<>"",ISNUMBER(MATCH(D10,CoduriLucru,0)),ISNUMBER(MATCH(E10,CoduriLucru,0))),IF(24+INDEX(StartH,MATCH(E10,CoduriLucru,0))-INDEX(SfarsitH,MATCH(D10,CoduriLucru,0))<IF(INDEX(OreTura,MATCH(D10,CoduriLucru,0))>=12,Repaus12,MinRepaus),1,0),0) -> 0 | F43: =IF(AND(E10<>"",F10<>"",ISNUMBER(MATCH(E10,CoduriLucru,0)),ISNUMBER(MATCH(F10,CoduriLucru,0))),IF(24+INDEX(StartH,MATCH(F10,CoduriLucru,0))-INDEX(SfarsitH,MATCH(E10,CoduriLucru,0))<IF(INDEX(OreTura,MATCH(E10,CoduriLucru,0))>=12,Repaus12,MinRepaus),1,0),0) -> 0 | G43: =IF(AND(F10<>"",G10<>"",ISNUMBER(MATCH(F10,CoduriLucru,0)),ISNUMBER(MATCH(G10,CoduriLucru,0))),IF(24+INDEX(StartH,MATCH(G10,CoduriLucru,0))-INDEX(SfarsitH,MATCH(F10,CoduriLucru,0))<IF(INDEX(OreTura,MATCH(F10,CoduriLucru,0))>=12,Repaus12,MinRepaus),1,0),0) -> 0 | H43: =IF(AND(G10<>"",H10<>"",ISNUMBER(MATCH(G10,CoduriLucru,0)),ISNUMBER(MATCH(H10,CoduriLucru,0))),IF(24+INDEX(StartH,MATCH(H10,CoduriLucru,0))-INDEX(SfarsitH,MATCH(G10,CoduriLucru,0))<IF(INDEX(OreTura,MATCH(G10,CoduriLucru,0))>=12,Repaus12,MinRepaus),1,0),0) -> 0 | I43: =IF(AND(H10<>"",I10<>"",ISNUMBER(MATCH(H10,CoduriLucru,0)),ISNUMBER(MATCH(I10,CoduriLucru,0))),IF(24+INDEX(StartH,MATCH(I10,CoduriLucru,0))-INDEX(SfarsitH,MATCH(H10,CoduriLucru,0))<IF(INDEX(OreTura,MATCH(H10,CoduriLucru,0))>=12,Repaus12,MinRepaus),1,0),0) -> 0 | J43: =IF(AND(I10<>"",J10<>"",ISNUMBER(MATCH(I10,CoduriLucru,0)),ISNUMBER(MATCH(J10,CoduriLucru,0))),IF(24+INDEX(StartH,MATCH(J10,CoduriLucru,0))-INDEX(SfarsitH,MATCH(I10,CoduriLucru,0))<IF(INDEX(OreTura,MATCH(I10,CoduriLucru,0))>=12,Repaus12,MinRepaus),1,0),0) -> 0 | K43: =IF(AND(J10<>"",K10<>"",ISNUMBER(MATCH(J10,CoduriLucru,0)),ISNUMBER(MATCH(K10,CoduriLucru,0))),IF(24+INDEX(StartH,MATCH(K10,CoduriLucru,0))-INDEX(SfarsitH,MATCH(J10,CoduriLucru,0))<IF(INDEX(OreTura,MATCH(J10,CoduriLucru,0))>=12,Repaus12,MinRepaus),1,0),0) -> 0 | L43: =IF(AND(K10<>"",L10<>"",ISNUMBER(MATCH(K10,CoduriLucru,0)),ISNUMBER(MATCH(L10,CoduriLucru,0))),IF(24+INDEX(StartH,MATCH(L10,CoduriLucru,0))-INDEX(SfarsitH,MATCH(K10,CoduriLucru,0))<IF(INDEX(OreTura,MATCH(K10,CoduriLucru,0))>=12,Repaus12,MinRepaus),1,0),0) -> 0 | ... AH43: =IF(AND(AG10<>"",AH10<>"",ISNUMBER(MATCH(AG10,CoduriLucru,0)),ISNUMBER(MATCH(AH10,CoduriLucru,0))),IF(24+INDEX(StartH,MATCH(AH10,CoduriLucru,0))-INDEX(SfarsitH,MATCH(AG10,CoduriLucru,0))<IF(INDEX(OreTura,MATCH(AG10,CoduriLucru,0))>=12,Repaus12,MinRepaus),1,0),0) -> 0
D44: 0 | E44: =IF(AND(D11<>"",E11<>"",ISNUMBER(MATCH(D11,CoduriLucru,0)),ISNUMBER(MATCH(E11,CoduriLucru,0))),IF(24+INDEX(StartH,MATCH(E11,CoduriLucru,0))-INDEX(SfarsitH,MATCH(D11,CoduriLucru,0))<IF(INDEX(OreTura,MATCH(D11,CoduriLucru,0))>=12,Repaus12,MinRepaus),1,0),0) -> 0 | F44: =IF(AND(E11<>"",F11<>"",ISNUMBER(MATCH(E11,CoduriLucru,0)),ISNUMBER(MATCH(F11,CoduriLucru,0))),IF(24+INDEX(StartH,MATCH(F11,CoduriLucru,0))-INDEX(SfarsitH,MATCH(E11,CoduriLucru,0))<IF(INDEX(OreTura,MATCH(E11,CoduriLucru,0))>=12,Repaus12,MinRepaus),1,0),0) -> 0 | G44: =IF(AND(F11<>"",G11<>"",ISNUMBER(MATCH(F11,CoduriLucru,0)),ISNUMBER(MATCH(G11,CoduriLucru,0))),IF(24+INDEX(StartH,MATCH(G11,CoduriLucru,0))-INDEX(SfarsitH,MATCH(F11,CoduriLucru,0))<IF(INDEX(OreTura,MATCH(F11,CoduriLucru,0))>=12,Repaus12,MinRepaus),1,0),0) -> 0 | H44: =IF(AND(G11<>"",H11<>"",ISNUMBER(MATCH(G11,CoduriLucru,0)),ISNUMBER(MATCH(H11,CoduriLucru,0))),IF(24+INDEX(StartH,MATCH(H11,CoduriLucru,0))-INDEX(SfarsitH,MATCH(G11,CoduriLucru,0))<IF(INDEX(OreTura,MATCH(G11,CoduriLucru,0))>=12,Repaus12,MinRepaus),1,0),0) -> 0 | I44: =IF(AND(H11<>"",I11<>"",ISNUMBER(MATCH(H11,CoduriLucru,0)),ISNUMBER(MATCH(I11,CoduriLucru,0))),IF(24+INDEX(StartH,MATCH(I11,CoduriLucru,0))-INDEX(SfarsitH,MATCH(H11,CoduriLucru,0))<IF(INDEX(OreTura,MATCH(H11,CoduriLucru,0))>=12,Repaus12,MinRepaus),1,0),0) -> 0 | J44: =IF(AND(I11<>"",J11<>"",ISNUMBER(MATCH(I11,CoduriLucru,0)),ISNUMBER(MATCH(J11,CoduriLucru,0))),IF(24+INDEX(StartH,MATCH(J11,CoduriLucru,0))-INDEX(SfarsitH,MATCH(I11,CoduriLucru,0))<IF(INDEX(OreTura,MATCH(I11,CoduriLucru,0))>=12,Repaus12,MinRepaus),1,0),0) -> 0 | K44: =IF(AND(J11<>"",K11<>"",ISNUMBER(MATCH(J11,CoduriLucru,0)),ISNUMBER(MATCH(K11,CoduriLucru,0))),IF(24+INDEX(StartH,MATCH(K11,CoduriLucru,0))-INDEX(SfarsitH,MATCH(J11,CoduriLucru,0))<IF(INDEX(OreTura,MATCH(J11,CoduriLucru,0))>=12,Repaus12,MinRepaus),1,0),0) -> 0 | L44: =IF(AND(K11<>"",L11<>"",ISNUMBER(MATCH(K11,CoduriLucru,0)),ISNUMBER(MATCH(L11,CoduriLucru,0))),IF(24+INDEX(StartH,MATCH(L11,CoduriLucru,0))-INDEX(SfarsitH,MATCH(K11,CoduriLucru,0))<IF(INDEX(OreTura,MATCH(K11,CoduriLucru,0))>=12,Repaus12,MinRepaus),1,0),0) -> 0 | ... AH44: =IF(AND(AG11<>"",AH11<>"",ISNUMBER(MATCH(AG11,CoduriLucru,0)),ISNUMBER(MATCH(AH11,CoduriLucru,0))),IF(24+INDEX(StartH,MATCH(AH11,CoduriLucru,0))-INDEX(SfarsitH,MATCH(AG11,CoduriLucru,0))<IF(INDEX(OreTura,MATCH(AG11,CoduriLucru,0))>=12,Repaus12,MinRepaus),1,0),0) -> 0
D45: 0 | E45: =IF(AND(D12<>"",E12<>"",ISNUMBER(MATCH(D12,CoduriLucru,0)),ISNUMBER(MATCH(E12,CoduriLucru,0))),IF(24+INDEX(StartH,MATCH(E12,CoduriLucru,0))-INDEX(SfarsitH,MATCH(D12,CoduriLucru,0))<IF(INDEX(OreTura,MATCH(D12,CoduriLucru,0))>=12,Repaus12,MinRepaus),1,0),0) -> 0 | F45: =IF(AND(E12<>"",F12<>"",ISNUMBER(MATCH(E12,CoduriLucru,0)),ISNUMBER(MATCH(F12,CoduriLucru,0))),IF(24+INDEX(StartH,MATCH(F12,CoduriLucru,0))-INDEX(SfarsitH,MATCH(E12,CoduriLucru,0))<IF(INDEX(OreTura,MATCH(E12,CoduriLucru,0))>=12,Repaus12,MinRepaus),1,0),0) -> 0 | G45: =IF(AND(F12<>"",G12<>"",ISNUMBER(MATCH(F12,CoduriLucru,0)),ISNUMBER(MATCH(G12,CoduriLucru,0))),IF(24+INDEX(StartH,MATCH(G12,CoduriLucru,0))-INDEX(SfarsitH,MATCH(F12,CoduriLucru,0))<IF(INDEX(OreTura,MATCH(F12,CoduriLucru,0))>=12,Repaus12,MinRepaus),1,0),0) -> 0 | H45: =IF(AND(G12<>"",H12<>"",ISNUMBER(MATCH(G12,CoduriLucru,0)),ISNUMBER(MATCH(H12,CoduriLucru,0))),IF(24+INDEX(StartH,MATCH(H12,CoduriLucru,0))-INDEX(SfarsitH,MATCH(G12,CoduriLucru,0))<IF(INDEX(OreTura,MATCH(G12,CoduriLucru,0))>=12,Repaus12,MinRepaus),1,0),0) -> 0 | I45: =IF(AND(H12<>"",I12<>"",ISNUMBER(MATCH(H12,CoduriLucru,0)),ISNUMBER(MATCH(I12,CoduriLucru,0))),IF(24+INDEX(StartH,MATCH(I12,CoduriLucru,0))-INDEX(SfarsitH,MATCH(H12,CoduriLucru,0))<IF(INDEX(OreTura,MATCH(H12,CoduriLucru,0))>=12,Repaus12,MinRepaus),1,0),0) -> 0 | J45: =IF(AND(I12<>"",J12<>"",ISNUMBER(MATCH(I12,CoduriLucru,0)),ISNUMBER(MATCH(J12,CoduriLucru,0))),IF(24+INDEX(StartH,MATCH(J12,CoduriLucru,0))-INDEX(SfarsitH,MATCH(I12,CoduriLucru,0))<IF(INDEX(OreTura,MATCH(I12,CoduriLucru,0))>=12,Repaus12,MinRepaus),1,0),0) -> 0 | K45: =IF(AND(J12<>"",K12<>"",ISNUMBER(MATCH(J12,CoduriLucru,0)),ISNUMBER(MATCH(K12,CoduriLucru,0))),IF(24+INDEX(StartH,MATCH(K12,CoduriLucru,0))-INDEX(SfarsitH,MATCH(J12,CoduriLucru,0))<IF(INDEX(OreTura,MATCH(J12,CoduriLucru,0))>=12,Repaus12,MinRepaus),1,0),0) -> 0 | L45: =IF(AND(K12<>"",L12<>"",ISNUMBER(MATCH(K12,CoduriLucru,0)),ISNUMBER(MATCH(L12,CoduriLucru,0))),IF(24+INDEX(StartH,MATCH(L12,CoduriLucru,0))-INDEX(SfarsitH,MATCH(K12,CoduriLucru,0))<IF(INDEX(OreTura,MATCH(K12,CoduriLucru,0))>=12,Repaus12,MinRepaus),1,0),0) -> 0 | ... AH45: =IF(AND(AG12<>"",AH12<>"",ISNUMBER(MATCH(AG12,CoduriLucru,0)),ISNUMBER(MATCH(AH12,CoduriLucru,0))),IF(24+INDEX(StartH,MATCH(AH12,CoduriLucru,0))-INDEX(SfarsitH,MATCH(AG12,CoduriLucru,0))<IF(INDEX(OreTura,MATCH(AG12,CoduriLucru,0))>=12,Repaus12,MinRepaus),1,0),0) -> 0
D46: 0 | E46: =IF(AND(D13<>"",E13<>"",ISNUMBER(MATCH(D13,CoduriLucru,0)),ISNUMBER(MATCH(E13,CoduriLucru,0))),IF(24+INDEX(StartH,MATCH(E13,CoduriLucru,0))-INDEX(SfarsitH,MATCH(D13,CoduriLucru,0))<IF(INDEX(OreTura,MATCH(D13,CoduriLucru,0))>=12,Repaus12,MinRepaus),1,0),0) -> 0 | F46: =IF(AND(E13<>"",F13<>"",ISNUMBER(MATCH(E13,CoduriLucru,0)),ISNUMBER(MATCH(F13,CoduriLucru,0))),IF(24+INDEX(StartH,MATCH(F13,CoduriLucru,0))-INDEX(SfarsitH,MATCH(E13,CoduriLucru,0))<IF(INDEX(OreTura,MATCH(E13,CoduriLucru,0))>=12,Repaus12,MinRepaus),1,0),0) -> 0 | G46: =IF(AND(F13<>"",G13<>"",ISNUMBER(MATCH(F13,CoduriLucru,0)),ISNUMBER(MATCH(G13,CoduriLucru,0))),IF(24+INDEX(StartH,MATCH(G13,CoduriLucru,0))-INDEX(SfarsitH,MATCH(F13,CoduriLucru,0))<IF(INDEX(OreTura,MATCH(F13,CoduriLucru,0))>=12,Repaus12,MinRepaus),1,0),0) -> 0 | H46: =IF(AND(G13<>"",H13<>"",ISNUMBER(MATCH(G13,CoduriLucru,0)),ISNUMBER(MATCH(H13,CoduriLucru,0))),IF(24+INDEX(StartH,MATCH(H13,CoduriLucru,0))-INDEX(SfarsitH,MATCH(G13,CoduriLucru,0))<IF(INDEX(OreTura,MATCH(G13,CoduriLucru,0))>=12,Repaus12,MinRepaus),1,0),0) -> 0 | I46: =IF(AND(H13<>"",I13<>"",ISNUMBER(MATCH(H13,CoduriLucru,0)),ISNUMBER(MATCH(I13,CoduriLucru,0))),IF(24+INDEX(StartH,MATCH(I13,CoduriLucru,0))-INDEX(SfarsitH,MATCH(H13,CoduriLucru,0))<IF(INDEX(OreTura,MATCH(H13,CoduriLucru,0))>=12,Repaus12,MinRepaus),1,0),0) -> 0 | J46: =IF(AND(I13<>"",J13<>"",ISNUMBER(MATCH(I13,CoduriLucru,0)),ISNUMBER(MATCH(J13,CoduriLucru,0))),IF(24+INDEX(StartH,MATCH(J13,CoduriLucru,0))-INDEX(SfarsitH,MATCH(I13,CoduriLucru,0))<IF(INDEX(OreTura,MATCH(I13,CoduriLucru,0))>=12,Repaus12,MinRepaus),1,0),0) -> 0 | K46: =IF(AND(J13<>"",K13<>"",ISNUMBER(MATCH(J13,CoduriLucru,0)),ISNUMBER(MATCH(K13,CoduriLucru,0))),IF(24+INDEX(StartH,MATCH(K13,CoduriLucru,0))-INDEX(SfarsitH,MATCH(J13,CoduriLucru,0))<IF(INDEX(OreTura,MATCH(J13,CoduriLucru,0))>=12,Repaus12,MinRepaus),1,0),0) -> 0 | L46: =IF(AND(K13<>"",L13<>"",ISNUMBER(MATCH(K13,CoduriLucru,0)),ISNUMBER(MATCH(L13,CoduriLucru,0))),IF(24+INDEX(StartH,MATCH(L13,CoduriLucru,0))-INDEX(SfarsitH,MATCH(K13,CoduriLucru,0))<IF(INDEX(OreTura,MATCH(K13,CoduriLucru,0))>=12,Repaus12,MinRepaus),1,0),0) -> 0 | ... AH46: =IF(AND(AG13<>"",AH13<>"",ISNUMBER(MATCH(AG13,CoduriLucru,0)),ISNUMBER(MATCH(AH13,CoduriLucru,0))),IF(24+INDEX(StartH,MATCH(AH13,CoduriLucru,0))-INDEX(SfarsitH,MATCH(AG13,CoduriLucru,0))<IF(INDEX(OreTura,MATCH(AG13,CoduriLucru,0))>=12,Repaus12,MinRepaus),1,0),0) -> 0
D47: 0 | E47: =IF(AND(D14<>"",E14<>"",ISNUMBER(MATCH(D14,CoduriLucru,0)),ISNUMBER(MATCH(E14,CoduriLucru,0))),IF(24+INDEX(StartH,MATCH(E14,CoduriLucru,0))-INDEX(SfarsitH,MATCH(D14,CoduriLucru,0))<IF(INDEX(OreTura,MATCH(D14,CoduriLucru,0))>=12,Repaus12,MinRepaus),1,0),0) -> 0 | F47: =IF(AND(E14<>"",F14<>"",ISNUMBER(MATCH(E14,CoduriLucru,0)),ISNUMBER(MATCH(F14,CoduriLucru,0))),IF(24+INDEX(StartH,MATCH(F14,CoduriLucru,0))-INDEX(SfarsitH,MATCH(E14,CoduriLucru,0))<IF(INDEX(OreTura,MATCH(E14,CoduriLucru,0))>=12,Repaus12,MinRepaus),1,0),0) -> 0 | G47: =IF(AND(F14<>"",G14<>"",ISNUMBER(MATCH(F14,CoduriLucru,0)),ISNUMBER(MATCH(G14,CoduriLucru,0))),IF(24+INDEX(StartH,MATCH(G14,CoduriLucru,0))-INDEX(SfarsitH,MATCH(F14,CoduriLucru,0))<IF(INDEX(OreTura,MATCH(F14,CoduriLucru,0))>=12,Repaus12,MinRepaus),1,0),0) -> 0 | H47: =IF(AND(G14<>"",H14<>"",ISNUMBER(MATCH(G14,CoduriLucru,0)),ISNUMBER(MATCH(H14,CoduriLucru,0))),IF(24+INDEX(StartH,MATCH(H14,CoduriLucru,0))-INDEX(SfarsitH,MATCH(G14,CoduriLucru,0))<IF(INDEX(OreTura,MATCH(G14,CoduriLucru,0))>=12,Repaus12,MinRepaus),1,0),0) -> 0 | I47: =IF(AND(H14<>"",I14<>"",ISNUMBER(MATCH(H14,CoduriLucru,0)),ISNUMBER(MATCH(I14,CoduriLucru,0))),IF(24+INDEX(StartH,MATCH(I14,CoduriLucru,0))-INDEX(SfarsitH,MATCH(H14,CoduriLucru,0))<IF(INDEX(OreTura,MATCH(H14,CoduriLucru,0))>=12,Repaus12,MinRepaus),1,0),0) -> 0 | J47: =IF(AND(I14<>"",J14<>"",ISNUMBER(MATCH(I14,CoduriLucru,0)),ISNUMBER(MATCH(J14,CoduriLucru,0))),IF(24+INDEX(StartH,MATCH(J14,CoduriLucru,0))-INDEX(SfarsitH,MATCH(I14,CoduriLucru,0))<IF(INDEX(OreTura,MATCH(I14,CoduriLucru,0))>=12,Repaus12,MinRepaus),1,0),0) -> 0 | K47: =IF(AND(J14<>"",K14<>"",ISNUMBER(MATCH(J14,CoduriLucru,0)),ISNUMBER(MATCH(K14,CoduriLucru,0))),IF(24+INDEX(StartH,MATCH(K14,CoduriLucru,0))-INDEX(SfarsitH,MATCH(J14,CoduriLucru,0))<IF(INDEX(OreTura,MATCH(J14,CoduriLucru,0))>=12,Repaus12,MinRepaus),1,0),0) -> 0 | L47: =IF(AND(K14<>"",L14<>"",ISNUMBER(MATCH(K14,CoduriLucru,0)),ISNUMBER(MATCH(L14,CoduriLucru,0))),IF(24+INDEX(StartH,MATCH(L14,CoduriLucru,0))-INDEX(SfarsitH,MATCH(K14,CoduriLucru,0))<IF(INDEX(OreTura,MATCH(K14,CoduriLucru,0))>=12,Repaus12,MinRepaus),1,0),0) -> 0 | ... AH47: =IF(AND(AG14<>"",AH14<>"",ISNUMBER(MATCH(AG14,CoduriLucru,0)),ISNUMBER(MATCH(AH14,CoduriLucru,0))),IF(24+INDEX(StartH,MATCH(AH14,CoduriLucru,0))-INDEX(SfarsitH,MATCH(AG14,CoduriLucru,0))<IF(INDEX(OreTura,MATCH(AG14,CoduriLucru,0))>=12,Repaus12,MinRepaus),1,0),0) -> 0
D48: 0 | E48: =IF(AND(D15<>"",E15<>"",ISNUMBER(MATCH(D15,CoduriLucru,0)),ISNUMBER(MATCH(E15,CoduriLucru,0))),IF(24+INDEX(StartH,MATCH(E15,CoduriLucru,0))-INDEX(SfarsitH,MATCH(D15,CoduriLucru,0))<IF(INDEX(OreTura,MATCH(D15,CoduriLucru,0))>=12,Repaus12,MinRepaus),1,0),0) -> 0 | F48: =IF(AND(E15<>"",F15<>"",ISNUMBER(MATCH(E15,CoduriLucru,0)),ISNUMBER(MATCH(F15,CoduriLucru,0))),IF(24+INDEX(StartH,MATCH(F15,CoduriLucru,0))-INDEX(SfarsitH,MATCH(E15,CoduriLucru,0))<IF(INDEX(OreTura,MATCH(E15,CoduriLucru,0))>=12,Repaus12,MinRepaus),1,0),0) -> 0 | G48: =IF(AND(F15<>"",G15<>"",ISNUMBER(MATCH(F15,CoduriLucru,0)),ISNUMBER(MATCH(G15,CoduriLucru,0))),IF(24+INDEX(StartH,MATCH(G15,CoduriLucru,0))-INDEX(SfarsitH,MATCH(F15,CoduriLucru,0))<IF(INDEX(OreTura,MATCH(F15,CoduriLucru,0))>=12,Repaus12,MinRepaus),1,0),0) -> 0 | H48: =IF(AND(G15<>"",H15<>"",ISNUMBER(MATCH(G15,CoduriLucru,0)),ISNUMBER(MATCH(H15,CoduriLucru,0))),IF(24+INDEX(StartH,MATCH(H15,CoduriLucru,0))-INDEX(SfarsitH,MATCH(G15,CoduriLucru,0))<IF(INDEX(OreTura,MATCH(G15,CoduriLucru,0))>=12,Repaus12,MinRepaus),1,0),0) -> 0 | I48: =IF(AND(H15<>"",I15<>"",ISNUMBER(MATCH(H15,CoduriLucru,0)),ISNUMBER(MATCH(I15,CoduriLucru,0))),IF(24+INDEX(StartH,MATCH(I15,CoduriLucru,0))-INDEX(SfarsitH,MATCH(H15,CoduriLucru,0))<IF(INDEX(OreTura,MATCH(H15,CoduriLucru,0))>=12,Repaus12,MinRepaus),1,0),0) -> 0 | J48: =IF(AND(I15<>"",J15<>"",ISNUMBER(MATCH(I15,CoduriLucru,0)),ISNUMBER(MATCH(J15,CoduriLucru,0))),IF(24+INDEX(StartH,MATCH(J15,CoduriLucru,0))-INDEX(SfarsitH,MATCH(I15,CoduriLucru,0))<IF(INDEX(OreTura,MATCH(I15,CoduriLucru,0))>=12,Repaus12,MinRepaus),1,0),0) -> 0 | K48: =IF(AND(J15<>"",K15<>"",ISNUMBER(MATCH(J15,CoduriLucru,0)),ISNUMBER(MATCH(K15,CoduriLucru,0))),IF(24+INDEX(StartH,MATCH(K15,CoduriLucru,0))-INDEX(SfarsitH,MATCH(J15,CoduriLucru,0))<IF(INDEX(OreTura,MATCH(J15,CoduriLucru,0))>=12,Repaus12,MinRepaus),1,0),0) -> 0 | L48: =IF(AND(K15<>"",L15<>"",ISNUMBER(MATCH(K15,CoduriLucru,0)),ISNUMBER(MATCH(L15,CoduriLucru,0))),IF(24+INDEX(StartH,MATCH(L15,CoduriLucru,0))-INDEX(SfarsitH,MATCH(K15,CoduriLucru,0))<IF(INDEX(OreTura,MATCH(K15,CoduriLucru,0))>=12,Repaus12,MinRepaus),1,0),0) -> 0 | ... AH48: =IF(AND(AG15<>"",AH15<>"",ISNUMBER(MATCH(AG15,CoduriLucru,0)),ISNUMBER(MATCH(AH15,CoduriLucru,0))),IF(24+INDEX(StartH,MATCH(AH15,CoduriLucru,0))-INDEX(SfarsitH,MATCH(AG15,CoduriLucru,0))<IF(INDEX(OreTura,MATCH(AG15,CoduriLucru,0))>=12,Repaus12,MinRepaus),1,0),0) -> 0
D49: 0 | E49: =IF(AND(D16<>"",E16<>"",ISNUMBER(MATCH(D16,CoduriLucru,0)),ISNUMBER(MATCH(E16,CoduriLucru,0))),IF(24+INDEX(StartH,MATCH(E16,CoduriLucru,0))-INDEX(SfarsitH,MATCH(D16,CoduriLucru,0))<IF(INDEX(OreTura,MATCH(D16,CoduriLucru,0))>=12,Repaus12,MinRepaus),1,0),0) -> 0 | F49: =IF(AND(E16<>"",F16<>"",ISNUMBER(MATCH(E16,CoduriLucru,0)),ISNUMBER(MATCH(F16,CoduriLucru,0))),IF(24+INDEX(StartH,MATCH(F16,CoduriLucru,0))-INDEX(SfarsitH,MATCH(E16,CoduriLucru,0))<IF(INDEX(OreTura,MATCH(E16,CoduriLucru,0))>=12,Repaus12,MinRepaus),1,0),0) -> 0 | G49: =IF(AND(F16<>"",G16<>"",ISNUMBER(MATCH(F16,CoduriLucru,0)),ISNUMBER(MATCH(G16,CoduriLucru,0))),IF(24+INDEX(StartH,MATCH(G16,CoduriLucru,0))-INDEX(SfarsitH,MATCH(F16,CoduriLucru,0))<IF(INDEX(OreTura,MATCH(F16,CoduriLucru,0))>=12,Repaus12,MinRepaus),1,0),0) -> 0 | H49: =IF(AND(G16<>"",H16<>"",ISNUMBER(MATCH(G16,CoduriLucru,0)),ISNUMBER(MATCH(H16,CoduriLucru,0))),IF(24+INDEX(StartH,MATCH(H16,CoduriLucru,0))-INDEX(SfarsitH,MATCH(G16,CoduriLucru,0))<IF(INDEX(OreTura,MATCH(G16,CoduriLucru,0))>=12,Repaus12,MinRepaus),1,0),0) -> 0 | I49: =IF(AND(H16<>"",I16<>"",ISNUMBER(MATCH(H16,CoduriLucru,0)),ISNUMBER(MATCH(I16,CoduriLucru,0))),IF(24+INDEX(StartH,MATCH(I16,CoduriLucru,0))-INDEX(SfarsitH,MATCH(H16,CoduriLucru,0))<IF(INDEX(OreTura,MATCH(H16,CoduriLucru,0))>=12,Repaus12,MinRepaus),1,0),0) -> 0 | J49: =IF(AND(I16<>"",J16<>"",ISNUMBER(MATCH(I16,CoduriLucru,0)),ISNUMBER(MATCH(J16,CoduriLucru,0))),IF(24+INDEX(StartH,MATCH(J16,CoduriLucru,0))-INDEX(SfarsitH,MATCH(I16,CoduriLucru,0))<IF(INDEX(OreTura,MATCH(I16,CoduriLucru,0))>=12,Repaus12,MinRepaus),1,0),0) -> 0 | K49: =IF(AND(J16<>"",K16<>"",ISNUMBER(MATCH(J16,CoduriLucru,0)),ISNUMBER(MATCH(K16,CoduriLucru,0))),IF(24+INDEX(StartH,MATCH(K16,CoduriLucru,0))-INDEX(SfarsitH,MATCH(J16,CoduriLucru,0))<IF(INDEX(OreTura,MATCH(J16,CoduriLucru,0))>=12,Repaus12,MinRepaus),1,0),0) -> 0 | L49: =IF(AND(K16<>"",L16<>"",ISNUMBER(MATCH(K16,CoduriLucru,0)),ISNUMBER(MATCH(L16,CoduriLucru,0))),IF(24+INDEX(StartH,MATCH(L16,CoduriLucru,0))-INDEX(SfarsitH,MATCH(K16,CoduriLucru,0))<IF(INDEX(OreTura,MATCH(K16,CoduriLucru,0))>=12,Repaus12,MinRepaus),1,0),0) -> 0 | ... AH49: =IF(AND(AG16<>"",AH16<>"",ISNUMBER(MATCH(AG16,CoduriLucru,0)),ISNUMBER(MATCH(AH16,CoduriLucru,0))),IF(24+INDEX(StartH,MATCH(AH16,CoduriLucru,0))-INDEX(SfarsitH,MATCH(AG16,CoduriLucru,0))<IF(INDEX(OreTura,MATCH(AG16,CoduriLucru,0))>=12,Repaus12,MinRepaus),1,0),0) -> 0
D50: 0 | E50: =IF(AND(D17<>"",E17<>"",ISNUMBER(MATCH(D17,CoduriLucru,0)),ISNUMBER(MATCH(E17,CoduriLucru,0))),IF(24+INDEX(StartH,MATCH(E17,CoduriLucru,0))-INDEX(SfarsitH,MATCH(D17,CoduriLucru,0))<IF(INDEX(OreTura,MATCH(D17,CoduriLucru,0))>=12,Repaus12,MinRepaus),1,0),0) -> 0 | F50: =IF(AND(E17<>"",F17<>"",ISNUMBER(MATCH(E17,CoduriLucru,0)),ISNUMBER(MATCH(F17,CoduriLucru,0))),IF(24+INDEX(StartH,MATCH(F17,CoduriLucru,0))-INDEX(SfarsitH,MATCH(E17,CoduriLucru,0))<IF(INDEX(OreTura,MATCH(E17,CoduriLucru,0))>=12,Repaus12,MinRepaus),1,0),0) -> 0 | G50: =IF(AND(F17<>"",G17<>"",ISNUMBER(MATCH(F17,CoduriLucru,0)),ISNUMBER(MATCH(G17,CoduriLucru,0))),IF(24+INDEX(StartH,MATCH(G17,CoduriLucru,0))-INDEX(SfarsitH,MATCH(F17,CoduriLucru,0))<IF(INDEX(OreTura,MATCH(F17,CoduriLucru,0))>=12,Repaus12,MinRepaus),1,0),0) -> 0 | H50: =IF(AND(G17<>"",H17<>"",ISNUMBER(MATCH(G17,CoduriLucru,0)),ISNUMBER(MATCH(H17,CoduriLucru,0))),IF(24+INDEX(StartH,MATCH(H17,CoduriLucru,0))-INDEX(SfarsitH,MATCH(G17,CoduriLucru,0))<IF(INDEX(OreTura,MATCH(G17,CoduriLucru,0))>=12,Repaus12,MinRepaus),1,0),0) -> 0 | I50: =IF(AND(H17<>"",I17<>"",ISNUMBER(MATCH(H17,CoduriLucru,0)),ISNUMBER(MATCH(I17,CoduriLucru,0))),IF(24+INDEX(StartH,MATCH(I17,CoduriLucru,0))-INDEX(SfarsitH,MATCH(H17,CoduriLucru,0))<IF(INDEX(OreTura,MATCH(H17,CoduriLucru,0))>=12,Repaus12,MinRepaus),1,0),0) -> 0 | J50: =IF(AND(I17<>"",J17<>"",ISNUMBER(MATCH(I17,CoduriLucru,0)),ISNUMBER(MATCH(J17,CoduriLucru,0))),IF(24+INDEX(StartH,MATCH(J17,CoduriLucru,0))-INDEX(SfarsitH,MATCH(I17,CoduriLucru,0))<IF(INDEX(OreTura,MATCH(I17,CoduriLucru,0))>=12,Repaus12,MinRepaus),1,0),0) -> 0 | K50: =IF(AND(J17<>"",K17<>"",ISNUMBER(MATCH(J17,CoduriLucru,0)),ISNUMBER(MATCH(K17,CoduriLucru,0))),IF(24+INDEX(StartH,MATCH(K17,CoduriLucru,0))-INDEX(SfarsitH,MATCH(J17,CoduriLucru,0))<IF(INDEX(OreTura,MATCH(J17,CoduriLucru,0))>=12,Repaus12,MinRepaus),1,0),0) -> 0 | L50: =IF(AND(K17<>"",L17<>"",ISNUMBER(MATCH(K17,CoduriLucru,0)),ISNUMBER(MATCH(L17,CoduriLucru,0))),IF(24+INDEX(StartH,MATCH(L17,CoduriLucru,0))-INDEX(SfarsitH,MATCH(K17,CoduriLucru,0))<IF(INDEX(OreTura,MATCH(K17,CoduriLucru,0))>=12,Repaus12,MinRepaus),1,0),0) -> 0 | ... AH50: =IF(AND(AG17<>"",AH17<>"",ISNUMBER(MATCH(AG17,CoduriLucru,0)),ISNUMBER(MATCH(AH17,CoduriLucru,0))),IF(24+INDEX(StartH,MATCH(AH17,CoduriLucru,0))-INDEX(SfarsitH,MATCH(AG17,CoduriLucru,0))<IF(INDEX(OreTura,MATCH(AG17,CoduriLucru,0))>=12,Repaus12,MinRepaus),1,0),0) -> 0
D51: 0 | E51: =IF(AND(D18<>"",E18<>"",ISNUMBER(MATCH(D18,CoduriLucru,0)),ISNUMBER(MATCH(E18,CoduriLucru,0))),IF(24+INDEX(StartH,MATCH(E18,CoduriLucru,0))-INDEX(SfarsitH,MATCH(D18,CoduriLucru,0))<IF(INDEX(OreTura,MATCH(D18,CoduriLucru,0))>=12,Repaus12,MinRepaus),1,0),0) -> 0 | F51: =IF(AND(E18<>"",F18<>"",ISNUMBER(MATCH(E18,CoduriLucru,0)),ISNUMBER(MATCH(F18,CoduriLucru,0))),IF(24+INDEX(StartH,MATCH(F18,CoduriLucru,0))-INDEX(SfarsitH,MATCH(E18,CoduriLucru,0))<IF(INDEX(OreTura,MATCH(E18,CoduriLucru,0))>=12,Repaus12,MinRepaus),1,0),0) -> 0 | G51: =IF(AND(F18<>"",G18<>"",ISNUMBER(MATCH(F18,CoduriLucru,0)),ISNUMBER(MATCH(G18,CoduriLucru,0))),IF(24+INDEX(StartH,MATCH(G18,CoduriLucru,0))-INDEX(SfarsitH,MATCH(F18,CoduriLucru,0))<IF(INDEX(OreTura,MATCH(F18,CoduriLucru,0))>=12,Repaus12,MinRepaus),1,0),0) -> 0 | H51: =IF(AND(G18<>"",H18<>"",ISNUMBER(MATCH(G18,CoduriLucru,0)),ISNUMBER(MATCH(H18,CoduriLucru,0))),IF(24+INDEX(StartH,MATCH(H18,CoduriLucru,0))-INDEX(SfarsitH,MATCH(G18,CoduriLucru,0))<IF(INDEX(OreTura,MATCH(G18,CoduriLucru,0))>=12,Repaus12,MinRepaus),1,0),0) -> 0 | I51: =IF(AND(H18<>"",I18<>"",ISNUMBER(MATCH(H18,CoduriLucru,0)),ISNUMBER(MATCH(I18,CoduriLucru,0))),IF(24+INDEX(StartH,MATCH(I18,CoduriLucru,0))-INDEX(SfarsitH,MATCH(H18,CoduriLucru,0))<IF(INDEX(OreTura,MATCH(H18,CoduriLucru,0))>=12,Repaus12,MinRepaus),1,0),0) -> 0 | J51: =IF(AND(I18<>"",J18<>"",ISNUMBER(MATCH(I18,CoduriLucru,0)),ISNUMBER(MATCH(J18,CoduriLucru,0))),IF(24+INDEX(StartH,MATCH(J18,CoduriLucru,0))-INDEX(SfarsitH,MATCH(I18,CoduriLucru,0))<IF(INDEX(OreTura,MATCH(I18,CoduriLucru,0))>=12,Repaus12,MinRepaus),1,0),0) -> 0 | K51: =IF(AND(J18<>"",K18<>"",ISNUMBER(MATCH(J18,CoduriLucru,0)),ISNUMBER(MATCH(K18,CoduriLucru,0))),IF(24+INDEX(StartH,MATCH(K18,CoduriLucru,0))-INDEX(SfarsitH,MATCH(J18,CoduriLucru,0))<IF(INDEX(OreTura,MATCH(J18,CoduriLucru,0))>=12,Repaus12,MinRepaus),1,0),0) -> 0 | L51: =IF(AND(K18<>"",L18<>"",ISNUMBER(MATCH(K18,CoduriLucru,0)),ISNUMBER(MATCH(L18,CoduriLucru,0))),IF(24+INDEX(StartH,MATCH(L18,CoduriLucru,0))-INDEX(SfarsitH,MATCH(K18,CoduriLucru,0))<IF(INDEX(OreTura,MATCH(K18,CoduriLucru,0))>=12,Repaus12,MinRepaus),1,0),0) -> 0 | ... AH51: =IF(AND(AG18<>"",AH18<>"",ISNUMBER(MATCH(AG18,CoduriLucru,0)),ISNUMBER(MATCH(AH18,CoduriLucru,0))),IF(24+INDEX(StartH,MATCH(AH18,CoduriLucru,0))-INDEX(SfarsitH,MATCH(AG18,CoduriLucru,0))<IF(INDEX(OreTura,MATCH(AG18,CoduriLucru,0))>=12,Repaus12,MinRepaus),1,0),0) -> 0
... D54: 0 | E54: =IF(AND(D21<>"",E21<>"",ISNUMBER(MATCH(D21,CoduriLucru,0)),ISNUMBER(MATCH(E21,CoduriLucru,0))),IF(24+INDEX(StartH,MATCH(E21,CoduriLucru,0))-INDEX(SfarsitH,MATCH(D21,CoduriLucru,0))<IF(INDEX(OreTura,MATCH(D21,CoduriLucru,0))>=12,Repaus12,MinRepaus),1,0),0) -> 0 | F54: =IF(AND(E21<>"",F21<>"",ISNUMBER(MATCH(E21,CoduriLucru,0)),ISNUMBER(MATCH(F21,CoduriLucru,0))),IF(24+INDEX(StartH,MATCH(F21,CoduriLucru,0))-INDEX(SfarsitH,MATCH(E21,CoduriLucru,0))<IF(INDEX(OreTura,MATCH(E21,CoduriLucru,0))>=12,Repaus12,MinRepaus),1,0),0) -> 0 | G54: =IF(AND(F21<>"",G21<>"",ISNUMBER(MATCH(F21,CoduriLucru,0)),ISNUMBER(MATCH(G21,CoduriLucru,0))),IF(24+INDEX(StartH,MATCH(G21,CoduriLucru,0))-INDEX(SfarsitH,MATCH(F21,CoduriLucru,0))<IF(INDEX(OreTura,MATCH(F21,CoduriLucru,0))>=12,Repaus12,MinRepaus),1,0),0) -> 0 | H54: =IF(AND(G21<>"",H21<>"",ISNUMBER(MATCH(G21,CoduriLucru,0)),ISNUMBER(MATCH(H21,CoduriLucru,0))),IF(24+INDEX(StartH,MATCH(H21,CoduriLucru,0))-INDEX(SfarsitH,MATCH(G21,CoduriLucru,0))<IF(INDEX(OreTura,MATCH(G21,CoduriLucru,0))>=12,Repaus12,MinRepaus),1,0),0) -> 0 | I54: =IF(AND(H21<>"",I21<>"",ISNUMBER(MATCH(H21,CoduriLucru,0)),ISNUMBER(MATCH(I21,CoduriLucru,0))),IF(24+INDEX(StartH,MATCH(I21,CoduriLucru,0))-INDEX(SfarsitH,MATCH(H21,CoduriLucru,0))<IF(INDEX(OreTura,MATCH(H21,CoduriLucru,0))>=12,Repaus12,MinRepaus),1,0),0) -> 0 | J54: =IF(AND(I21<>"",J21<>"",ISNUMBER(MATCH(I21,CoduriLucru,0)),ISNUMBER(MATCH(J21,CoduriLucru,0))),IF(24+INDEX(StartH,MATCH(J21,CoduriLucru,0))-INDEX(SfarsitH,MATCH(I21,CoduriLucru,0))<IF(INDEX(OreTura,MATCH(I21,CoduriLucru,0))>=12,Repaus12,MinRepaus),1,0),0) -> 0 | K54: =IF(AND(J21<>"",K21<>"",ISNUMBER(MATCH(J21,CoduriLucru,0)),ISNUMBER(MATCH(K21,CoduriLucru,0))),IF(24+INDEX(StartH,MATCH(K21,CoduriLucru,0))-INDEX(SfarsitH,MATCH(J21,CoduriLucru,0))<IF(INDEX(OreTura,MATCH(J21,CoduriLucru,0))>=12,Repaus12,MinRepaus),1,0),0) -> 0 | L54: =IF(AND(K21<>"",L21<>"",ISNUMBER(MATCH(K21,CoduriLucru,0)),ISNUMBER(MATCH(L21,CoduriLucru,0))),IF(24+INDEX(StartH,MATCH(L21,CoduriLucru,0))-INDEX(SfarsitH,MATCH(K21,CoduriLucru,0))<IF(INDEX(OreTura,MATCH(K21,CoduriLucru,0))>=12,Repaus12,MinRepaus),1,0),0) -> 0 | ... AH54: =IF(AND(AG21<>"",AH21<>"",ISNUMBER(MATCH(AG21,CoduriLucru,0)),ISNUMBER(MATCH(AH21,CoduriLucru,0))),IF(24+INDEX(StartH,MATCH(AH21,CoduriLucru,0))-INDEX(SfarsitH,MATCH(AG21,CoduriLucru,0))<IF(INDEX(OreTura,MATCH(AG21,CoduriLucru,0))>=12,Repaus12,MinRepaus),1,0),0) -> 0
D60: =IF(ISNUMBER(MATCH(D7,CoduriLucru,0)),1,0) -> 0 | E60: =IF(ISNUMBER(MATCH(E7,CoduriLucru,0)),D60+1,0) -> 1 | F60: =IF(ISNUMBER(MATCH(F7,CoduriLucru,0)),E60+1,0) -> 2 | G60: =IF(ISNUMBER(MATCH(G7,CoduriLucru,0)),F60+1,0) -> 3 | H60: =IF(ISNUMBER(MATCH(H7,CoduriLucru,0)),G60+1,0) -> 4 | I60: =IF(ISNUMBER(MATCH(I7,CoduriLucru,0)),H60+1,0) -> 5 | J60: =IF(ISNUMBER(MATCH(J7,CoduriLucru,0)),I60+1,0) -> 0 | K60: =IF(ISNUMBER(MATCH(K7,CoduriLucru,0)),J60+1,0) -> 0 | L60: =IF(ISNUMBER(MATCH(L7,CoduriLucru,0)),K60+1,0) -> 1 | ... AH60: =IF(ISNUMBER(MATCH(AH7,CoduriLucru,0)),AG60+1,0) -> 0
D61: =IF(ISNUMBER(MATCH(D8,CoduriLucru,0)),1,0) -> 0 | E61: =IF(ISNUMBER(MATCH(E8,CoduriLucru,0)),D61+1,0) -> 1 | F61: =IF(ISNUMBER(MATCH(F8,CoduriLucru,0)),E61+1,0) -> 2 | G61: =IF(ISNUMBER(MATCH(G8,CoduriLucru,0)),F61+1,0) -> 3 | H61: =IF(ISNUMBER(MATCH(H8,CoduriLucru,0)),G61+1,0) -> 4 | I61: =IF(ISNUMBER(MATCH(I8,CoduriLucru,0)),H61+1,0) -> 5 | J61: =IF(ISNUMBER(MATCH(J8,CoduriLucru,0)),I61+1,0) -> 0 | K61: =IF(ISNUMBER(MATCH(K8,CoduriLucru,0)),J61+1,0) -> 0 | L61: =IF(ISNUMBER(MATCH(L8,CoduriLucru,0)),K61+1,0) -> 1 | ... AH61: =IF(ISNUMBER(MATCH(AH8,CoduriLucru,0)),AG61+1,0) -> 0
D62: =IF(ISNUMBER(MATCH(D9,CoduriLucru,0)),1,0) -> 0 | E62: =IF(ISNUMBER(MATCH(E9,CoduriLucru,0)),D62+1,0) -> 1 | F62: =IF(ISNUMBER(MATCH(F9,CoduriLucru,0)),E62+1,0) -> 2 | G62: =IF(ISNUMBER(MATCH(G9,CoduriLucru,0)),F62+1,0) -> 3 | H62: =IF(ISNUMBER(MATCH(H9,CoduriLucru,0)),G62+1,0) -> 4 | I62: =IF(ISNUMBER(MATCH(I9,CoduriLucru,0)),H62+1,0) -> 5 | J62: =IF(ISNUMBER(MATCH(J9,CoduriLucru,0)),I62+1,0) -> 0 | K62: =IF(ISNUMBER(MATCH(K9,CoduriLucru,0)),J62+1,0) -> 0 | L62: =IF(ISNUMBER(MATCH(L9,CoduriLucru,0)),K62+1,0) -> 1 | ... AH62: =IF(ISNUMBER(MATCH(AH9,CoduriLucru,0)),AG62+1,0) -> 0
D63: =IF(ISNUMBER(MATCH(D10,CoduriLucru,0)),1,0) -> 1 | E63: =IF(ISNUMBER(MATCH(E10,CoduriLucru,0)),D63+1,0) -> 2 | F63: =IF(ISNUMBER(MATCH(F10,CoduriLucru,0)),E63+1,0) -> 0 | G63: =IF(ISNUMBER(MATCH(G10,CoduriLucru,0)),F63+1,0) -> 0 | H63: =IF(ISNUMBER(MATCH(H10,CoduriLucru,0)),G63+1,0) -> 1 | I63: =IF(ISNUMBER(MATCH(I10,CoduriLucru,0)),H63+1,0) -> 2 | J63: =IF(ISNUMBER(MATCH(J10,CoduriLucru,0)),I63+1,0) -> 0 | K63: =IF(ISNUMBER(MATCH(K10,CoduriLucru,0)),J63+1,0) -> 0 | L63: =IF(ISNUMBER(MATCH(L10,CoduriLucru,0)),K63+1,0) -> 1 | ... AH63: =IF(ISNUMBER(MATCH(AH10,CoduriLucru,0)),AG63+1,0) -> 0
D64: =IF(ISNUMBER(MATCH(D11,CoduriLucru,0)),1,0) -> 0 | E64: =IF(ISNUMBER(MATCH(E11,CoduriLucru,0)),D64+1,0) -> 0 | F64: =IF(ISNUMBER(MATCH(F11,CoduriLucru,0)),E64+1,0) -> 1 | G64: =IF(ISNUMBER(MATCH(G11,CoduriLucru,0)),F64+1,0) -> 2 | H64: =IF(ISNUMBER(MATCH(H11,CoduriLucru,0)),G64+1,0) -> 0 | I64: =IF(ISNUMBER(MATCH(I11,CoduriLucru,0)),H64+1,0) -> 0 | J64: =IF(ISNUMBER(MATCH(J11,CoduriLucru,0)),I64+1,0) -> 1 | K64: =IF(ISNUMBER(MATCH(K11,CoduriLucru,0)),J64+1,0) -> 2 | L64: =IF(ISNUMBER(MATCH(L11,CoduriLucru,0)),K64+1,0) -> 0 | ... AH64: =IF(ISNUMBER(MATCH(AH11,CoduriLucru,0)),AG64+1,0) -> 0
D65: =IF(ISNUMBER(MATCH(D12,CoduriLucru,0)),1,0) -> 0 | E65: =IF(ISNUMBER(MATCH(E12,CoduriLucru,0)),D65+1,0) -> 1 | F65: =IF(ISNUMBER(MATCH(F12,CoduriLucru,0)),E65+1,0) -> 2 | G65: =IF(ISNUMBER(MATCH(G12,CoduriLucru,0)),F65+1,0) -> 3 | H65: =IF(ISNUMBER(MATCH(H12,CoduriLucru,0)),G65+1,0) -> 4 | I65: =IF(ISNUMBER(MATCH(I12,CoduriLucru,0)),H65+1,0) -> 5 | J65: =IF(ISNUMBER(MATCH(J12,CoduriLucru,0)),I65+1,0) -> 0 | K65: =IF(ISNUMBER(MATCH(K12,CoduriLucru,0)),J65+1,0) -> 0 | L65: =IF(ISNUMBER(MATCH(L12,CoduriLucru,0)),K65+1,0) -> 1 | ... AH65: =IF(ISNUMBER(MATCH(AH12,CoduriLucru,0)),AG65+1,0) -> 0
D66: =IF(ISNUMBER(MATCH(D13,CoduriLucru,0)),1,0) -> 0 | E66: =IF(ISNUMBER(MATCH(E13,CoduriLucru,0)),D66+1,0) -> 0 | F66: =IF(ISNUMBER(MATCH(F13,CoduriLucru,0)),E66+1,0) -> 0 | G66: =IF(ISNUMBER(MATCH(G13,CoduriLucru,0)),F66+1,0) -> 0 | H66: =IF(ISNUMBER(MATCH(H13,CoduriLucru,0)),G66+1,0) -> 0 | I66: =IF(ISNUMBER(MATCH(I13,CoduriLucru,0)),H66+1,0) -> 0 | J66: =IF(ISNUMBER(MATCH(J13,CoduriLucru,0)),I66+1,0) -> 0 | K66: =IF(ISNUMBER(MATCH(K13,CoduriLucru,0)),J66+1,0) -> 0 | L66: =IF(ISNUMBER(MATCH(L13,CoduriLucru,0)),K66+1,0) -> 0 | ... AH66: =IF(ISNUMBER(MATCH(AH13,CoduriLucru,0)),AG66+1,0) -> 0
D67: =IF(ISNUMBER(MATCH(D14,CoduriLucru,0)),1,0) -> 0 | E67: =IF(ISNUMBER(MATCH(E14,CoduriLucru,0)),D67+1,0) -> 0 | F67: =IF(ISNUMBER(MATCH(F14,CoduriLucru,0)),E67+1,0) -> 0 | G67: =IF(ISNUMBER(MATCH(G14,CoduriLucru,0)),F67+1,0) -> 0 | H67: =IF(ISNUMBER(MATCH(H14,CoduriLucru,0)),G67+1,0) -> 0 | I67: =IF(ISNUMBER(MATCH(I14,CoduriLucru,0)),H67+1,0) -> 0 | J67: =IF(ISNUMBER(MATCH(J14,CoduriLucru,0)),I67+1,0) -> 0 | K67: =IF(ISNUMBER(MATCH(K14,CoduriLucru,0)),J67+1,0) -> 0 | L67: =IF(ISNUMBER(MATCH(L14,CoduriLucru,0)),K67+1,0) -> 0 | ... AH67: =IF(ISNUMBER(MATCH(AH14,CoduriLucru,0)),AG67+1,0) -> 0
D68: =IF(ISNUMBER(MATCH(D15,CoduriLucru,0)),1,0) -> 0 | E68: =IF(ISNUMBER(MATCH(E15,CoduriLucru,0)),D68+1,0) -> 0 | F68: =IF(ISNUMBER(MATCH(F15,CoduriLucru,0)),E68+1,0) -> 0 | G68: =IF(ISNUMBER(MATCH(G15,CoduriLucru,0)),F68+1,0) -> 0 | H68: =IF(ISNUMBER(MATCH(H15,CoduriLucru,0)),G68+1,0) -> 0 | I68: =IF(ISNUMBER(MATCH(I15,CoduriLucru,0)),H68+1,0) -> 0 | J68: =IF(ISNUMBER(MATCH(J15,CoduriLucru,0)),I68+1,0) -> 0 | K68: =IF(ISNUMBER(MATCH(K15,CoduriLucru,0)),J68+1,0) -> 0 | L68: =IF(ISNUMBER(MATCH(L15,CoduriLucru,0)),K68+1,0) -> 0 | ... AH68: =IF(ISNUMBER(MATCH(AH15,CoduriLucru,0)),AG68+1,0) -> 0
D69: =IF(ISNUMBER(MATCH(D16,CoduriLucru,0)),1,0) -> 0 | E69: =IF(ISNUMBER(MATCH(E16,CoduriLucru,0)),D69+1,0) -> 0 | F69: =IF(ISNUMBER(MATCH(F16,CoduriLucru,0)),E69+1,0) -> 0 | G69: =IF(ISNUMBER(MATCH(G16,CoduriLucru,0)),F69+1,0) -> 0 | H69: =IF(ISNUMBER(MATCH(H16,CoduriLucru,0)),G69+1,0) -> 0 | I69: =IF(ISNUMBER(MATCH(I16,CoduriLucru,0)),H69+1,0) -> 0 | J69: =IF(ISNUMBER(MATCH(J16,CoduriLucru,0)),I69+1,0) -> 0 | K69: =IF(ISNUMBER(MATCH(K16,CoduriLucru,0)),J69+1,0) -> 0 | L69: =IF(ISNUMBER(MATCH(L16,CoduriLucru,0)),K69+1,0) -> 0 | ... AH69: =IF(ISNUMBER(MATCH(AH16,CoduriLucru,0)),AG69+1,0) -> 0
D70: =IF(ISNUMBER(MATCH(D17,CoduriLucru,0)),1,0) -> 0 | E70: =IF(ISNUMBER(MATCH(E17,CoduriLucru,0)),D70+1,0) -> 0 | F70: =IF(ISNUMBER(MATCH(F17,CoduriLucru,0)),E70+1,0) -> 0 | G70: =IF(ISNUMBER(MATCH(G17,CoduriLucru,0)),F70+1,0) -> 0 | H70: =IF(ISNUMBER(MATCH(H17,CoduriLucru,0)),G70+1,0) -> 0 | I70: =IF(ISNUMBER(MATCH(I17,CoduriLucru,0)),H70+1,0) -> 0 | J70: =IF(ISNUMBER(MATCH(J17,CoduriLucru,0)),I70+1,0) -> 0 | K70: =IF(ISNUMBER(MATCH(K17,CoduriLucru,0)),J70+1,0) -> 0 | L70: =IF(ISNUMBER(MATCH(L17,CoduriLucru,0)),K70+1,0) -> 0 | ... AH70: =IF(ISNUMBER(MATCH(AH17,CoduriLucru,0)),AG70+1,0) -> 0
D71: =IF(ISNUMBER(MATCH(D18,CoduriLucru,0)),1,0) -> 0 | E71: =IF(ISNUMBER(MATCH(E18,CoduriLucru,0)),D71+1,0) -> 0 | F71: =IF(ISNUMBER(MATCH(F18,CoduriLucru,0)),E71+1,0) -> 0 | G71: =IF(ISNUMBER(MATCH(G18,CoduriLucru,0)),F71+1,0) -> 0 | H71: =IF(ISNUMBER(MATCH(H18,CoduriLucru,0)),G71+1,0) -> 0 | I71: =IF(ISNUMBER(MATCH(I18,CoduriLucru,0)),H71+1,0) -> 0 | J71: =IF(ISNUMBER(MATCH(J18,CoduriLucru,0)),I71+1,0) -> 0 | K71: =IF(ISNUMBER(MATCH(K18,CoduriLucru,0)),J71+1,0) -> 0 | L71: =IF(ISNUMBER(MATCH(L18,CoduriLucru,0)),K71+1,0) -> 0 | ... AH71: =IF(ISNUMBER(MATCH(AH18,CoduriLucru,0)),AG71+1,0) -> 0
... D74: =IF(ISNUMBER(MATCH(D21,CoduriLucru,0)),1,0) -> 0 | E74: =IF(ISNUMBER(MATCH(E21,CoduriLucru,0)),D74+1,0) -> 0 | F74: =IF(ISNUMBER(MATCH(F21,CoduriLucru,0)),E74+1,0) -> 0 | G74: =IF(ISNUMBER(MATCH(G21,CoduriLucru,0)),F74+1,0) -> 0 | H74: =IF(ISNUMBER(MATCH(H21,CoduriLucru,0)),G74+1,0) -> 0 | I74: =IF(ISNUMBER(MATCH(I21,CoduriLucru,0)),H74+1,0) -> 0 | J74: =IF(ISNUMBER(MATCH(J21,CoduriLucru,0)),I74+1,0) -> 0 | K74: =IF(ISNUMBER(MATCH(K21,CoduriLucru,0)),J74+1,0) -> 0 | L74: =IF(ISNUMBER(MATCH(L21,CoduriLucru,0)),K74+1,0) -> 0 | ... AH74: =IF(ISNUMBER(MATCH(AH21,CoduriLucru,0)),AG74+1,0) -> 0

Sheet Ture și reguli
B2: Definirea turelor și regulile de verificare
B4: Cod | C4: Denumire | D4: Ora început | E4: Ora sfârșit | F4: Pauză (min) | G4: Ore lucrate | H4: Ore de noapte (22–06) | I4: Necesar persoane / zi
B5: D | C5: Dimineață | D5: 0.25 | E5: 0.58333333 | F5: 0 | G5: =IF(B5="",0,ROUND(L5-K5-N(F5)/60,2)) -> 8 | H5: =IF(B5="",0,MAX(0,MIN(L5,30)-MAX(K5,22))+MAX(0,MIN(L5,6)-MAX(K5,0))) -> 0 | I5: 1 | K5: =IF(D5="",0,D5*24) -> 6 | L5: =IF(D5="",0,IF(E5<=D5,E5+1,E5)*24) -> 14
B6: A | C6: După-amiază | D6: 0.58333333 | E6: 0.91666667 | F6: 0 | G6: =IF(B6="",0,ROUND(L6-K6-N(F6)/60,2)) -> 8 | H6: =IF(B6="",0,MAX(0,MIN(L6,30)-MAX(K6,22))+MAX(0,MIN(L6,6)-MAX(K6,0))) -> 0 | I6: 1 | K6: =IF(D6="",0,D6*24) -> 14 | L6: =IF(D6="",0,IF(E6<=D6,E6+1,E6)*24) -> 22
B7: N | C7: Noapte | D7: 0.91666667 | E7: 0.25 | F7: 0 | G7: =IF(B7="",0,ROUND(L7-K7-N(F7)/60,2)) -> 8 | H7: =IF(B7="",0,MAX(0,MIN(L7,30)-MAX(K7,22))+MAX(0,MIN(L7,6)-MAX(K7,0))) -> 8 | I7: 1 | K7: =IF(D7="",0,D7*24) -> 22 | L7: =IF(D7="",0,IF(E7<=D7,E7+1,E7)*24) -> 30
B8: Z12 | C8: Zi 12 ore | D8: 0.29166667 | E8: 0.79166667 | F8: 60 | G8: =IF(B8="",0,ROUND(L8-K8-N(F8)/60,2)) -> 11 | H8: =IF(B8="",0,MAX(0,MIN(L8,30)-MAX(K8,22))+MAX(0,MIN(L8,6)-MAX(K8,0))) -> 0 | I8: 0 | K8: =IF(D8="",0,D8*24) -> 7 | L8: =IF(D8="",0,IF(E8<=D8,E8+1,E8)*24) -> 19
B9: N12 | C9: Noapte 12 ore | D9: 0.79166667 | E9: 0.29166667 | F9: 60 | G9: =IF(B9="",0,ROUND(L9-K9-N(F9)/60,2)) -> 11 | H9: =IF(B9="",0,MAX(0,MIN(L9,30)-MAX(K9,22))+MAX(0,MIN(L9,6)-MAX(K9,0))) -> 8 | I9: 0 | K9: =IF(D9="",0,D9*24) -> 19 | L9: =IF(D9="",0,IF(E9<=D9,E9+1,E9)*24) -> 31
G10: =IF(B10="",0,ROUND(L10-K10-N(F10)/60,2)) -> 0 | H10: =IF(B10="",0,MAX(0,MIN(L10,30)-MAX(K10,22))+MAX(0,MIN(L10,6)-MAX(K10,0))) -> 0 | K10: =IF(D10="",0,D10*24) -> 0 | L10: =IF(D10="",0,IF(E10<=D10,E10+1,E10)*24) -> 0
B11: L | C11: Liber (repaus)
B12: CO | C12: Concediu de odihnă
B13: CM | C13: Concediu medical
B15: Reguli de verificare
B16: Repaus minim între două ture (ore) | D16: 12 | E16: Codul muncii, art. 135: cel puțin 12 ore consecutive (în cazul muncii în schimburi, cel puțin 8 ore între schimburi).
B17: Repaus după o tură de 12 ore (ore) | D17: 24 | E17: Turele de 12 ore trebuie urmate de 24 de ore de repaus.
B18: Maxim zile de lucru consecutive | D18: 6 | E18: Ajută la respectarea repausului săptămânal de 48 de ore consecutive (art. 137).
B19: Normă zilnică (ore) | D19: 8 | E19: Folosită la calculul orelor de normă din lună.
B20: Verific acoperirea și în weekend / sărbători (1 = da, 0 = nu) | D20: 0 | E20: Pune 1 dacă activitatea are nevoie de personal și în weekend și de sărbători.
B22: Poți schimba orele, pauzele și denumirile turelor sau adăuga o tură nouă pe rândul liber (max. 6 ture de lucru). Codurile L, CO și CM nu sunt ture de lucru.
N30: Ianuarie
N31: Februarie
N32: Martie
N33: Aprilie
N34: Mai
N35: Iunie
N36: Iulie
N37: August
N38: Septembrie
N39: Octombrie
N40: Noiembrie
N41: Decembrie

Sheet Zile libere
B2: Sărbători legale
B4: Sărbătoare | C4: Data | G4: =DATE(_xlfn.SINGLE(AnT),INT((MOD(19*MOD(_xlfn.SINGLE(AnT),19)+15,30)+MOD(2*MOD(_xlfn.SINGLE(AnT),4)+4*MOD(_xlfn.SINGLE(AnT),7)-MOD(19*MOD(_xlfn.SINGLE(AnT),19)+15,30)+34,7)+114)/31),MOD(MOD(19*MOD(_xlfn.SINGLE(AnT),19)+15,30)+MOD(2*MOD(_xlfn.SINGLE(AnT),4)+4*MOD(_xlfn.SINGLE(AnT),7)-MOD(19*MOD(_xlfn.SINGLE(AnT),19)+15,30)+34,7)+114,31)+1)+13 -> 46124
B5: Anul Nou | C5: =RIGHT("0"&DAY(G5),2)&"."&RIGHT("0"&MONTH(G5),2)&"."&YEAR(G5) -> 01.01.2026 | G5: =DATE(_xlfn.SINGLE(AnT),1,1) -> 46023
B6: A doua zi de Anul Nou | C6: =RIGHT("0"&DAY(G6),2)&"."&RIGHT("0"&MONTH(G6),2)&"."&YEAR(G6) -> 02.01.2026 | G6: =DATE(_xlfn.SINGLE(AnT),1,2) -> 46024
B7: Boboteaza | C7: =RIGHT("0"&DAY(G7),2)&"."&RIGHT("0"&MONTH(G7),2)&"."&YEAR(G7) -> 06.01.2026 | G7: =DATE(_xlfn.SINGLE(AnT),1,6) -> 46028
B8: Sfântul Ioan | C8: =RIGHT("0"&DAY(G8),2)&"."&RIGHT("0"&MONTH(G8),2)&"."&YEAR(G8) -> 07.01.2026 | G8: =DATE(_xlfn.SINGLE(AnT),1,7) -> 46029
B9: Ziua Unirii | C9: =RIGHT("0"&DAY(G9),2)&"."&RIGHT("0"&MONTH(G9),2)&"."&YEAR(G9) -> 24.01.2026 | G9: =DATE(_xlfn.SINGLE(AnT),1,24) -> 46046
B10: Vinerea Mare | C10: =RIGHT("0"&DAY(G10),2)&"."&RIGHT("0"&MONTH(G10),2)&"."&YEAR(G10) -> 10.04.2026 | G10: =$G$4-2 -> 46122
B11: Paștele | C11: =RIGHT("0"&DAY(G11),2)&"."&RIGHT("0"&MONTH(G11),2)&"."&YEAR(G11) -> 12.04.2026 | G11: =$G$4 -> 46124
B12: A doua zi de Paște | C12: =RIGHT("0"&DAY(G12),2)&"."&RIGHT("0"&MONTH(G12),2)&"."&YEAR(G12) -> 13.04.2026 | G12: =$G$4+1 -> 46125
B13: Ziua Muncii | C13: =RIGHT("0"&DAY(G13),2)&"."&RIGHT("0"&MONTH(G13),2)&"."&YEAR(G13) -> 01.05.2026 | G13: =DATE(_xlfn.SINGLE(AnT),5,1) -> 46143
B14: Ziua Copilului | C14: =RIGHT("0"&DAY(G14),2)&"."&RIGHT("0"&MONTH(G14),2)&"."&YEAR(G14) -> 01.06.2026 | G14: =DATE(_xlfn.SINGLE(AnT),6,1) -> 46174
B15: Rusaliile | C15: =RIGHT("0"&DAY(G15),2)&"."&RIGHT("0"&MONTH(G15),2)&"."&YEAR(G15) -> 31.05.2026 | G15: =$G$4+49 -> 46173
B16: A doua zi de Rusalii | C16: =RIGHT("0"&DAY(G16),2)&"."&RIGHT("0"&MONTH(G16),2)&"."&YEAR(G16) -> 01.06.2026 | G16: =$G$4+50 -> 46174
B17: Sfânta Maria | C17: =RIGHT("0"&DAY(G17),2)&"."&RIGHT("0"&MONTH(G17),2)&"."&YEAR(G17) -> 15.08.2026 | G17: =DATE(_xlfn.SINGLE(AnT),8,15) -> 46249
B18: Sfântul Andrei | C18: =RIGHT("0"&DAY(G18),2)&"."&RIGHT("0"&MONTH(G18),2)&"."&YEAR(G18) -> 30.11.2026 | G18: =DATE(_xlfn.SINGLE(AnT),11,30) -> 46356
B19: Ziua Națională | C19: =RIGHT("0"&DAY(G19),2)&"."&RIGHT("0"&MONTH(G19),2)&"."&YEAR(G19) -> 01.12.2026 | G19: =DATE(_xlfn.SINGLE(AnT),12,1) -> 46357
B20: Crăciunul | C20: =RIGHT("0"&DAY(G20),2)&"."&RIGHT("0"&MONTH(G20),2)&"."&YEAR(G20) -> 25.12.2026 | G20: =DATE(_xlfn.SINGLE(AnT),12,25) -> 46381
B21: A doua zi de Crăciun | C21: =RIGHT("0"&DAY(G21),2)&"."&RIGHT("0"&MONTH(G21),2)&"."&YEAR(G21) -> 26.12.2026 | G21: =DATE(_xlfn.SINGLE(AnT),12,26) -> 46382

Sheet Despre model
B1: Grafic de lucru în ture Excel
B3: © 2026 Ray Moreno – modelexcel.ro
B4: Model gratuit: îl poți folosi și adapta în activitatea ta. Nu este permisă revânzarea lui sau publicarea pe alte site-uri.
B5: Instrucțiuni și alte modele: modelexcel.ro/ture-lucru-excel/
