Workbook
Name CoduriProd: Produse!$B$5:$B$104
Name DataInv: 'Listă de inventariere'!$J$1
Name TipMisc: 'Intrări-ieșiri'!$J$4:$J$5

Sheet Listă de inventariere
B1: Unitatea: | D1: Exemplu Servicii SRL | H1: Data inventarierii: | J1: =DATE(2026,10,31) -> 46326
B2: LISTĂ DE INVENTARIERE
B3: Gestiunea: | D3: Toate gestiunile | H3: Gestionar: | J3: Ionescu Maria
B4: Stocul scriptic este calculat la data inventarierii, din foaia „Intrări-ieșiri”. Completează doar coloana „Stoc faptic” cu cantitățile numărate.
B6: Nr. | C6: Cod | D6: Denumire | E6: U.M. | F6: Stoc scriptic | G6: Stoc faptic | H6: Diferență cantitate | I6: Preț unitar | J6: Valoare scriptică | K6: Valoare faptică | L6: Diferență valoare | M6: Observații / cauze
B7: =IF(C7="","",1) -> 1 | C7: =IF(Produse!$B$5="","",Produse!$B$5) -> P001 | D7: =IF(C7="","",Produse!$C$5) -> Hârtie copiator A4 80 g (top 500 coli) | E7: =IF(C7="","",Produse!$D$5) -> top | F7: =IF(C7="","",N(Produse!$G$5)+SUMIFS('Intrări-ieșiri'!$F$5:$F$504,'Intrări-ieșiri'!$C$5:$C$504,C7,'Intrări-ieșiri'!$E$5:$E$504,"Intrare",'Intrări-ieșiri'!$B$5:$B$504,"<="&DataInv)-SUMIFS('Intrări-ieșiri'!$F$5:$F$504,'Intrări-ieșiri'!$C$5:$C$504,C7,'Intrări-ieșiri'!$E$5:$E$504,"Ieșire",'Intrări-ieșiri'!$B$5:$B$504,"<="&DataInv)) -> 65 | G7: 64 | H7: =IF(OR(C7="",G7=""),"",G7-F7) -> -1 | I7: =IF(C7="","",N(Produse!$F$5)) -> 21.5 | J7: =IF(C7="","",ROUND(F7*I7,2)) -> 1397.5 | K7: =IF(OR(C7="",G7=""),"",ROUND(G7*I7,2)) -> 1376 | L7: =IF(OR(C7="",G7=""),"",K7-J7) -> -21.5 | M7: Diferență de numărare – reverificat
B8: =IF(C8="","",2) -> 2 | C8: =IF(Produse!$B$6="","",Produse!$B$6) -> P002 | D8: =IF(C8="","",Produse!$C$6) -> Toner imprimantă laser negru | E8: =IF(C8="","",Produse!$D$6) -> buc | F8: =IF(C8="","",N(Produse!$G$6)+SUMIFS('Intrări-ieșiri'!$F$5:$F$504,'Intrări-ieșiri'!$C$5:$C$504,C8,'Intrări-ieșiri'!$E$5:$E$504,"Intrare",'Intrări-ieșiri'!$B$5:$B$504,"<="&DataInv)-SUMIFS('Intrări-ieșiri'!$F$5:$F$504,'Intrări-ieșiri'!$C$5:$C$504,C8,'Intrări-ieșiri'!$E$5:$E$504,"Ieșire",'Intrări-ieșiri'!$B$5:$B$504,"<="&DataInv)) -> 7 | G8: 7 | H8: =IF(OR(C8="",G8=""),"",G8-F8) -> 0 | I8: =IF(C8="","",N(Produse!$F$6)) -> 289 | J8: =IF(C8="","",ROUND(F8*I8,2)) -> 2023 | K8: =IF(OR(C8="",G8=""),"",ROUND(G8*I8,2)) -> 2023 | L8: =IF(OR(C8="",G8=""),"",K8-J8) -> 0
B9: =IF(C9="","",3) -> 3 | C9: =IF(Produse!$B$7="","",Produse!$B$7) -> P003 | D9: =IF(C9="","",Produse!$C$7) -> Bibliorafturi 8 cm | E9: =IF(C9="","",Produse!$D$7) -> buc | F9: =IF(C9="","",N(Produse!$G$7)+SUMIFS('Intrări-ieșiri'!$F$5:$F$504,'Intrări-ieșiri'!$C$5:$C$504,C9,'Intrări-ieșiri'!$E$5:$E$504,"Intrare",'Intrări-ieșiri'!$B$5:$B$504,"<="&DataInv)-SUMIFS('Intrări-ieșiri'!$F$5:$F$504,'Intrări-ieșiri'!$C$5:$C$504,C9,'Intrări-ieșiri'!$E$5:$E$504,"Ieșire",'Intrări-ieșiri'!$B$5:$B$504,"<="&DataInv)) -> 48 | G9: 48 | H9: =IF(OR(C9="",G9=""),"",G9-F9) -> 0 | I9: =IF(C9="","",N(Produse!$F$7)) -> 11.9 | J9: =IF(C9="","",ROUND(F9*I9,2)) -> 571.2 | K9: =IF(OR(C9="",G9=""),"",ROUND(G9*I9,2)) -> 571.2 | L9: =IF(OR(C9="",G9=""),"",K9-J9) -> 0
B10: =IF(C10="","",4) -> 4 | C10: =IF(Produse!$B$8="","",Produse!$B$8) -> P004 | D10: =IF(C10="","",Produse!$C$8) -> Pixuri albastre (cutie 50 buc) | E10: =IF(C10="","",Produse!$D$8) -> cutie | F10: =IF(C10="","",N(Produse!$G$8)+SUMIFS('Intrări-ieșiri'!$F$5:$F$504,'Intrări-ieșiri'!$C$5:$C$504,C10,'Intrări-ieșiri'!$E$5:$E$504,"Intrare",'Intrări-ieșiri'!$B$5:$B$504,"<="&DataInv)-SUMIFS('Intrări-ieșiri'!$F$5:$F$504,'Intrări-ieșiri'!$C$5:$C$504,C10,'Intrări-ieșiri'!$E$5:$E$504,"Ieșire",'Intrări-ieșiri'!$B$5:$B$504,"<="&DataInv)) -> 11 | G10: 11 | H10: =IF(OR(C10="",G10=""),"",G10-F10) -> 0 | I10: =IF(C10="","",N(Produse!$F$8)) -> 42 | J10: =IF(C10="","",ROUND(F10*I10,2)) -> 462 | K10: =IF(OR(C10="",G10=""),"",ROUND(G10*I10,2)) -> 462 | L10: =IF(OR(C10="",G10=""),"",K10-J10) -> 0
B11: =IF(C11="","",5) -> 5 | C11: =IF(Produse!$B$9="","",Produse!$B$9) -> P005 | D11: =IF(C11="","",Produse!$C$9) -> Plicuri C4 (cutie 250 buc) | E11: =IF(C11="","",Produse!$D$9) -> cutie | F11: =IF(C11="","",N(Produse!$G$9)+SUMIFS('Intrări-ieșiri'!$F$5:$F$504,'Intrări-ieșiri'!$C$5:$C$504,C11,'Intrări-ieșiri'!$E$5:$E$504,"Intrare",'Intrări-ieșiri'!$B$5:$B$504,"<="&DataInv)-SUMIFS('Intrări-ieșiri'!$F$5:$F$504,'Intrări-ieșiri'!$C$5:$C$504,C11,'Intrări-ieșiri'!$E$5:$E$504,"Ieșire",'Intrări-ieșiri'!$B$5:$B$504,"<="&DataInv)) -> 4 | G11: 4 | H11: =IF(OR(C11="",G11=""),"",G11-F11) -> 0 | I11: =IF(C11="","",N(Produse!$F$9)) -> 96 | J11: =IF(C11="","",ROUND(F11*I11,2)) -> 384 | K11: =IF(OR(C11="",G11=""),"",ROUND(G11*I11,2)) -> 384 | L11: =IF(OR(C11="",G11=""),"",K11-J11) -> 0
B12: =IF(C12="","",6) -> 6 | C12: =IF(Produse!$B$10="","",Produse!$B$10) -> P006 | D12: =IF(C12="","",Produse!$C$10) -> Detergent universal 5 l | E12: =IF(C12="","",Produse!$D$10) -> buc | F12: =IF(C12="","",N(Produse!$G$10)+SUMIFS('Intrări-ieșiri'!$F$5:$F$504,'Intrări-ieșiri'!$C$5:$C$504,C12,'Intrări-ieșiri'!$E$5:$E$504,"Intrare",'Intrări-ieșiri'!$B$5:$B$504,"<="&DataInv)-SUMIFS('Intrări-ieșiri'!$F$5:$F$504,'Intrări-ieșiri'!$C$5:$C$504,C12,'Intrări-ieșiri'!$E$5:$E$504,"Ieșire",'Intrări-ieșiri'!$B$5:$B$504,"<="&DataInv)) -> 16 | G12: 16 | H12: =IF(OR(C12="",G12=""),"",G12-F12) -> 0 | I12: =IF(C12="","",N(Produse!$F$10)) -> 34.9 | J12: =IF(C12="","",ROUND(F12*I12,2)) -> 558.4 | K12: =IF(OR(C12="",G12=""),"",ROUND(G12*I12,2)) -> 558.4 | L12: =IF(OR(C12="",G12=""),"",K12-J12) -> 0
B13: =IF(C13="","",7) -> 7 | C13: =IF(Produse!$B$11="","",Produse!$B$11) -> P007 | D13: =IF(C13="","",Produse!$C$11) -> Saci menajeri 120 l (rolă) | E13: =IF(C13="","",Produse!$D$11) -> rolă | F13: =IF(C13="","",N(Produse!$G$11)+SUMIFS('Intrări-ieșiri'!$F$5:$F$504,'Intrări-ieșiri'!$C$5:$C$504,C13,'Intrări-ieșiri'!$E$5:$E$504,"Intrare",'Intrări-ieșiri'!$B$5:$B$504,"<="&DataInv)-SUMIFS('Intrări-ieșiri'!$F$5:$F$504,'Intrări-ieșiri'!$C$5:$C$504,C13,'Intrări-ieșiri'!$E$5:$E$504,"Ieșire",'Intrări-ieșiri'!$B$5:$B$504,"<="&DataInv)) -> 22 | G13: 23 | H13: =IF(OR(C13="",G13=""),"",G13-F13) -> 1 | I13: =IF(C13="","",N(Produse!$F$11)) -> 18.5 | J13: =IF(C13="","",ROUND(F13*I13,2)) -> 407 | K13: =IF(OR(C13="",G13=""),"",ROUND(G13*I13,2)) -> 425.5 | L13: =IF(OR(C13="",G13=""),"",K13-J13) -> 18.5 | M13: Plus: retur nedocumentat de la birou
B14: =IF(C14="","",8) -> 8 | C14: =IF(Produse!$B$12="","",Produse!$B$12) -> P008 | D14: =IF(C14="","",Produse!$C$12) -> Hârtie igienică (bax 24 role) | E14: =IF(C14="","",Produse!$D$12) -> bax | F14: =IF(C14="","",N(Produse!$G$12)+SUMIFS('Intrări-ieșiri'!$F$5:$F$504,'Intrări-ieșiri'!$C$5:$C$504,C14,'Intrări-ieșiri'!$E$5:$E$504,"Intrare",'Intrări-ieșiri'!$B$5:$B$504,"<="&DataInv)-SUMIFS('Intrări-ieșiri'!$F$5:$F$504,'Intrări-ieșiri'!$C$5:$C$504,C14,'Intrări-ieșiri'!$E$5:$E$504,"Ieșire",'Intrări-ieșiri'!$B$5:$B$504,"<="&DataInv)) -> 6 | G14: 6 | H14: =IF(OR(C14="",G14=""),"",G14-F14) -> 0 | I14: =IF(C14="","",N(Produse!$F$12)) -> 58 | J14: =IF(C14="","",ROUND(F14*I14,2)) -> 348 | K14: =IF(OR(C14="",G14=""),"",ROUND(G14*I14,2)) -> 348 | L14: =IF(OR(C14="",G14=""),"",K14-J14) -> 0
B15: =IF(C15="","",9) -> 9 | C15: =IF(Produse!$B$13="","",Produse!$B$13) -> P009 | D15: =IF(C15="","",Produse!$C$13) -> Cafea boabe 1 kg | E15: =IF(C15="","",Produse!$D$13) -> kg | F15: =IF(C15="","",N(Produse!$G$13)+SUMIFS('Intrări-ieșiri'!$F$5:$F$504,'Intrări-ieșiri'!$C$5:$C$504,C15,'Intrări-ieșiri'!$E$5:$E$504,"Intrare",'Intrări-ieșiri'!$B$5:$B$504,"<="&DataInv)-SUMIFS('Intrări-ieșiri'!$F$5:$F$504,'Intrări-ieșiri'!$C$5:$C$504,C15,'Intrări-ieșiri'!$E$5:$E$504,"Ieșire",'Intrări-ieșiri'!$B$5:$B$504,"<="&DataInv)) -> 8 | G15: 7 | H15: =IF(OR(C15="",G15=""),"",G15-F15) -> -1 | I15: =IF(C15="","",N(Produse!$F$13)) -> 79 | J15: =IF(C15="","",ROUND(F15*I15,2)) -> 632 | K15: =IF(OR(C15="",G15=""),"",ROUND(G15*I15,2)) -> 553 | L15: =IF(OR(C15="",G15=""),"",K15-J15) -> -79 | M15: Lipsă 1 kg – de analizat
B16: =IF(C16="","",10) -> 10 | C16: =IF(Produse!$B$14="","",Produse!$B$14) -> P010 | D16: =IF(C16="","",Produse!$C$14) -> Apă plată 0,5 l (bax 12) | E16: =IF(C16="","",Produse!$D$14) -> bax | F16: =IF(C16="","",N(Produse!$G$14)+SUMIFS('Intrări-ieșiri'!$F$5:$F$504,'Intrări-ieșiri'!$C$5:$C$504,C16,'Intrări-ieșiri'!$E$5:$E$504,"Intrare",'Intrări-ieșiri'!$B$5:$B$504,"<="&DataInv)-SUMIFS('Intrări-ieșiri'!$F$5:$F$504,'Intrări-ieșiri'!$C$5:$C$504,C16,'Intrări-ieșiri'!$E$5:$E$504,"Ieșire",'Intrări-ieșiri'!$B$5:$B$504,"<="&DataInv)) -> 8 | G16: 8 | H16: =IF(OR(C16="",G16=""),"",G16-F16) -> 0 | I16: =IF(C16="","",N(Produse!$F$14)) -> 17.6 | J16: =IF(C16="","",ROUND(F16*I16,2)) -> 140.8 | K16: =IF(OR(C16="",G16=""),"",ROUND(G16*I16,2)) -> 140.8 | L16: =IF(OR(C16="",G16=""),"",K16-J16) -> 0
B17: =IF(C17="","",11) | C17: =IF(Produse!$B$15="","",Produse!$B$15) | D17: =IF(C17="","",Produse!$C$15) | E17: =IF(C17="","",Produse!$D$15) | F17: =IF(C17="","",N(Produse!$G$15)+SUMIFS('Intrări-ieșiri'!$F$5:$F$504,'Intrări-ieșiri'!$C$5:$C$504,C17,'Intrări-ieșiri'!$E$5:$E$504,"Intrare",'Intrări-ieșiri'!$B$5:$B$504,"<="&DataInv)-SUMIFS('Intrări-ieșiri'!$F$5:$F$504,'Intrări-ieșiri'!$C$5:$C$504,C17,'Intrări-ieșiri'!$E$5:$E$504,"Ieșire",'Intrări-ieșiri'!$B$5:$B$504,"<="&DataInv)) | H17: =IF(OR(C17="",G17=""),"",G17-F17) | I17: =IF(C17="","",N(Produse!$F$15)) | J17: =IF(C17="","",ROUND(F17*I17,2)) | K17: =IF(OR(C17="",G17=""),"",ROUND(G17*I17,2)) | L17: =IF(OR(C17="",G17=""),"",K17-J17)
B18: =IF(C18="","",12) | C18: =IF(Produse!$B$16="","",Produse!$B$16) | D18: =IF(C18="","",Produse!$C$16) | E18: =IF(C18="","",Produse!$D$16) | F18: =IF(C18="","",N(Produse!$G$16)+SUMIFS('Intrări-ieșiri'!$F$5:$F$504,'Intrări-ieșiri'!$C$5:$C$504,C18,'Intrări-ieșiri'!$E$5:$E$504,"Intrare",'Intrări-ieșiri'!$B$5:$B$504,"<="&DataInv)-SUMIFS('Intrări-ieșiri'!$F$5:$F$504,'Intrări-ieșiri'!$C$5:$C$504,C18,'Intrări-ieșiri'!$E$5:$E$504,"Ieșire",'Intrări-ieșiri'!$B$5:$B$504,"<="&DataInv)) | H18: =IF(OR(C18="",G18=""),"",G18-F18) | I18: =IF(C18="","",N(Produse!$F$16)) | J18: =IF(C18="","",ROUND(F18*I18,2)) | K18: =IF(OR(C18="",G18=""),"",ROUND(G18*I18,2)) | L18: =IF(OR(C18="",G18=""),"",K18-J18)
B19: =IF(C19="","",13) | C19: =IF(Produse!$B$17="","",Produse!$B$17) | D19: =IF(C19="","",Produse!$C$17) | E19: =IF(C19="","",Produse!$D$17) | F19: =IF(C19="","",N(Produse!$G$17)+SUMIFS('Intrări-ieșiri'!$F$5:$F$504,'Intrări-ieșiri'!$C$5:$C$504,C19,'Intrări-ieșiri'!$E$5:$E$504,"Intrare",'Intrări-ieșiri'!$B$5:$B$504,"<="&DataInv)-SUMIFS('Intrări-ieșiri'!$F$5:$F$504,'Intrări-ieșiri'!$C$5:$C$504,C19,'Intrări-ieșiri'!$E$5:$E$504,"Ieșire",'Intrări-ieșiri'!$B$5:$B$504,"<="&DataInv)) | H19: =IF(OR(C19="",G19=""),"",G19-F19) | I19: =IF(C19="","",N(Produse!$F$17)) | J19: =IF(C19="","",ROUND(F19*I19,2)) | K19: =IF(OR(C19="",G19=""),"",ROUND(G19*I19,2)) | L19: =IF(OR(C19="",G19=""),"",K19-J19)
B20: =IF(C20="","",14) | C20: =IF(Produse!$B$18="","",Produse!$B$18) | D20: =IF(C20="","",Produse!$C$18) | E20: =IF(C20="","",Produse!$D$18) | F20: =IF(C20="","",N(Produse!$G$18)+SUMIFS('Intrări-ieșiri'!$F$5:$F$504,'Intrări-ieșiri'!$C$5:$C$504,C20,'Intrări-ieșiri'!$E$5:$E$504,"Intrare",'Intrări-ieșiri'!$B$5:$B$504,"<="&DataInv)-SUMIFS('Intrări-ieșiri'!$F$5:$F$504,'Intrări-ieșiri'!$C$5:$C$504,C20,'Intrări-ieșiri'!$E$5:$E$504,"Ieșire",'Intrări-ieșiri'!$B$5:$B$504,"<="&DataInv)) | H20: =IF(OR(C20="",G20=""),"",G20-F20) | I20: =IF(C20="","",N(Produse!$F$18)) | J20: =IF(C20="","",ROUND(F20*I20,2)) | K20: =IF(OR(C20="",G20=""),"",ROUND(G20*I20,2)) | L20: =IF(OR(C20="",G20=""),"",K20-J20)
B21: =IF(C21="","",15) | C21: =IF(Produse!$B$19="","",Produse!$B$19) | D21: =IF(C21="","",Produse!$C$19) | E21: =IF(C21="","",Produse!$D$19) | F21: =IF(C21="","",N(Produse!$G$19)+SUMIFS('Intrări-ieșiri'!$F$5:$F$504,'Intrări-ieșiri'!$C$5:$C$504,C21,'Intrări-ieșiri'!$E$5:$E$504,"Intrare",'Intrări-ieșiri'!$B$5:$B$504,"<="&DataInv)-SUMIFS('Intrări-ieșiri'!$F$5:$F$504,'Intrări-ieșiri'!$C$5:$C$504,C21,'Intrări-ieșiri'!$E$5:$E$504,"Ieșire",'Intrări-ieșiri'!$B$5:$B$504,"<="&DataInv)) | H21: =IF(OR(C21="",G21=""),"",G21-F21) | I21: =IF(C21="","",N(Produse!$F$19)) | J21: =IF(C21="","",ROUND(F21*I21,2)) | K21: =IF(OR(C21="",G21=""),"",ROUND(G21*I21,2)) | L21: =IF(OR(C21="",G21=""),"",K21-J21)
B22: =IF(C22="","",16) | C22: =IF(Produse!$B$20="","",Produse!$B$20) | D22: =IF(C22="","",Produse!$C$20) | E22: =IF(C22="","",Produse!$D$20) | F22: =IF(C22="","",N(Produse!$G$20)+SUMIFS('Intrări-ieșiri'!$F$5:$F$504,'Intrări-ieșiri'!$C$5:$C$504,C22,'Intrări-ieșiri'!$E$5:$E$504,"Intrare",'Intrări-ieșiri'!$B$5:$B$504,"<="&DataInv)-SUMIFS('Intrări-ieșiri'!$F$5:$F$504,'Intrări-ieșiri'!$C$5:$C$504,C22,'Intrări-ieșiri'!$E$5:$E$504,"Ieșire",'Intrări-ieșiri'!$B$5:$B$504,"<="&DataInv)) | H22: =IF(OR(C22="",G22=""),"",G22-F22) | I22: =IF(C22="","",N(Produse!$F$20)) | J22: =IF(C22="","",ROUND(F22*I22,2)) | K22: =IF(OR(C22="",G22=""),"",ROUND(G22*I22,2)) | L22: =IF(OR(C22="",G22=""),"",K22-J22)
B23: =IF(C23="","",17) | C23: =IF(Produse!$B$21="","",Produse!$B$21) | D23: =IF(C23="","",Produse!$C$21) | E23: =IF(C23="","",Produse!$D$21) | F23: =IF(C23="","",N(Produse!$G$21)+SUMIFS('Intrări-ieșiri'!$F$5:$F$504,'Intrări-ieșiri'!$C$5:$C$504,C23,'Intrări-ieșiri'!$E$5:$E$504,"Intrare",'Intrări-ieșiri'!$B$5:$B$504,"<="&DataInv)-SUMIFS('Intrări-ieșiri'!$F$5:$F$504,'Intrări-ieșiri'!$C$5:$C$504,C23,'Intrări-ieșiri'!$E$5:$E$504,"Ieșire",'Intrări-ieșiri'!$B$5:$B$504,"<="&DataInv)) | H23: =IF(OR(C23="",G23=""),"",G23-F23) | I23: =IF(C23="","",N(Produse!$F$21)) | J23: =IF(C23="","",ROUND(F23*I23,2)) | K23: =IF(OR(C23="",G23=""),"",ROUND(G23*I23,2)) | L23: =IF(OR(C23="",G23=""),"",K23-J23)
B24: =IF(C24="","",18) | C24: =IF(Produse!$B$22="","",Produse!$B$22) | D24: =IF(C24="","",Produse!$C$22) | E24: =IF(C24="","",Produse!$D$22) | F24: =IF(C24="","",N(Produse!$G$22)+SUMIFS('Intrări-ieșiri'!$F$5:$F$504,'Intrări-ieșiri'!$C$5:$C$504,C24,'Intrări-ieșiri'!$E$5:$E$504,"Intrare",'Intrări-ieșiri'!$B$5:$B$504,"<="&DataInv)-SUMIFS('Intrări-ieșiri'!$F$5:$F$504,'Intrări-ieșiri'!$C$5:$C$504,C24,'Intrări-ieșiri'!$E$5:$E$504,"Ieșire",'Intrări-ieșiri'!$B$5:$B$504,"<="&DataInv)) | H24: =IF(OR(C24="",G24=""),"",G24-F24) | I24: =IF(C24="","",N(Produse!$F$22)) | J24: =IF(C24="","",ROUND(F24*I24,2)) | K24: =IF(OR(C24="",G24=""),"",ROUND(G24*I24,2)) | L24: =IF(OR(C24="",G24=""),"",K24-J24)
B25: =IF(C25="","",19) | C25: =IF(Produse!$B$23="","",Produse!$B$23) | D25: =IF(C25="","",Produse!$C$23) | E25: =IF(C25="","",Produse!$D$23) | F25: =IF(C25="","",N(Produse!$G$23)+SUMIFS('Intrări-ieșiri'!$F$5:$F$504,'Intrări-ieșiri'!$C$5:$C$504,C25,'Intrări-ieșiri'!$E$5:$E$504,"Intrare",'Intrări-ieșiri'!$B$5:$B$504,"<="&DataInv)-SUMIFS('Intrări-ieșiri'!$F$5:$F$504,'Intrări-ieșiri'!$C$5:$C$504,C25,'Intrări-ieșiri'!$E$5:$E$504,"Ieșire",'Intrări-ieșiri'!$B$5:$B$504,"<="&DataInv)) | H25: =IF(OR(C25="",G25=""),"",G25-F25) | I25: =IF(C25="","",N(Produse!$F$23)) | J25: =IF(C25="","",ROUND(F25*I25,2)) | K25: =IF(OR(C25="",G25=""),"",ROUND(G25*I25,2)) | L25: =IF(OR(C25="",G25=""),"",K25-J25)
B26: =IF(C26="","",20) | C26: =IF(Produse!$B$24="","",Produse!$B$24) | D26: =IF(C26="","",Produse!$C$24) | E26: =IF(C26="","",Produse!$D$24) | F26: =IF(C26="","",N(Produse!$G$24)+SUMIFS('Intrări-ieșiri'!$F$5:$F$504,'Intrări-ieșiri'!$C$5:$C$504,C26,'Intrări-ieșiri'!$E$5:$E$504,"Intrare",'Intrări-ieșiri'!$B$5:$B$504,"<="&DataInv)-SUMIFS('Intrări-ieșiri'!$F$5:$F$504,'Intrări-ieșiri'!$C$5:$C$504,C26,'Intrări-ieșiri'!$E$5:$E$504,"Ieșire",'Intrări-ieșiri'!$B$5:$B$504,"<="&DataInv)) | H26: =IF(OR(C26="",G26=""),"",G26-F26) | I26: =IF(C26="","",N(Produse!$F$24)) | J26: =IF(C26="","",ROUND(F26*I26,2)) | K26: =IF(OR(C26="",G26=""),"",ROUND(G26*I26,2)) | L26: =IF(OR(C26="",G26=""),"",K26-J26)
B27: =IF(C27="","",21) | C27: =IF(Produse!$B$25="","",Produse!$B$25) | D27: =IF(C27="","",Produse!$C$25) | E27: =IF(C27="","",Produse!$D$25) | F27: =IF(C27="","",N(Produse!$G$25)+SUMIFS('Intrări-ieșiri'!$F$5:$F$504,'Intrări-ieșiri'!$C$5:$C$504,C27,'Intrări-ieșiri'!$E$5:$E$504,"Intrare",'Intrări-ieșiri'!$B$5:$B$504,"<="&DataInv)-SUMIFS('Intrări-ieșiri'!$F$5:$F$504,'Intrări-ieșiri'!$C$5:$C$504,C27,'Intrări-ieșiri'!$E$5:$E$504,"Ieșire",'Intrări-ieșiri'!$B$5:$B$504,"<="&DataInv)) | H27: =IF(OR(C27="",G27=""),"",G27-F27) | I27: =IF(C27="","",N(Produse!$F$25)) | J27: =IF(C27="","",ROUND(F27*I27,2)) | K27: =IF(OR(C27="",G27=""),"",ROUND(G27*I27,2)) | L27: =IF(OR(C27="",G27=""),"",K27-J27)
B28: =IF(C28="","",22) | C28: =IF(Produse!$B$26="","",Produse!$B$26) | D28: =IF(C28="","",Produse!$C$26) | E28: =IF(C28="","",Produse!$D$26) | F28: =IF(C28="","",N(Produse!$G$26)+SUMIFS('Intrări-ieșiri'!$F$5:$F$504,'Intrări-ieșiri'!$C$5:$C$504,C28,'Intrări-ieșiri'!$E$5:$E$504,"Intrare",'Intrări-ieșiri'!$B$5:$B$504,"<="&DataInv)-SUMIFS('Intrări-ieșiri'!$F$5:$F$504,'Intrări-ieșiri'!$C$5:$C$504,C28,'Intrări-ieșiri'!$E$5:$E$504,"Ieșire",'Intrări-ieșiri'!$B$5:$B$504,"<="&DataInv)) | H28: =IF(OR(C28="",G28=""),"",G28-F28) | I28: =IF(C28="","",N(Produse!$F$26)) | J28: =IF(C28="","",ROUND(F28*I28,2)) | K28: =IF(OR(C28="",G28=""),"",ROUND(G28*I28,2)) | L28: =IF(OR(C28="",G28=""),"",K28-J28)
B29: =IF(C29="","",23) | C29: =IF(Produse!$B$27="","",Produse!$B$27) | D29: =IF(C29="","",Produse!$C$27) | E29: =IF(C29="","",Produse!$D$27) | F29: =IF(C29="","",N(Produse!$G$27)+SUMIFS('Intrări-ieșiri'!$F$5:$F$504,'Intrări-ieșiri'!$C$5:$C$504,C29,'Intrări-ieșiri'!$E$5:$E$504,"Intrare",'Intrări-ieșiri'!$B$5:$B$504,"<="&DataInv)-SUMIFS('Intrări-ieșiri'!$F$5:$F$504,'Intrări-ieșiri'!$C$5:$C$504,C29,'Intrări-ieșiri'!$E$5:$E$504,"Ieșire",'Intrări-ieșiri'!$B$5:$B$504,"<="&DataInv)) | H29: =IF(OR(C29="",G29=""),"",G29-F29) | I29: =IF(C29="","",N(Produse!$F$27)) | J29: =IF(C29="","",ROUND(F29*I29,2)) | K29: =IF(OR(C29="",G29=""),"",ROUND(G29*I29,2)) | L29: =IF(OR(C29="",G29=""),"",K29-J29)
B30: =IF(C30="","",24) | C30: =IF(Produse!$B$28="","",Produse!$B$28) | D30: =IF(C30="","",Produse!$C$28) | E30: =IF(C30="","",Produse!$D$28) | F30: =IF(C30="","",N(Produse!$G$28)+SUMIFS('Intrări-ieșiri'!$F$5:$F$504,'Intrări-ieșiri'!$C$5:$C$504,C30,'Intrări-ieșiri'!$E$5:$E$504,"Intrare",'Intrări-ieșiri'!$B$5:$B$504,"<="&DataInv)-SUMIFS('Intrări-ieșiri'!$F$5:$F$504,'Intrări-ieșiri'!$C$5:$C$504,C30,'Intrări-ieșiri'!$E$5:$E$504,"Ieșire",'Intrări-ieșiri'!$B$5:$B$504,"<="&DataInv)) | H30: =IF(OR(C30="",G30=""),"",G30-F30) | I30: =IF(C30="","",N(Produse!$F$28)) | J30: =IF(C30="","",ROUND(F30*I30,2)) | K30: =IF(OR(C30="",G30=""),"",ROUND(G30*I30,2)) | L30: =IF(OR(C30="",G30=""),"",K30-J30)
B31: =IF(C31="","",25) | C31: =IF(Produse!$B$29="","",Produse!$B$29) | D31: =IF(C31="","",Produse!$C$29) | E31: =IF(C31="","",Produse!$D$29) | F31: =IF(C31="","",N(Produse!$G$29)+SUMIFS('Intrări-ieșiri'!$F$5:$F$504,'Intrări-ieșiri'!$C$5:$C$504,C31,'Intrări-ieșiri'!$E$5:$E$504,"Intrare",'Intrări-ieșiri'!$B$5:$B$504,"<="&DataInv)-SUMIFS('Intrări-ieșiri'!$F$5:$F$504,'Intrări-ieșiri'!$C$5:$C$504,C31,'Intrări-ieșiri'!$E$5:$E$504,"Ieșire",'Intrări-ieșiri'!$B$5:$B$504,"<="&DataInv)) | H31: =IF(OR(C31="",G31=""),"",G31-F31) | I31: =IF(C31="","",N(Produse!$F$29)) | J31: =IF(C31="","",ROUND(F31*I31,2)) | K31: =IF(OR(C31="",G31=""),"",ROUND(G31*I31,2)) | L31: =IF(OR(C31="",G31=""),"",K31-J31)
B32: =IF(C32="","",26) | C32: =IF(Produse!$B$30="","",Produse!$B$30) | D32: =IF(C32="","",Produse!$C$30) | E32: =IF(C32="","",Produse!$D$30) | F32: =IF(C32="","",N(Produse!$G$30)+SUMIFS('Intrări-ieșiri'!$F$5:$F$504,'Intrări-ieșiri'!$C$5:$C$504,C32,'Intrări-ieșiri'!$E$5:$E$504,"Intrare",'Intrări-ieșiri'!$B$5:$B$504,"<="&DataInv)-SUMIFS('Intrări-ieșiri'!$F$5:$F$504,'Intrări-ieșiri'!$C$5:$C$504,C32,'Intrări-ieșiri'!$E$5:$E$504,"Ieșire",'Intrări-ieșiri'!$B$5:$B$504,"<="&DataInv)) | H32: =IF(OR(C32="",G32=""),"",G32-F32) | I32: =IF(C32="","",N(Produse!$F$30)) | J32: =IF(C32="","",ROUND(F32*I32,2)) | K32: =IF(OR(C32="",G32=""),"",ROUND(G32*I32,2)) | L32: =IF(OR(C32="",G32=""),"",K32-J32)
B33: =IF(C33="","",27) | C33: =IF(Produse!$B$31="","",Produse!$B$31) | D33: =IF(C33="","",Produse!$C$31) | E33: =IF(C33="","",Produse!$D$31) | F33: =IF(C33="","",N(Produse!$G$31)+SUMIFS('Intrări-ieșiri'!$F$5:$F$504,'Intrări-ieșiri'!$C$5:$C$504,C33,'Intrări-ieșiri'!$E$5:$E$504,"Intrare",'Intrări-ieșiri'!$B$5:$B$504,"<="&DataInv)-SUMIFS('Intrări-ieșiri'!$F$5:$F$504,'Intrări-ieșiri'!$C$5:$C$504,C33,'Intrări-ieșiri'!$E$5:$E$504,"Ieșire",'Intrări-ieșiri'!$B$5:$B$504,"<="&DataInv)) | H33: =IF(OR(C33="",G33=""),"",G33-F33) | I33: =IF(C33="","",N(Produse!$F$31)) | J33: =IF(C33="","",ROUND(F33*I33,2)) | K33: =IF(OR(C33="",G33=""),"",ROUND(G33*I33,2)) | L33: =IF(OR(C33="",G33=""),"",K33-J33)
B34: =IF(C34="","",28) | C34: =IF(Produse!$B$32="","",Produse!$B$32) | D34: =IF(C34="","",Produse!$C$32) | E34: =IF(C34="","",Produse!$D$32) | F34: =IF(C34="","",N(Produse!$G$32)+SUMIFS('Intrări-ieșiri'!$F$5:$F$504,'Intrări-ieșiri'!$C$5:$C$504,C34,'Intrări-ieșiri'!$E$5:$E$504,"Intrare",'Intrări-ieșiri'!$B$5:$B$504,"<="&DataInv)-SUMIFS('Intrări-ieșiri'!$F$5:$F$504,'Intrări-ieșiri'!$C$5:$C$504,C34,'Intrări-ieșiri'!$E$5:$E$504,"Ieșire",'Intrări-ieșiri'!$B$5:$B$504,"<="&DataInv)) | H34: =IF(OR(C34="",G34=""),"",G34-F34) | I34: =IF(C34="","",N(Produse!$F$32)) | J34: =IF(C34="","",ROUND(F34*I34,2)) | K34: =IF(OR(C34="",G34=""),"",ROUND(G34*I34,2)) | L34: =IF(OR(C34="",G34=""),"",K34-J34)
B35: =IF(C35="","",29) | C35: =IF(Produse!$B$33="","",Produse!$B$33) | D35: =IF(C35="","",Produse!$C$33) | E35: =IF(C35="","",Produse!$D$33) | F35: =IF(C35="","",N(Produse!$G$33)+SUMIFS('Intrări-ieșiri'!$F$5:$F$504,'Intrări-ieșiri'!$C$5:$C$504,C35,'Intrări-ieșiri'!$E$5:$E$504,"Intrare",'Intrări-ieșiri'!$B$5:$B$504,"<="&DataInv)-SUMIFS('Intrări-ieșiri'!$F$5:$F$504,'Intrări-ieșiri'!$C$5:$C$504,C35,'Intrări-ieșiri'!$E$5:$E$504,"Ieșire",'Intrări-ieșiri'!$B$5:$B$504,"<="&DataInv)) | H35: =IF(OR(C35="",G35=""),"",G35-F35) | I35: =IF(C35="","",N(Produse!$F$33)) | J35: =IF(C35="","",ROUND(F35*I35,2)) | K35: =IF(OR(C35="",G35=""),"",ROUND(G35*I35,2)) | L35: =IF(OR(C35="",G35=""),"",K35-J35)
B36: =IF(C36="","",30) | C36: =IF(Produse!$B$34="","",Produse!$B$34) | D36: =IF(C36="","",Produse!$C$34) | E36: =IF(C36="","",Produse!$D$34) | F36: =IF(C36="","",N(Produse!$G$34)+SUMIFS('Intrări-ieșiri'!$F$5:$F$504,'Intrări-ieșiri'!$C$5:$C$504,C36,'Intrări-ieșiri'!$E$5:$E$504,"Intrare",'Intrări-ieșiri'!$B$5:$B$504,"<="&DataInv)-SUMIFS('Intrări-ieșiri'!$F$5:$F$504,'Intrări-ieșiri'!$C$5:$C$504,C36,'Intrări-ieșiri'!$E$5:$E$504,"Ieșire",'Intrări-ieșiri'!$B$5:$B$504,"<="&DataInv)) | H36: =IF(OR(C36="",G36=""),"",G36-F36) | I36: =IF(C36="","",N(Produse!$F$34)) | J36: =IF(C36="","",ROUND(F36*I36,2)) | K36: =IF(OR(C36="",G36=""),"",ROUND(G36*I36,2)) | L36: =IF(OR(C36="",G36=""),"",K36-J36)
B37: =IF(C37="","",31) | C37: =IF(Produse!$B$35="","",Produse!$B$35) | D37: =IF(C37="","",Produse!$C$35) | E37: =IF(C37="","",Produse!$D$35) | F37: =IF(C37="","",N(Produse!$G$35)+SUMIFS('Intrări-ieșiri'!$F$5:$F$504,'Intrări-ieșiri'!$C$5:$C$504,C37,'Intrări-ieșiri'!$E$5:$E$504,"Intrare",'Intrări-ieșiri'!$B$5:$B$504,"<="&DataInv)-SUMIFS('Intrări-ieșiri'!$F$5:$F$504,'Intrări-ieșiri'!$C$5:$C$504,C37,'Intrări-ieșiri'!$E$5:$E$504,"Ieșire",'Intrări-ieșiri'!$B$5:$B$504,"<="&DataInv)) | H37: =IF(OR(C37="",G37=""),"",G37-F37) | I37: =IF(C37="","",N(Produse!$F$35)) | J37: =IF(C37="","",ROUND(F37*I37,2)) | K37: =IF(OR(C37="",G37=""),"",ROUND(G37*I37,2)) | L37: =IF(OR(C37="",G37=""),"",K37-J37)
B38: =IF(C38="","",32) | C38: =IF(Produse!$B$36="","",Produse!$B$36) | D38: =IF(C38="","",Produse!$C$36) | E38: =IF(C38="","",Produse!$D$36) | F38: =IF(C38="","",N(Produse!$G$36)+SUMIFS('Intrări-ieșiri'!$F$5:$F$504,'Intrări-ieșiri'!$C$5:$C$504,C38,'Intrări-ieșiri'!$E$5:$E$504,"Intrare",'Intrări-ieșiri'!$B$5:$B$504,"<="&DataInv)-SUMIFS('Intrări-ieșiri'!$F$5:$F$504,'Intrări-ieșiri'!$C$5:$C$504,C38,'Intrări-ieșiri'!$E$5:$E$504,"Ieșire",'Intrări-ieșiri'!$B$5:$B$504,"<="&DataInv)) | H38: =IF(OR(C38="",G38=""),"",G38-F38) | I38: =IF(C38="","",N(Produse!$F$36)) | J38: =IF(C38="","",ROUND(F38*I38,2)) | K38: =IF(OR(C38="",G38=""),"",ROUND(G38*I38,2)) | L38: =IF(OR(C38="",G38=""),"",K38-J38)
B39: =IF(C39="","",33) | C39: =IF(Produse!$B$37="","",Produse!$B$37) | D39: =IF(C39="","",Produse!$C$37) | E39: =IF(C39="","",Produse!$D$37) | F39: =IF(C39="","",N(Produse!$G$37)+SUMIFS('Intrări-ieșiri'!$F$5:$F$504,'Intrări-ieșiri'!$C$5:$C$504,C39,'Intrări-ieșiri'!$E$5:$E$504,"Intrare",'Intrări-ieșiri'!$B$5:$B$504,"<="&DataInv)-SUMIFS('Intrări-ieșiri'!$F$5:$F$504,'Intrări-ieșiri'!$C$5:$C$504,C39,'Intrări-ieșiri'!$E$5:$E$504,"Ieșire",'Intrări-ieșiri'!$B$5:$B$504,"<="&DataInv)) | H39: =IF(OR(C39="",G39=""),"",G39-F39) | I39: =IF(C39="","",N(Produse!$F$37)) | J39: =IF(C39="","",ROUND(F39*I39,2)) | K39: =IF(OR(C39="",G39=""),"",ROUND(G39*I39,2)) | L39: =IF(OR(C39="",G39=""),"",K39-J39)
B40: =IF(C40="","",34) | C40: =IF(Produse!$B$38="","",Produse!$B$38) | D40: =IF(C40="","",Produse!$C$38) | E40: =IF(C40="","",Produse!$D$38) | F40: =IF(C40="","",N(Produse!$G$38)+SUMIFS('Intrări-ieșiri'!$F$5:$F$504,'Intrări-ieșiri'!$C$5:$C$504,C40,'Intrări-ieșiri'!$E$5:$E$504,"Intrare",'Intrări-ieșiri'!$B$5:$B$504,"<="&DataInv)-SUMIFS('Intrări-ieșiri'!$F$5:$F$504,'Intrări-ieșiri'!$C$5:$C$504,C40,'Intrări-ieșiri'!$E$5:$E$504,"Ieșire",'Intrări-ieșiri'!$B$5:$B$504,"<="&DataInv)) | H40: =IF(OR(C40="",G40=""),"",G40-F40) | I40: =IF(C40="","",N(Produse!$F$38)) | J40: =IF(C40="","",ROUND(F40*I40,2)) | K40: =IF(OR(C40="",G40=""),"",ROUND(G40*I40,2)) | L40: =IF(OR(C40="",G40=""),"",K40-J40)
B41: =IF(C41="","",35) | C41: =IF(Produse!$B$39="","",Produse!$B$39) | D41: =IF(C41="","",Produse!$C$39) | E41: =IF(C41="","",Produse!$D$39) | F41: =IF(C41="","",N(Produse!$G$39)+SUMIFS('Intrări-ieșiri'!$F$5:$F$504,'Intrări-ieșiri'!$C$5:$C$504,C41,'Intrări-ieșiri'!$E$5:$E$504,"Intrare",'Intrări-ieșiri'!$B$5:$B$504,"<="&DataInv)-SUMIFS('Intrări-ieșiri'!$F$5:$F$504,'Intrări-ieșiri'!$C$5:$C$504,C41,'Intrări-ieșiri'!$E$5:$E$504,"Ieșire",'Intrări-ieșiri'!$B$5:$B$504,"<="&DataInv)) | H41: =IF(OR(C41="",G41=""),"",G41-F41) | I41: =IF(C41="","",N(Produse!$F$39)) | J41: =IF(C41="","",ROUND(F41*I41,2)) | K41: =IF(OR(C41="",G41=""),"",ROUND(G41*I41,2)) | L41: =IF(OR(C41="",G41=""),"",K41-J41)
...

Sheet Produse
B1: Produse și stocuri
B2: Lista produselor din gestiune. Stocul scriptic se calculează din stocul inițial și din foaia „Intrări-ieșiri”. Galben = stoc sub minimul stabilit.
B4: Cod | C4: Denumire produs | D4: U.M. | E4: Gestiune / locație | F4: Preț unitar (lei) | G4: Stoc inițial | H4: Stoc minim | I4: Intrări | J4: Ieșiri | K4: Stoc scriptic | L4: Valoare stoc
B5: P001 | C5: Hârtie copiator A4 80 g (top 500 coli) | D5: top | E5: Depozit central | F5: 21.5 | G5: 120 | H5: 40 | I5: =IF($B5="","",SUMIFS('Intrări-ieșiri'!$F$5:$F$504,'Intrări-ieșiri'!$C$5:$C$504,$B5,'Intrări-ieșiri'!$E$5:$E$504,"Intrare")) -> 60 | J5: =IF($B5="","",SUMIFS('Intrări-ieșiri'!$F$5:$F$504,'Intrări-ieșiri'!$C$5:$C$504,$B5,'Intrări-ieșiri'!$E$5:$E$504,"Ieșire")) -> 115 | K5: =IF($B5="","",N(G5)+I5-J5) -> 65 | L5: =IF($B5="","",ROUND(K5*N(F5),2)) -> 1397.5
B6: P002 | C6: Toner imprimantă laser negru | D6: buc | E6: Depozit central | F6: 289 | G6: 8 | H6: 3 | I6: =IF($B6="","",SUMIFS('Intrări-ieșiri'!$F$5:$F$504,'Intrări-ieșiri'!$C$5:$C$504,$B6,'Intrări-ieșiri'!$E$5:$E$504,"Intrare")) -> 4 | J6: =IF($B6="","",SUMIFS('Intrări-ieșiri'!$F$5:$F$504,'Intrări-ieșiri'!$C$5:$C$504,$B6,'Intrări-ieșiri'!$E$5:$E$504,"Ieșire")) -> 5 | K6: =IF($B6="","",N(G6)+I6-J6) -> 7 | L6: =IF($B6="","",ROUND(K6*N(F6),2)) -> 2023
B7: P003 | C7: Bibliorafturi 8 cm | D7: buc | E7: Depozit central | F7: 11.9 | G7: 60 | H7: 20 | I7: =IF($B7="","",SUMIFS('Intrări-ieșiri'!$F$5:$F$504,'Intrări-ieșiri'!$C$5:$C$504,$B7,'Intrări-ieșiri'!$E$5:$E$504,"Intrare")) -> 0 | J7: =IF($B7="","",SUMIFS('Intrări-ieșiri'!$F$5:$F$504,'Intrări-ieșiri'!$C$5:$C$504,$B7,'Intrări-ieșiri'!$E$5:$E$504,"Ieșire")) -> 12 | K7: =IF($B7="","",N(G7)+I7-J7) -> 48 | L7: =IF($B7="","",ROUND(K7*N(F7),2)) -> 571.2
B8: P004 | C8: Pixuri albastre (cutie 50 buc) | D8: cutie | E8: Depozit central | F8: 42 | G8: 15 | H8: 5 | I8: =IF($B8="","",SUMIFS('Intrări-ieșiri'!$F$5:$F$504,'Intrări-ieșiri'!$C$5:$C$504,$B8,'Intrări-ieșiri'!$E$5:$E$504,"Intrare")) -> 0 | J8: =IF($B8="","",SUMIFS('Intrări-ieșiri'!$F$5:$F$504,'Intrări-ieșiri'!$C$5:$C$504,$B8,'Intrări-ieșiri'!$E$5:$E$504,"Ieșire")) -> 4 | K8: =IF($B8="","",N(G8)+I8-J8) -> 11 | L8: =IF($B8="","",ROUND(K8*N(F8),2)) -> 462
B9: P005 | C9: Plicuri C4 (cutie 250 buc) | D9: cutie | E9: Depozit central | F9: 96 | G9: 6 | H9: 2 | I9: =IF($B9="","",SUMIFS('Intrări-ieșiri'!$F$5:$F$504,'Intrări-ieșiri'!$C$5:$C$504,$B9,'Intrări-ieșiri'!$E$5:$E$504,"Intrare")) -> 0 | J9: =IF($B9="","",SUMIFS('Intrări-ieșiri'!$F$5:$F$504,'Intrări-ieșiri'!$C$5:$C$504,$B9,'Intrări-ieșiri'!$E$5:$E$504,"Ieșire")) -> 2 | K9: =IF($B9="","",N(G9)+I9-J9) -> 4 | L9: =IF($B9="","",ROUND(K9*N(F9),2)) -> 384
B10: P006 | C10: Detergent universal 5 l | D10: buc | E10: Magazie curățenie | F10: 34.9 | G10: 25 | H10: 10 | I10: =IF($B10="","",SUMIFS('Intrări-ieșiri'!$F$5:$F$504,'Intrări-ieșiri'!$C$5:$C$504,$B10,'Intrări-ieșiri'!$E$5:$E$504,"Intrare")) -> 0 | J10: =IF($B10="","",SUMIFS('Intrări-ieșiri'!$F$5:$F$504,'Intrări-ieșiri'!$C$5:$C$504,$B10,'Intrări-ieșiri'!$E$5:$E$504,"Ieșire")) -> 9 | K10: =IF($B10="","",N(G10)+I10-J10) -> 16 | L10: =IF($B10="","",ROUND(K10*N(F10),2)) -> 558.4
B11: P007 | C11: Saci menajeri 120 l (rolă) | D11: rolă | E11: Magazie curățenie | F11: 18.5 | G11: 40 | H11: 15 | I11: =IF($B11="","",SUMIFS('Intrări-ieșiri'!$F$5:$F$504,'Intrări-ieșiri'!$C$5:$C$504,$B11,'Intrări-ieșiri'!$E$5:$E$504,"Intrare")) -> 0 | J11: =IF($B11="","",SUMIFS('Intrări-ieșiri'!$F$5:$F$504,'Intrări-ieșiri'!$C$5:$C$504,$B11,'Intrări-ieșiri'!$E$5:$E$504,"Ieșire")) -> 18 | K11: =IF($B11="","",N(G11)+I11-J11) -> 22 | L11: =IF($B11="","",ROUND(K11*N(F11),2)) -> 407
B12: P008 | C12: Hârtie igienică (bax 24 role) | D12: bax | E12: Magazie curățenie | F12: 58 | G12: 18 | H12: 8 | I12: =IF($B12="","",SUMIFS('Intrări-ieșiri'!$F$5:$F$504,'Intrări-ieșiri'!$C$5:$C$504,$B12,'Intrări-ieșiri'!$E$5:$E$504,"Intrare")) -> 0 | J12: =IF($B12="","",SUMIFS('Intrări-ieșiri'!$F$5:$F$504,'Intrări-ieșiri'!$C$5:$C$504,$B12,'Intrări-ieșiri'!$E$5:$E$504,"Ieșire")) -> 12 | K12: =IF($B12="","",N(G12)+I12-J12) -> 6 | L12: =IF($B12="","",ROUND(K12*N(F12),2)) -> 348
B13: P009 | C13: Cafea boabe 1 kg | D13: kg | E13: Bucătărie | F13: 79 | G13: 12 | H13: 5 | I13: =IF($B13="","",SUMIFS('Intrări-ieșiri'!$F$5:$F$504,'Intrări-ieșiri'!$C$5:$C$504,$B13,'Intrări-ieșiri'!$E$5:$E$504,"Intrare")) -> 10 | J13: =IF($B13="","",SUMIFS('Intrări-ieșiri'!$F$5:$F$504,'Intrări-ieșiri'!$C$5:$C$504,$B13,'Intrări-ieșiri'!$E$5:$E$504,"Ieșire")) -> 14 | K13: =IF($B13="","",N(G13)+I13-J13) -> 8 | L13: =IF($B13="","",ROUND(K13*N(F13),2)) -> 632
B14: P010 | C14: Apă plată 0,5 l (bax 12) | D14: bax | E14: Bucătărie | F14: 17.6 | G14: 30 | H14: 10 | I14: =IF($B14="","",SUMIFS('Intrări-ieșiri'!$F$5:$F$504,'Intrări-ieșiri'!$C$5:$C$504,$B14,'Intrări-ieșiri'!$E$5:$E$504,"Intrare")) -> 0 | J14: =IF($B14="","",SUMIFS('Intrări-ieșiri'!$F$5:$F$504,'Intrări-ieșiri'!$C$5:$C$504,$B14,'Intrări-ieșiri'!$E$5:$E$504,"Ieșire")) -> 22 | K14: =IF($B14="","",N(G14)+I14-J14) -> 8 | L14: =IF($B14="","",ROUND(K14*N(F14),2)) -> 140.8
I15: =IF($B15="","",SUMIFS('Intrări-ieșiri'!$F$5:$F$504,'Intrări-ieșiri'!$C$5:$C$504,$B15,'Intrări-ieșiri'!$E$5:$E$504,"Intrare")) | J15: =IF($B15="","",SUMIFS('Intrări-ieșiri'!$F$5:$F$504,'Intrări-ieșiri'!$C$5:$C$504,$B15,'Intrări-ieșiri'!$E$5:$E$504,"Ieșire")) | K15: =IF($B15="","",N(G15)+I15-J15) | L15: =IF($B15="","",ROUND(K15*N(F15),2))
I16: =IF($B16="","",SUMIFS('Intrări-ieșiri'!$F$5:$F$504,'Intrări-ieșiri'!$C$5:$C$504,$B16,'Intrări-ieșiri'!$E$5:$E$504,"Intrare")) | J16: =IF($B16="","",SUMIFS('Intrări-ieșiri'!$F$5:$F$504,'Intrări-ieșiri'!$C$5:$C$504,$B16,'Intrări-ieșiri'!$E$5:$E$504,"Ieșire")) | K16: =IF($B16="","",N(G16)+I16-J16) | L16: =IF($B16="","",ROUND(K16*N(F16),2))
I17: =IF($B17="","",SUMIFS('Intrări-ieșiri'!$F$5:$F$504,'Intrări-ieșiri'!$C$5:$C$504,$B17,'Intrări-ieșiri'!$E$5:$E$504,"Intrare")) | J17: =IF($B17="","",SUMIFS('Intrări-ieșiri'!$F$5:$F$504,'Intrări-ieșiri'!$C$5:$C$504,$B17,'Intrări-ieșiri'!$E$5:$E$504,"Ieșire")) | K17: =IF($B17="","",N(G17)+I17-J17) | L17: =IF($B17="","",ROUND(K17*N(F17),2))
I18: =IF($B18="","",SUMIFS('Intrări-ieșiri'!$F$5:$F$504,'Intrări-ieșiri'!$C$5:$C$504,$B18,'Intrări-ieșiri'!$E$5:$E$504,"Intrare")) | J18: =IF($B18="","",SUMIFS('Intrări-ieșiri'!$F$5:$F$504,'Intrări-ieșiri'!$C$5:$C$504,$B18,'Intrări-ieșiri'!$E$5:$E$504,"Ieșire")) | K18: =IF($B18="","",N(G18)+I18-J18) | L18: =IF($B18="","",ROUND(K18*N(F18),2))
I19: =IF($B19="","",SUMIFS('Intrări-ieșiri'!$F$5:$F$504,'Intrări-ieșiri'!$C$5:$C$504,$B19,'Intrări-ieșiri'!$E$5:$E$504,"Intrare")) | J19: =IF($B19="","",SUMIFS('Intrări-ieșiri'!$F$5:$F$504,'Intrări-ieșiri'!$C$5:$C$504,$B19,'Intrări-ieșiri'!$E$5:$E$504,"Ieșire")) | K19: =IF($B19="","",N(G19)+I19-J19) | L19: =IF($B19="","",ROUND(K19*N(F19),2))
I20: =IF($B20="","",SUMIFS('Intrări-ieșiri'!$F$5:$F$504,'Intrări-ieșiri'!$C$5:$C$504,$B20,'Intrări-ieșiri'!$E$5:$E$504,"Intrare")) | J20: =IF($B20="","",SUMIFS('Intrări-ieșiri'!$F$5:$F$504,'Intrări-ieșiri'!$C$5:$C$504,$B20,'Intrări-ieșiri'!$E$5:$E$504,"Ieșire")) | K20: =IF($B20="","",N(G20)+I20-J20) | L20: =IF($B20="","",ROUND(K20*N(F20),2))
I21: =IF($B21="","",SUMIFS('Intrări-ieșiri'!$F$5:$F$504,'Intrări-ieșiri'!$C$5:$C$504,$B21,'Intrări-ieșiri'!$E$5:$E$504,"Intrare")) | J21: =IF($B21="","",SUMIFS('Intrări-ieșiri'!$F$5:$F$504,'Intrări-ieșiri'!$C$5:$C$504,$B21,'Intrări-ieșiri'!$E$5:$E$504,"Ieșire")) | K21: =IF($B21="","",N(G21)+I21-J21) | L21: =IF($B21="","",ROUND(K21*N(F21),2))
I22: =IF($B22="","",SUMIFS('Intrări-ieșiri'!$F$5:$F$504,'Intrări-ieșiri'!$C$5:$C$504,$B22,'Intrări-ieșiri'!$E$5:$E$504,"Intrare")) | J22: =IF($B22="","",SUMIFS('Intrări-ieșiri'!$F$5:$F$504,'Intrări-ieșiri'!$C$5:$C$504,$B22,'Intrări-ieșiri'!$E$5:$E$504,"Ieșire")) | K22: =IF($B22="","",N(G22)+I22-J22) | L22: =IF($B22="","",ROUND(K22*N(F22),2))
I23: =IF($B23="","",SUMIFS('Intrări-ieșiri'!$F$5:$F$504,'Intrări-ieșiri'!$C$5:$C$504,$B23,'Intrări-ieșiri'!$E$5:$E$504,"Intrare")) | J23: =IF($B23="","",SUMIFS('Intrări-ieșiri'!$F$5:$F$504,'Intrări-ieșiri'!$C$5:$C$504,$B23,'Intrări-ieșiri'!$E$5:$E$504,"Ieșire")) | K23: =IF($B23="","",N(G23)+I23-J23) | L23: =IF($B23="","",ROUND(K23*N(F23),2))
I24: =IF($B24="","",SUMIFS('Intrări-ieșiri'!$F$5:$F$504,'Intrări-ieșiri'!$C$5:$C$504,$B24,'Intrări-ieșiri'!$E$5:$E$504,"Intrare")) | J24: =IF($B24="","",SUMIFS('Intrări-ieșiri'!$F$5:$F$504,'Intrări-ieșiri'!$C$5:$C$504,$B24,'Intrări-ieșiri'!$E$5:$E$504,"Ieșire")) | K24: =IF($B24="","",N(G24)+I24-J24) | L24: =IF($B24="","",ROUND(K24*N(F24),2))
I25: =IF($B25="","",SUMIFS('Intrări-ieșiri'!$F$5:$F$504,'Intrări-ieșiri'!$C$5:$C$504,$B25,'Intrări-ieșiri'!$E$5:$E$504,"Intrare")) | J25: =IF($B25="","",SUMIFS('Intrări-ieșiri'!$F$5:$F$504,'Intrări-ieșiri'!$C$5:$C$504,$B25,'Intrări-ieșiri'!$E$5:$E$504,"Ieșire")) | K25: =IF($B25="","",N(G25)+I25-J25) | L25: =IF($B25="","",ROUND(K25*N(F25),2))
I26: =IF($B26="","",SUMIFS('Intrări-ieșiri'!$F$5:$F$504,'Intrări-ieșiri'!$C$5:$C$504,$B26,'Intrări-ieșiri'!$E$5:$E$504,"Intrare")) | J26: =IF($B26="","",SUMIFS('Intrări-ieșiri'!$F$5:$F$504,'Intrări-ieșiri'!$C$5:$C$504,$B26,'Intrări-ieșiri'!$E$5:$E$504,"Ieșire")) | K26: =IF($B26="","",N(G26)+I26-J26) | L26: =IF($B26="","",ROUND(K26*N(F26),2))
... I104: =IF($B104="","",SUMIFS('Intrări-ieșiri'!$F$5:$F$504,'Intrări-ieșiri'!$C$5:$C$504,$B104,'Intrări-ieșiri'!$E$5:$E$504,"Intrare")) | J104: =IF($B104="","",SUMIFS('Intrări-ieșiri'!$F$5:$F$504,'Intrări-ieșiri'!$C$5:$C$504,$B104,'Intrări-ieșiri'!$E$5:$E$504,"Ieșire")) | K104: =IF($B104="","",N(G104)+I104-J104) | L104: =IF($B104="","",ROUND(K104*N(F104),2))
B105: TOTAL | L105: =SUM(L5:L104) -> 6923.9

Sheet Intrări-ieșiri
B1: Intrări și ieșiri de stoc
B2: Trece fiecare mișcare imediat ce are loc: intrări (achiziții, retururi de la clienți) și ieșiri (consum, vânzări, transferuri). Codul trebuie să existe în foaia „Produse”.
B4: Data | C4: Cod produs | D4: Denumire | E4: Tip | F4: Cantitate | G4: Document (NIR, bon de consum, aviz, factură) | H4: Observații | J4: Intrare
B5: =DATE(2026,9,3) -> 46268 | C5: P001 | D5: =IF(C5="","",IFERROR(INDEX(Produse!$C$5:$C$104,MATCH(C5,CoduriProd,0)),"Cod inexistent")) -> Hârtie copiator A4 80 g (top 500 coli) | E5: Intrare | F5: 60 | G5: NIR 112 | J5: Ieșire
B6: =DATE(2026,9,8) -> 46273 | C6: P001 | D6: =IF(C6="","",IFERROR(INDEX(Produse!$C$5:$C$104,MATCH(C6,CoduriProd,0)),"Cod inexistent")) -> Hârtie copiator A4 80 g (top 500 coli) | E6: Ieșire | F6: 45 | G6: Bon consum 31
B7: =DATE(2026,9,8) -> 46273 | C7: P003 | D7: =IF(C7="","",IFERROR(INDEX(Produse!$C$5:$C$104,MATCH(C7,CoduriProd,0)),"Cod inexistent")) -> Bibliorafturi 8 cm | E7: Ieșire | F7: 12 | G7: Bon consum 31
B8: =DATE(2026,9,15) -> 46280 | C8: P002 | D8: =IF(C8="","",IFERROR(INDEX(Produse!$C$5:$C$104,MATCH(C8,CoduriProd,0)),"Cod inexistent")) -> Toner imprimantă laser negru | E8: Intrare | F8: 4 | G8: NIR 118
B9: =DATE(2026,9,22) -> 46287 | C9: P002 | D9: =IF(C9="","",IFERROR(INDEX(Produse!$C$5:$C$104,MATCH(C9,CoduriProd,0)),"Cod inexistent")) -> Toner imprimantă laser negru | E9: Ieșire | F9: 5 | G9: Bon consum 35
B10: =DATE(2026,9,25) -> 46290 | C10: P006 | D10: =IF(C10="","",IFERROR(INDEX(Produse!$C$5:$C$104,MATCH(C10,CoduriProd,0)),"Cod inexistent")) -> Detergent universal 5 l | E10: Ieșire | F10: 9 | G10: Bon consum 36
B11: =DATE(2026,10,1) -> 46296 | C11: P009 | D11: =IF(C11="","",IFERROR(INDEX(Produse!$C$5:$C$104,MATCH(C11,CoduriProd,0)),"Cod inexistent")) -> Cafea boabe 1 kg | E11: Intrare | F11: 10 | G11: NIR 125
B12: =DATE(2026,10,2) -> 46297 | C12: P009 | D12: =IF(C12="","",IFERROR(INDEX(Produse!$C$5:$C$104,MATCH(C12,CoduriProd,0)),"Cod inexistent")) -> Cafea boabe 1 kg | E12: Ieșire | F12: 14 | G12: Bon consum 38
B13: =DATE(2026,10,6) -> 46301 | C13: P008 | D13: =IF(C13="","",IFERROR(INDEX(Produse!$C$5:$C$104,MATCH(C13,CoduriProd,0)),"Cod inexistent")) -> Hârtie igienică (bax 24 role) | E13: Ieșire | F13: 12 | G13: Bon consum 40
B14: =DATE(2026,10,10) -> 46305 | C14: P001 | D14: =IF(C14="","",IFERROR(INDEX(Produse!$C$5:$C$104,MATCH(C14,CoduriProd,0)),"Cod inexistent")) -> Hârtie copiator A4 80 g (top 500 coli) | E14: Ieșire | F14: 70 | G14: Bon consum 42
B15: =DATE(2026,10,14) -> 46309 | C15: P010 | D15: =IF(C15="","",IFERROR(INDEX(Produse!$C$5:$C$104,MATCH(C15,CoduriProd,0)),"Cod inexistent")) -> Apă plată 0,5 l (bax 12) | E15: Ieșire | F15: 22 | G15: Bon consum 44
B16: =DATE(2026,10,20) -> 46315 | C16: P007 | D16: =IF(C16="","",IFERROR(INDEX(Produse!$C$5:$C$104,MATCH(C16,CoduriProd,0)),"Cod inexistent")) -> Saci menajeri 120 l (rolă) | E16: Ieșire | F16: 18 | G16: Bon consum 47
B17: =DATE(2026,10,24) -> 46319 | C17: P004 | D17: =IF(C17="","",IFERROR(INDEX(Produse!$C$5:$C$104,MATCH(C17,CoduriProd,0)),"Cod inexistent")) -> Pixuri albastre (cutie 50 buc) | E17: Ieșire | F17: 4 | G17: Bon consum 49
B18: =DATE(2026,10,28) -> 46323 | C18: P005 | D18: =IF(C18="","",IFERROR(INDEX(Produse!$C$5:$C$104,MATCH(C18,CoduriProd,0)),"Cod inexistent")) -> Plicuri C4 (cutie 250 buc) | E18: Ieșire | F18: 2 | G18: Bon consum 51
D19: =IF(C19="","",IFERROR(INDEX(Produse!$C$5:$C$104,MATCH(C19,CoduriProd,0)),"Cod inexistent"))
D20: =IF(C20="","",IFERROR(INDEX(Produse!$C$5:$C$104,MATCH(C20,CoduriProd,0)),"Cod inexistent"))
D21: =IF(C21="","",IFERROR(INDEX(Produse!$C$5:$C$104,MATCH(C21,CoduriProd,0)),"Cod inexistent"))
D22: =IF(C22="","",IFERROR(INDEX(Produse!$C$5:$C$104,MATCH(C22,CoduriProd,0)),"Cod inexistent"))
D23: =IF(C23="","",IFERROR(INDEX(Produse!$C$5:$C$104,MATCH(C23,CoduriProd,0)),"Cod inexistent"))
D24: =IF(C24="","",IFERROR(INDEX(Produse!$C$5:$C$104,MATCH(C24,CoduriProd,0)),"Cod inexistent"))
D25: =IF(C25="","",IFERROR(INDEX(Produse!$C$5:$C$104,MATCH(C25,CoduriProd,0)),"Cod inexistent"))
D26: =IF(C26="","",IFERROR(INDEX(Produse!$C$5:$C$104,MATCH(C26,CoduriProd,0)),"Cod inexistent"))
D27: =IF(C27="","",IFERROR(INDEX(Produse!$C$5:$C$104,MATCH(C27,CoduriProd,0)),"Cod inexistent"))
D28: =IF(C28="","",IFERROR(INDEX(Produse!$C$5:$C$104,MATCH(C28,CoduriProd,0)),"Cod inexistent"))
D29: =IF(C29="","",IFERROR(INDEX(Produse!$C$5:$C$104,MATCH(C29,CoduriProd,0)),"Cod inexistent"))
D30: =IF(C30="","",IFERROR(INDEX(Produse!$C$5:$C$104,MATCH(C30,CoduriProd,0)),"Cod inexistent"))
... D504: =IF(C504="","",IFERROR(INDEX(Produse!$C$5:$C$104,MATCH(C504,CoduriProd,0)),"Cod inexistent"))

Sheet Despre model
B1: Listă de inventariere Excel
B3: © 2026 Ray Moreno – modelexcel.ro
B4: Model gratuit: îl poți folosi și adapta în activitatea ta. Nu este permisă revânzarea lui sau publicarea pe alte site-uri.
B5: Instrucțiuni și alte modele: modelexcel.ro/lista-inventar-model-excel/
