Workbook
Name Admin: Setări!$C$9
Name AnAng: Angajați!$I$5:$I$304
Name AnBrut: Angajați!$M$5:$M$304
Name AnCIM: Angajați!$H$5:$H$304
Name AnCNP: Angajați!$D$5:$D$304
Name AnCOR: Angajați!$G$5:$G$304
Name AnDom: Angajați!$E$5:$E$304
Name AnFunc: Angajați!$F$5:$F$304
Name AnInc: Angajați!$R$5:$R$304
Name AnMarca: Angajați!$B$5:$B$304
Name AnNorma: Angajați!$L$5:$L$304
Name AnNume: Angajați!$C$5:$C$304
Name AnPana: Angajați!$K$5:$K$304
Name AnPopriri: Angajați!$Q$5:$Q$304
Name AnPreaviz: Angajați!$O$5:$O$304
Name AnProba: Angajați!$N$5:$N$304
Name AnSusp: Angajați!$P$5:$P$304
Name AnTip: Angajați!$J$5:$J$304
Name Contact: Setări!$C$8
Name CUI: Setări!$C$5
Name DataA: Adeverință!$K$6
Name Firma: Setări!$C$4
Name Intocmit: Setări!$C$10
Name ListaTip: Setări!$E$4:$E$7
Name RA: Adeverință!$K$3
Name RE: Adeverință!$K$4
Name RegCom: Setări!$C$6
Name Sediu: Setări!$C$7
Name SfarsitA: Adeverință!$K$7
Name TipA: Adeverință!$K$5
Name VeBrut: 'Venituri lunare'!$E$5:$E$3004
Name VeLuna: 'Venituri lunare'!$D$5:$D$3004
Name VeMarca: 'Venituri lunare'!$B$5:$B$3004
Name VeNet: 'Venituri lunare'!$F$5:$F$3004
Name VeRet: 'Venituri lunare'!$G$5:$G$3004

Sheet Adeverință
B1: =Firma -> Exemplu Distribuție SRL | J1: Alege nr.: | K1: 101
B2: ="CUI "&CUI&" · "&RegCom -> CUI RO12345678 · J29/1234/2015 | J2: ← nu se printează
B3: =Sediu -> Str. Gării nr. 10, Ploiești, jud. Prahova | K3: =IFERROR(MATCH(K1,'Registru adeverințe'!$B$5:$B$1004,0),0) -> 1
B4: =Contact -> 0244 000 000 · hr@exemplu.ro | K4: =IF(K3=0,0,IFERROR(MATCH(INDEX('Registru adeverințe'!$D$5:$D$1004,K3),AnMarca,0),0)) -> 1
K5: =IF(RA=0,"",INDEX('Registru adeverințe'!$F$5:$F$1004,RA)) -> Adeverință de venit
F6: =IF(RA=0,"Adeverința nu există în registru","Nr. "&K1&" din "&RIGHT("0"&DAY(DataA),2)&"."&RIGHT("0"&MONTH(DataA),2)&"."&YEAR(DataA)) -> Nr. 101 din 14.10.2026 | K6: =IF(RA=0,0,INDEX('Registru adeverințe'!$C$5:$C$1004,RA)) -> 46309
K7: =IF(RE=0,0,IF(ISNUMBER(INDEX(AnInc,RE)),INDEX(AnInc,RE),K6)) -> 46309
B8: ADEVERINȚĂ
B9: =IF(RA=0,"","("&LOWER(SUBSTITUTE(TipA,"Adeverință ",""))&")") -> (de venit)
B11: =IF(OR(RA=0,RE=0),"","Prin prezenta se adeverește că dl./dna. "&INDEX(AnNume,RE)&", CNP "&INDEX(AnCNP,RE)&", domiciliat(ă) în "&INDEX(AnDom,RE)&", "&IF(ISNUMBER(INDEX(AnInc,RE)),"a fost angajat(ă) al(a) "&Firma&" în perioada "&RIGHT("0"&DAY(INDEX(AnAng,RE)),2)&"."&RIGHT("0"&MONTH(INDEX(AnAng,RE)),2)&"."&YEAR(INDEX(AnAng,RE))&" – "&RIGHT("0"&DAY(INDEX(AnInc,RE)),2)&"."&RIGHT("0"&MONTH(INDEX(AnInc,RE)),2)&"."&YEAR(INDEX(AnInc,RE))&", ","este angajat(ă) al(a) "&Firma&" din data de "&RIGHT("0"&DAY(INDEX(AnAng,RE)),2)&"."&RIGHT("0"&MONTH(INDEX(AnAng,RE)),2)&"."&YEAR(INDEX(AnAng,RE))&", ")&"cu contractul individual de muncă nr. "&INDEX(AnCIM,RE)&", pe durată "&IF(INDEX(AnTip,RE)="Determinată","determinată, până la "&RIGHT("0"&DAY(INDEX(AnPana,RE)),2)&"."&RIGHT("0"&MONTH(INDEX(AnPana,RE)),2)&"."&YEAR(INDEX(AnPana,RE)),"nedeterminată")&", cu "&IF(N(INDEX(AnNorma,RE))>=8,"normă întreagă (8 ore/zi)","timp parțial ("&INDEX(AnNorma,RE)&" ore/zi)")&", în funcția de "&INDEX(AnFunc,RE)&" (cod COR "&INDEX(AnCOR,RE)&").") -> Prin prezenta se adeverește că dl./dna. Ioana Popescu, CNP 2900315290014, domiciliat(ă) în Str. Mihai Bravu nr. 12, Ploiești, jud. Prahova, este angajat(ă) al(a) Exemplu Distribuție SRL din data de 03.02.2020, cu contractul individual de muncă nr. 12/03.02.2020, pe durată nedeterminată, cu normă întreagă (8 ore/zi), în funcția de Contabil (cod COR 331302).
B15: =IF(OR(RA=0,RE=0),"",IF(TipA="Adeverință de salariat","Salariul de bază brut lunar este de "&FIXED(INDEX(AnBrut,RE),2)&" lei. "&IF(AND(ISNUMBER(INDEX(AnProba,RE)),INDEX(AnProba,RE)>=DataA),"Salariatul se află în perioada de probă, până la "&RIGHT("0"&DAY(INDEX(AnProba,RE)),2)&"."&RIGHT("0"&MONTH(INDEX(AnProba,RE)),2)&"."&YEAR(INDEX(AnProba,RE))&". ","")&IF(INDEX(AnPreaviz,RE)="Da","Salariatul se află în perioada de preaviz. ","Salariatul nu se află în perioada de preaviz. ")&IF(INDEX(AnSusp,RE)="Da","Contractul individual de muncă este suspendat.","Contractul individual de muncă nu este suspendat."),IF(TipA="Adeverință de venit","Veniturile salariale realizate în ultimele "&INDEX('Registru adeverințe'!$H$5:$H$1004,RA)&" luni sunt prezentate în tabelul de mai jos. Media lunară a salariului net este de "&FIXED(IFERROR(AVERAGEIF($D$18:$D$29,">0"),0),2)&" lei. "&IF(INDEX(AnPopriri,RE)="","Asupra salariului nu există popriri sau alte rețineri.","Asupra salariului există următoarele rețineri: "&INDEX(AnPopriri,RE)&"."),IF(TipA="Adeverință de vechime","Vechimea la angajatorul nostru este de "&DATEDIF(INDEX(AnAng,RE),SfarsitA+1,"y")&" ani, "&DATEDIF(INDEX(AnAng,RE),SfarsitA+1,"ym")&" luni și "&DATEDIF(INDEX(AnAng,RE),SfarsitA+1,"md")&" zile ("&RIGHT("0"&DAY(INDEX(AnAng,RE)),2)&"."&RIGHT("0"&MONTH(INDEX(AnAng,RE)),2)&"."&YEAR(INDEX(AnAng,RE))&" – "&RIGHT("0"&DAY(SfarsitA),2)&"."&RIGHT("0"&MONTH(SfarsitA),2)&"."&YEAR(SfarsitA)&"), în funcția de "&INDEX(AnFunc,RE)&". Datele corespund înregistrărilor din registrul general de evidență a salariaților.","Salariatul este asigurat în sistemul de asigurări sociale de sănătate. Contribuția de asigurări sociale de sănătate (CASS) se reține din salariu și se virează lunar, conform legii.")))) -> Veniturile salariale realizate în ultimele 6 luni sunt prezentate în tabelul de mai jos. Media lunară a salariului net este de 3.899,67 lei. Asupra salariului nu există popriri sau alte rețineri.
B17: =IF(TipA="Adeverință de venit","Luna","") -> Luna | C17: =IF(TipA="Adeverință de venit","Salariu brut","") -> Salariu brut | D17: =IF(TipA="Adeverință de venit","Salariu net","") -> Salariu net | E17: =IF(TipA="Adeverință de venit","Rețineri","") -> Rețineri
B18: =IF(AND(TipA="Adeverință de venit",RE>0,1<=N(INDEX('Registru adeverințe'!$H$5:$H$1004,RA))),EDATE(DATE(YEAR(DataA),MONTH(DataA),1),-1),"") -> 46266 | C18: =IF(AND(TipA="Adeverință de venit",RE>0,1<=N(INDEX('Registru adeverințe'!$H$5:$H$1004,RA))),SUMIFS(VeBrut,VeMarca,INDEX(AnMarca,RE),VeLuna,EDATE(DATE(YEAR(DataA),MONTH(DataA),1),-1)),"") -> 6500 | D18: =IF(AND(TipA="Adeverință de venit",RE>0,1<=N(INDEX('Registru adeverințe'!$H$5:$H$1004,RA))),SUMIFS(VeNet,VeMarca,INDEX(AnMarca,RE),VeLuna,EDATE(DATE(YEAR(DataA),MONTH(DataA),1),-1)),"") -> 3802 | E18: =IF(AND(TipA="Adeverință de venit",RE>0,1<=N(INDEX('Registru adeverințe'!$H$5:$H$1004,RA))),SUMIFS(VeRet,VeMarca,INDEX(AnMarca,RE),VeLuna,EDATE(DATE(YEAR(DataA),MONTH(DataA),1),-1)),"") -> 0
B19: =IF(AND(TipA="Adeverință de venit",RE>0,2<=N(INDEX('Registru adeverințe'!$H$5:$H$1004,RA))),EDATE(DATE(YEAR(DataA),MONTH(DataA),1),-2),"") -> 46235 | C19: =IF(AND(TipA="Adeverință de venit",RE>0,2<=N(INDEX('Registru adeverințe'!$H$5:$H$1004,RA))),SUMIFS(VeBrut,VeMarca,INDEX(AnMarca,RE),VeLuna,EDATE(DATE(YEAR(DataA),MONTH(DataA),1),-2)),"") -> 6500 | D19: =IF(AND(TipA="Adeverință de venit",RE>0,2<=N(INDEX('Registru adeverințe'!$H$5:$H$1004,RA))),SUMIFS(VeNet,VeMarca,INDEX(AnMarca,RE),VeLuna,EDATE(DATE(YEAR(DataA),MONTH(DataA),1),-2)),"") -> 3802 | E19: =IF(AND(TipA="Adeverință de venit",RE>0,2<=N(INDEX('Registru adeverințe'!$H$5:$H$1004,RA))),SUMIFS(VeRet,VeMarca,INDEX(AnMarca,RE),VeLuna,EDATE(DATE(YEAR(DataA),MONTH(DataA),1),-2)),"") -> 0
B20: =IF(AND(TipA="Adeverință de venit",RE>0,3<=N(INDEX('Registru adeverințe'!$H$5:$H$1004,RA))),EDATE(DATE(YEAR(DataA),MONTH(DataA),1),-3),"") -> 46204 | C20: =IF(AND(TipA="Adeverință de venit",RE>0,3<=N(INDEX('Registru adeverințe'!$H$5:$H$1004,RA))),SUMIFS(VeBrut,VeMarca,INDEX(AnMarca,RE),VeLuna,EDATE(DATE(YEAR(DataA),MONTH(DataA),1),-3)),"") -> 6500 | D20: =IF(AND(TipA="Adeverință de venit",RE>0,3<=N(INDEX('Registru adeverințe'!$H$5:$H$1004,RA))),SUMIFS(VeNet,VeMarca,INDEX(AnMarca,RE),VeLuna,EDATE(DATE(YEAR(DataA),MONTH(DataA),1),-3)),"") -> 3802 | E20: =IF(AND(TipA="Adeverință de venit",RE>0,3<=N(INDEX('Registru adeverințe'!$H$5:$H$1004,RA))),SUMIFS(VeRet,VeMarca,INDEX(AnMarca,RE),VeLuna,EDATE(DATE(YEAR(DataA),MONTH(DataA),1),-3)),"") -> 0
B21: =IF(AND(TipA="Adeverință de venit",RE>0,4<=N(INDEX('Registru adeverințe'!$H$5:$H$1004,RA))),EDATE(DATE(YEAR(DataA),MONTH(DataA),1),-4),"") -> 46174 | C21: =IF(AND(TipA="Adeverință de venit",RE>0,4<=N(INDEX('Registru adeverințe'!$H$5:$H$1004,RA))),SUMIFS(VeBrut,VeMarca,INDEX(AnMarca,RE),VeLuna,EDATE(DATE(YEAR(DataA),MONTH(DataA),1),-4)),"") -> 7500 | D21: =IF(AND(TipA="Adeverință de venit",RE>0,4<=N(INDEX('Registru adeverințe'!$H$5:$H$1004,RA))),SUMIFS(VeNet,VeMarca,INDEX(AnMarca,RE),VeLuna,EDATE(DATE(YEAR(DataA),MONTH(DataA),1),-4)),"") -> 4388 | E21: =IF(AND(TipA="Adeverință de venit",RE>0,4<=N(INDEX('Registru adeverințe'!$H$5:$H$1004,RA))),SUMIFS(VeRet,VeMarca,INDEX(AnMarca,RE),VeLuna,EDATE(DATE(YEAR(DataA),MONTH(DataA),1),-4)),"") -> 0
B22: =IF(AND(TipA="Adeverință de venit",RE>0,5<=N(INDEX('Registru adeverințe'!$H$5:$H$1004,RA))),EDATE(DATE(YEAR(DataA),MONTH(DataA),1),-5),"") -> 46143 | C22: =IF(AND(TipA="Adeverință de venit",RE>0,5<=N(INDEX('Registru adeverințe'!$H$5:$H$1004,RA))),SUMIFS(VeBrut,VeMarca,INDEX(AnMarca,RE),VeLuna,EDATE(DATE(YEAR(DataA),MONTH(DataA),1),-5)),"") -> 6500 | D22: =IF(AND(TipA="Adeverință de venit",RE>0,5<=N(INDEX('Registru adeverințe'!$H$5:$H$1004,RA))),SUMIFS(VeNet,VeMarca,INDEX(AnMarca,RE),VeLuna,EDATE(DATE(YEAR(DataA),MONTH(DataA),1),-5)),"") -> 3802 | E22: =IF(AND(TipA="Adeverință de venit",RE>0,5<=N(INDEX('Registru adeverințe'!$H$5:$H$1004,RA))),SUMIFS(VeRet,VeMarca,INDEX(AnMarca,RE),VeLuna,EDATE(DATE(YEAR(DataA),MONTH(DataA),1),-5)),"") -> 0
B23: =IF(AND(TipA="Adeverință de venit",RE>0,6<=N(INDEX('Registru adeverințe'!$H$5:$H$1004,RA))),EDATE(DATE(YEAR(DataA),MONTH(DataA),1),-6),"") -> 46113 | C23: =IF(AND(TipA="Adeverință de venit",RE>0,6<=N(INDEX('Registru adeverințe'!$H$5:$H$1004,RA))),SUMIFS(VeBrut,VeMarca,INDEX(AnMarca,RE),VeLuna,EDATE(DATE(YEAR(DataA),MONTH(DataA),1),-6)),"") -> 6500 | D23: =IF(AND(TipA="Adeverință de venit",RE>0,6<=N(INDEX('Registru adeverințe'!$H$5:$H$1004,RA))),SUMIFS(VeNet,VeMarca,INDEX(AnMarca,RE),VeLuna,EDATE(DATE(YEAR(DataA),MONTH(DataA),1),-6)),"") -> 3802 | E23: =IF(AND(TipA="Adeverință de venit",RE>0,6<=N(INDEX('Registru adeverințe'!$H$5:$H$1004,RA))),SUMIFS(VeRet,VeMarca,INDEX(AnMarca,RE),VeLuna,EDATE(DATE(YEAR(DataA),MONTH(DataA),1),-6)),"") -> 0
B24: =IF(AND(TipA="Adeverință de venit",RE>0,7<=N(INDEX('Registru adeverințe'!$H$5:$H$1004,RA))),EDATE(DATE(YEAR(DataA),MONTH(DataA),1),-7),"") | C24: =IF(AND(TipA="Adeverință de venit",RE>0,7<=N(INDEX('Registru adeverințe'!$H$5:$H$1004,RA))),SUMIFS(VeBrut,VeMarca,INDEX(AnMarca,RE),VeLuna,EDATE(DATE(YEAR(DataA),MONTH(DataA),1),-7)),"") | D24: =IF(AND(TipA="Adeverință de venit",RE>0,7<=N(INDEX('Registru adeverințe'!$H$5:$H$1004,RA))),SUMIFS(VeNet,VeMarca,INDEX(AnMarca,RE),VeLuna,EDATE(DATE(YEAR(DataA),MONTH(DataA),1),-7)),"") | E24: =IF(AND(TipA="Adeverință de venit",RE>0,7<=N(INDEX('Registru adeverințe'!$H$5:$H$1004,RA))),SUMIFS(VeRet,VeMarca,INDEX(AnMarca,RE),VeLuna,EDATE(DATE(YEAR(DataA),MONTH(DataA),1),-7)),"")
B25: =IF(AND(TipA="Adeverință de venit",RE>0,8<=N(INDEX('Registru adeverințe'!$H$5:$H$1004,RA))),EDATE(DATE(YEAR(DataA),MONTH(DataA),1),-8),"") | C25: =IF(AND(TipA="Adeverință de venit",RE>0,8<=N(INDEX('Registru adeverințe'!$H$5:$H$1004,RA))),SUMIFS(VeBrut,VeMarca,INDEX(AnMarca,RE),VeLuna,EDATE(DATE(YEAR(DataA),MONTH(DataA),1),-8)),"") | D25: =IF(AND(TipA="Adeverință de venit",RE>0,8<=N(INDEX('Registru adeverințe'!$H$5:$H$1004,RA))),SUMIFS(VeNet,VeMarca,INDEX(AnMarca,RE),VeLuna,EDATE(DATE(YEAR(DataA),MONTH(DataA),1),-8)),"") | E25: =IF(AND(TipA="Adeverință de venit",RE>0,8<=N(INDEX('Registru adeverințe'!$H$5:$H$1004,RA))),SUMIFS(VeRet,VeMarca,INDEX(AnMarca,RE),VeLuna,EDATE(DATE(YEAR(DataA),MONTH(DataA),1),-8)),"")
B26: =IF(AND(TipA="Adeverință de venit",RE>0,9<=N(INDEX('Registru adeverințe'!$H$5:$H$1004,RA))),EDATE(DATE(YEAR(DataA),MONTH(DataA),1),-9),"") | C26: =IF(AND(TipA="Adeverință de venit",RE>0,9<=N(INDEX('Registru adeverințe'!$H$5:$H$1004,RA))),SUMIFS(VeBrut,VeMarca,INDEX(AnMarca,RE),VeLuna,EDATE(DATE(YEAR(DataA),MONTH(DataA),1),-9)),"") | D26: =IF(AND(TipA="Adeverință de venit",RE>0,9<=N(INDEX('Registru adeverințe'!$H$5:$H$1004,RA))),SUMIFS(VeNet,VeMarca,INDEX(AnMarca,RE),VeLuna,EDATE(DATE(YEAR(DataA),MONTH(DataA),1),-9)),"") | E26: =IF(AND(TipA="Adeverință de venit",RE>0,9<=N(INDEX('Registru adeverințe'!$H$5:$H$1004,RA))),SUMIFS(VeRet,VeMarca,INDEX(AnMarca,RE),VeLuna,EDATE(DATE(YEAR(DataA),MONTH(DataA),1),-9)),"")
B27: =IF(AND(TipA="Adeverință de venit",RE>0,10<=N(INDEX('Registru adeverințe'!$H$5:$H$1004,RA))),EDATE(DATE(YEAR(DataA),MONTH(DataA),1),-10),"") | C27: =IF(AND(TipA="Adeverință de venit",RE>0,10<=N(INDEX('Registru adeverințe'!$H$5:$H$1004,RA))),SUMIFS(VeBrut,VeMarca,INDEX(AnMarca,RE),VeLuna,EDATE(DATE(YEAR(DataA),MONTH(DataA),1),-10)),"") | D27: =IF(AND(TipA="Adeverință de venit",RE>0,10<=N(INDEX('Registru adeverințe'!$H$5:$H$1004,RA))),SUMIFS(VeNet,VeMarca,INDEX(AnMarca,RE),VeLuna,EDATE(DATE(YEAR(DataA),MONTH(DataA),1),-10)),"") | E27: =IF(AND(TipA="Adeverință de venit",RE>0,10<=N(INDEX('Registru adeverințe'!$H$5:$H$1004,RA))),SUMIFS(VeRet,VeMarca,INDEX(AnMarca,RE),VeLuna,EDATE(DATE(YEAR(DataA),MONTH(DataA),1),-10)),"")
B28: =IF(AND(TipA="Adeverință de venit",RE>0,11<=N(INDEX('Registru adeverințe'!$H$5:$H$1004,RA))),EDATE(DATE(YEAR(DataA),MONTH(DataA),1),-11),"") | C28: =IF(AND(TipA="Adeverință de venit",RE>0,11<=N(INDEX('Registru adeverințe'!$H$5:$H$1004,RA))),SUMIFS(VeBrut,VeMarca,INDEX(AnMarca,RE),VeLuna,EDATE(DATE(YEAR(DataA),MONTH(DataA),1),-11)),"") | D28: =IF(AND(TipA="Adeverință de venit",RE>0,11<=N(INDEX('Registru adeverințe'!$H$5:$H$1004,RA))),SUMIFS(VeNet,VeMarca,INDEX(AnMarca,RE),VeLuna,EDATE(DATE(YEAR(DataA),MONTH(DataA),1),-11)),"") | E28: =IF(AND(TipA="Adeverință de venit",RE>0,11<=N(INDEX('Registru adeverințe'!$H$5:$H$1004,RA))),SUMIFS(VeRet,VeMarca,INDEX(AnMarca,RE),VeLuna,EDATE(DATE(YEAR(DataA),MONTH(DataA),1),-11)),"")
B29: =IF(AND(TipA="Adeverință de venit",RE>0,12<=N(INDEX('Registru adeverințe'!$H$5:$H$1004,RA))),EDATE(DATE(YEAR(DataA),MONTH(DataA),1),-12),"") | C29: =IF(AND(TipA="Adeverință de venit",RE>0,12<=N(INDEX('Registru adeverințe'!$H$5:$H$1004,RA))),SUMIFS(VeBrut,VeMarca,INDEX(AnMarca,RE),VeLuna,EDATE(DATE(YEAR(DataA),MONTH(DataA),1),-12)),"") | D29: =IF(AND(TipA="Adeverință de venit",RE>0,12<=N(INDEX('Registru adeverințe'!$H$5:$H$1004,RA))),SUMIFS(VeNet,VeMarca,INDEX(AnMarca,RE),VeLuna,EDATE(DATE(YEAR(DataA),MONTH(DataA),1),-12)),"") | E29: =IF(AND(TipA="Adeverință de venit",RE>0,12<=N(INDEX('Registru adeverințe'!$H$5:$H$1004,RA))),SUMIFS(VeRet,VeMarca,INDEX(AnMarca,RE),VeLuna,EDATE(DATE(YEAR(DataA),MONTH(DataA),1),-12)),"")
B31: =IF(OR(RA=0,RE=0),"","Prezenta adeverință s-a eliberat la cererea salariatului, pentru a-i servi la "&INDEX('Registru adeverințe'!$G$5:$G$1004,RA)&". Datele cuprinse în adeverință corespund documentelor aflate în evidența angajatorului.") -> Prezenta adeverință s-a eliberat la cererea salariatului, pentru a-i servi la Banca Exemplu, pentru un credit de nevoi personale. Datele cuprinse în adeverință corespund documentelor aflate în evidența angajatorului.
B35: Administrator, | F35: Întocmit,
B36: =Admin -> Dan Ilie | F36: =Intocmit -> Maria Stoica
B38: Semnătura și ștampila ...................... | F38: Semnătura ......................

Sheet Registru adeverințe
B1: Registrul adeverințelor eliberate
B2: Un rând pentru fiecare adeverință: numărul, data, salariatul, tipul și scopul. Alege apoi numărul în foaia Adeverință și printeaz-o.
B4: Nr. | C4: Data | D4: Marcă | E4: Nume (automat) | F4: Tipul adeverinței | G4: Pentru a-i servi la | H4: Nr. luni (venit) | I4: Eliberată | J4: Verificare
B5: 101 | C5: =DATE(2026,10,14) -> 46309 | D5: M001 | E5: =IF(D5="","",IFERROR(INDEX(AnNume,MATCH(D5,AnMarca,0)),"Marcă inexistentă")) -> Ioana Popescu | F5: Adeverință de venit | G5: Banca Exemplu, pentru un credit de nevoi personale | H5: 6 | I5: Da | J5: =IF(B5="","",TRIM(IF(COUNTIF($B$5:$B$1004,B5)>1,"Număr dublat. ","")&IF(E5="Marcă inexistentă","Salariatul nu există în foaia Angajați. ",IF(AND(ISNUMBER(C5),C5<INDEX(AnAng,MATCH(D5,AnMarca,0))),"Data adeverinței este înaintea angajării. ","")&IF(AND(ISNUMBER(INDEX(AnInc,MATCH(D5,AnMarca,0))),OR(F5="Adeverință de salariat",F5="Adeverință pentru medicul de familie")),"Contractul a încetat: folosește adeverința de vechime. ",""))&IF(F5="","Alege tipul adeverinței. ","")&IF(G5="","Completează scopul. ","")&IF(AND(F5="Adeverință de venit",N(H5)=0),"Alege pentru câte luni se trec veniturile. ","")&IF(AND(F5="Adeverință de venit",N(H5)>0,E5<>"Marcă inexistentă"),IF((H5-COUNTIFS(VeMarca,D5,VeLuna,">="&EDATE(DATE(YEAR(C5),MONTH(C5),1),-H5),VeLuna,"<"&DATE(YEAR(C5),MONTH(C5),1)))>0,"Lipsesc veniturile pentru "&(H5-COUNTIFS(VeMarca,D5,VeLuna,">="&EDATE(DATE(YEAR(C5),MONTH(C5),1),-H5),VeLuna,"<"&DATE(YEAR(C5),MONTH(C5),1)))&" din ultimele "&H5&" luni. ",""),"")))
B6: 102 | C6: =DATE(2026,10,14) -> 46309 | D6: M002 | E6: =IF(D6="","",IFERROR(INDEX(AnNume,MATCH(D6,AnMarca,0)),"Marcă inexistentă")) -> Andrei Toma | F6: Adeverință de salariat | G6: grădinița copilului | I6: Da | J6: =IF(B6="","",TRIM(IF(COUNTIF($B$5:$B$1004,B6)>1,"Număr dublat. ","")&IF(E6="Marcă inexistentă","Salariatul nu există în foaia Angajați. ",IF(AND(ISNUMBER(C6),C6<INDEX(AnAng,MATCH(D6,AnMarca,0))),"Data adeverinței este înaintea angajării. ","")&IF(AND(ISNUMBER(INDEX(AnInc,MATCH(D6,AnMarca,0))),OR(F6="Adeverință de salariat",F6="Adeverință pentru medicul de familie")),"Contractul a încetat: folosește adeverința de vechime. ",""))&IF(F6="","Alege tipul adeverinței. ","")&IF(G6="","Completează scopul. ","")&IF(AND(F6="Adeverință de venit",N(H6)=0),"Alege pentru câte luni se trec veniturile. ","")&IF(AND(F6="Adeverință de venit",N(H6)>0,E6<>"Marcă inexistentă"),IF((H6-COUNTIFS(VeMarca,D6,VeLuna,">="&EDATE(DATE(YEAR(C6),MONTH(C6),1),-H6),VeLuna,"<"&DATE(YEAR(C6),MONTH(C6),1)))>0,"Lipsesc veniturile pentru "&(H6-COUNTIFS(VeMarca,D6,VeLuna,">="&EDATE(DATE(YEAR(C6),MONTH(C6),1),-H6),VeLuna,"<"&DATE(YEAR(C6),MONTH(C6),1)))&" din ultimele "&H6&" luni. ",""),"")))
B7: 103 | C7: =DATE(2026,10,15) -> 46310 | D7: M003 | E7: =IF(D7="","",IFERROR(INDEX(AnNume,MATCH(D7,AnMarca,0)),"Marcă inexistentă")) -> Mihai Dobre | F7: Adeverință de vechime | G7: noul angajator | I7: Da | J7: =IF(B7="","",TRIM(IF(COUNTIF($B$5:$B$1004,B7)>1,"Număr dublat. ","")&IF(E7="Marcă inexistentă","Salariatul nu există în foaia Angajați. ",IF(AND(ISNUMBER(C7),C7<INDEX(AnAng,MATCH(D7,AnMarca,0))),"Data adeverinței este înaintea angajării. ","")&IF(AND(ISNUMBER(INDEX(AnInc,MATCH(D7,AnMarca,0))),OR(F7="Adeverință de salariat",F7="Adeverință pentru medicul de familie")),"Contractul a încetat: folosește adeverința de vechime. ",""))&IF(F7="","Alege tipul adeverinței. ","")&IF(G7="","Completează scopul. ","")&IF(AND(F7="Adeverință de venit",N(H7)=0),"Alege pentru câte luni se trec veniturile. ","")&IF(AND(F7="Adeverință de venit",N(H7)>0,E7<>"Marcă inexistentă"),IF((H7-COUNTIFS(VeMarca,D7,VeLuna,">="&EDATE(DATE(YEAR(C7),MONTH(C7),1),-H7),VeLuna,"<"&DATE(YEAR(C7),MONTH(C7),1)))>0,"Lipsesc veniturile pentru "&(H7-COUNTIFS(VeMarca,D7,VeLuna,">="&EDATE(DATE(YEAR(C7),MONTH(C7),1),-H7),VeLuna,"<"&DATE(YEAR(C7),MONTH(C7),1)))&" din ultimele "&H7&" luni. ",""),"")))
B8: 104 | C8: =DATE(2026,10,15) -> 46310 | D8: M004 | E8: =IF(D8="","",IFERROR(INDEX(AnNume,MATCH(D8,AnMarca,0)),"Marcă inexistentă")) -> Elena Ilie | F8: Adeverință pentru medicul de familie | G8: medicul de familie | I8: Da | J8: =IF(B8="","",TRIM(IF(COUNTIF($B$5:$B$1004,B8)>1,"Număr dublat. ","")&IF(E8="Marcă inexistentă","Salariatul nu există în foaia Angajați. ",IF(AND(ISNUMBER(C8),C8<INDEX(AnAng,MATCH(D8,AnMarca,0))),"Data adeverinței este înaintea angajării. ","")&IF(AND(ISNUMBER(INDEX(AnInc,MATCH(D8,AnMarca,0))),OR(F8="Adeverință de salariat",F8="Adeverință pentru medicul de familie")),"Contractul a încetat: folosește adeverința de vechime. ",""))&IF(F8="","Alege tipul adeverinței. ","")&IF(G8="","Completează scopul. ","")&IF(AND(F8="Adeverință de venit",N(H8)=0),"Alege pentru câte luni se trec veniturile. ","")&IF(AND(F8="Adeverință de venit",N(H8)>0,E8<>"Marcă inexistentă"),IF((H8-COUNTIFS(VeMarca,D8,VeLuna,">="&EDATE(DATE(YEAR(C8),MONTH(C8),1),-H8),VeLuna,"<"&DATE(YEAR(C8),MONTH(C8),1)))>0,"Lipsesc veniturile pentru "&(H8-COUNTIFS(VeMarca,D8,VeLuna,">="&EDATE(DATE(YEAR(C8),MONTH(C8),1),-H8),VeLuna,"<"&DATE(YEAR(C8),MONTH(C8),1)))&" din ultimele "&H8&" luni. ",""),"")))
B9: 105 | C9: =DATE(2026,10,15) -> 46310 | D9: M004 | E9: =IF(D9="","",IFERROR(INDEX(AnNume,MATCH(D9,AnMarca,0)),"Marcă inexistentă")) -> Elena Ilie | F9: Adeverință de venit | G9: bancă – card de credit | H9: 6 | I9: Nu | J9: =IF(B9="","",TRIM(IF(COUNTIF($B$5:$B$1004,B9)>1,"Număr dublat. ","")&IF(E9="Marcă inexistentă","Salariatul nu există în foaia Angajați. ",IF(AND(ISNUMBER(C9),C9<INDEX(AnAng,MATCH(D9,AnMarca,0))),"Data adeverinței este înaintea angajării. ","")&IF(AND(ISNUMBER(INDEX(AnInc,MATCH(D9,AnMarca,0))),OR(F9="Adeverință de salariat",F9="Adeverință pentru medicul de familie")),"Contractul a încetat: folosește adeverința de vechime. ",""))&IF(F9="","Alege tipul adeverinței. ","")&IF(G9="","Completează scopul. ","")&IF(AND(F9="Adeverință de venit",N(H9)=0),"Alege pentru câte luni se trec veniturile. ","")&IF(AND(F9="Adeverință de venit",N(H9)>0,E9<>"Marcă inexistentă"),IF((H9-COUNTIFS(VeMarca,D9,VeLuna,">="&EDATE(DATE(YEAR(C9),MONTH(C9),1),-H9),VeLuna,"<"&DATE(YEAR(C9),MONTH(C9),1)))>0,"Lipsesc veniturile pentru "&(H9-COUNTIFS(VeMarca,D9,VeLuna,">="&EDATE(DATE(YEAR(C9),MONTH(C9),1),-H9),VeLuna,"<"&DATE(YEAR(C9),MONTH(C9),1)))&" din ultimele "&H9&" luni. ",""),""))) -> Lipsesc veniturile pentru 5 din ultimele 6 luni.
E10: =IF(D10="","",IFERROR(INDEX(AnNume,MATCH(D10,AnMarca,0)),"Marcă inexistentă")) | J10: =IF(B10="","",TRIM(IF(COUNTIF($B$5:$B$1004,B10)>1,"Număr dublat. ","")&IF(E10="Marcă inexistentă","Salariatul nu există în foaia Angajați. ",IF(AND(ISNUMBER(C10),C10<INDEX(AnAng,MATCH(D10,AnMarca,0))),"Data adeverinței este înaintea angajării. ","")&IF(AND(ISNUMBER(INDEX(AnInc,MATCH(D10,AnMarca,0))),OR(F10="Adeverință de salariat",F10="Adeverință pentru medicul de familie")),"Contractul a încetat: folosește adeverința de vechime. ",""))&IF(F10="","Alege tipul adeverinței. ","")&IF(G10="","Completează scopul. ","")&IF(AND(F10="Adeverință de venit",N(H10)=0),"Alege pentru câte luni se trec veniturile. ","")&IF(AND(F10="Adeverință de venit",N(H10)>0,E10<>"Marcă inexistentă"),IF((H10-COUNTIFS(VeMarca,D10,VeLuna,">="&EDATE(DATE(YEAR(C10),MONTH(C10),1),-H10),VeLuna,"<"&DATE(YEAR(C10),MONTH(C10),1)))>0,"Lipsesc veniturile pentru "&(H10-COUNTIFS(VeMarca,D10,VeLuna,">="&EDATE(DATE(YEAR(C10),MONTH(C10),1),-H10),VeLuna,"<"&DATE(YEAR(C10),MONTH(C10),1)))&" din ultimele "&H10&" luni. ",""),"")))
E11: =IF(D11="","",IFERROR(INDEX(AnNume,MATCH(D11,AnMarca,0)),"Marcă inexistentă")) | J11: =IF(B11="","",TRIM(IF(COUNTIF($B$5:$B$1004,B11)>1,"Număr dublat. ","")&IF(E11="Marcă inexistentă","Salariatul nu există în foaia Angajați. ",IF(AND(ISNUMBER(C11),C11<INDEX(AnAng,MATCH(D11,AnMarca,0))),"Data adeverinței este înaintea angajării. ","")&IF(AND(ISNUMBER(INDEX(AnInc,MATCH(D11,AnMarca,0))),OR(F11="Adeverință de salariat",F11="Adeverință pentru medicul de familie")),"Contractul a încetat: folosește adeverința de vechime. ",""))&IF(F11="","Alege tipul adeverinței. ","")&IF(G11="","Completează scopul. ","")&IF(AND(F11="Adeverință de venit",N(H11)=0),"Alege pentru câte luni se trec veniturile. ","")&IF(AND(F11="Adeverință de venit",N(H11)>0,E11<>"Marcă inexistentă"),IF((H11-COUNTIFS(VeMarca,D11,VeLuna,">="&EDATE(DATE(YEAR(C11),MONTH(C11),1),-H11),VeLuna,"<"&DATE(YEAR(C11),MONTH(C11),1)))>0,"Lipsesc veniturile pentru "&(H11-COUNTIFS(VeMarca,D11,VeLuna,">="&EDATE(DATE(YEAR(C11),MONTH(C11),1),-H11),VeLuna,"<"&DATE(YEAR(C11),MONTH(C11),1)))&" din ultimele "&H11&" luni. ",""),"")))
E12: =IF(D12="","",IFERROR(INDEX(AnNume,MATCH(D12,AnMarca,0)),"Marcă inexistentă")) | J12: =IF(B12="","",TRIM(IF(COUNTIF($B$5:$B$1004,B12)>1,"Număr dublat. ","")&IF(E12="Marcă inexistentă","Salariatul nu există în foaia Angajați. ",IF(AND(ISNUMBER(C12),C12<INDEX(AnAng,MATCH(D12,AnMarca,0))),"Data adeverinței este înaintea angajării. ","")&IF(AND(ISNUMBER(INDEX(AnInc,MATCH(D12,AnMarca,0))),OR(F12="Adeverință de salariat",F12="Adeverință pentru medicul de familie")),"Contractul a încetat: folosește adeverința de vechime. ",""))&IF(F12="","Alege tipul adeverinței. ","")&IF(G12="","Completează scopul. ","")&IF(AND(F12="Adeverință de venit",N(H12)=0),"Alege pentru câte luni se trec veniturile. ","")&IF(AND(F12="Adeverință de venit",N(H12)>0,E12<>"Marcă inexistentă"),IF((H12-COUNTIFS(VeMarca,D12,VeLuna,">="&EDATE(DATE(YEAR(C12),MONTH(C12),1),-H12),VeLuna,"<"&DATE(YEAR(C12),MONTH(C12),1)))>0,"Lipsesc veniturile pentru "&(H12-COUNTIFS(VeMarca,D12,VeLuna,">="&EDATE(DATE(YEAR(C12),MONTH(C12),1),-H12),VeLuna,"<"&DATE(YEAR(C12),MONTH(C12),1)))&" din ultimele "&H12&" luni. ",""),"")))
E13: =IF(D13="","",IFERROR(INDEX(AnNume,MATCH(D13,AnMarca,0)),"Marcă inexistentă")) | J13: =IF(B13="","",TRIM(IF(COUNTIF($B$5:$B$1004,B13)>1,"Număr dublat. ","")&IF(E13="Marcă inexistentă","Salariatul nu există în foaia Angajați. ",IF(AND(ISNUMBER(C13),C13<INDEX(AnAng,MATCH(D13,AnMarca,0))),"Data adeverinței este înaintea angajării. ","")&IF(AND(ISNUMBER(INDEX(AnInc,MATCH(D13,AnMarca,0))),OR(F13="Adeverință de salariat",F13="Adeverință pentru medicul de familie")),"Contractul a încetat: folosește adeverința de vechime. ",""))&IF(F13="","Alege tipul adeverinței. ","")&IF(G13="","Completează scopul. ","")&IF(AND(F13="Adeverință de venit",N(H13)=0),"Alege pentru câte luni se trec veniturile. ","")&IF(AND(F13="Adeverință de venit",N(H13)>0,E13<>"Marcă inexistentă"),IF((H13-COUNTIFS(VeMarca,D13,VeLuna,">="&EDATE(DATE(YEAR(C13),MONTH(C13),1),-H13),VeLuna,"<"&DATE(YEAR(C13),MONTH(C13),1)))>0,"Lipsesc veniturile pentru "&(H13-COUNTIFS(VeMarca,D13,VeLuna,">="&EDATE(DATE(YEAR(C13),MONTH(C13),1),-H13),VeLuna,"<"&DATE(YEAR(C13),MONTH(C13),1)))&" din ultimele "&H13&" luni. ",""),"")))
E14: =IF(D14="","",IFERROR(INDEX(AnNume,MATCH(D14,AnMarca,0)),"Marcă inexistentă")) | J14: =IF(B14="","",TRIM(IF(COUNTIF($B$5:$B$1004,B14)>1,"Număr dublat. ","")&IF(E14="Marcă inexistentă","Salariatul nu există în foaia Angajați. ",IF(AND(ISNUMBER(C14),C14<INDEX(AnAng,MATCH(D14,AnMarca,0))),"Data adeverinței este înaintea angajării. ","")&IF(AND(ISNUMBER(INDEX(AnInc,MATCH(D14,AnMarca,0))),OR(F14="Adeverință de salariat",F14="Adeverință pentru medicul de familie")),"Contractul a încetat: folosește adeverința de vechime. ",""))&IF(F14="","Alege tipul adeverinței. ","")&IF(G14="","Completează scopul. ","")&IF(AND(F14="Adeverință de venit",N(H14)=0),"Alege pentru câte luni se trec veniturile. ","")&IF(AND(F14="Adeverință de venit",N(H14)>0,E14<>"Marcă inexistentă"),IF((H14-COUNTIFS(VeMarca,D14,VeLuna,">="&EDATE(DATE(YEAR(C14),MONTH(C14),1),-H14),VeLuna,"<"&DATE(YEAR(C14),MONTH(C14),1)))>0,"Lipsesc veniturile pentru "&(H14-COUNTIFS(VeMarca,D14,VeLuna,">="&EDATE(DATE(YEAR(C14),MONTH(C14),1),-H14),VeLuna,"<"&DATE(YEAR(C14),MONTH(C14),1)))&" din ultimele "&H14&" luni. ",""),"")))
E15: =IF(D15="","",IFERROR(INDEX(AnNume,MATCH(D15,AnMarca,0)),"Marcă inexistentă")) | J15: =IF(B15="","",TRIM(IF(COUNTIF($B$5:$B$1004,B15)>1,"Număr dublat. ","")&IF(E15="Marcă inexistentă","Salariatul nu există în foaia Angajați. ",IF(AND(ISNUMBER(C15),C15<INDEX(AnAng,MATCH(D15,AnMarca,0))),"Data adeverinței este înaintea angajării. ","")&IF(AND(ISNUMBER(INDEX(AnInc,MATCH(D15,AnMarca,0))),OR(F15="Adeverință de salariat",F15="Adeverință pentru medicul de familie")),"Contractul a încetat: folosește adeverința de vechime. ",""))&IF(F15="","Alege tipul adeverinței. ","")&IF(G15="","Completează scopul. ","")&IF(AND(F15="Adeverință de venit",N(H15)=0),"Alege pentru câte luni se trec veniturile. ","")&IF(AND(F15="Adeverință de venit",N(H15)>0,E15<>"Marcă inexistentă"),IF((H15-COUNTIFS(VeMarca,D15,VeLuna,">="&EDATE(DATE(YEAR(C15),MONTH(C15),1),-H15),VeLuna,"<"&DATE(YEAR(C15),MONTH(C15),1)))>0,"Lipsesc veniturile pentru "&(H15-COUNTIFS(VeMarca,D15,VeLuna,">="&EDATE(DATE(YEAR(C15),MONTH(C15),1),-H15),VeLuna,"<"&DATE(YEAR(C15),MONTH(C15),1)))&" din ultimele "&H15&" luni. ",""),"")))
E16: =IF(D16="","",IFERROR(INDEX(AnNume,MATCH(D16,AnMarca,0)),"Marcă inexistentă")) | J16: =IF(B16="","",TRIM(IF(COUNTIF($B$5:$B$1004,B16)>1,"Număr dublat. ","")&IF(E16="Marcă inexistentă","Salariatul nu există în foaia Angajați. ",IF(AND(ISNUMBER(C16),C16<INDEX(AnAng,MATCH(D16,AnMarca,0))),"Data adeverinței este înaintea angajării. ","")&IF(AND(ISNUMBER(INDEX(AnInc,MATCH(D16,AnMarca,0))),OR(F16="Adeverință de salariat",F16="Adeverință pentru medicul de familie")),"Contractul a încetat: folosește adeverința de vechime. ",""))&IF(F16="","Alege tipul adeverinței. ","")&IF(G16="","Completează scopul. ","")&IF(AND(F16="Adeverință de venit",N(H16)=0),"Alege pentru câte luni se trec veniturile. ","")&IF(AND(F16="Adeverință de venit",N(H16)>0,E16<>"Marcă inexistentă"),IF((H16-COUNTIFS(VeMarca,D16,VeLuna,">="&EDATE(DATE(YEAR(C16),MONTH(C16),1),-H16),VeLuna,"<"&DATE(YEAR(C16),MONTH(C16),1)))>0,"Lipsesc veniturile pentru "&(H16-COUNTIFS(VeMarca,D16,VeLuna,">="&EDATE(DATE(YEAR(C16),MONTH(C16),1),-H16),VeLuna,"<"&DATE(YEAR(C16),MONTH(C16),1)))&" din ultimele "&H16&" luni. ",""),"")))
E17: =IF(D17="","",IFERROR(INDEX(AnNume,MATCH(D17,AnMarca,0)),"Marcă inexistentă")) | J17: =IF(B17="","",TRIM(IF(COUNTIF($B$5:$B$1004,B17)>1,"Număr dublat. ","")&IF(E17="Marcă inexistentă","Salariatul nu există în foaia Angajați. ",IF(AND(ISNUMBER(C17),C17<INDEX(AnAng,MATCH(D17,AnMarca,0))),"Data adeverinței este înaintea angajării. ","")&IF(AND(ISNUMBER(INDEX(AnInc,MATCH(D17,AnMarca,0))),OR(F17="Adeverință de salariat",F17="Adeverință pentru medicul de familie")),"Contractul a încetat: folosește adeverința de vechime. ",""))&IF(F17="","Alege tipul adeverinței. ","")&IF(G17="","Completează scopul. ","")&IF(AND(F17="Adeverință de venit",N(H17)=0),"Alege pentru câte luni se trec veniturile. ","")&IF(AND(F17="Adeverință de venit",N(H17)>0,E17<>"Marcă inexistentă"),IF((H17-COUNTIFS(VeMarca,D17,VeLuna,">="&EDATE(DATE(YEAR(C17),MONTH(C17),1),-H17),VeLuna,"<"&DATE(YEAR(C17),MONTH(C17),1)))>0,"Lipsesc veniturile pentru "&(H17-COUNTIFS(VeMarca,D17,VeLuna,">="&EDATE(DATE(YEAR(C17),MONTH(C17),1),-H17),VeLuna,"<"&DATE(YEAR(C17),MONTH(C17),1)))&" din ultimele "&H17&" luni. ",""),"")))
E18: =IF(D18="","",IFERROR(INDEX(AnNume,MATCH(D18,AnMarca,0)),"Marcă inexistentă")) | J18: =IF(B18="","",TRIM(IF(COUNTIF($B$5:$B$1004,B18)>1,"Număr dublat. ","")&IF(E18="Marcă inexistentă","Salariatul nu există în foaia Angajați. ",IF(AND(ISNUMBER(C18),C18<INDEX(AnAng,MATCH(D18,AnMarca,0))),"Data adeverinței este înaintea angajării. ","")&IF(AND(ISNUMBER(INDEX(AnInc,MATCH(D18,AnMarca,0))),OR(F18="Adeverință de salariat",F18="Adeverință pentru medicul de familie")),"Contractul a încetat: folosește adeverința de vechime. ",""))&IF(F18="","Alege tipul adeverinței. ","")&IF(G18="","Completează scopul. ","")&IF(AND(F18="Adeverință de venit",N(H18)=0),"Alege pentru câte luni se trec veniturile. ","")&IF(AND(F18="Adeverință de venit",N(H18)>0,E18<>"Marcă inexistentă"),IF((H18-COUNTIFS(VeMarca,D18,VeLuna,">="&EDATE(DATE(YEAR(C18),MONTH(C18),1),-H18),VeLuna,"<"&DATE(YEAR(C18),MONTH(C18),1)))>0,"Lipsesc veniturile pentru "&(H18-COUNTIFS(VeMarca,D18,VeLuna,">="&EDATE(DATE(YEAR(C18),MONTH(C18),1),-H18),VeLuna,"<"&DATE(YEAR(C18),MONTH(C18),1)))&" din ultimele "&H18&" luni. ",""),"")))
E19: =IF(D19="","",IFERROR(INDEX(AnNume,MATCH(D19,AnMarca,0)),"Marcă inexistentă")) | J19: =IF(B19="","",TRIM(IF(COUNTIF($B$5:$B$1004,B19)>1,"Număr dublat. ","")&IF(E19="Marcă inexistentă","Salariatul nu există în foaia Angajați. ",IF(AND(ISNUMBER(C19),C19<INDEX(AnAng,MATCH(D19,AnMarca,0))),"Data adeverinței este înaintea angajării. ","")&IF(AND(ISNUMBER(INDEX(AnInc,MATCH(D19,AnMarca,0))),OR(F19="Adeverință de salariat",F19="Adeverință pentru medicul de familie")),"Contractul a încetat: folosește adeverința de vechime. ",""))&IF(F19="","Alege tipul adeverinței. ","")&IF(G19="","Completează scopul. ","")&IF(AND(F19="Adeverință de venit",N(H19)=0),"Alege pentru câte luni se trec veniturile. ","")&IF(AND(F19="Adeverință de venit",N(H19)>0,E19<>"Marcă inexistentă"),IF((H19-COUNTIFS(VeMarca,D19,VeLuna,">="&EDATE(DATE(YEAR(C19),MONTH(C19),1),-H19),VeLuna,"<"&DATE(YEAR(C19),MONTH(C19),1)))>0,"Lipsesc veniturile pentru "&(H19-COUNTIFS(VeMarca,D19,VeLuna,">="&EDATE(DATE(YEAR(C19),MONTH(C19),1),-H19),VeLuna,"<"&DATE(YEAR(C19),MONTH(C19),1)))&" din ultimele "&H19&" luni. ",""),"")))
E20: =IF(D20="","",IFERROR(INDEX(AnNume,MATCH(D20,AnMarca,0)),"Marcă inexistentă")) | J20: =IF(B20="","",TRIM(IF(COUNTIF($B$5:$B$1004,B20)>1,"Număr dublat. ","")&IF(E20="Marcă inexistentă","Salariatul nu există în foaia Angajați. ",IF(AND(ISNUMBER(C20),C20<INDEX(AnAng,MATCH(D20,AnMarca,0))),"Data adeverinței este înaintea angajării. ","")&IF(AND(ISNUMBER(INDEX(AnInc,MATCH(D20,AnMarca,0))),OR(F20="Adeverință de salariat",F20="Adeverință pentru medicul de familie")),"Contractul a încetat: folosește adeverința de vechime. ",""))&IF(F20="","Alege tipul adeverinței. ","")&IF(G20="","Completează scopul. ","")&IF(AND(F20="Adeverință de venit",N(H20)=0),"Alege pentru câte luni se trec veniturile. ","")&IF(AND(F20="Adeverință de venit",N(H20)>0,E20<>"Marcă inexistentă"),IF((H20-COUNTIFS(VeMarca,D20,VeLuna,">="&EDATE(DATE(YEAR(C20),MONTH(C20),1),-H20),VeLuna,"<"&DATE(YEAR(C20),MONTH(C20),1)))>0,"Lipsesc veniturile pentru "&(H20-COUNTIFS(VeMarca,D20,VeLuna,">="&EDATE(DATE(YEAR(C20),MONTH(C20),1),-H20),VeLuna,"<"&DATE(YEAR(C20),MONTH(C20),1)))&" din ultimele "&H20&" luni. ",""),"")))
E21: =IF(D21="","",IFERROR(INDEX(AnNume,MATCH(D21,AnMarca,0)),"Marcă inexistentă")) | J21: =IF(B21="","",TRIM(IF(COUNTIF($B$5:$B$1004,B21)>1,"Număr dublat. ","")&IF(E21="Marcă inexistentă","Salariatul nu există în foaia Angajați. ",IF(AND(ISNUMBER(C21),C21<INDEX(AnAng,MATCH(D21,AnMarca,0))),"Data adeverinței este înaintea angajării. ","")&IF(AND(ISNUMBER(INDEX(AnInc,MATCH(D21,AnMarca,0))),OR(F21="Adeverință de salariat",F21="Adeverință pentru medicul de familie")),"Contractul a încetat: folosește adeverința de vechime. ",""))&IF(F21="","Alege tipul adeverinței. ","")&IF(G21="","Completează scopul. ","")&IF(AND(F21="Adeverință de venit",N(H21)=0),"Alege pentru câte luni se trec veniturile. ","")&IF(AND(F21="Adeverință de venit",N(H21)>0,E21<>"Marcă inexistentă"),IF((H21-COUNTIFS(VeMarca,D21,VeLuna,">="&EDATE(DATE(YEAR(C21),MONTH(C21),1),-H21),VeLuna,"<"&DATE(YEAR(C21),MONTH(C21),1)))>0,"Lipsesc veniturile pentru "&(H21-COUNTIFS(VeMarca,D21,VeLuna,">="&EDATE(DATE(YEAR(C21),MONTH(C21),1),-H21),VeLuna,"<"&DATE(YEAR(C21),MONTH(C21),1)))&" din ultimele "&H21&" luni. ",""),"")))
... E1004: =IF(D1004="","",IFERROR(INDEX(AnNume,MATCH(D1004,AnMarca,0)),"Marcă inexistentă")) | J1004: =IF(B1004="","",TRIM(IF(COUNTIF($B$5:$B$1004,B1004)>1,"Număr dublat. ","")&IF(E1004="Marcă inexistentă","Salariatul nu există în foaia Angajați. ",IF(AND(ISNUMBER(C1004),C1004<INDEX(AnAng,MATCH(D1004,AnMarca,0))),"Data adeverinței este înaintea angajării. ","")&IF(AND(ISNUMBER(INDEX(AnInc,MATCH(D1004,AnMarca,0))),OR(F1004="Adeverință de salariat",F1004="Adeverință pentru medicul de familie")),"Contractul a încetat: folosește adeverința de vechime. ",""))&IF(F1004="","Alege tipul adeverinței. ","")&IF(G1004="","Completează scopul. ","")&IF(AND(F1004="Adeverință de venit",N(H1004)=0),"Alege pentru câte luni se trec veniturile. ","")&IF(AND(F1004="Adeverință de venit",N(H1004)>0,E1004<>"Marcă inexistentă"),IF((H1004-COUNTIFS(VeMarca,D1004,VeLuna,">="&EDATE(DATE(YEAR(C1004),MONTH(C1004),1),-H1004),VeLuna,"<"&DATE(YEAR(C1004),MONTH(C1004),1)))>0,"Lipsesc veniturile pentru "&(H1004-COUNTIFS(VeMarca,D1004,VeLuna,">="&EDATE(DATE(YEAR(C1004),MONTH(C1004),1),-H1004),VeLuna,"<"&DATE(YEAR(C1004),MONTH(C1004),1)))&" din ultimele "&H1004&" luni. ",""),"")))

Sheet Angajați
B1: Angajați
B2: Datele din contractul de muncă și din registrul general de evidență a salariaților, folosite în adeverințe.
B4: Marcă | C4: Nume și prenume | D4: CNP | E4: Domiciliul | F4: Funcția | G4: Cod COR | H4: Nr. și data CIM | I4: Data angajării | J4: Durata contractului | K4: Determinată – până la | L4: Normă (ore/zi) | M4: Salariu de bază brut | N4: Perioadă de probă până la | O4: În preaviz | P4: CIM suspendat | Q4: Popriri / rețineri | R4: Data încetării | S4: Verificare
B5: M001 | C5: Ioana Popescu | D5: 2900315290014 | E5: Str. Mihai Bravu nr. 12, Ploiești, jud. Prahova | F5: Contabil | G5: 331302 | H5: 12/03.02.2020 | I5: =DATE(2020,2,3) -> 43864 | J5: Nedeterminată | L5: 8 | M5: 6500 | O5: Nu | P5: Nu | S5: =IF(B5="","",TRIM(IF(COUNTIF($B$5:$B$304,B5)>1,"Marcă dublată. ","")&IF(OR(LEN(D5)<>13,NOT(ISNUMBER(--D5))),"CNP-ul trebuie să aibă 13 cifre. ",IF(MOD(MOD(SUMPRODUCT(--MID(D5,{1,2,3,4,5,6,7,8,9,10,11,12},1),{2,7,9,1,4,6,3,5,8,2,7,9}),11),10)+IF(MOD(SUMPRODUCT(--MID(D5,{1,2,3,4,5,6,7,8,9,10,11,12},1),{2,7,9,1,4,6,3,5,8,2,7,9}),11)=10,1,0)<>--RIGHT(D5,1),"Cifra de control a CNP-ului nu se potrivește. ",""))&IF(OR(LEN(G5&"")<>6,NOT(ISNUMBER(--G5))),"Codul COR are 6 cifre. ","")&IF(NOT(ISNUMBER(I5)),"Lipsește data angajării. ","")&IF(AND(J5="Determinată",NOT(ISNUMBER(K5))),"Contract pe durată determinată fără dată de final. ","")&IF(AND(ISNUMBER(R5),ISNUMBER(I5),R5<I5),"Data încetării este înaintea angajării. ","")))
B6: M002 | C6: Andrei Toma | D6: 1880711290023 | E6: Str. Rudului nr. 5, Ploiești, jud. Prahova | F6: Șofer autocamion | G6: 833201 | H6: 21/10.05.2022 | I6: =DATE(2022,5,10) -> 44691 | J6: Nedeterminată | L6: 8 | M6: 6800 | O6: Nu | P6: Nu | Q6: poprire de 500 lei/lună, în baza titlului executoriu nr. 412/2025 | S6: =IF(B6="","",TRIM(IF(COUNTIF($B$5:$B$304,B6)>1,"Marcă dublată. ","")&IF(OR(LEN(D6)<>13,NOT(ISNUMBER(--D6))),"CNP-ul trebuie să aibă 13 cifre. ",IF(MOD(MOD(SUMPRODUCT(--MID(D6,{1,2,3,4,5,6,7,8,9,10,11,12},1),{2,7,9,1,4,6,3,5,8,2,7,9}),11),10)+IF(MOD(SUMPRODUCT(--MID(D6,{1,2,3,4,5,6,7,8,9,10,11,12},1),{2,7,9,1,4,6,3,5,8,2,7,9}),11)=10,1,0)<>--RIGHT(D6,1),"Cifra de control a CNP-ului nu se potrivește. ",""))&IF(OR(LEN(G6&"")<>6,NOT(ISNUMBER(--G6))),"Codul COR are 6 cifre. ","")&IF(NOT(ISNUMBER(I6)),"Lipsește data angajării. ","")&IF(AND(J6="Determinată",NOT(ISNUMBER(K6))),"Contract pe durată determinată fără dată de final. ","")&IF(AND(ISNUMBER(R6),ISNUMBER(I6),R6<I6),"Data încetării este înaintea angajării. ","")))
B7: M003 | C7: Mihai Dobre | D7: 1851103290036 | E7: Bd. Republicii nr. 40, Ploiești, jud. Prahova | F7: Agent de vânzări | G7: 332203 | H7: 7/01.09.2018 | I7: =DATE(2018,9,1) -> 43344 | J7: Nedeterminată | L7: 8 | M7: 7200 | O7: Nu | P7: Nu | R7: =DATE(2026,8,31) -> 46265 | S7: =IF(B7="","",TRIM(IF(COUNTIF($B$5:$B$304,B7)>1,"Marcă dublată. ","")&IF(OR(LEN(D7)<>13,NOT(ISNUMBER(--D7))),"CNP-ul trebuie să aibă 13 cifre. ",IF(MOD(MOD(SUMPRODUCT(--MID(D7,{1,2,3,4,5,6,7,8,9,10,11,12},1),{2,7,9,1,4,6,3,5,8,2,7,9}),11),10)+IF(MOD(SUMPRODUCT(--MID(D7,{1,2,3,4,5,6,7,8,9,10,11,12},1),{2,7,9,1,4,6,3,5,8,2,7,9}),11)=10,1,0)<>--RIGHT(D7,1),"Cifra de control a CNP-ului nu se potrivește. ",""))&IF(OR(LEN(G7&"")<>6,NOT(ISNUMBER(--G7))),"Codul COR are 6 cifre. ","")&IF(NOT(ISNUMBER(I7)),"Lipsește data angajării. ","")&IF(AND(J7="Determinată",NOT(ISNUMBER(K7))),"Contract pe durată determinată fără dată de final. ","")&IF(AND(ISNUMBER(R7),ISNUMBER(I7),R7<I7),"Data încetării este înaintea angajării. ","")))
B8: M004 | C8: Elena Ilie | D8: 2991204290041 | E8: Str. Găgeni nr. 88, Ploiești, jud. Prahova | F8: Agent de vânzări | G8: 332203 | H8: 34/28.08.2026 | I8: =DATE(2026,9,1) -> 46266 | J8: Determinată | K8: =DATE(2027,8,31) -> 46630 | L8: 8 | M8: 6500 | N8: =DATE(2026,11,30) -> 46356 | O8: Nu | P8: Nu | S8: =IF(B8="","",TRIM(IF(COUNTIF($B$5:$B$304,B8)>1,"Marcă dublată. ","")&IF(OR(LEN(D8)<>13,NOT(ISNUMBER(--D8))),"CNP-ul trebuie să aibă 13 cifre. ",IF(MOD(MOD(SUMPRODUCT(--MID(D8,{1,2,3,4,5,6,7,8,9,10,11,12},1),{2,7,9,1,4,6,3,5,8,2,7,9}),11),10)+IF(MOD(SUMPRODUCT(--MID(D8,{1,2,3,4,5,6,7,8,9,10,11,12},1),{2,7,9,1,4,6,3,5,8,2,7,9}),11)=10,1,0)<>--RIGHT(D8,1),"Cifra de control a CNP-ului nu se potrivește. ",""))&IF(OR(LEN(G8&"")<>6,NOT(ISNUMBER(--G8))),"Codul COR are 6 cifre. ","")&IF(NOT(ISNUMBER(I8)),"Lipsește data angajării. ","")&IF(AND(J8="Determinată",NOT(ISNUMBER(K8))),"Contract pe durată determinată fără dată de final. ","")&IF(AND(ISNUMBER(R8),ISNUMBER(I8),R8<I8),"Data încetării este înaintea angajării. ","")))
S9: =IF(B9="","",TRIM(IF(COUNTIF($B$5:$B$304,B9)>1,"Marcă dublată. ","")&IF(OR(LEN(D9)<>13,NOT(ISNUMBER(--D9))),"CNP-ul trebuie să aibă 13 cifre. ",IF(MOD(MOD(SUMPRODUCT(--MID(D9,{1,2,3,4,5,6,7,8,9,10,11,12},1),{2,7,9,1,4,6,3,5,8,2,7,9}),11),10)+IF(MOD(SUMPRODUCT(--MID(D9,{1,2,3,4,5,6,7,8,9,10,11,12},1),{2,7,9,1,4,6,3,5,8,2,7,9}),11)=10,1,0)<>--RIGHT(D9,1),"Cifra de control a CNP-ului nu se potrivește. ",""))&IF(OR(LEN(G9&"")<>6,NOT(ISNUMBER(--G9))),"Codul COR are 6 cifre. ","")&IF(NOT(ISNUMBER(I9)),"Lipsește data angajării. ","")&IF(AND(J9="Determinată",NOT(ISNUMBER(K9))),"Contract pe durată determinată fără dată de final. ","")&IF(AND(ISNUMBER(R9),ISNUMBER(I9),R9<I9),"Data încetării este înaintea angajării. ","")))
S10: =IF(B10="","",TRIM(IF(COUNTIF($B$5:$B$304,B10)>1,"Marcă dublată. ","")&IF(OR(LEN(D10)<>13,NOT(ISNUMBER(--D10))),"CNP-ul trebuie să aibă 13 cifre. ",IF(MOD(MOD(SUMPRODUCT(--MID(D10,{1,2,3,4,5,6,7,8,9,10,11,12},1),{2,7,9,1,4,6,3,5,8,2,7,9}),11),10)+IF(MOD(SUMPRODUCT(--MID(D10,{1,2,3,4,5,6,7,8,9,10,11,12},1),{2,7,9,1,4,6,3,5,8,2,7,9}),11)=10,1,0)<>--RIGHT(D10,1),"Cifra de control a CNP-ului nu se potrivește. ",""))&IF(OR(LEN(G10&"")<>6,NOT(ISNUMBER(--G10))),"Codul COR are 6 cifre. ","")&IF(NOT(ISNUMBER(I10)),"Lipsește data angajării. ","")&IF(AND(J10="Determinată",NOT(ISNUMBER(K10))),"Contract pe durată determinată fără dată de final. ","")&IF(AND(ISNUMBER(R10),ISNUMBER(I10),R10<I10),"Data încetării este înaintea angajării. ","")))
S11: =IF(B11="","",TRIM(IF(COUNTIF($B$5:$B$304,B11)>1,"Marcă dublată. ","")&IF(OR(LEN(D11)<>13,NOT(ISNUMBER(--D11))),"CNP-ul trebuie să aibă 13 cifre. ",IF(MOD(MOD(SUMPRODUCT(--MID(D11,{1,2,3,4,5,6,7,8,9,10,11,12},1),{2,7,9,1,4,6,3,5,8,2,7,9}),11),10)+IF(MOD(SUMPRODUCT(--MID(D11,{1,2,3,4,5,6,7,8,9,10,11,12},1),{2,7,9,1,4,6,3,5,8,2,7,9}),11)=10,1,0)<>--RIGHT(D11,1),"Cifra de control a CNP-ului nu se potrivește. ",""))&IF(OR(LEN(G11&"")<>6,NOT(ISNUMBER(--G11))),"Codul COR are 6 cifre. ","")&IF(NOT(ISNUMBER(I11)),"Lipsește data angajării. ","")&IF(AND(J11="Determinată",NOT(ISNUMBER(K11))),"Contract pe durată determinată fără dată de final. ","")&IF(AND(ISNUMBER(R11),ISNUMBER(I11),R11<I11),"Data încetării este înaintea angajării. ","")))
S12: =IF(B12="","",TRIM(IF(COUNTIF($B$5:$B$304,B12)>1,"Marcă dublată. ","")&IF(OR(LEN(D12)<>13,NOT(ISNUMBER(--D12))),"CNP-ul trebuie să aibă 13 cifre. ",IF(MOD(MOD(SUMPRODUCT(--MID(D12,{1,2,3,4,5,6,7,8,9,10,11,12},1),{2,7,9,1,4,6,3,5,8,2,7,9}),11),10)+IF(MOD(SUMPRODUCT(--MID(D12,{1,2,3,4,5,6,7,8,9,10,11,12},1),{2,7,9,1,4,6,3,5,8,2,7,9}),11)=10,1,0)<>--RIGHT(D12,1),"Cifra de control a CNP-ului nu se potrivește. ",""))&IF(OR(LEN(G12&"")<>6,NOT(ISNUMBER(--G12))),"Codul COR are 6 cifre. ","")&IF(NOT(ISNUMBER(I12)),"Lipsește data angajării. ","")&IF(AND(J12="Determinată",NOT(ISNUMBER(K12))),"Contract pe durată determinată fără dată de final. ","")&IF(AND(ISNUMBER(R12),ISNUMBER(I12),R12<I12),"Data încetării este înaintea angajării. ","")))
S13: =IF(B13="","",TRIM(IF(COUNTIF($B$5:$B$304,B13)>1,"Marcă dublată. ","")&IF(OR(LEN(D13)<>13,NOT(ISNUMBER(--D13))),"CNP-ul trebuie să aibă 13 cifre. ",IF(MOD(MOD(SUMPRODUCT(--MID(D13,{1,2,3,4,5,6,7,8,9,10,11,12},1),{2,7,9,1,4,6,3,5,8,2,7,9}),11),10)+IF(MOD(SUMPRODUCT(--MID(D13,{1,2,3,4,5,6,7,8,9,10,11,12},1),{2,7,9,1,4,6,3,5,8,2,7,9}),11)=10,1,0)<>--RIGHT(D13,1),"Cifra de control a CNP-ului nu se potrivește. ",""))&IF(OR(LEN(G13&"")<>6,NOT(ISNUMBER(--G13))),"Codul COR are 6 cifre. ","")&IF(NOT(ISNUMBER(I13)),"Lipsește data angajării. ","")&IF(AND(J13="Determinată",NOT(ISNUMBER(K13))),"Contract pe durată determinată fără dată de final. ","")&IF(AND(ISNUMBER(R13),ISNUMBER(I13),R13<I13),"Data încetării este înaintea angajării. ","")))
S14: =IF(B14="","",TRIM(IF(COUNTIF($B$5:$B$304,B14)>1,"Marcă dublată. ","")&IF(OR(LEN(D14)<>13,NOT(ISNUMBER(--D14))),"CNP-ul trebuie să aibă 13 cifre. ",IF(MOD(MOD(SUMPRODUCT(--MID(D14,{1,2,3,4,5,6,7,8,9,10,11,12},1),{2,7,9,1,4,6,3,5,8,2,7,9}),11),10)+IF(MOD(SUMPRODUCT(--MID(D14,{1,2,3,4,5,6,7,8,9,10,11,12},1),{2,7,9,1,4,6,3,5,8,2,7,9}),11)=10,1,0)<>--RIGHT(D14,1),"Cifra de control a CNP-ului nu se potrivește. ",""))&IF(OR(LEN(G14&"")<>6,NOT(ISNUMBER(--G14))),"Codul COR are 6 cifre. ","")&IF(NOT(ISNUMBER(I14)),"Lipsește data angajării. ","")&IF(AND(J14="Determinată",NOT(ISNUMBER(K14))),"Contract pe durată determinată fără dată de final. ","")&IF(AND(ISNUMBER(R14),ISNUMBER(I14),R14<I14),"Data încetării este înaintea angajării. ","")))
S15: =IF(B15="","",TRIM(IF(COUNTIF($B$5:$B$304,B15)>1,"Marcă dublată. ","")&IF(OR(LEN(D15)<>13,NOT(ISNUMBER(--D15))),"CNP-ul trebuie să aibă 13 cifre. ",IF(MOD(MOD(SUMPRODUCT(--MID(D15,{1,2,3,4,5,6,7,8,9,10,11,12},1),{2,7,9,1,4,6,3,5,8,2,7,9}),11),10)+IF(MOD(SUMPRODUCT(--MID(D15,{1,2,3,4,5,6,7,8,9,10,11,12},1),{2,7,9,1,4,6,3,5,8,2,7,9}),11)=10,1,0)<>--RIGHT(D15,1),"Cifra de control a CNP-ului nu se potrivește. ",""))&IF(OR(LEN(G15&"")<>6,NOT(ISNUMBER(--G15))),"Codul COR are 6 cifre. ","")&IF(NOT(ISNUMBER(I15)),"Lipsește data angajării. ","")&IF(AND(J15="Determinată",NOT(ISNUMBER(K15))),"Contract pe durată determinată fără dată de final. ","")&IF(AND(ISNUMBER(R15),ISNUMBER(I15),R15<I15),"Data încetării este înaintea angajării. ","")))
S16: =IF(B16="","",TRIM(IF(COUNTIF($B$5:$B$304,B16)>1,"Marcă dublată. ","")&IF(OR(LEN(D16)<>13,NOT(ISNUMBER(--D16))),"CNP-ul trebuie să aibă 13 cifre. ",IF(MOD(MOD(SUMPRODUCT(--MID(D16,{1,2,3,4,5,6,7,8,9,10,11,12},1),{2,7,9,1,4,6,3,5,8,2,7,9}),11),10)+IF(MOD(SUMPRODUCT(--MID(D16,{1,2,3,4,5,6,7,8,9,10,11,12},1),{2,7,9,1,4,6,3,5,8,2,7,9}),11)=10,1,0)<>--RIGHT(D16,1),"Cifra de control a CNP-ului nu se potrivește. ",""))&IF(OR(LEN(G16&"")<>6,NOT(ISNUMBER(--G16))),"Codul COR are 6 cifre. ","")&IF(NOT(ISNUMBER(I16)),"Lipsește data angajării. ","")&IF(AND(J16="Determinată",NOT(ISNUMBER(K16))),"Contract pe durată determinată fără dată de final. ","")&IF(AND(ISNUMBER(R16),ISNUMBER(I16),R16<I16),"Data încetării este înaintea angajării. ","")))
S17: =IF(B17="","",TRIM(IF(COUNTIF($B$5:$B$304,B17)>1,"Marcă dublată. ","")&IF(OR(LEN(D17)<>13,NOT(ISNUMBER(--D17))),"CNP-ul trebuie să aibă 13 cifre. ",IF(MOD(MOD(SUMPRODUCT(--MID(D17,{1,2,3,4,5,6,7,8,9,10,11,12},1),{2,7,9,1,4,6,3,5,8,2,7,9}),11),10)+IF(MOD(SUMPRODUCT(--MID(D17,{1,2,3,4,5,6,7,8,9,10,11,12},1),{2,7,9,1,4,6,3,5,8,2,7,9}),11)=10,1,0)<>--RIGHT(D17,1),"Cifra de control a CNP-ului nu se potrivește. ",""))&IF(OR(LEN(G17&"")<>6,NOT(ISNUMBER(--G17))),"Codul COR are 6 cifre. ","")&IF(NOT(ISNUMBER(I17)),"Lipsește data angajării. ","")&IF(AND(J17="Determinată",NOT(ISNUMBER(K17))),"Contract pe durată determinată fără dată de final. ","")&IF(AND(ISNUMBER(R17),ISNUMBER(I17),R17<I17),"Data încetării este înaintea angajării. ","")))
S18: =IF(B18="","",TRIM(IF(COUNTIF($B$5:$B$304,B18)>1,"Marcă dublată. ","")&IF(OR(LEN(D18)<>13,NOT(ISNUMBER(--D18))),"CNP-ul trebuie să aibă 13 cifre. ",IF(MOD(MOD(SUMPRODUCT(--MID(D18,{1,2,3,4,5,6,7,8,9,10,11,12},1),{2,7,9,1,4,6,3,5,8,2,7,9}),11),10)+IF(MOD(SUMPRODUCT(--MID(D18,{1,2,3,4,5,6,7,8,9,10,11,12},1),{2,7,9,1,4,6,3,5,8,2,7,9}),11)=10,1,0)<>--RIGHT(D18,1),"Cifra de control a CNP-ului nu se potrivește. ",""))&IF(OR(LEN(G18&"")<>6,NOT(ISNUMBER(--G18))),"Codul COR are 6 cifre. ","")&IF(NOT(ISNUMBER(I18)),"Lipsește data angajării. ","")&IF(AND(J18="Determinată",NOT(ISNUMBER(K18))),"Contract pe durată determinată fără dată de final. ","")&IF(AND(ISNUMBER(R18),ISNUMBER(I18),R18<I18),"Data încetării este înaintea angajării. ","")))
S19: =IF(B19="","",TRIM(IF(COUNTIF($B$5:$B$304,B19)>1,"Marcă dublată. ","")&IF(OR(LEN(D19)<>13,NOT(ISNUMBER(--D19))),"CNP-ul trebuie să aibă 13 cifre. ",IF(MOD(MOD(SUMPRODUCT(--MID(D19,{1,2,3,4,5,6,7,8,9,10,11,12},1),{2,7,9,1,4,6,3,5,8,2,7,9}),11),10)+IF(MOD(SUMPRODUCT(--MID(D19,{1,2,3,4,5,6,7,8,9,10,11,12},1),{2,7,9,1,4,6,3,5,8,2,7,9}),11)=10,1,0)<>--RIGHT(D19,1),"Cifra de control a CNP-ului nu se potrivește. ",""))&IF(OR(LEN(G19&"")<>6,NOT(ISNUMBER(--G19))),"Codul COR are 6 cifre. ","")&IF(NOT(ISNUMBER(I19)),"Lipsește data angajării. ","")&IF(AND(J19="Determinată",NOT(ISNUMBER(K19))),"Contract pe durată determinată fără dată de final. ","")&IF(AND(ISNUMBER(R19),ISNUMBER(I19),R19<I19),"Data încetării este înaintea angajării. ","")))
S20: =IF(B20="","",TRIM(IF(COUNTIF($B$5:$B$304,B20)>1,"Marcă dublată. ","")&IF(OR(LEN(D20)<>13,NOT(ISNUMBER(--D20))),"CNP-ul trebuie să aibă 13 cifre. ",IF(MOD(MOD(SUMPRODUCT(--MID(D20,{1,2,3,4,5,6,7,8,9,10,11,12},1),{2,7,9,1,4,6,3,5,8,2,7,9}),11),10)+IF(MOD(SUMPRODUCT(--MID(D20,{1,2,3,4,5,6,7,8,9,10,11,12},1),{2,7,9,1,4,6,3,5,8,2,7,9}),11)=10,1,0)<>--RIGHT(D20,1),"Cifra de control a CNP-ului nu se potrivește. ",""))&IF(OR(LEN(G20&"")<>6,NOT(ISNUMBER(--G20))),"Codul COR are 6 cifre. ","")&IF(NOT(ISNUMBER(I20)),"Lipsește data angajării. ","")&IF(AND(J20="Determinată",NOT(ISNUMBER(K20))),"Contract pe durată determinată fără dată de final. ","")&IF(AND(ISNUMBER(R20),ISNUMBER(I20),R20<I20),"Data încetării este înaintea angajării. ","")))
... S304: =IF(B304="","",TRIM(IF(COUNTIF($B$5:$B$304,B304)>1,"Marcă dublată. ","")&IF(OR(LEN(D304)<>13,NOT(ISNUMBER(--D304))),"CNP-ul trebuie să aibă 13 cifre. ",IF(MOD(MOD(SUMPRODUCT(--MID(D304,{1,2,3,4,5,6,7,8,9,10,11,12},1),{2,7,9,1,4,6,3,5,8,2,7,9}),11),10)+IF(MOD(SUMPRODUCT(--MID(D304,{1,2,3,4,5,6,7,8,9,10,11,12},1),{2,7,9,1,4,6,3,5,8,2,7,9}),11)=10,1,0)<>--RIGHT(D304,1),"Cifra de control a CNP-ului nu se potrivește. ",""))&IF(OR(LEN(G304&"")<>6,NOT(ISNUMBER(--G304))),"Codul COR are 6 cifre. ","")&IF(NOT(ISNUMBER(I304)),"Lipsește data angajării. ","")&IF(AND(J304="Determinată",NOT(ISNUMBER(K304))),"Contract pe durată determinată fără dată de final. ","")&IF(AND(ISNUMBER(R304),ISNUMBER(I304),R304<I304),"Data încetării este înaintea angajării. ","")))

Sheet Venituri lunare
B1: Venituri lunare
B2: Salariul brut, salariul net și reținerile din fiecare lună, din statul de plată. Se folosesc la adeverința de venit.
B4: Marcă | C4: Nume (automat) | D4: Luna | E4: Salariu brut | F4: Salariu net | G4: Rețineri (popriri, avansuri) | H4: Verificare
B5: M001 | C5: =IF(B5="","",IFERROR(INDEX(AnNume,MATCH(B5,AnMarca,0)),"Marcă inexistentă")) -> Ioana Popescu | D5: =DATE(2026,1,1) -> 46023 | E5: 6500 | F5: 3802 | H5: =IF(B5="","",TRIM(IF(C5="Marcă inexistentă","Marca nu există în foaia Angajați. ","")&IF(NOT(ISNUMBER(D5)),"Luna trebuie să fie o dată (prima zi a lunii). ","")&IF(COUNTIFS($B$5:$B$3004,B5,$D$5:$D$3004,D5)>1,"Luna apare de două ori. ","")&IF(N(F5)>N(E5),"Netul este mai mare decât brutul. ","")))
B6: M001 | C6: =IF(B6="","",IFERROR(INDEX(AnNume,MATCH(B6,AnMarca,0)),"Marcă inexistentă")) -> Ioana Popescu | D6: =DATE(2026,2,1) -> 46054 | E6: 6500 | F6: 3802 | H6: =IF(B6="","",TRIM(IF(C6="Marcă inexistentă","Marca nu există în foaia Angajați. ","")&IF(NOT(ISNUMBER(D6)),"Luna trebuie să fie o dată (prima zi a lunii). ","")&IF(COUNTIFS($B$5:$B$3004,B6,$D$5:$D$3004,D6)>1,"Luna apare de două ori. ","")&IF(N(F6)>N(E6),"Netul este mai mare decât brutul. ","")))
B7: M001 | C7: =IF(B7="","",IFERROR(INDEX(AnNume,MATCH(B7,AnMarca,0)),"Marcă inexistentă")) -> Ioana Popescu | D7: =DATE(2026,3,1) -> 46082 | E7: 6500 | F7: 3802 | H7: =IF(B7="","",TRIM(IF(C7="Marcă inexistentă","Marca nu există în foaia Angajați. ","")&IF(NOT(ISNUMBER(D7)),"Luna trebuie să fie o dată (prima zi a lunii). ","")&IF(COUNTIFS($B$5:$B$3004,B7,$D$5:$D$3004,D7)>1,"Luna apare de două ori. ","")&IF(N(F7)>N(E7),"Netul este mai mare decât brutul. ","")))
B8: M001 | C8: =IF(B8="","",IFERROR(INDEX(AnNume,MATCH(B8,AnMarca,0)),"Marcă inexistentă")) -> Ioana Popescu | D8: =DATE(2026,4,1) -> 46113 | E8: 6500 | F8: 3802 | H8: =IF(B8="","",TRIM(IF(C8="Marcă inexistentă","Marca nu există în foaia Angajați. ","")&IF(NOT(ISNUMBER(D8)),"Luna trebuie să fie o dată (prima zi a lunii). ","")&IF(COUNTIFS($B$5:$B$3004,B8,$D$5:$D$3004,D8)>1,"Luna apare de două ori. ","")&IF(N(F8)>N(E8),"Netul este mai mare decât brutul. ","")))
B9: M001 | C9: =IF(B9="","",IFERROR(INDEX(AnNume,MATCH(B9,AnMarca,0)),"Marcă inexistentă")) -> Ioana Popescu | D9: =DATE(2026,5,1) -> 46143 | E9: 6500 | F9: 3802 | H9: =IF(B9="","",TRIM(IF(C9="Marcă inexistentă","Marca nu există în foaia Angajați. ","")&IF(NOT(ISNUMBER(D9)),"Luna trebuie să fie o dată (prima zi a lunii). ","")&IF(COUNTIFS($B$5:$B$3004,B9,$D$5:$D$3004,D9)>1,"Luna apare de două ori. ","")&IF(N(F9)>N(E9),"Netul este mai mare decât brutul. ","")))
B10: M001 | C10: =IF(B10="","",IFERROR(INDEX(AnNume,MATCH(B10,AnMarca,0)),"Marcă inexistentă")) -> Ioana Popescu | D10: =DATE(2026,6,1) -> 46174 | E10: 7500 | F10: 4388 | H10: =IF(B10="","",TRIM(IF(C10="Marcă inexistentă","Marca nu există în foaia Angajați. ","")&IF(NOT(ISNUMBER(D10)),"Luna trebuie să fie o dată (prima zi a lunii). ","")&IF(COUNTIFS($B$5:$B$3004,B10,$D$5:$D$3004,D10)>1,"Luna apare de două ori. ","")&IF(N(F10)>N(E10),"Netul este mai mare decât brutul. ","")))
B11: M001 | C11: =IF(B11="","",IFERROR(INDEX(AnNume,MATCH(B11,AnMarca,0)),"Marcă inexistentă")) -> Ioana Popescu | D11: =DATE(2026,7,1) -> 46204 | E11: 6500 | F11: 3802 | H11: =IF(B11="","",TRIM(IF(C11="Marcă inexistentă","Marca nu există în foaia Angajați. ","")&IF(NOT(ISNUMBER(D11)),"Luna trebuie să fie o dată (prima zi a lunii). ","")&IF(COUNTIFS($B$5:$B$3004,B11,$D$5:$D$3004,D11)>1,"Luna apare de două ori. ","")&IF(N(F11)>N(E11),"Netul este mai mare decât brutul. ","")))
B12: M001 | C12: =IF(B12="","",IFERROR(INDEX(AnNume,MATCH(B12,AnMarca,0)),"Marcă inexistentă")) -> Ioana Popescu | D12: =DATE(2026,8,1) -> 46235 | E12: 6500 | F12: 3802 | H12: =IF(B12="","",TRIM(IF(C12="Marcă inexistentă","Marca nu există în foaia Angajați. ","")&IF(NOT(ISNUMBER(D12)),"Luna trebuie să fie o dată (prima zi a lunii). ","")&IF(COUNTIFS($B$5:$B$3004,B12,$D$5:$D$3004,D12)>1,"Luna apare de două ori. ","")&IF(N(F12)>N(E12),"Netul este mai mare decât brutul. ","")))
B13: M001 | C13: =IF(B13="","",IFERROR(INDEX(AnNume,MATCH(B13,AnMarca,0)),"Marcă inexistentă")) -> Ioana Popescu | D13: =DATE(2026,9,1) -> 46266 | E13: 6500 | F13: 3802 | H13: =IF(B13="","",TRIM(IF(C13="Marcă inexistentă","Marca nu există în foaia Angajați. ","")&IF(NOT(ISNUMBER(D13)),"Luna trebuie să fie o dată (prima zi a lunii). ","")&IF(COUNTIFS($B$5:$B$3004,B13,$D$5:$D$3004,D13)>1,"Luna apare de două ori. ","")&IF(N(F13)>N(E13),"Netul este mai mare decât brutul. ","")))
B14: M002 | C14: =IF(B14="","",IFERROR(INDEX(AnNume,MATCH(B14,AnMarca,0)),"Marcă inexistentă")) -> Andrei Toma | D14: =DATE(2026,1,1) -> 46023 | E14: 6800 | F14: 3978 | G14: 500 | H14: =IF(B14="","",TRIM(IF(C14="Marcă inexistentă","Marca nu există în foaia Angajați. ","")&IF(NOT(ISNUMBER(D14)),"Luna trebuie să fie o dată (prima zi a lunii). ","")&IF(COUNTIFS($B$5:$B$3004,B14,$D$5:$D$3004,D14)>1,"Luna apare de două ori. ","")&IF(N(F14)>N(E14),"Netul este mai mare decât brutul. ","")))
B15: M002 | C15: =IF(B15="","",IFERROR(INDEX(AnNume,MATCH(B15,AnMarca,0)),"Marcă inexistentă")) -> Andrei Toma | D15: =DATE(2026,2,1) -> 46054 | E15: 6800 | F15: 3978 | G15: 500 | H15: =IF(B15="","",TRIM(IF(C15="Marcă inexistentă","Marca nu există în foaia Angajați. ","")&IF(NOT(ISNUMBER(D15)),"Luna trebuie să fie o dată (prima zi a lunii). ","")&IF(COUNTIFS($B$5:$B$3004,B15,$D$5:$D$3004,D15)>1,"Luna apare de două ori. ","")&IF(N(F15)>N(E15),"Netul este mai mare decât brutul. ","")))
B16: M002 | C16: =IF(B16="","",IFERROR(INDEX(AnNume,MATCH(B16,AnMarca,0)),"Marcă inexistentă")) -> Andrei Toma | D16: =DATE(2026,3,1) -> 46082 | E16: 6800 | F16: 3978 | G16: 500 | H16: =IF(B16="","",TRIM(IF(C16="Marcă inexistentă","Marca nu există în foaia Angajați. ","")&IF(NOT(ISNUMBER(D16)),"Luna trebuie să fie o dată (prima zi a lunii). ","")&IF(COUNTIFS($B$5:$B$3004,B16,$D$5:$D$3004,D16)>1,"Luna apare de două ori. ","")&IF(N(F16)>N(E16),"Netul este mai mare decât brutul. ","")))
B17: M002 | C17: =IF(B17="","",IFERROR(INDEX(AnNume,MATCH(B17,AnMarca,0)),"Marcă inexistentă")) -> Andrei Toma | D17: =DATE(2026,4,1) -> 46113 | E17: 6800 | F17: 3978 | G17: 500 | H17: =IF(B17="","",TRIM(IF(C17="Marcă inexistentă","Marca nu există în foaia Angajați. ","")&IF(NOT(ISNUMBER(D17)),"Luna trebuie să fie o dată (prima zi a lunii). ","")&IF(COUNTIFS($B$5:$B$3004,B17,$D$5:$D$3004,D17)>1,"Luna apare de două ori. ","")&IF(N(F17)>N(E17),"Netul este mai mare decât brutul. ","")))
B18: M002 | C18: =IF(B18="","",IFERROR(INDEX(AnNume,MATCH(B18,AnMarca,0)),"Marcă inexistentă")) -> Andrei Toma | D18: =DATE(2026,5,1) -> 46143 | E18: 6800 | F18: 3978 | G18: 500 | H18: =IF(B18="","",TRIM(IF(C18="Marcă inexistentă","Marca nu există în foaia Angajați. ","")&IF(NOT(ISNUMBER(D18)),"Luna trebuie să fie o dată (prima zi a lunii). ","")&IF(COUNTIFS($B$5:$B$3004,B18,$D$5:$D$3004,D18)>1,"Luna apare de două ori. ","")&IF(N(F18)>N(E18),"Netul este mai mare decât brutul. ","")))
B19: M002 | C19: =IF(B19="","",IFERROR(INDEX(AnNume,MATCH(B19,AnMarca,0)),"Marcă inexistentă")) -> Andrei Toma | D19: =DATE(2026,6,1) -> 46174 | E19: 6800 | F19: 3978 | G19: 500 | H19: =IF(B19="","",TRIM(IF(C19="Marcă inexistentă","Marca nu există în foaia Angajați. ","")&IF(NOT(ISNUMBER(D19)),"Luna trebuie să fie o dată (prima zi a lunii). ","")&IF(COUNTIFS($B$5:$B$3004,B19,$D$5:$D$3004,D19)>1,"Luna apare de două ori. ","")&IF(N(F19)>N(E19),"Netul este mai mare decât brutul. ","")))
B20: M002 | C20: =IF(B20="","",IFERROR(INDEX(AnNume,MATCH(B20,AnMarca,0)),"Marcă inexistentă")) -> Andrei Toma | D20: =DATE(2026,7,1) -> 46204 | E20: 7400 | F20: 4329 | G20: 500 | H20: =IF(B20="","",TRIM(IF(C20="Marcă inexistentă","Marca nu există în foaia Angajați. ","")&IF(NOT(ISNUMBER(D20)),"Luna trebuie să fie o dată (prima zi a lunii). ","")&IF(COUNTIFS($B$5:$B$3004,B20,$D$5:$D$3004,D20)>1,"Luna apare de două ori. ","")&IF(N(F20)>N(E20),"Netul este mai mare decât brutul. ","")))
B21: M002 | C21: =IF(B21="","",IFERROR(INDEX(AnNume,MATCH(B21,AnMarca,0)),"Marcă inexistentă")) -> Andrei Toma | D21: =DATE(2026,8,1) -> 46235 | E21: 6800 | F21: 3978 | G21: 500 | H21: =IF(B21="","",TRIM(IF(C21="Marcă inexistentă","Marca nu există în foaia Angajați. ","")&IF(NOT(ISNUMBER(D21)),"Luna trebuie să fie o dată (prima zi a lunii). ","")&IF(COUNTIFS($B$5:$B$3004,B21,$D$5:$D$3004,D21)>1,"Luna apare de două ori. ","")&IF(N(F21)>N(E21),"Netul este mai mare decât brutul. ","")))
B22: M002 | C22: =IF(B22="","",IFERROR(INDEX(AnNume,MATCH(B22,AnMarca,0)),"Marcă inexistentă")) -> Andrei Toma | D22: =DATE(2026,9,1) -> 46266 | E22: 6800 | F22: 3978 | G22: 500 | H22: =IF(B22="","",TRIM(IF(C22="Marcă inexistentă","Marca nu există în foaia Angajați. ","")&IF(NOT(ISNUMBER(D22)),"Luna trebuie să fie o dată (prima zi a lunii). ","")&IF(COUNTIFS($B$5:$B$3004,B22,$D$5:$D$3004,D22)>1,"Luna apare de două ori. ","")&IF(N(F22)>N(E22),"Netul este mai mare decât brutul. ","")))
B23: M003 | C23: =IF(B23="","",IFERROR(INDEX(AnNume,MATCH(B23,AnMarca,0)),"Marcă inexistentă")) -> Mihai Dobre | D23: =DATE(2026,1,1) -> 46023 | E23: 7200 | F23: 4212 | H23: =IF(B23="","",TRIM(IF(C23="Marcă inexistentă","Marca nu există în foaia Angajați. ","")&IF(NOT(ISNUMBER(D23)),"Luna trebuie să fie o dată (prima zi a lunii). ","")&IF(COUNTIFS($B$5:$B$3004,B23,$D$5:$D$3004,D23)>1,"Luna apare de două ori. ","")&IF(N(F23)>N(E23),"Netul este mai mare decât brutul. ","")))
B24: M003 | C24: =IF(B24="","",IFERROR(INDEX(AnNume,MATCH(B24,AnMarca,0)),"Marcă inexistentă")) -> Mihai Dobre | D24: =DATE(2026,2,1) -> 46054 | E24: 7200 | F24: 4212 | H24: =IF(B24="","",TRIM(IF(C24="Marcă inexistentă","Marca nu există în foaia Angajați. ","")&IF(NOT(ISNUMBER(D24)),"Luna trebuie să fie o dată (prima zi a lunii). ","")&IF(COUNTIFS($B$5:$B$3004,B24,$D$5:$D$3004,D24)>1,"Luna apare de două ori. ","")&IF(N(F24)>N(E24),"Netul este mai mare decât brutul. ","")))
B25: M003 | C25: =IF(B25="","",IFERROR(INDEX(AnNume,MATCH(B25,AnMarca,0)),"Marcă inexistentă")) -> Mihai Dobre | D25: =DATE(2026,3,1) -> 46082 | E25: 7200 | F25: 4212 | H25: =IF(B25="","",TRIM(IF(C25="Marcă inexistentă","Marca nu există în foaia Angajați. ","")&IF(NOT(ISNUMBER(D25)),"Luna trebuie să fie o dată (prima zi a lunii). ","")&IF(COUNTIFS($B$5:$B$3004,B25,$D$5:$D$3004,D25)>1,"Luna apare de două ori. ","")&IF(N(F25)>N(E25),"Netul este mai mare decât brutul. ","")))
B26: M003 | C26: =IF(B26="","",IFERROR(INDEX(AnNume,MATCH(B26,AnMarca,0)),"Marcă inexistentă")) -> Mihai Dobre | D26: =DATE(2026,4,1) -> 46113 | E26: 7200 | F26: 4212 | H26: =IF(B26="","",TRIM(IF(C26="Marcă inexistentă","Marca nu există în foaia Angajați. ","")&IF(NOT(ISNUMBER(D26)),"Luna trebuie să fie o dată (prima zi a lunii). ","")&IF(COUNTIFS($B$5:$B$3004,B26,$D$5:$D$3004,D26)>1,"Luna apare de două ori. ","")&IF(N(F26)>N(E26),"Netul este mai mare decât brutul. ","")))
B27: M003 | C27: =IF(B27="","",IFERROR(INDEX(AnNume,MATCH(B27,AnMarca,0)),"Marcă inexistentă")) -> Mihai Dobre | D27: =DATE(2026,5,1) -> 46143 | E27: 7200 | F27: 4212 | H27: =IF(B27="","",TRIM(IF(C27="Marcă inexistentă","Marca nu există în foaia Angajați. ","")&IF(NOT(ISNUMBER(D27)),"Luna trebuie să fie o dată (prima zi a lunii). ","")&IF(COUNTIFS($B$5:$B$3004,B27,$D$5:$D$3004,D27)>1,"Luna apare de două ori. ","")&IF(N(F27)>N(E27),"Netul este mai mare decât brutul. ","")))
B28: M003 | C28: =IF(B28="","",IFERROR(INDEX(AnNume,MATCH(B28,AnMarca,0)),"Marcă inexistentă")) -> Mihai Dobre | D28: =DATE(2026,6,1) -> 46174 | E28: 7200 | F28: 4212 | H28: =IF(B28="","",TRIM(IF(C28="Marcă inexistentă","Marca nu există în foaia Angajați. ","")&IF(NOT(ISNUMBER(D28)),"Luna trebuie să fie o dată (prima zi a lunii). ","")&IF(COUNTIFS($B$5:$B$3004,B28,$D$5:$D$3004,D28)>1,"Luna apare de două ori. ","")&IF(N(F28)>N(E28),"Netul este mai mare decât brutul. ","")))
B29: M003 | C29: =IF(B29="","",IFERROR(INDEX(AnNume,MATCH(B29,AnMarca,0)),"Marcă inexistentă")) -> Mihai Dobre | D29: =DATE(2026,7,1) -> 46204 | E29: 7200 | F29: 4212 | H29: =IF(B29="","",TRIM(IF(C29="Marcă inexistentă","Marca nu există în foaia Angajați. ","")&IF(NOT(ISNUMBER(D29)),"Luna trebuie să fie o dată (prima zi a lunii). ","")&IF(COUNTIFS($B$5:$B$3004,B29,$D$5:$D$3004,D29)>1,"Luna apare de două ori. ","")&IF(N(F29)>N(E29),"Netul este mai mare decât brutul. ","")))
B30: M003 | C30: =IF(B30="","",IFERROR(INDEX(AnNume,MATCH(B30,AnMarca,0)),"Marcă inexistentă")) -> Mihai Dobre | D30: =DATE(2026,8,1) -> 46235 | E30: 7200 | F30: 4212 | H30: =IF(B30="","",TRIM(IF(C30="Marcă inexistentă","Marca nu există în foaia Angajați. ","")&IF(NOT(ISNUMBER(D30)),"Luna trebuie să fie o dată (prima zi a lunii). ","")&IF(COUNTIFS($B$5:$B$3004,B30,$D$5:$D$3004,D30)>1,"Luna apare de două ori. ","")&IF(N(F30)>N(E30),"Netul este mai mare decât brutul. ","")))
B31: M004 | C31: =IF(B31="","",IFERROR(INDEX(AnNume,MATCH(B31,AnMarca,0)),"Marcă inexistentă")) -> Elena Ilie | D31: =DATE(2026,9,1) -> 46266 | E31: 6500 | F31: 3802 | H31: =IF(B31="","",TRIM(IF(C31="Marcă inexistentă","Marca nu există în foaia Angajați. ","")&IF(NOT(ISNUMBER(D31)),"Luna trebuie să fie o dată (prima zi a lunii). ","")&IF(COUNTIFS($B$5:$B$3004,B31,$D$5:$D$3004,D31)>1,"Luna apare de două ori. ","")&IF(N(F31)>N(E31),"Netul este mai mare decât brutul. ","")))
C32: =IF(B32="","",IFERROR(INDEX(AnNume,MATCH(B32,AnMarca,0)),"Marcă inexistentă")) | H32: =IF(B32="","",TRIM(IF(C32="Marcă inexistentă","Marca nu există în foaia Angajați. ","")&IF(NOT(ISNUMBER(D32)),"Luna trebuie să fie o dată (prima zi a lunii). ","")&IF(COUNTIFS($B$5:$B$3004,B32,$D$5:$D$3004,D32)>1,"Luna apare de două ori. ","")&IF(N(F32)>N(E32),"Netul este mai mare decât brutul. ","")))
C33: =IF(B33="","",IFERROR(INDEX(AnNume,MATCH(B33,AnMarca,0)),"Marcă inexistentă")) | H33: =IF(B33="","",TRIM(IF(C33="Marcă inexistentă","Marca nu există în foaia Angajați. ","")&IF(NOT(ISNUMBER(D33)),"Luna trebuie să fie o dată (prima zi a lunii). ","")&IF(COUNTIFS($B$5:$B$3004,B33,$D$5:$D$3004,D33)>1,"Luna apare de două ori. ","")&IF(N(F33)>N(E33),"Netul este mai mare decât brutul. ","")))
C34: =IF(B34="","",IFERROR(INDEX(AnNume,MATCH(B34,AnMarca,0)),"Marcă inexistentă")) | H34: =IF(B34="","",TRIM(IF(C34="Marcă inexistentă","Marca nu există în foaia Angajați. ","")&IF(NOT(ISNUMBER(D34)),"Luna trebuie să fie o dată (prima zi a lunii). ","")&IF(COUNTIFS($B$5:$B$3004,B34,$D$5:$D$3004,D34)>1,"Luna apare de două ori. ","")&IF(N(F34)>N(E34),"Netul este mai mare decât brutul. ","")))
C35: =IF(B35="","",IFERROR(INDEX(AnNume,MATCH(B35,AnMarca,0)),"Marcă inexistentă")) | H35: =IF(B35="","",TRIM(IF(C35="Marcă inexistentă","Marca nu există în foaia Angajați. ","")&IF(NOT(ISNUMBER(D35)),"Luna trebuie să fie o dată (prima zi a lunii). ","")&IF(COUNTIFS($B$5:$B$3004,B35,$D$5:$D$3004,D35)>1,"Luna apare de două ori. ","")&IF(N(F35)>N(E35),"Netul este mai mare decât brutul. ","")))
C36: =IF(B36="","",IFERROR(INDEX(AnNume,MATCH(B36,AnMarca,0)),"Marcă inexistentă")) | H36: =IF(B36="","",TRIM(IF(C36="Marcă inexistentă","Marca nu există în foaia Angajați. ","")&IF(NOT(ISNUMBER(D36)),"Luna trebuie să fie o dată (prima zi a lunii). ","")&IF(COUNTIFS($B$5:$B$3004,B36,$D$5:$D$3004,D36)>1,"Luna apare de două ori. ","")&IF(N(F36)>N(E36),"Netul este mai mare decât brutul. ","")))
C37: =IF(B37="","",IFERROR(INDEX(AnNume,MATCH(B37,AnMarca,0)),"Marcă inexistentă")) | H37: =IF(B37="","",TRIM(IF(C37="Marcă inexistentă","Marca nu există în foaia Angajați. ","")&IF(NOT(ISNUMBER(D37)),"Luna trebuie să fie o dată (prima zi a lunii). ","")&IF(COUNTIFS($B$5:$B$3004,B37,$D$5:$D$3004,D37)>1,"Luna apare de două ori. ","")&IF(N(F37)>N(E37),"Netul este mai mare decât brutul. ","")))
C38: =IF(B38="","",IFERROR(INDEX(AnNume,MATCH(B38,AnMarca,0)),"Marcă inexistentă")) | H38: =IF(B38="","",TRIM(IF(C38="Marcă inexistentă","Marca nu există în foaia Angajați. ","")&IF(NOT(ISNUMBER(D38)),"Luna trebuie să fie o dată (prima zi a lunii). ","")&IF(COUNTIFS($B$5:$B$3004,B38,$D$5:$D$3004,D38)>1,"Luna apare de două ori. ","")&IF(N(F38)>N(E38),"Netul este mai mare decât brutul. ","")))
C39: =IF(B39="","",IFERROR(INDEX(AnNume,MATCH(B39,AnMarca,0)),"Marcă inexistentă")) | H39: =IF(B39="","",TRIM(IF(C39="Marcă inexistentă","Marca nu există în foaia Angajați. ","")&IF(NOT(ISNUMBER(D39)),"Luna trebuie să fie o dată (prima zi a lunii). ","")&IF(COUNTIFS($B$5:$B$3004,B39,$D$5:$D$3004,D39)>1,"Luna apare de două ori. ","")&IF(N(F39)>N(E39),"Netul este mai mare decât brutul. ","")))
C40: =IF(B40="","",IFERROR(INDEX(AnNume,MATCH(B40,AnMarca,0)),"Marcă inexistentă")) | H40: =IF(B40="","",TRIM(IF(C40="Marcă inexistentă","Marca nu există în foaia Angajați. ","")&IF(NOT(ISNUMBER(D40)),"Luna trebuie să fie o dată (prima zi a lunii). ","")&IF(COUNTIFS($B$5:$B$3004,B40,$D$5:$D$3004,D40)>1,"Luna apare de două ori. ","")&IF(N(F40)>N(E40),"Netul este mai mare decât brutul. ","")))
C41: =IF(B41="","",IFERROR(INDEX(AnNume,MATCH(B41,AnMarca,0)),"Marcă inexistentă")) | H41: =IF(B41="","",TRIM(IF(C41="Marcă inexistentă","Marca nu există în foaia Angajați. ","")&IF(NOT(ISNUMBER(D41)),"Luna trebuie să fie o dată (prima zi a lunii). ","")&IF(COUNTIFS($B$5:$B$3004,B41,$D$5:$D$3004,D41)>1,"Luna apare de două ori. ","")&IF(N(F41)>N(E41),"Netul este mai mare decât brutul. ","")))
C42: =IF(B42="","",IFERROR(INDEX(AnNume,MATCH(B42,AnMarca,0)),"Marcă inexistentă")) | H42: =IF(B42="","",TRIM(IF(C42="Marcă inexistentă","Marca nu există în foaia Angajați. ","")&IF(NOT(ISNUMBER(D42)),"Luna trebuie să fie o dată (prima zi a lunii). ","")&IF(COUNTIFS($B$5:$B$3004,B42,$D$5:$D$3004,D42)>1,"Luna apare de două ori. ","")&IF(N(F42)>N(E42),"Netul este mai mare decât brutul. ","")))
C43: =IF(B43="","",IFERROR(INDEX(AnNume,MATCH(B43,AnMarca,0)),"Marcă inexistentă")) | H43: =IF(B43="","",TRIM(IF(C43="Marcă inexistentă","Marca nu există în foaia Angajați. ","")&IF(NOT(ISNUMBER(D43)),"Luna trebuie să fie o dată (prima zi a lunii). ","")&IF(COUNTIFS($B$5:$B$3004,B43,$D$5:$D$3004,D43)>1,"Luna apare de două ori. ","")&IF(N(F43)>N(E43),"Netul este mai mare decât brutul. ","")))
... C3004: =IF(B3004="","",IFERROR(INDEX(AnNume,MATCH(B3004,AnMarca,0)),"Marcă inexistentă")) | H3004: =IF(B3004="","",TRIM(IF(C3004="Marcă inexistentă","Marca nu există în foaia Angajați. ","")&IF(NOT(ISNUMBER(D3004)),"Luna trebuie să fie o dată (prima zi a lunii). ","")&IF(COUNTIFS($B$5:$B$3004,B3004,$D$5:$D$3004,D3004)>1,"Luna apare de două ori. ","")&IF(N(F3004)>N(E3004),"Netul este mai mare decât brutul. ","")))

Sheet Setări
B1: Setări – datele angajatorului
B2: Apar în antetul și la semnăturile fiecărei adeverințe.
E3: Tipuri de adeverință | G3: Scopuri frecvente
B4: Angajator | C4: Exemplu Distribuție SRL | E4: Adeverință de salariat | G4: bancă (credit / card)
B5: CUI | C5: RO12345678 | E5: Adeverință de venit | G5: medicul de familie
B6: Nr. Reg. Com. | C6: J29/1234/2015 | E6: Adeverință de vechime | G6: grădiniță / școală
B7: Sediul | C7: Str. Gării nr. 10, Ploiești, jud. Prahova | E7: Adeverință pentru medicul de familie | G7: ambasadă (viză)
B8: Telefon / e-mail | C8: 0244 000 000 · hr@exemplu.ro | G8: primărie / ANAF
B9: Administrator | C9: Dan Ilie | G9: noul angajator
B10: Întocmit (resurse umane) | C10: Maria Stoica | G10: alte instituții
B12: © 2026 Ray Moreno – modelexcel.ro
B13: Model gratuit: îl poți folosi și adapta în activitatea ta. Nu este permisă revânzarea lui sau publicarea pe alte site-uri.
B14: Instrucțiuni și alte modele: modelexcel.ro/model-adeverinta-de-salariat-excel/
