Workbook
Name Azi: Setări!$C$4
Name ListaFrancare: Setări!$G$4:$G$5
Name MfKey: Mărfuri!$K$5:$K$1004
Name MfNr: Mărfuri!$B$5:$B$1004
Name RandCMR: CMR!$J$3
Name Sarb: Setări!$E$4:$E$52

Sheet CMR
B1: 1 Expeditor (nume, adresă, țară) | E1: SCRISOARE DE TRĂSURĂ INTERNAȚIONALĂ
B2: =IF(RandCMR=0,"",INDEX('Registru CMR'!$E$5:$E$504,RandCMR)) -> Exemplu Mobilier SRL | E2: International consignment note · CMR
B3: =IF(RandCMR=0,"",INDEX('Registru CMR'!$F$5:$F$504,RandCMR)) -> Str. Lungă nr. 120, 500035 Brașov | E3: Nr.: | F3: RO-2026-0145 | J3: =IFERROR(MATCH(F3,'Registru CMR'!$B$5:$B$504,0),0) -> 1
B4: =IF(RandCMR=0,"",INDEX('Registru CMR'!$G$5:$G$504,RandCMR)) -> România | E4: Acest transport este supus, indiferent de orice clauză contrară, Convenției referitoare la contractul de transport internațional de mărfuri pe șosele (CMR). | J4: ← alege nr. CMR (F3)
B5: 2 Destinatar (nume, adresă, țară)
B6: =IF(RandCMR=0,"",INDEX('Registru CMR'!$H$5:$H$504,RandCMR)) -> Möbelhaus Beispiel GmbH | E6: 16 Transportator (nume, adresă, țară)
B7: =IF(RandCMR=0,"",INDEX('Registru CMR'!$I$5:$I$504,RandCMR)) -> Hauptstraße 15, 80331 München | E7: =IF(RandCMR=0,"",INDEX('Registru CMR'!$N$5:$N$504,RandCMR)) -> Trans Rapid Logistic SRL
B8: =IF(RandCMR=0,"",INDEX('Registru CMR'!$J$5:$J$504,RandCMR)) -> Germania | E8: =IF(RandCMR=0,"",INDEX('Registru CMR'!$O$5:$O$504,RandCMR)) -> Str. Industriilor nr. 5, 100000 Ploiești, România
B9: 3 Locul prevăzut pentru eliberarea mărfii | E9: =IF(RandCMR=0,"","Nr. înmatriculare: "&INDEX('Registru CMR'!$P$5:$P$504,RandCMR)) -> Nr. înmatriculare: BV 12 TRL / BV 34 TRL
B10: =IF(RandCMR=0,"",INDEX('Registru CMR'!$M$5:$M$504,RandCMR)) -> München, Germania | E10: 17 Transportatori succesivi
B11: 4 Locul și data încărcării | E11: =IF(RandCMR=0,"",IF(INDEX('Registru CMR'!$Q$5:$Q$504,RandCMR)="","—",INDEX('Registru CMR'!$Q$5:$Q$504,RandCMR))) -> —
B12: =IF(RandCMR=0,"",INDEX('Registru CMR'!$K$5:$K$504,RandCMR)&" · "&RIGHT("0"&DAY(INDEX('Registru CMR'!$L$5:$L$504,RandCMR)),2)&"."&RIGHT("0"&MONTH(INDEX('Registru CMR'!$L$5:$L$504,RandCMR)),2)&"."&YEAR(INDEX('Registru CMR'!$L$5:$L$504,RandCMR))) -> Brașov, România · 01.10.2026 | E12: 18 Rezervele și observațiile transportatorului
B13: 5 Documente anexate | E13: =IF(RandCMR=0,"",IF(INDEX('Registru CMR'!$Z$5:$Z$504,RandCMR)="","Fără rezerve",INDEX('Registru CMR'!$Z$5:$Z$504,RandCMR))) -> Fără rezerve
B14: =IF(RandCMR=0,"",INDEX('Registru CMR'!$R$5:$R$504,RandCMR)) -> Factura EXM 1290, listă de colisaj
B16: 6 Mărci și numere | C16: 7 Nr. colete | D16: 8 Mod de ambalare | E16: 9 Natura mărfii | F16: 10 Nr. statistic | G16: 11 Greutate brută (kg) | H16: 12 Volum (m³)
B17: =IFERROR(INDEX(Mărfuri!$C$5:$C$1004,MATCH($F$3&"|"&1,MfKey,0)),"") -> EXM-145/1-20 | C17: =IFERROR(INDEX(Mărfuri!$D$5:$D$1004,MATCH($F$3&"|"&1,MfKey,0)),"") -> 20 | D17: =IFERROR(INDEX(Mărfuri!$E$5:$E$1004,MATCH($F$3&"|"&1,MfKey,0)),"") -> Paleți | E17: =IFERROR(INDEX(Mărfuri!$F$5:$F$1004,MATCH($F$3&"|"&1,MfKey,0)),"") -> Mobilier din lemn – dulapuri demontate | F17: =IFERROR(INDEX(Mărfuri!$G$5:$G$1004,MATCH($F$3&"|"&1,MfKey,0)),"") -> 9403 | G17: =IFERROR(INDEX(Mărfuri!$H$5:$H$1004,MATCH($F$3&"|"&1,MfKey,0)),"") -> 4800 | H17: =IFERROR(INDEX(Mărfuri!$I$5:$I$1004,MATCH($F$3&"|"&1,MfKey,0)),"") -> 38
B18: =IFERROR(INDEX(Mărfuri!$C$5:$C$1004,MATCH($F$3&"|"&2,MfKey,0)),"") -> EXM-145/21-36 | C18: =IFERROR(INDEX(Mărfuri!$D$5:$D$1004,MATCH($F$3&"|"&2,MfKey,0)),"") -> 16 | D18: =IFERROR(INDEX(Mărfuri!$E$5:$E$1004,MATCH($F$3&"|"&2,MfKey,0)),"") -> Cutii de carton | E18: =IFERROR(INDEX(Mărfuri!$F$5:$F$1004,MATCH($F$3&"|"&2,MfKey,0)),"") -> Scaune tapițate | F18: =IFERROR(INDEX(Mărfuri!$G$5:$G$1004,MATCH($F$3&"|"&2,MfKey,0)),"") -> 9401 | G18: =IFERROR(INDEX(Mărfuri!$H$5:$H$1004,MATCH($F$3&"|"&2,MfKey,0)),"") -> 640 | H18: =IFERROR(INDEX(Mărfuri!$I$5:$I$1004,MATCH($F$3&"|"&2,MfKey,0)),"") -> 12
B19: =IFERROR(INDEX(Mărfuri!$C$5:$C$1004,MATCH($F$3&"|"&3,MfKey,0)),"") | C19: =IFERROR(INDEX(Mărfuri!$D$5:$D$1004,MATCH($F$3&"|"&3,MfKey,0)),"") | D19: =IFERROR(INDEX(Mărfuri!$E$5:$E$1004,MATCH($F$3&"|"&3,MfKey,0)),"") | E19: =IFERROR(INDEX(Mărfuri!$F$5:$F$1004,MATCH($F$3&"|"&3,MfKey,0)),"") | F19: =IFERROR(INDEX(Mărfuri!$G$5:$G$1004,MATCH($F$3&"|"&3,MfKey,0)),"") | G19: =IFERROR(INDEX(Mărfuri!$H$5:$H$1004,MATCH($F$3&"|"&3,MfKey,0)),"") | H19: =IFERROR(INDEX(Mărfuri!$I$5:$I$1004,MATCH($F$3&"|"&3,MfKey,0)),"")
B20: =IFERROR(INDEX(Mărfuri!$C$5:$C$1004,MATCH($F$3&"|"&4,MfKey,0)),"") | C20: =IFERROR(INDEX(Mărfuri!$D$5:$D$1004,MATCH($F$3&"|"&4,MfKey,0)),"") | D20: =IFERROR(INDEX(Mărfuri!$E$5:$E$1004,MATCH($F$3&"|"&4,MfKey,0)),"") | E20: =IFERROR(INDEX(Mărfuri!$F$5:$F$1004,MATCH($F$3&"|"&4,MfKey,0)),"") | F20: =IFERROR(INDEX(Mărfuri!$G$5:$G$1004,MATCH($F$3&"|"&4,MfKey,0)),"") | G20: =IFERROR(INDEX(Mărfuri!$H$5:$H$1004,MATCH($F$3&"|"&4,MfKey,0)),"") | H20: =IFERROR(INDEX(Mărfuri!$I$5:$I$1004,MATCH($F$3&"|"&4,MfKey,0)),"")
B21: =IFERROR(INDEX(Mărfuri!$C$5:$C$1004,MATCH($F$3&"|"&5,MfKey,0)),"") | C21: =IFERROR(INDEX(Mărfuri!$D$5:$D$1004,MATCH($F$3&"|"&5,MfKey,0)),"") | D21: =IFERROR(INDEX(Mărfuri!$E$5:$E$1004,MATCH($F$3&"|"&5,MfKey,0)),"") | E21: =IFERROR(INDEX(Mărfuri!$F$5:$F$1004,MATCH($F$3&"|"&5,MfKey,0)),"") | F21: =IFERROR(INDEX(Mărfuri!$G$5:$G$1004,MATCH($F$3&"|"&5,MfKey,0)),"") | G21: =IFERROR(INDEX(Mărfuri!$H$5:$H$1004,MATCH($F$3&"|"&5,MfKey,0)),"") | H21: =IFERROR(INDEX(Mărfuri!$I$5:$I$1004,MATCH($F$3&"|"&5,MfKey,0)),"")
B22: =IFERROR(INDEX(Mărfuri!$C$5:$C$1004,MATCH($F$3&"|"&6,MfKey,0)),"") | C22: =IFERROR(INDEX(Mărfuri!$D$5:$D$1004,MATCH($F$3&"|"&6,MfKey,0)),"") | D22: =IFERROR(INDEX(Mărfuri!$E$5:$E$1004,MATCH($F$3&"|"&6,MfKey,0)),"") | E22: =IFERROR(INDEX(Mărfuri!$F$5:$F$1004,MATCH($F$3&"|"&6,MfKey,0)),"") | F22: =IFERROR(INDEX(Mărfuri!$G$5:$G$1004,MATCH($F$3&"|"&6,MfKey,0)),"") | G22: =IFERROR(INDEX(Mărfuri!$H$5:$H$1004,MATCH($F$3&"|"&6,MfKey,0)),"") | H22: =IFERROR(INDEX(Mărfuri!$I$5:$I$1004,MATCH($F$3&"|"&6,MfKey,0)),"")
B23: =IFERROR(INDEX(Mărfuri!$C$5:$C$1004,MATCH($F$3&"|"&7,MfKey,0)),"") | C23: =IFERROR(INDEX(Mărfuri!$D$5:$D$1004,MATCH($F$3&"|"&7,MfKey,0)),"") | D23: =IFERROR(INDEX(Mărfuri!$E$5:$E$1004,MATCH($F$3&"|"&7,MfKey,0)),"") | E23: =IFERROR(INDEX(Mărfuri!$F$5:$F$1004,MATCH($F$3&"|"&7,MfKey,0)),"") | F23: =IFERROR(INDEX(Mărfuri!$G$5:$G$1004,MATCH($F$3&"|"&7,MfKey,0)),"") | G23: =IFERROR(INDEX(Mărfuri!$H$5:$H$1004,MATCH($F$3&"|"&7,MfKey,0)),"") | H23: =IFERROR(INDEX(Mărfuri!$I$5:$I$1004,MATCH($F$3&"|"&7,MfKey,0)),"")
B24: =IFERROR(INDEX(Mărfuri!$C$5:$C$1004,MATCH($F$3&"|"&8,MfKey,0)),"") | C24: =IFERROR(INDEX(Mărfuri!$D$5:$D$1004,MATCH($F$3&"|"&8,MfKey,0)),"") | D24: =IFERROR(INDEX(Mărfuri!$E$5:$E$1004,MATCH($F$3&"|"&8,MfKey,0)),"") | E24: =IFERROR(INDEX(Mărfuri!$F$5:$F$1004,MATCH($F$3&"|"&8,MfKey,0)),"") | F24: =IFERROR(INDEX(Mărfuri!$G$5:$G$1004,MATCH($F$3&"|"&8,MfKey,0)),"") | G24: =IFERROR(INDEX(Mărfuri!$H$5:$H$1004,MATCH($F$3&"|"&8,MfKey,0)),"") | H24: =IFERROR(INDEX(Mărfuri!$I$5:$I$1004,MATCH($F$3&"|"&8,MfKey,0)),"")
B25: Total | C25: =SUM(C17:C24) -> 36 | E25: =IF(RandCMR=0,"",IF(COUNTIF(MfNr,$F$3)>8,"Atenție: mai mult de 8 loturi; atașează o listă de colisaj.","")) | G25: =SUM(G17:G24) -> 5440 | H25: =SUM(H17:H24) -> 50
B27: 13 Instrucțiunile expeditorului | E27: 19 Convenții speciale
B28: =IF(RandCMR=0,"",IF(INDEX('Registru CMR'!$S$5:$S$504,RandCMR)="","—",INDEX('Registru CMR'!$S$5:$S$504,RandCMR))) -> Marfa nu se suprapune. Descărcare cu transpalet. | E28: =IF(RandCMR=0,"",IF(INDEX('Registru CMR'!$X$5:$X$504,RandCMR)="","—",INDEX('Registru CMR'!$X$5:$X$504,RandCMR))) -> —
E29: 20 De plătit
E30: Prețul transportului | G30: =IF(RandCMR=0,"",FIXED(INDEX('Registru CMR'!$U$5:$U$504,RandCMR),2)&" "&INDEX('Registru CMR'!$V$5:$V$504,RandCMR)) -> 2.400,00 EUR
B31: 14 Prescripții de francare | E31: Plătește | G31: =IF(RandCMR=0,"",IF(INDEX('Registru CMR'!$T$5:$T$504,RandCMR)="Nefranco","Destinatarul","Expeditorul")) -> Expeditorul
B32: =IF(RandCMR=0,"",INDEX('Registru CMR'!$T$5:$T$504,RandCMR)&IF(INDEX('Registru CMR'!$T$5:$T$504,RandCMR)="Nefranco"," (plătește destinatarul)"," (plătește expeditorul)")) -> Franco (plătește expeditorul)
B33: 15 Rambursare | E33: 21 Încheiat la
B34: =IF(RandCMR=0,"",IF(INDEX('Registru CMR'!$W$5:$W$504,RandCMR)="","—",INDEX('Registru CMR'!$W$5:$W$504,RandCMR))) -> — | E34: =IF(RandCMR=0,"",INDEX('Registru CMR'!$D$5:$D$504,RandCMR)&" la data "&RIGHT("0"&DAY(INDEX('Registru CMR'!$C$5:$C$504,RandCMR)),2)&"."&RIGHT("0"&MONTH(INDEX('Registru CMR'!$C$5:$C$504,RandCMR)),2)&"."&YEAR(INDEX('Registru CMR'!$C$5:$C$504,RandCMR))) -> Brașov la data 01.10.2026
B36: 22 Semnătura expeditorului | D36: 23 Semnătura transportatorului | F36: 24 Marfa primită – semnătura destinatarului
F37: =IF(RandCMR=0,"","Locul: "&INDEX('Registru CMR'!$M$5:$M$504,RandCMR)) -> Locul: München, Germania
F38: =IF(RandCMR=0,"","Data: "&IF(ISNUMBER(INDEX('Registru CMR'!$AA$5:$AA$504,RandCMR)),RIGHT("0"&DAY(INDEX('Registru CMR'!$AA$5:$AA$504,RandCMR)),2)&"."&RIGHT("0"&MONTH(INDEX('Registru CMR'!$AA$5:$AA$504,RandCMR)),2)&"."&YEAR(INDEX('Registru CMR'!$AA$5:$AA$504,RandCMR)),"........")) -> Data: 03.10.2026
F39: =IF(RandCMR=0,"",IF(INDEX('Registru CMR'!$AB$5:$AB$504,RandCMR)="","","Rezerve: "&INDEX('Registru CMR'!$AB$5:$AB$504,RandCMR))) -> Rezerve: 2 colete cu ambalajul rupt; un dulap cu colțul lovit
B40: .......................... | D40: ..........................
B42: Se întocmește în trei exemplare originale: 1 – pentru expeditor, 2 – însoțește marfa, 3 – pentru transportator (art. 5 din Convenția CMR).

Sheet Registru CMR
B1: Registrul scrisorilor de trăsură CMR
B2: Un rând pentru fiecare transport. Coloanele albastre le completezi; starea, termenele de reclamație (art. 30) și prescripția (art. 32) se calculează automat.
B4: Nr. CMR | C4: Data întocmirii | D4: Locul întocmirii | E4: Expeditor | F4: Adresa expeditorului | G4: Țara expeditorului | H4: Destinatar | I4: Adresa destinatarului | J4: Țara destinatarului | K4: Locul încărcării | L4: Data încărcării | M4: Locul prevăzut pentru livrare | N4: Transportator | O4: Adresa transportatorului | P4: Nr. înmatriculare | Q4: Transportatori succesivi | R4: Documente anexate | S4: Instrucțiunile expeditorului | T4: Francare | U4: Prețul transportului | V4: Moneda | W4: Rambursare | X4: Convenții speciale | Y4: Termen de livrare convenit | Z4: Rezervele transportatorului la încărcare | AA4: Data livrării | AB4: Rezerve la livrare (pierderi / avarii aparente) | AC4: Avarii neaparente constatate la | AD4: Data rezervei scrise | AE4: Data reclamației scrise pentru întârziere | AF4: Nr. colete | AG4: Greutate brută (kg) | AH4: Stare | AI4: Rezerve neaparente până la | AJ4: Reclamație întârziere până la | AK4: Prescripție (1 an) | AL4: Alertă
B5: RO-2026-0145 | C5: =DATE(2026,10,1) -> 46296 | D5: Brașov | E5: Exemplu Mobilier SRL | F5: Str. Lungă nr. 120, 500035 Brașov | G5: România | H5: Möbelhaus Beispiel GmbH | I5: Hauptstraße 15, 80331 München | J5: Germania | K5: Brașov, România | L5: =DATE(2026,10,1) -> 46296 | M5: München, Germania | N5: Trans Rapid Logistic SRL | O5: Str. Industriilor nr. 5, 100000 Ploiești, România | P5: BV 12 TRL / BV 34 TRL | R5: Factura EXM 1290, listă de colisaj | S5: Marfa nu se suprapune. Descărcare cu transpalet. | T5: Franco | U5: 2400 | V5: EUR | Y5: =DATE(2026,10,4) -> 46299 | AA5: =DATE(2026,10,3) -> 46298 | AB5: 2 colete cu ambalajul rupt; un dulap cu colțul lovit | AF5: =IF(B5="","",SUMIF(Mărfuri!$B$5:$B$1004,B5,Mărfuri!$D$5:$D$1004)) -> 36 | AG5: =IF(B5="","",SUMIF(Mărfuri!$B$5:$B$1004,B5,Mărfuri!$H$5:$H$1004)) -> 5440 | AH5: =IF(B5="","",IF(NOT(ISNUMBER(AA5)),IF(AND(ISNUMBER(Y5),Azi>Y5),"În tranzit – întârziat","În tranzit"),IF(OR(AB5<>"",ISNUMBER(AC5)),"Livrat cu rezerve",IF(AND(ISNUMBER(Y5),AA5>Y5),"Livrat cu întârziere","Livrat fără rezerve")))) -> Livrat cu rezerve | AI5: =IF(OR(B5="",NOT(ISNUMBER(AA5))),"",WORKDAY.INTL(AA5,7,"0000001",Sarb)) -> 46307 | AJ5: =IF(OR(B5="",NOT(ISNUMBER(AA5)),NOT(ISNUMBER(Y5))),"",IF(AA5>Y5,AA5+21,"")) | AK5: =IF(OR(B5="",NOT(ISNUMBER(AA5))),"",EDATE(AA5,12)) -> 46663 | AL5: =IF(B5="","",TRIM(IF(COUNTIF($B$5:$B$504,B5)>1,"Număr CMR dublat. ","")&IF(LEN(IF(C5="","data, ","")&IF(D5="","locul întocmirii, ","")&IF(OR(E5="",F5=""),"expeditorul, ","")&IF(OR(H5="",I5=""),"destinatarul, ","")&IF(OR(N5="",O5=""),"transportatorul, ","")&IF(OR(K5="",NOT(ISNUMBER(L5))),"locul și data încărcării, ","")&IF(M5="","locul de livrare, ","")&IF(N(AF5)=0,"numărul de colete, ","")&IF(COUNTIFS(Mărfuri!$B$5:$B$1004,B5,Mărfuri!$H$5:$H$1004,"")>0,"greutatea unor loturi, ",""))>0,"Lipsesc date obligatorii (art. 6): "&LEFT(IF(C5="","data, ","")&IF(D5="","locul întocmirii, ","")&IF(OR(E5="",F5=""),"expeditorul, ","")&IF(OR(H5="",I5=""),"destinatarul, ","")&IF(OR(N5="",O5=""),"transportatorul, ","")&IF(OR(K5="",NOT(ISNUMBER(L5))),"locul și data încărcării, ","")&IF(M5="","locul de livrare, ","")&IF(N(AF5)=0,"numărul de colete, ","")&IF(COUNTIFS(Mărfuri!$B$5:$B$1004,B5,Mărfuri!$H$5:$H$1004,"")>0,"greutatea unor loturi, ",""),LEN(IF(C5="","data, ","")&IF(D5="","locul întocmirii, ","")&IF(OR(E5="",F5=""),"expeditorul, ","")&IF(OR(H5="",I5=""),"destinatarul, ","")&IF(OR(N5="",O5=""),"transportatorul, ","")&IF(OR(K5="",NOT(ISNUMBER(L5))),"locul și data încărcării, ","")&IF(M5="","locul de livrare, ","")&IF(N(AF5)=0,"numărul de colete, ","")&IF(COUNTIFS(Mărfuri!$B$5:$B$1004,B5,Mărfuri!$H$5:$H$1004,"")>0,"greutatea unor loturi, ",""))-2)&". ","")&IF(Z5<>"","Transportatorul a făcut rezerve la încărcare (art. 8): ele te obligă doar dacă le-ai acceptat expres. ","")&IF(AND(ISNUMBER(AC5),ISNUMBER(AI5)),IF(NOT(ISNUMBER(AD5)),IF(Azi>AI5,"Rezerva scrisă pentru avarii neaparente nu a fost trimisă în termen ("&RIGHT("0"&DAY(AI5),2)&"."&RIGHT("0"&MONTH(AI5),2)&"."&YEAR(AI5)&"). ","Trimite rezerva scrisă pentru avarii neaparente până la "&RIGHT("0"&DAY(AI5),2)&"."&RIGHT("0"&MONTH(AI5),2)&"."&YEAR(AI5)&". "),IF(AD5>AI5,"Rezerva scrisă a fost trimisă după termenul de 7 zile ("&RIGHT("0"&DAY(AI5),2)&"."&RIGHT("0"&MONTH(AI5),2)&"."&YEAR(AI5)&"): se prezumă că marfa a fost primită în starea din CMR. ","")),"")&IF(ISNUMBER(AJ5),IF(NOT(ISNUMBER(AE5)),IF(Azi>AJ5,"Termenul de 21 de zile pentru reclamația de întârziere a expirat. ","Livrare cu întârziere: trimite reclamația scrisă până la "&RIGHT("0"&DAY(AJ5),2)&"."&RIGHT("0"&MONTH(AJ5),2)&"."&YEAR(AJ5)&". "),IF(AE5>AJ5,"Reclamația pentru întârziere a fost trimisă după termen. ","")),"")&IF(AND(AH5="În tranzit – întârziat"),"Termenul de livrare a trecut și marfa nu a ajuns. ","")&IF(AND(ISNUMBER(AK5),OR(AB5<>"",ISNUMBER(AC5),ISNUMBER(AJ5)),Azi>N(AK5)-60,Azi<=N(AK5)),"Acțiunea în instanță se prescrie la "&RIGHT("0"&DAY(AK5),2)&"."&RIGHT("0"&MONTH(AK5),2)&"."&YEAR(AK5)&". ","")))
B6: RO-2026-0146 | C6: =DATE(2026,10,6) -> 46301 | D6: Brașov | E6: Exemplu Mobilier SRL | F6: Str. Lungă nr. 120, 500035 Brașov | G6: România | H6: Holzhaus Muster KG | I6: Mariahilfer Straße 80, 1070 Wien | J6: Austria | K6: Brașov, România | L6: =DATE(2026,10,6) -> 46301 | M6: Wien, Austria | N6: Trans Rapid Logistic SRL | O6: Str. Industriilor nr. 5, 100000 Ploiești, România | P6: BV 12 TRL / BV 34 TRL | R6: Factura EXM 1301, listă de colisaj | S6: Livrare doar în zilele lucrătoare, între 8 și 16. | T6: Franco | U6: 1650 | V6: EUR | X6: Termen de livrare garantat | Y6: =DATE(2026,10,9) -> 46304 | AA6: =DATE(2026,10,12) -> 46307 | AF6: =IF(B6="","",SUMIF(Mărfuri!$B$5:$B$1004,B6,Mărfuri!$D$5:$D$1004)) -> 12 | AG6: =IF(B6="","",SUMIF(Mărfuri!$B$5:$B$1004,B6,Mărfuri!$H$5:$H$1004)) -> 2900 | AH6: =IF(B6="","",IF(NOT(ISNUMBER(AA6)),IF(AND(ISNUMBER(Y6),Azi>Y6),"În tranzit – întârziat","În tranzit"),IF(OR(AB6<>"",ISNUMBER(AC6)),"Livrat cu rezerve",IF(AND(ISNUMBER(Y6),AA6>Y6),"Livrat cu întârziere","Livrat fără rezerve")))) -> Livrat cu întârziere | AI6: =IF(OR(B6="",NOT(ISNUMBER(AA6))),"",WORKDAY.INTL(AA6,7,"0000001",Sarb)) -> 46315 | AJ6: =IF(OR(B6="",NOT(ISNUMBER(AA6)),NOT(ISNUMBER(Y6))),"",IF(AA6>Y6,AA6+21,"")) -> 46328 | AK6: =IF(OR(B6="",NOT(ISNUMBER(AA6))),"",EDATE(AA6,12)) -> 46672 | AL6: =IF(B6="","",TRIM(IF(COUNTIF($B$5:$B$504,B6)>1,"Număr CMR dublat. ","")&IF(LEN(IF(C6="","data, ","")&IF(D6="","locul întocmirii, ","")&IF(OR(E6="",F6=""),"expeditorul, ","")&IF(OR(H6="",I6=""),"destinatarul, ","")&IF(OR(N6="",O6=""),"transportatorul, ","")&IF(OR(K6="",NOT(ISNUMBER(L6))),"locul și data încărcării, ","")&IF(M6="","locul de livrare, ","")&IF(N(AF6)=0,"numărul de colete, ","")&IF(COUNTIFS(Mărfuri!$B$5:$B$1004,B6,Mărfuri!$H$5:$H$1004,"")>0,"greutatea unor loturi, ",""))>0,"Lipsesc date obligatorii (art. 6): "&LEFT(IF(C6="","data, ","")&IF(D6="","locul întocmirii, ","")&IF(OR(E6="",F6=""),"expeditorul, ","")&IF(OR(H6="",I6=""),"destinatarul, ","")&IF(OR(N6="",O6=""),"transportatorul, ","")&IF(OR(K6="",NOT(ISNUMBER(L6))),"locul și data încărcării, ","")&IF(M6="","locul de livrare, ","")&IF(N(AF6)=0,"numărul de colete, ","")&IF(COUNTIFS(Mărfuri!$B$5:$B$1004,B6,Mărfuri!$H$5:$H$1004,"")>0,"greutatea unor loturi, ",""),LEN(IF(C6="","data, ","")&IF(D6="","locul întocmirii, ","")&IF(OR(E6="",F6=""),"expeditorul, ","")&IF(OR(H6="",I6=""),"destinatarul, ","")&IF(OR(N6="",O6=""),"transportatorul, ","")&IF(OR(K6="",NOT(ISNUMBER(L6))),"locul și data încărcării, ","")&IF(M6="","locul de livrare, ","")&IF(N(AF6)=0,"numărul de colete, ","")&IF(COUNTIFS(Mărfuri!$B$5:$B$1004,B6,Mărfuri!$H$5:$H$1004,"")>0,"greutatea unor loturi, ",""))-2)&". ","")&IF(Z6<>"","Transportatorul a făcut rezerve la încărcare (art. 8): ele te obligă doar dacă le-ai acceptat expres. ","")&IF(AND(ISNUMBER(AC6),ISNUMBER(AI6)),IF(NOT(ISNUMBER(AD6)),IF(Azi>AI6,"Rezerva scrisă pentru avarii neaparente nu a fost trimisă în termen ("&RIGHT("0"&DAY(AI6),2)&"."&RIGHT("0"&MONTH(AI6),2)&"."&YEAR(AI6)&"). ","Trimite rezerva scrisă pentru avarii neaparente până la "&RIGHT("0"&DAY(AI6),2)&"."&RIGHT("0"&MONTH(AI6),2)&"."&YEAR(AI6)&". "),IF(AD6>AI6,"Rezerva scrisă a fost trimisă după termenul de 7 zile ("&RIGHT("0"&DAY(AI6),2)&"."&RIGHT("0"&MONTH(AI6),2)&"."&YEAR(AI6)&"): se prezumă că marfa a fost primită în starea din CMR. ","")),"")&IF(ISNUMBER(AJ6),IF(NOT(ISNUMBER(AE6)),IF(Azi>AJ6,"Termenul de 21 de zile pentru reclamația de întârziere a expirat. ","Livrare cu întârziere: trimite reclamația scrisă până la "&RIGHT("0"&DAY(AJ6),2)&"."&RIGHT("0"&MONTH(AJ6),2)&"."&YEAR(AJ6)&". "),IF(AE6>AJ6,"Reclamația pentru întârziere a fost trimisă după termen. ","")),"")&IF(AND(AH6="În tranzit – întârziat"),"Termenul de livrare a trecut și marfa nu a ajuns. ","")&IF(AND(ISNUMBER(AK6),OR(AB6<>"",ISNUMBER(AC6),ISNUMBER(AJ6)),Azi>N(AK6)-60,Azi<=N(AK6)),"Acțiunea în instanță se prescrie la "&RIGHT("0"&DAY(AK6),2)&"."&RIGHT("0"&MONTH(AK6),2)&"."&YEAR(AK6)&". ",""))) -> Livrare cu întârziere: trimite reclamația scrisă până la 02.11.2026.
B7: RO-2026-0147 | C7: =DATE(2026,10,8) -> 46303 | D7: Brașov | E7: Exemplu Mobilier SRL | F7: Str. Lungă nr. 120, 500035 Brașov | G7: România | H7: Bútor Példa Kft. | I7: Váci út 45, 1134 Budapest | J7: Ungaria | K7: Brașov, România | L7: =DATE(2026,10,8) -> 46303 | M7: Budapest, Ungaria | N7: Trans Rapid Logistic SRL | O7: Str. Industriilor nr. 5, 100000 Ploiești, România | P7: BV 12 TRL / BV 34 TRL | R7: Factura EXM 1305 | T7: Nefranco | U7: 980 | V7: EUR | Y7: =DATE(2026,10,10) -> 46305 | AA7: =DATE(2026,10,9) -> 46304 | AC7: =DATE(2026,10,20) -> 46315 | AD7: =DATE(2026,10,21) -> 46316 | AF7: =IF(B7="","",SUMIF(Mărfuri!$B$5:$B$1004,B7,Mărfuri!$D$5:$D$1004)) -> 8 | AG7: =IF(B7="","",SUMIF(Mărfuri!$B$5:$B$1004,B7,Mărfuri!$H$5:$H$1004)) -> 1450 | AH7: =IF(B7="","",IF(NOT(ISNUMBER(AA7)),IF(AND(ISNUMBER(Y7),Azi>Y7),"În tranzit – întârziat","În tranzit"),IF(OR(AB7<>"",ISNUMBER(AC7)),"Livrat cu rezerve",IF(AND(ISNUMBER(Y7),AA7>Y7),"Livrat cu întârziere","Livrat fără rezerve")))) -> Livrat cu rezerve | AI7: =IF(OR(B7="",NOT(ISNUMBER(AA7))),"",WORKDAY.INTL(AA7,7,"0000001",Sarb)) -> 46312 | AJ7: =IF(OR(B7="",NOT(ISNUMBER(AA7)),NOT(ISNUMBER(Y7))),"",IF(AA7>Y7,AA7+21,"")) | AK7: =IF(OR(B7="",NOT(ISNUMBER(AA7))),"",EDATE(AA7,12)) -> 46669 | AL7: =IF(B7="","",TRIM(IF(COUNTIF($B$5:$B$504,B7)>1,"Număr CMR dublat. ","")&IF(LEN(IF(C7="","data, ","")&IF(D7="","locul întocmirii, ","")&IF(OR(E7="",F7=""),"expeditorul, ","")&IF(OR(H7="",I7=""),"destinatarul, ","")&IF(OR(N7="",O7=""),"transportatorul, ","")&IF(OR(K7="",NOT(ISNUMBER(L7))),"locul și data încărcării, ","")&IF(M7="","locul de livrare, ","")&IF(N(AF7)=0,"numărul de colete, ","")&IF(COUNTIFS(Mărfuri!$B$5:$B$1004,B7,Mărfuri!$H$5:$H$1004,"")>0,"greutatea unor loturi, ",""))>0,"Lipsesc date obligatorii (art. 6): "&LEFT(IF(C7="","data, ","")&IF(D7="","locul întocmirii, ","")&IF(OR(E7="",F7=""),"expeditorul, ","")&IF(OR(H7="",I7=""),"destinatarul, ","")&IF(OR(N7="",O7=""),"transportatorul, ","")&IF(OR(K7="",NOT(ISNUMBER(L7))),"locul și data încărcării, ","")&IF(M7="","locul de livrare, ","")&IF(N(AF7)=0,"numărul de colete, ","")&IF(COUNTIFS(Mărfuri!$B$5:$B$1004,B7,Mărfuri!$H$5:$H$1004,"")>0,"greutatea unor loturi, ",""),LEN(IF(C7="","data, ","")&IF(D7="","locul întocmirii, ","")&IF(OR(E7="",F7=""),"expeditorul, ","")&IF(OR(H7="",I7=""),"destinatarul, ","")&IF(OR(N7="",O7=""),"transportatorul, ","")&IF(OR(K7="",NOT(ISNUMBER(L7))),"locul și data încărcării, ","")&IF(M7="","locul de livrare, ","")&IF(N(AF7)=0,"numărul de colete, ","")&IF(COUNTIFS(Mărfuri!$B$5:$B$1004,B7,Mărfuri!$H$5:$H$1004,"")>0,"greutatea unor loturi, ",""))-2)&". ","")&IF(Z7<>"","Transportatorul a făcut rezerve la încărcare (art. 8): ele te obligă doar dacă le-ai acceptat expres. ","")&IF(AND(ISNUMBER(AC7),ISNUMBER(AI7)),IF(NOT(ISNUMBER(AD7)),IF(Azi>AI7,"Rezerva scrisă pentru avarii neaparente nu a fost trimisă în termen ("&RIGHT("0"&DAY(AI7),2)&"."&RIGHT("0"&MONTH(AI7),2)&"."&YEAR(AI7)&"). ","Trimite rezerva scrisă pentru avarii neaparente până la "&RIGHT("0"&DAY(AI7),2)&"."&RIGHT("0"&MONTH(AI7),2)&"."&YEAR(AI7)&". "),IF(AD7>AI7,"Rezerva scrisă a fost trimisă după termenul de 7 zile ("&RIGHT("0"&DAY(AI7),2)&"."&RIGHT("0"&MONTH(AI7),2)&"."&YEAR(AI7)&"): se prezumă că marfa a fost primită în starea din CMR. ","")),"")&IF(ISNUMBER(AJ7),IF(NOT(ISNUMBER(AE7)),IF(Azi>AJ7,"Termenul de 21 de zile pentru reclamația de întârziere a expirat. ","Livrare cu întârziere: trimite reclamația scrisă până la "&RIGHT("0"&DAY(AJ7),2)&"."&RIGHT("0"&MONTH(AJ7),2)&"."&YEAR(AJ7)&". "),IF(AE7>AJ7,"Reclamația pentru întârziere a fost trimisă după termen. ","")),"")&IF(AND(AH7="În tranzit – întârziat"),"Termenul de livrare a trecut și marfa nu a ajuns. ","")&IF(AND(ISNUMBER(AK7),OR(AB7<>"",ISNUMBER(AC7),ISNUMBER(AJ7)),Azi>N(AK7)-60,Azi<=N(AK7)),"Acțiunea în instanță se prescrie la "&RIGHT("0"&DAY(AK7),2)&"."&RIGHT("0"&MONTH(AK7),2)&"."&YEAR(AK7)&". ",""))) -> Rezerva scrisă a fost trimisă după termenul de 7 zile (17.10.2026): se prezumă că marfa a fost primită în starea din CMR.
B8: RO-2026-0148 | C8: =DATE(2026,10,13) -> 46308 | D8: Brașov | E8: Exemplu Mobilier SRL | F8: Str. Lungă nr. 120, 500035 Brașov | G8: România | H8: Arredamenti Esempio S.r.l. | I8: Via Torino 21, 20123 Milano | J8: Italia | K8: Brașov, România | L8: =DATE(2026,10,13) -> 46308 | M8: Milano, Italia | N8: Trans Rapid Logistic SRL | O8: Str. Industriilor nr. 5, 100000 Ploiești, România | P8: BV 12 TRL / BV 34 TRL | Q8: Speed Cargo S.r.l. (de la Trieste) | R8: Factura EXM 1311, listă de colisaj | S8: Nu se transbordează. | T8: Franco | U8: 2950 | V8: EUR | Y8: =DATE(2026,10,17) -> 46312 | Z8: Paletul 3: folia de protecție ruptă la încărcare | AF8: =IF(B8="","",SUMIF(Mărfuri!$B$5:$B$1004,B8,Mărfuri!$D$5:$D$1004)) -> 14 | AG8: =IF(B8="","",SUMIF(Mărfuri!$B$5:$B$1004,B8,Mărfuri!$H$5:$H$1004)) -> 2600 | AH8: =IF(B8="","",IF(NOT(ISNUMBER(AA8)),IF(AND(ISNUMBER(Y8),Azi>Y8),"În tranzit – întârziat","În tranzit"),IF(OR(AB8<>"",ISNUMBER(AC8)),"Livrat cu rezerve",IF(AND(ISNUMBER(Y8),AA8>Y8),"Livrat cu întârziere","Livrat fără rezerve")))) -> În tranzit | AI8: =IF(OR(B8="",NOT(ISNUMBER(AA8))),"",WORKDAY.INTL(AA8,7,"0000001",Sarb)) | AJ8: =IF(OR(B8="",NOT(ISNUMBER(AA8)),NOT(ISNUMBER(Y8))),"",IF(AA8>Y8,AA8+21,"")) | AK8: =IF(OR(B8="",NOT(ISNUMBER(AA8))),"",EDATE(AA8,12)) | AL8: =IF(B8="","",TRIM(IF(COUNTIF($B$5:$B$504,B8)>1,"Număr CMR dublat. ","")&IF(LEN(IF(C8="","data, ","")&IF(D8="","locul întocmirii, ","")&IF(OR(E8="",F8=""),"expeditorul, ","")&IF(OR(H8="",I8=""),"destinatarul, ","")&IF(OR(N8="",O8=""),"transportatorul, ","")&IF(OR(K8="",NOT(ISNUMBER(L8))),"locul și data încărcării, ","")&IF(M8="","locul de livrare, ","")&IF(N(AF8)=0,"numărul de colete, ","")&IF(COUNTIFS(Mărfuri!$B$5:$B$1004,B8,Mărfuri!$H$5:$H$1004,"")>0,"greutatea unor loturi, ",""))>0,"Lipsesc date obligatorii (art. 6): "&LEFT(IF(C8="","data, ","")&IF(D8="","locul întocmirii, ","")&IF(OR(E8="",F8=""),"expeditorul, ","")&IF(OR(H8="",I8=""),"destinatarul, ","")&IF(OR(N8="",O8=""),"transportatorul, ","")&IF(OR(K8="",NOT(ISNUMBER(L8))),"locul și data încărcării, ","")&IF(M8="","locul de livrare, ","")&IF(N(AF8)=0,"numărul de colete, ","")&IF(COUNTIFS(Mărfuri!$B$5:$B$1004,B8,Mărfuri!$H$5:$H$1004,"")>0,"greutatea unor loturi, ",""),LEN(IF(C8="","data, ","")&IF(D8="","locul întocmirii, ","")&IF(OR(E8="",F8=""),"expeditorul, ","")&IF(OR(H8="",I8=""),"destinatarul, ","")&IF(OR(N8="",O8=""),"transportatorul, ","")&IF(OR(K8="",NOT(ISNUMBER(L8))),"locul și data încărcării, ","")&IF(M8="","locul de livrare, ","")&IF(N(AF8)=0,"numărul de colete, ","")&IF(COUNTIFS(Mărfuri!$B$5:$B$1004,B8,Mărfuri!$H$5:$H$1004,"")>0,"greutatea unor loturi, ",""))-2)&". ","")&IF(Z8<>"","Transportatorul a făcut rezerve la încărcare (art. 8): ele te obligă doar dacă le-ai acceptat expres. ","")&IF(AND(ISNUMBER(AC8),ISNUMBER(AI8)),IF(NOT(ISNUMBER(AD8)),IF(Azi>AI8,"Rezerva scrisă pentru avarii neaparente nu a fost trimisă în termen ("&RIGHT("0"&DAY(AI8),2)&"."&RIGHT("0"&MONTH(AI8),2)&"."&YEAR(AI8)&"). ","Trimite rezerva scrisă pentru avarii neaparente până la "&RIGHT("0"&DAY(AI8),2)&"."&RIGHT("0"&MONTH(AI8),2)&"."&YEAR(AI8)&". "),IF(AD8>AI8,"Rezerva scrisă a fost trimisă după termenul de 7 zile ("&RIGHT("0"&DAY(AI8),2)&"."&RIGHT("0"&MONTH(AI8),2)&"."&YEAR(AI8)&"): se prezumă că marfa a fost primită în starea din CMR. ","")),"")&IF(ISNUMBER(AJ8),IF(NOT(ISNUMBER(AE8)),IF(Azi>AJ8,"Termenul de 21 de zile pentru reclamația de întârziere a expirat. ","Livrare cu întârziere: trimite reclamația scrisă până la "&RIGHT("0"&DAY(AJ8),2)&"."&RIGHT("0"&MONTH(AJ8),2)&"."&YEAR(AJ8)&". "),IF(AE8>AJ8,"Reclamația pentru întârziere a fost trimisă după termen. ","")),"")&IF(AND(AH8="În tranzit – întârziat"),"Termenul de livrare a trecut și marfa nu a ajuns. ","")&IF(AND(ISNUMBER(AK8),OR(AB8<>"",ISNUMBER(AC8),ISNUMBER(AJ8)),Azi>N(AK8)-60,Azi<=N(AK8)),"Acțiunea în instanță se prescrie la "&RIGHT("0"&DAY(AK8),2)&"."&RIGHT("0"&MONTH(AK8),2)&"."&YEAR(AK8)&". ",""))) -> Lipsesc date obligatorii (art. 6): greutatea unor loturi. Transportatorul a făcut rezerve la încărcare (art. 8): ele te obligă doar dacă le-ai acceptat expres.
AF9: =IF(B9="","",SUMIF(Mărfuri!$B$5:$B$1004,B9,Mărfuri!$D$5:$D$1004)) | AG9: =IF(B9="","",SUMIF(Mărfuri!$B$5:$B$1004,B9,Mărfuri!$H$5:$H$1004)) | AH9: =IF(B9="","",IF(NOT(ISNUMBER(AA9)),IF(AND(ISNUMBER(Y9),Azi>Y9),"În tranzit – întârziat","În tranzit"),IF(OR(AB9<>"",ISNUMBER(AC9)),"Livrat cu rezerve",IF(AND(ISNUMBER(Y9),AA9>Y9),"Livrat cu întârziere","Livrat fără rezerve")))) | AI9: =IF(OR(B9="",NOT(ISNUMBER(AA9))),"",WORKDAY.INTL(AA9,7,"0000001",Sarb)) | AJ9: =IF(OR(B9="",NOT(ISNUMBER(AA9)),NOT(ISNUMBER(Y9))),"",IF(AA9>Y9,AA9+21,"")) | AK9: =IF(OR(B9="",NOT(ISNUMBER(AA9))),"",EDATE(AA9,12)) | AL9: =IF(B9="","",TRIM(IF(COUNTIF($B$5:$B$504,B9)>1,"Număr CMR dublat. ","")&IF(LEN(IF(C9="","data, ","")&IF(D9="","locul întocmirii, ","")&IF(OR(E9="",F9=""),"expeditorul, ","")&IF(OR(H9="",I9=""),"destinatarul, ","")&IF(OR(N9="",O9=""),"transportatorul, ","")&IF(OR(K9="",NOT(ISNUMBER(L9))),"locul și data încărcării, ","")&IF(M9="","locul de livrare, ","")&IF(N(AF9)=0,"numărul de colete, ","")&IF(COUNTIFS(Mărfuri!$B$5:$B$1004,B9,Mărfuri!$H$5:$H$1004,"")>0,"greutatea unor loturi, ",""))>0,"Lipsesc date obligatorii (art. 6): "&LEFT(IF(C9="","data, ","")&IF(D9="","locul întocmirii, ","")&IF(OR(E9="",F9=""),"expeditorul, ","")&IF(OR(H9="",I9=""),"destinatarul, ","")&IF(OR(N9="",O9=""),"transportatorul, ","")&IF(OR(K9="",NOT(ISNUMBER(L9))),"locul și data încărcării, ","")&IF(M9="","locul de livrare, ","")&IF(N(AF9)=0,"numărul de colete, ","")&IF(COUNTIFS(Mărfuri!$B$5:$B$1004,B9,Mărfuri!$H$5:$H$1004,"")>0,"greutatea unor loturi, ",""),LEN(IF(C9="","data, ","")&IF(D9="","locul întocmirii, ","")&IF(OR(E9="",F9=""),"expeditorul, ","")&IF(OR(H9="",I9=""),"destinatarul, ","")&IF(OR(N9="",O9=""),"transportatorul, ","")&IF(OR(K9="",NOT(ISNUMBER(L9))),"locul și data încărcării, ","")&IF(M9="","locul de livrare, ","")&IF(N(AF9)=0,"numărul de colete, ","")&IF(COUNTIFS(Mărfuri!$B$5:$B$1004,B9,Mărfuri!$H$5:$H$1004,"")>0,"greutatea unor loturi, ",""))-2)&". ","")&IF(Z9<>"","Transportatorul a făcut rezerve la încărcare (art. 8): ele te obligă doar dacă le-ai acceptat expres. ","")&IF(AND(ISNUMBER(AC9),ISNUMBER(AI9)),IF(NOT(ISNUMBER(AD9)),IF(Azi>AI9,"Rezerva scrisă pentru avarii neaparente nu a fost trimisă în termen ("&RIGHT("0"&DAY(AI9),2)&"."&RIGHT("0"&MONTH(AI9),2)&"."&YEAR(AI9)&"). ","Trimite rezerva scrisă pentru avarii neaparente până la "&RIGHT("0"&DAY(AI9),2)&"."&RIGHT("0"&MONTH(AI9),2)&"."&YEAR(AI9)&". "),IF(AD9>AI9,"Rezerva scrisă a fost trimisă după termenul de 7 zile ("&RIGHT("0"&DAY(AI9),2)&"."&RIGHT("0"&MONTH(AI9),2)&"."&YEAR(AI9)&"): se prezumă că marfa a fost primită în starea din CMR. ","")),"")&IF(ISNUMBER(AJ9),IF(NOT(ISNUMBER(AE9)),IF(Azi>AJ9,"Termenul de 21 de zile pentru reclamația de întârziere a expirat. ","Livrare cu întârziere: trimite reclamația scrisă până la "&RIGHT("0"&DAY(AJ9),2)&"."&RIGHT("0"&MONTH(AJ9),2)&"."&YEAR(AJ9)&". "),IF(AE9>AJ9,"Reclamația pentru întârziere a fost trimisă după termen. ","")),"")&IF(AND(AH9="În tranzit – întârziat"),"Termenul de livrare a trecut și marfa nu a ajuns. ","")&IF(AND(ISNUMBER(AK9),OR(AB9<>"",ISNUMBER(AC9),ISNUMBER(AJ9)),Azi>N(AK9)-60,Azi<=N(AK9)),"Acțiunea în instanță se prescrie la "&RIGHT("0"&DAY(AK9),2)&"."&RIGHT("0"&MONTH(AK9),2)&"."&YEAR(AK9)&". ","")))
AF10: =IF(B10="","",SUMIF(Mărfuri!$B$5:$B$1004,B10,Mărfuri!$D$5:$D$1004)) | AG10: =IF(B10="","",SUMIF(Mărfuri!$B$5:$B$1004,B10,Mărfuri!$H$5:$H$1004)) | AH10: =IF(B10="","",IF(NOT(ISNUMBER(AA10)),IF(AND(ISNUMBER(Y10),Azi>Y10),"În tranzit – întârziat","În tranzit"),IF(OR(AB10<>"",ISNUMBER(AC10)),"Livrat cu rezerve",IF(AND(ISNUMBER(Y10),AA10>Y10),"Livrat cu întârziere","Livrat fără rezerve")))) | AI10: =IF(OR(B10="",NOT(ISNUMBER(AA10))),"",WORKDAY.INTL(AA10,7,"0000001",Sarb)) | AJ10: =IF(OR(B10="",NOT(ISNUMBER(AA10)),NOT(ISNUMBER(Y10))),"",IF(AA10>Y10,AA10+21,"")) | AK10: =IF(OR(B10="",NOT(ISNUMBER(AA10))),"",EDATE(AA10,12)) | AL10: =IF(B10="","",TRIM(IF(COUNTIF($B$5:$B$504,B10)>1,"Număr CMR dublat. ","")&IF(LEN(IF(C10="","data, ","")&IF(D10="","locul întocmirii, ","")&IF(OR(E10="",F10=""),"expeditorul, ","")&IF(OR(H10="",I10=""),"destinatarul, ","")&IF(OR(N10="",O10=""),"transportatorul, ","")&IF(OR(K10="",NOT(ISNUMBER(L10))),"locul și data încărcării, ","")&IF(M10="","locul de livrare, ","")&IF(N(AF10)=0,"numărul de colete, ","")&IF(COUNTIFS(Mărfuri!$B$5:$B$1004,B10,Mărfuri!$H$5:$H$1004,"")>0,"greutatea unor loturi, ",""))>0,"Lipsesc date obligatorii (art. 6): "&LEFT(IF(C10="","data, ","")&IF(D10="","locul întocmirii, ","")&IF(OR(E10="",F10=""),"expeditorul, ","")&IF(OR(H10="",I10=""),"destinatarul, ","")&IF(OR(N10="",O10=""),"transportatorul, ","")&IF(OR(K10="",NOT(ISNUMBER(L10))),"locul și data încărcării, ","")&IF(M10="","locul de livrare, ","")&IF(N(AF10)=0,"numărul de colete, ","")&IF(COUNTIFS(Mărfuri!$B$5:$B$1004,B10,Mărfuri!$H$5:$H$1004,"")>0,"greutatea unor loturi, ",""),LEN(IF(C10="","data, ","")&IF(D10="","locul întocmirii, ","")&IF(OR(E10="",F10=""),"expeditorul, ","")&IF(OR(H10="",I10=""),"destinatarul, ","")&IF(OR(N10="",O10=""),"transportatorul, ","")&IF(OR(K10="",NOT(ISNUMBER(L10))),"locul și data încărcării, ","")&IF(M10="","locul de livrare, ","")&IF(N(AF10)=0,"numărul de colete, ","")&IF(COUNTIFS(Mărfuri!$B$5:$B$1004,B10,Mărfuri!$H$5:$H$1004,"")>0,"greutatea unor loturi, ",""))-2)&". ","")&IF(Z10<>"","Transportatorul a făcut rezerve la încărcare (art. 8): ele te obligă doar dacă le-ai acceptat expres. ","")&IF(AND(ISNUMBER(AC10),ISNUMBER(AI10)),IF(NOT(ISNUMBER(AD10)),IF(Azi>AI10,"Rezerva scrisă pentru avarii neaparente nu a fost trimisă în termen ("&RIGHT("0"&DAY(AI10),2)&"."&RIGHT("0"&MONTH(AI10),2)&"."&YEAR(AI10)&"). ","Trimite rezerva scrisă pentru avarii neaparente până la "&RIGHT("0"&DAY(AI10),2)&"."&RIGHT("0"&MONTH(AI10),2)&"."&YEAR(AI10)&". "),IF(AD10>AI10,"Rezerva scrisă a fost trimisă după termenul de 7 zile ("&RIGHT("0"&DAY(AI10),2)&"."&RIGHT("0"&MONTH(AI10),2)&"."&YEAR(AI10)&"): se prezumă că marfa a fost primită în starea din CMR. ","")),"")&IF(ISNUMBER(AJ10),IF(NOT(ISNUMBER(AE10)),IF(Azi>AJ10,"Termenul de 21 de zile pentru reclamația de întârziere a expirat. ","Livrare cu întârziere: trimite reclamația scrisă până la "&RIGHT("0"&DAY(AJ10),2)&"."&RIGHT("0"&MONTH(AJ10),2)&"."&YEAR(AJ10)&". "),IF(AE10>AJ10,"Reclamația pentru întârziere a fost trimisă după termen. ","")),"")&IF(AND(AH10="În tranzit – întârziat"),"Termenul de livrare a trecut și marfa nu a ajuns. ","")&IF(AND(ISNUMBER(AK10),OR(AB10<>"",ISNUMBER(AC10),ISNUMBER(AJ10)),Azi>N(AK10)-60,Azi<=N(AK10)),"Acțiunea în instanță se prescrie la "&RIGHT("0"&DAY(AK10),2)&"."&RIGHT("0"&MONTH(AK10),2)&"."&YEAR(AK10)&". ","")))
AF11: =IF(B11="","",SUMIF(Mărfuri!$B$5:$B$1004,B11,Mărfuri!$D$5:$D$1004)) | AG11: =IF(B11="","",SUMIF(Mărfuri!$B$5:$B$1004,B11,Mărfuri!$H$5:$H$1004)) | AH11: =IF(B11="","",IF(NOT(ISNUMBER(AA11)),IF(AND(ISNUMBER(Y11),Azi>Y11),"În tranzit – întârziat","În tranzit"),IF(OR(AB11<>"",ISNUMBER(AC11)),"Livrat cu rezerve",IF(AND(ISNUMBER(Y11),AA11>Y11),"Livrat cu întârziere","Livrat fără rezerve")))) | AI11: =IF(OR(B11="",NOT(ISNUMBER(AA11))),"",WORKDAY.INTL(AA11,7,"0000001",Sarb)) | AJ11: =IF(OR(B11="",NOT(ISNUMBER(AA11)),NOT(ISNUMBER(Y11))),"",IF(AA11>Y11,AA11+21,"")) | AK11: =IF(OR(B11="",NOT(ISNUMBER(AA11))),"",EDATE(AA11,12)) | AL11: =IF(B11="","",TRIM(IF(COUNTIF($B$5:$B$504,B11)>1,"Număr CMR dublat. ","")&IF(LEN(IF(C11="","data, ","")&IF(D11="","locul întocmirii, ","")&IF(OR(E11="",F11=""),"expeditorul, ","")&IF(OR(H11="",I11=""),"destinatarul, ","")&IF(OR(N11="",O11=""),"transportatorul, ","")&IF(OR(K11="",NOT(ISNUMBER(L11))),"locul și data încărcării, ","")&IF(M11="","locul de livrare, ","")&IF(N(AF11)=0,"numărul de colete, ","")&IF(COUNTIFS(Mărfuri!$B$5:$B$1004,B11,Mărfuri!$H$5:$H$1004,"")>0,"greutatea unor loturi, ",""))>0,"Lipsesc date obligatorii (art. 6): "&LEFT(IF(C11="","data, ","")&IF(D11="","locul întocmirii, ","")&IF(OR(E11="",F11=""),"expeditorul, ","")&IF(OR(H11="",I11=""),"destinatarul, ","")&IF(OR(N11="",O11=""),"transportatorul, ","")&IF(OR(K11="",NOT(ISNUMBER(L11))),"locul și data încărcării, ","")&IF(M11="","locul de livrare, ","")&IF(N(AF11)=0,"numărul de colete, ","")&IF(COUNTIFS(Mărfuri!$B$5:$B$1004,B11,Mărfuri!$H$5:$H$1004,"")>0,"greutatea unor loturi, ",""),LEN(IF(C11="","data, ","")&IF(D11="","locul întocmirii, ","")&IF(OR(E11="",F11=""),"expeditorul, ","")&IF(OR(H11="",I11=""),"destinatarul, ","")&IF(OR(N11="",O11=""),"transportatorul, ","")&IF(OR(K11="",NOT(ISNUMBER(L11))),"locul și data încărcării, ","")&IF(M11="","locul de livrare, ","")&IF(N(AF11)=0,"numărul de colete, ","")&IF(COUNTIFS(Mărfuri!$B$5:$B$1004,B11,Mărfuri!$H$5:$H$1004,"")>0,"greutatea unor loturi, ",""))-2)&". ","")&IF(Z11<>"","Transportatorul a făcut rezerve la încărcare (art. 8): ele te obligă doar dacă le-ai acceptat expres. ","")&IF(AND(ISNUMBER(AC11),ISNUMBER(AI11)),IF(NOT(ISNUMBER(AD11)),IF(Azi>AI11,"Rezerva scrisă pentru avarii neaparente nu a fost trimisă în termen ("&RIGHT("0"&DAY(AI11),2)&"."&RIGHT("0"&MONTH(AI11),2)&"."&YEAR(AI11)&"). ","Trimite rezerva scrisă pentru avarii neaparente până la "&RIGHT("0"&DAY(AI11),2)&"."&RIGHT("0"&MONTH(AI11),2)&"."&YEAR(AI11)&". "),IF(AD11>AI11,"Rezerva scrisă a fost trimisă după termenul de 7 zile ("&RIGHT("0"&DAY(AI11),2)&"."&RIGHT("0"&MONTH(AI11),2)&"."&YEAR(AI11)&"): se prezumă că marfa a fost primită în starea din CMR. ","")),"")&IF(ISNUMBER(AJ11),IF(NOT(ISNUMBER(AE11)),IF(Azi>AJ11,"Termenul de 21 de zile pentru reclamația de întârziere a expirat. ","Livrare cu întârziere: trimite reclamația scrisă până la "&RIGHT("0"&DAY(AJ11),2)&"."&RIGHT("0"&MONTH(AJ11),2)&"."&YEAR(AJ11)&". "),IF(AE11>AJ11,"Reclamația pentru întârziere a fost trimisă după termen. ","")),"")&IF(AND(AH11="În tranzit – întârziat"),"Termenul de livrare a trecut și marfa nu a ajuns. ","")&IF(AND(ISNUMBER(AK11),OR(AB11<>"",ISNUMBER(AC11),ISNUMBER(AJ11)),Azi>N(AK11)-60,Azi<=N(AK11)),"Acțiunea în instanță se prescrie la "&RIGHT("0"&DAY(AK11),2)&"."&RIGHT("0"&MONTH(AK11),2)&"."&YEAR(AK11)&". ","")))
AF12: =IF(B12="","",SUMIF(Mărfuri!$B$5:$B$1004,B12,Mărfuri!$D$5:$D$1004)) | AG12: =IF(B12="","",SUMIF(Mărfuri!$B$5:$B$1004,B12,Mărfuri!$H$5:$H$1004)) | AH12: =IF(B12="","",IF(NOT(ISNUMBER(AA12)),IF(AND(ISNUMBER(Y12),Azi>Y12),"În tranzit – întârziat","În tranzit"),IF(OR(AB12<>"",ISNUMBER(AC12)),"Livrat cu rezerve",IF(AND(ISNUMBER(Y12),AA12>Y12),"Livrat cu întârziere","Livrat fără rezerve")))) | AI12: =IF(OR(B12="",NOT(ISNUMBER(AA12))),"",WORKDAY.INTL(AA12,7,"0000001",Sarb)) | AJ12: =IF(OR(B12="",NOT(ISNUMBER(AA12)),NOT(ISNUMBER(Y12))),"",IF(AA12>Y12,AA12+21,"")) | AK12: =IF(OR(B12="",NOT(ISNUMBER(AA12))),"",EDATE(AA12,12)) | AL12: =IF(B12="","",TRIM(IF(COUNTIF($B$5:$B$504,B12)>1,"Număr CMR dublat. ","")&IF(LEN(IF(C12="","data, ","")&IF(D12="","locul întocmirii, ","")&IF(OR(E12="",F12=""),"expeditorul, ","")&IF(OR(H12="",I12=""),"destinatarul, ","")&IF(OR(N12="",O12=""),"transportatorul, ","")&IF(OR(K12="",NOT(ISNUMBER(L12))),"locul și data încărcării, ","")&IF(M12="","locul de livrare, ","")&IF(N(AF12)=0,"numărul de colete, ","")&IF(COUNTIFS(Mărfuri!$B$5:$B$1004,B12,Mărfuri!$H$5:$H$1004,"")>0,"greutatea unor loturi, ",""))>0,"Lipsesc date obligatorii (art. 6): "&LEFT(IF(C12="","data, ","")&IF(D12="","locul întocmirii, ","")&IF(OR(E12="",F12=""),"expeditorul, ","")&IF(OR(H12="",I12=""),"destinatarul, ","")&IF(OR(N12="",O12=""),"transportatorul, ","")&IF(OR(K12="",NOT(ISNUMBER(L12))),"locul și data încărcării, ","")&IF(M12="","locul de livrare, ","")&IF(N(AF12)=0,"numărul de colete, ","")&IF(COUNTIFS(Mărfuri!$B$5:$B$1004,B12,Mărfuri!$H$5:$H$1004,"")>0,"greutatea unor loturi, ",""),LEN(IF(C12="","data, ","")&IF(D12="","locul întocmirii, ","")&IF(OR(E12="",F12=""),"expeditorul, ","")&IF(OR(H12="",I12=""),"destinatarul, ","")&IF(OR(N12="",O12=""),"transportatorul, ","")&IF(OR(K12="",NOT(ISNUMBER(L12))),"locul și data încărcării, ","")&IF(M12="","locul de livrare, ","")&IF(N(AF12)=0,"numărul de colete, ","")&IF(COUNTIFS(Mărfuri!$B$5:$B$1004,B12,Mărfuri!$H$5:$H$1004,"")>0,"greutatea unor loturi, ",""))-2)&". ","")&IF(Z12<>"","Transportatorul a făcut rezerve la încărcare (art. 8): ele te obligă doar dacă le-ai acceptat expres. ","")&IF(AND(ISNUMBER(AC12),ISNUMBER(AI12)),IF(NOT(ISNUMBER(AD12)),IF(Azi>AI12,"Rezerva scrisă pentru avarii neaparente nu a fost trimisă în termen ("&RIGHT("0"&DAY(AI12),2)&"."&RIGHT("0"&MONTH(AI12),2)&"."&YEAR(AI12)&"). ","Trimite rezerva scrisă pentru avarii neaparente până la "&RIGHT("0"&DAY(AI12),2)&"."&RIGHT("0"&MONTH(AI12),2)&"."&YEAR(AI12)&". "),IF(AD12>AI12,"Rezerva scrisă a fost trimisă după termenul de 7 zile ("&RIGHT("0"&DAY(AI12),2)&"."&RIGHT("0"&MONTH(AI12),2)&"."&YEAR(AI12)&"): se prezumă că marfa a fost primită în starea din CMR. ","")),"")&IF(ISNUMBER(AJ12),IF(NOT(ISNUMBER(AE12)),IF(Azi>AJ12,"Termenul de 21 de zile pentru reclamația de întârziere a expirat. ","Livrare cu întârziere: trimite reclamația scrisă până la "&RIGHT("0"&DAY(AJ12),2)&"."&RIGHT("0"&MONTH(AJ12),2)&"."&YEAR(AJ12)&". "),IF(AE12>AJ12,"Reclamația pentru întârziere a fost trimisă după termen. ","")),"")&IF(AND(AH12="În tranzit – întârziat"),"Termenul de livrare a trecut și marfa nu a ajuns. ","")&IF(AND(ISNUMBER(AK12),OR(AB12<>"",ISNUMBER(AC12),ISNUMBER(AJ12)),Azi>N(AK12)-60,Azi<=N(AK12)),"Acțiunea în instanță se prescrie la "&RIGHT("0"&DAY(AK12),2)&"."&RIGHT("0"&MONTH(AK12),2)&"."&YEAR(AK12)&". ","")))
AF13: =IF(B13="","",SUMIF(Mărfuri!$B$5:$B$1004,B13,Mărfuri!$D$5:$D$1004)) | AG13: =IF(B13="","",SUMIF(Mărfuri!$B$5:$B$1004,B13,Mărfuri!$H$5:$H$1004)) | AH13: =IF(B13="","",IF(NOT(ISNUMBER(AA13)),IF(AND(ISNUMBER(Y13),Azi>Y13),"În tranzit – întârziat","În tranzit"),IF(OR(AB13<>"",ISNUMBER(AC13)),"Livrat cu rezerve",IF(AND(ISNUMBER(Y13),AA13>Y13),"Livrat cu întârziere","Livrat fără rezerve")))) | AI13: =IF(OR(B13="",NOT(ISNUMBER(AA13))),"",WORKDAY.INTL(AA13,7,"0000001",Sarb)) | AJ13: =IF(OR(B13="",NOT(ISNUMBER(AA13)),NOT(ISNUMBER(Y13))),"",IF(AA13>Y13,AA13+21,"")) | AK13: =IF(OR(B13="",NOT(ISNUMBER(AA13))),"",EDATE(AA13,12)) | AL13: =IF(B13="","",TRIM(IF(COUNTIF($B$5:$B$504,B13)>1,"Număr CMR dublat. ","")&IF(LEN(IF(C13="","data, ","")&IF(D13="","locul întocmirii, ","")&IF(OR(E13="",F13=""),"expeditorul, ","")&IF(OR(H13="",I13=""),"destinatarul, ","")&IF(OR(N13="",O13=""),"transportatorul, ","")&IF(OR(K13="",NOT(ISNUMBER(L13))),"locul și data încărcării, ","")&IF(M13="","locul de livrare, ","")&IF(N(AF13)=0,"numărul de colete, ","")&IF(COUNTIFS(Mărfuri!$B$5:$B$1004,B13,Mărfuri!$H$5:$H$1004,"")>0,"greutatea unor loturi, ",""))>0,"Lipsesc date obligatorii (art. 6): "&LEFT(IF(C13="","data, ","")&IF(D13="","locul întocmirii, ","")&IF(OR(E13="",F13=""),"expeditorul, ","")&IF(OR(H13="",I13=""),"destinatarul, ","")&IF(OR(N13="",O13=""),"transportatorul, ","")&IF(OR(K13="",NOT(ISNUMBER(L13))),"locul și data încărcării, ","")&IF(M13="","locul de livrare, ","")&IF(N(AF13)=0,"numărul de colete, ","")&IF(COUNTIFS(Mărfuri!$B$5:$B$1004,B13,Mărfuri!$H$5:$H$1004,"")>0,"greutatea unor loturi, ",""),LEN(IF(C13="","data, ","")&IF(D13="","locul întocmirii, ","")&IF(OR(E13="",F13=""),"expeditorul, ","")&IF(OR(H13="",I13=""),"destinatarul, ","")&IF(OR(N13="",O13=""),"transportatorul, ","")&IF(OR(K13="",NOT(ISNUMBER(L13))),"locul și data încărcării, ","")&IF(M13="","locul de livrare, ","")&IF(N(AF13)=0,"numărul de colete, ","")&IF(COUNTIFS(Mărfuri!$B$5:$B$1004,B13,Mărfuri!$H$5:$H$1004,"")>0,"greutatea unor loturi, ",""))-2)&". ","")&IF(Z13<>"","Transportatorul a făcut rezerve la încărcare (art. 8): ele te obligă doar dacă le-ai acceptat expres. ","")&IF(AND(ISNUMBER(AC13),ISNUMBER(AI13)),IF(NOT(ISNUMBER(AD13)),IF(Azi>AI13,"Rezerva scrisă pentru avarii neaparente nu a fost trimisă în termen ("&RIGHT("0"&DAY(AI13),2)&"."&RIGHT("0"&MONTH(AI13),2)&"."&YEAR(AI13)&"). ","Trimite rezerva scrisă pentru avarii neaparente până la "&RIGHT("0"&DAY(AI13),2)&"."&RIGHT("0"&MONTH(AI13),2)&"."&YEAR(AI13)&". "),IF(AD13>AI13,"Rezerva scrisă a fost trimisă după termenul de 7 zile ("&RIGHT("0"&DAY(AI13),2)&"."&RIGHT("0"&MONTH(AI13),2)&"."&YEAR(AI13)&"): se prezumă că marfa a fost primită în starea din CMR. ","")),"")&IF(ISNUMBER(AJ13),IF(NOT(ISNUMBER(AE13)),IF(Azi>AJ13,"Termenul de 21 de zile pentru reclamația de întârziere a expirat. ","Livrare cu întârziere: trimite reclamația scrisă până la "&RIGHT("0"&DAY(AJ13),2)&"."&RIGHT("0"&MONTH(AJ13),2)&"."&YEAR(AJ13)&". "),IF(AE13>AJ13,"Reclamația pentru întârziere a fost trimisă după termen. ","")),"")&IF(AND(AH13="În tranzit – întârziat"),"Termenul de livrare a trecut și marfa nu a ajuns. ","")&IF(AND(ISNUMBER(AK13),OR(AB13<>"",ISNUMBER(AC13),ISNUMBER(AJ13)),Azi>N(AK13)-60,Azi<=N(AK13)),"Acțiunea în instanță se prescrie la "&RIGHT("0"&DAY(AK13),2)&"."&RIGHT("0"&MONTH(AK13),2)&"."&YEAR(AK13)&". ","")))
AF14: =IF(B14="","",SUMIF(Mărfuri!$B$5:$B$1004,B14,Mărfuri!$D$5:$D$1004)) | AG14: =IF(B14="","",SUMIF(Mărfuri!$B$5:$B$1004,B14,Mărfuri!$H$5:$H$1004)) | AH14: =IF(B14="","",IF(NOT(ISNUMBER(AA14)),IF(AND(ISNUMBER(Y14),Azi>Y14),"În tranzit – întârziat","În tranzit"),IF(OR(AB14<>"",ISNUMBER(AC14)),"Livrat cu rezerve",IF(AND(ISNUMBER(Y14),AA14>Y14),"Livrat cu întârziere","Livrat fără rezerve")))) | AI14: =IF(OR(B14="",NOT(ISNUMBER(AA14))),"",WORKDAY.INTL(AA14,7,"0000001",Sarb)) | AJ14: =IF(OR(B14="",NOT(ISNUMBER(AA14)),NOT(ISNUMBER(Y14))),"",IF(AA14>Y14,AA14+21,"")) | AK14: =IF(OR(B14="",NOT(ISNUMBER(AA14))),"",EDATE(AA14,12)) | AL14: =IF(B14="","",TRIM(IF(COUNTIF($B$5:$B$504,B14)>1,"Număr CMR dublat. ","")&IF(LEN(IF(C14="","data, ","")&IF(D14="","locul întocmirii, ","")&IF(OR(E14="",F14=""),"expeditorul, ","")&IF(OR(H14="",I14=""),"destinatarul, ","")&IF(OR(N14="",O14=""),"transportatorul, ","")&IF(OR(K14="",NOT(ISNUMBER(L14))),"locul și data încărcării, ","")&IF(M14="","locul de livrare, ","")&IF(N(AF14)=0,"numărul de colete, ","")&IF(COUNTIFS(Mărfuri!$B$5:$B$1004,B14,Mărfuri!$H$5:$H$1004,"")>0,"greutatea unor loturi, ",""))>0,"Lipsesc date obligatorii (art. 6): "&LEFT(IF(C14="","data, ","")&IF(D14="","locul întocmirii, ","")&IF(OR(E14="",F14=""),"expeditorul, ","")&IF(OR(H14="",I14=""),"destinatarul, ","")&IF(OR(N14="",O14=""),"transportatorul, ","")&IF(OR(K14="",NOT(ISNUMBER(L14))),"locul și data încărcării, ","")&IF(M14="","locul de livrare, ","")&IF(N(AF14)=0,"numărul de colete, ","")&IF(COUNTIFS(Mărfuri!$B$5:$B$1004,B14,Mărfuri!$H$5:$H$1004,"")>0,"greutatea unor loturi, ",""),LEN(IF(C14="","data, ","")&IF(D14="","locul întocmirii, ","")&IF(OR(E14="",F14=""),"expeditorul, ","")&IF(OR(H14="",I14=""),"destinatarul, ","")&IF(OR(N14="",O14=""),"transportatorul, ","")&IF(OR(K14="",NOT(ISNUMBER(L14))),"locul și data încărcării, ","")&IF(M14="","locul de livrare, ","")&IF(N(AF14)=0,"numărul de colete, ","")&IF(COUNTIFS(Mărfuri!$B$5:$B$1004,B14,Mărfuri!$H$5:$H$1004,"")>0,"greutatea unor loturi, ",""))-2)&". ","")&IF(Z14<>"","Transportatorul a făcut rezerve la încărcare (art. 8): ele te obligă doar dacă le-ai acceptat expres. ","")&IF(AND(ISNUMBER(AC14),ISNUMBER(AI14)),IF(NOT(ISNUMBER(AD14)),IF(Azi>AI14,"Rezerva scrisă pentru avarii neaparente nu a fost trimisă în termen ("&RIGHT("0"&DAY(AI14),2)&"."&RIGHT("0"&MONTH(AI14),2)&"."&YEAR(AI14)&"). ","Trimite rezerva scrisă pentru avarii neaparente până la "&RIGHT("0"&DAY(AI14),2)&"."&RIGHT("0"&MONTH(AI14),2)&"."&YEAR(AI14)&". "),IF(AD14>AI14,"Rezerva scrisă a fost trimisă după termenul de 7 zile ("&RIGHT("0"&DAY(AI14),2)&"."&RIGHT("0"&MONTH(AI14),2)&"."&YEAR(AI14)&"): se prezumă că marfa a fost primită în starea din CMR. ","")),"")&IF(ISNUMBER(AJ14),IF(NOT(ISNUMBER(AE14)),IF(Azi>AJ14,"Termenul de 21 de zile pentru reclamația de întârziere a expirat. ","Livrare cu întârziere: trimite reclamația scrisă până la "&RIGHT("0"&DAY(AJ14),2)&"."&RIGHT("0"&MONTH(AJ14),2)&"."&YEAR(AJ14)&". "),IF(AE14>AJ14,"Reclamația pentru întârziere a fost trimisă după termen. ","")),"")&IF(AND(AH14="În tranzit – întârziat"),"Termenul de livrare a trecut și marfa nu a ajuns. ","")&IF(AND(ISNUMBER(AK14),OR(AB14<>"",ISNUMBER(AC14),ISNUMBER(AJ14)),Azi>N(AK14)-60,Azi<=N(AK14)),"Acțiunea în instanță se prescrie la "&RIGHT("0"&DAY(AK14),2)&"."&RIGHT("0"&MONTH(AK14),2)&"."&YEAR(AK14)&". ","")))
AF15: =IF(B15="","",SUMIF(Mărfuri!$B$5:$B$1004,B15,Mărfuri!$D$5:$D$1004)) | AG15: =IF(B15="","",SUMIF(Mărfuri!$B$5:$B$1004,B15,Mărfuri!$H$5:$H$1004)) | AH15: =IF(B15="","",IF(NOT(ISNUMBER(AA15)),IF(AND(ISNUMBER(Y15),Azi>Y15),"În tranzit – întârziat","În tranzit"),IF(OR(AB15<>"",ISNUMBER(AC15)),"Livrat cu rezerve",IF(AND(ISNUMBER(Y15),AA15>Y15),"Livrat cu întârziere","Livrat fără rezerve")))) | AI15: =IF(OR(B15="",NOT(ISNUMBER(AA15))),"",WORKDAY.INTL(AA15,7,"0000001",Sarb)) | AJ15: =IF(OR(B15="",NOT(ISNUMBER(AA15)),NOT(ISNUMBER(Y15))),"",IF(AA15>Y15,AA15+21,"")) | AK15: =IF(OR(B15="",NOT(ISNUMBER(AA15))),"",EDATE(AA15,12)) | AL15: =IF(B15="","",TRIM(IF(COUNTIF($B$5:$B$504,B15)>1,"Număr CMR dublat. ","")&IF(LEN(IF(C15="","data, ","")&IF(D15="","locul întocmirii, ","")&IF(OR(E15="",F15=""),"expeditorul, ","")&IF(OR(H15="",I15=""),"destinatarul, ","")&IF(OR(N15="",O15=""),"transportatorul, ","")&IF(OR(K15="",NOT(ISNUMBER(L15))),"locul și data încărcării, ","")&IF(M15="","locul de livrare, ","")&IF(N(AF15)=0,"numărul de colete, ","")&IF(COUNTIFS(Mărfuri!$B$5:$B$1004,B15,Mărfuri!$H$5:$H$1004,"")>0,"greutatea unor loturi, ",""))>0,"Lipsesc date obligatorii (art. 6): "&LEFT(IF(C15="","data, ","")&IF(D15="","locul întocmirii, ","")&IF(OR(E15="",F15=""),"expeditorul, ","")&IF(OR(H15="",I15=""),"destinatarul, ","")&IF(OR(N15="",O15=""),"transportatorul, ","")&IF(OR(K15="",NOT(ISNUMBER(L15))),"locul și data încărcării, ","")&IF(M15="","locul de livrare, ","")&IF(N(AF15)=0,"numărul de colete, ","")&IF(COUNTIFS(Mărfuri!$B$5:$B$1004,B15,Mărfuri!$H$5:$H$1004,"")>0,"greutatea unor loturi, ",""),LEN(IF(C15="","data, ","")&IF(D15="","locul întocmirii, ","")&IF(OR(E15="",F15=""),"expeditorul, ","")&IF(OR(H15="",I15=""),"destinatarul, ","")&IF(OR(N15="",O15=""),"transportatorul, ","")&IF(OR(K15="",NOT(ISNUMBER(L15))),"locul și data încărcării, ","")&IF(M15="","locul de livrare, ","")&IF(N(AF15)=0,"numărul de colete, ","")&IF(COUNTIFS(Mărfuri!$B$5:$B$1004,B15,Mărfuri!$H$5:$H$1004,"")>0,"greutatea unor loturi, ",""))-2)&". ","")&IF(Z15<>"","Transportatorul a făcut rezerve la încărcare (art. 8): ele te obligă doar dacă le-ai acceptat expres. ","")&IF(AND(ISNUMBER(AC15),ISNUMBER(AI15)),IF(NOT(ISNUMBER(AD15)),IF(Azi>AI15,"Rezerva scrisă pentru avarii neaparente nu a fost trimisă în termen ("&RIGHT("0"&DAY(AI15),2)&"."&RIGHT("0"&MONTH(AI15),2)&"."&YEAR(AI15)&"). ","Trimite rezerva scrisă pentru avarii neaparente până la "&RIGHT("0"&DAY(AI15),2)&"."&RIGHT("0"&MONTH(AI15),2)&"."&YEAR(AI15)&". "),IF(AD15>AI15,"Rezerva scrisă a fost trimisă după termenul de 7 zile ("&RIGHT("0"&DAY(AI15),2)&"."&RIGHT("0"&MONTH(AI15),2)&"."&YEAR(AI15)&"): se prezumă că marfa a fost primită în starea din CMR. ","")),"")&IF(ISNUMBER(AJ15),IF(NOT(ISNUMBER(AE15)),IF(Azi>AJ15,"Termenul de 21 de zile pentru reclamația de întârziere a expirat. ","Livrare cu întârziere: trimite reclamația scrisă până la "&RIGHT("0"&DAY(AJ15),2)&"."&RIGHT("0"&MONTH(AJ15),2)&"."&YEAR(AJ15)&". "),IF(AE15>AJ15,"Reclamația pentru întârziere a fost trimisă după termen. ","")),"")&IF(AND(AH15="În tranzit – întârziat"),"Termenul de livrare a trecut și marfa nu a ajuns. ","")&IF(AND(ISNUMBER(AK15),OR(AB15<>"",ISNUMBER(AC15),ISNUMBER(AJ15)),Azi>N(AK15)-60,Azi<=N(AK15)),"Acțiunea în instanță se prescrie la "&RIGHT("0"&DAY(AK15),2)&"."&RIGHT("0"&MONTH(AK15),2)&"."&YEAR(AK15)&". ","")))
AF16: =IF(B16="","",SUMIF(Mărfuri!$B$5:$B$1004,B16,Mărfuri!$D$5:$D$1004)) | AG16: =IF(B16="","",SUMIF(Mărfuri!$B$5:$B$1004,B16,Mărfuri!$H$5:$H$1004)) | AH16: =IF(B16="","",IF(NOT(ISNUMBER(AA16)),IF(AND(ISNUMBER(Y16),Azi>Y16),"În tranzit – întârziat","În tranzit"),IF(OR(AB16<>"",ISNUMBER(AC16)),"Livrat cu rezerve",IF(AND(ISNUMBER(Y16),AA16>Y16),"Livrat cu întârziere","Livrat fără rezerve")))) | AI16: =IF(OR(B16="",NOT(ISNUMBER(AA16))),"",WORKDAY.INTL(AA16,7,"0000001",Sarb)) | AJ16: =IF(OR(B16="",NOT(ISNUMBER(AA16)),NOT(ISNUMBER(Y16))),"",IF(AA16>Y16,AA16+21,"")) | AK16: =IF(OR(B16="",NOT(ISNUMBER(AA16))),"",EDATE(AA16,12)) | AL16: =IF(B16="","",TRIM(IF(COUNTIF($B$5:$B$504,B16)>1,"Număr CMR dublat. ","")&IF(LEN(IF(C16="","data, ","")&IF(D16="","locul întocmirii, ","")&IF(OR(E16="",F16=""),"expeditorul, ","")&IF(OR(H16="",I16=""),"destinatarul, ","")&IF(OR(N16="",O16=""),"transportatorul, ","")&IF(OR(K16="",NOT(ISNUMBER(L16))),"locul și data încărcării, ","")&IF(M16="","locul de livrare, ","")&IF(N(AF16)=0,"numărul de colete, ","")&IF(COUNTIFS(Mărfuri!$B$5:$B$1004,B16,Mărfuri!$H$5:$H$1004,"")>0,"greutatea unor loturi, ",""))>0,"Lipsesc date obligatorii (art. 6): "&LEFT(IF(C16="","data, ","")&IF(D16="","locul întocmirii, ","")&IF(OR(E16="",F16=""),"expeditorul, ","")&IF(OR(H16="",I16=""),"destinatarul, ","")&IF(OR(N16="",O16=""),"transportatorul, ","")&IF(OR(K16="",NOT(ISNUMBER(L16))),"locul și data încărcării, ","")&IF(M16="","locul de livrare, ","")&IF(N(AF16)=0,"numărul de colete, ","")&IF(COUNTIFS(Mărfuri!$B$5:$B$1004,B16,Mărfuri!$H$5:$H$1004,"")>0,"greutatea unor loturi, ",""),LEN(IF(C16="","data, ","")&IF(D16="","locul întocmirii, ","")&IF(OR(E16="",F16=""),"expeditorul, ","")&IF(OR(H16="",I16=""),"destinatarul, ","")&IF(OR(N16="",O16=""),"transportatorul, ","")&IF(OR(K16="",NOT(ISNUMBER(L16))),"locul și data încărcării, ","")&IF(M16="","locul de livrare, ","")&IF(N(AF16)=0,"numărul de colete, ","")&IF(COUNTIFS(Mărfuri!$B$5:$B$1004,B16,Mărfuri!$H$5:$H$1004,"")>0,"greutatea unor loturi, ",""))-2)&". ","")&IF(Z16<>"","Transportatorul a făcut rezerve la încărcare (art. 8): ele te obligă doar dacă le-ai acceptat expres. ","")&IF(AND(ISNUMBER(AC16),ISNUMBER(AI16)),IF(NOT(ISNUMBER(AD16)),IF(Azi>AI16,"Rezerva scrisă pentru avarii neaparente nu a fost trimisă în termen ("&RIGHT("0"&DAY(AI16),2)&"."&RIGHT("0"&MONTH(AI16),2)&"."&YEAR(AI16)&"). ","Trimite rezerva scrisă pentru avarii neaparente până la "&RIGHT("0"&DAY(AI16),2)&"."&RIGHT("0"&MONTH(AI16),2)&"."&YEAR(AI16)&". "),IF(AD16>AI16,"Rezerva scrisă a fost trimisă după termenul de 7 zile ("&RIGHT("0"&DAY(AI16),2)&"."&RIGHT("0"&MONTH(AI16),2)&"."&YEAR(AI16)&"): se prezumă că marfa a fost primită în starea din CMR. ","")),"")&IF(ISNUMBER(AJ16),IF(NOT(ISNUMBER(AE16)),IF(Azi>AJ16,"Termenul de 21 de zile pentru reclamația de întârziere a expirat. ","Livrare cu întârziere: trimite reclamația scrisă până la "&RIGHT("0"&DAY(AJ16),2)&"."&RIGHT("0"&MONTH(AJ16),2)&"."&YEAR(AJ16)&". "),IF(AE16>AJ16,"Reclamația pentru întârziere a fost trimisă după termen. ","")),"")&IF(AND(AH16="În tranzit – întârziat"),"Termenul de livrare a trecut și marfa nu a ajuns. ","")&IF(AND(ISNUMBER(AK16),OR(AB16<>"",ISNUMBER(AC16),ISNUMBER(AJ16)),Azi>N(AK16)-60,Azi<=N(AK16)),"Acțiunea în instanță se prescrie la "&RIGHT("0"&DAY(AK16),2)&"."&RIGHT("0"&MONTH(AK16),2)&"."&YEAR(AK16)&". ","")))
AF17: =IF(B17="","",SUMIF(Mărfuri!$B$5:$B$1004,B17,Mărfuri!$D$5:$D$1004)) | AG17: =IF(B17="","",SUMIF(Mărfuri!$B$5:$B$1004,B17,Mărfuri!$H$5:$H$1004)) | AH17: =IF(B17="","",IF(NOT(ISNUMBER(AA17)),IF(AND(ISNUMBER(Y17),Azi>Y17),"În tranzit – întârziat","În tranzit"),IF(OR(AB17<>"",ISNUMBER(AC17)),"Livrat cu rezerve",IF(AND(ISNUMBER(Y17),AA17>Y17),"Livrat cu întârziere","Livrat fără rezerve")))) | AI17: =IF(OR(B17="",NOT(ISNUMBER(AA17))),"",WORKDAY.INTL(AA17,7,"0000001",Sarb)) | AJ17: =IF(OR(B17="",NOT(ISNUMBER(AA17)),NOT(ISNUMBER(Y17))),"",IF(AA17>Y17,AA17+21,"")) | AK17: =IF(OR(B17="",NOT(ISNUMBER(AA17))),"",EDATE(AA17,12)) | AL17: =IF(B17="","",TRIM(IF(COUNTIF($B$5:$B$504,B17)>1,"Număr CMR dublat. ","")&IF(LEN(IF(C17="","data, ","")&IF(D17="","locul întocmirii, ","")&IF(OR(E17="",F17=""),"expeditorul, ","")&IF(OR(H17="",I17=""),"destinatarul, ","")&IF(OR(N17="",O17=""),"transportatorul, ","")&IF(OR(K17="",NOT(ISNUMBER(L17))),"locul și data încărcării, ","")&IF(M17="","locul de livrare, ","")&IF(N(AF17)=0,"numărul de colete, ","")&IF(COUNTIFS(Mărfuri!$B$5:$B$1004,B17,Mărfuri!$H$5:$H$1004,"")>0,"greutatea unor loturi, ",""))>0,"Lipsesc date obligatorii (art. 6): "&LEFT(IF(C17="","data, ","")&IF(D17="","locul întocmirii, ","")&IF(OR(E17="",F17=""),"expeditorul, ","")&IF(OR(H17="",I17=""),"destinatarul, ","")&IF(OR(N17="",O17=""),"transportatorul, ","")&IF(OR(K17="",NOT(ISNUMBER(L17))),"locul și data încărcării, ","")&IF(M17="","locul de livrare, ","")&IF(N(AF17)=0,"numărul de colete, ","")&IF(COUNTIFS(Mărfuri!$B$5:$B$1004,B17,Mărfuri!$H$5:$H$1004,"")>0,"greutatea unor loturi, ",""),LEN(IF(C17="","data, ","")&IF(D17="","locul întocmirii, ","")&IF(OR(E17="",F17=""),"expeditorul, ","")&IF(OR(H17="",I17=""),"destinatarul, ","")&IF(OR(N17="",O17=""),"transportatorul, ","")&IF(OR(K17="",NOT(ISNUMBER(L17))),"locul și data încărcării, ","")&IF(M17="","locul de livrare, ","")&IF(N(AF17)=0,"numărul de colete, ","")&IF(COUNTIFS(Mărfuri!$B$5:$B$1004,B17,Mărfuri!$H$5:$H$1004,"")>0,"greutatea unor loturi, ",""))-2)&". ","")&IF(Z17<>"","Transportatorul a făcut rezerve la încărcare (art. 8): ele te obligă doar dacă le-ai acceptat expres. ","")&IF(AND(ISNUMBER(AC17),ISNUMBER(AI17)),IF(NOT(ISNUMBER(AD17)),IF(Azi>AI17,"Rezerva scrisă pentru avarii neaparente nu a fost trimisă în termen ("&RIGHT("0"&DAY(AI17),2)&"."&RIGHT("0"&MONTH(AI17),2)&"."&YEAR(AI17)&"). ","Trimite rezerva scrisă pentru avarii neaparente până la "&RIGHT("0"&DAY(AI17),2)&"."&RIGHT("0"&MONTH(AI17),2)&"."&YEAR(AI17)&". "),IF(AD17>AI17,"Rezerva scrisă a fost trimisă după termenul de 7 zile ("&RIGHT("0"&DAY(AI17),2)&"."&RIGHT("0"&MONTH(AI17),2)&"."&YEAR(AI17)&"): se prezumă că marfa a fost primită în starea din CMR. ","")),"")&IF(ISNUMBER(AJ17),IF(NOT(ISNUMBER(AE17)),IF(Azi>AJ17,"Termenul de 21 de zile pentru reclamația de întârziere a expirat. ","Livrare cu întârziere: trimite reclamația scrisă până la "&RIGHT("0"&DAY(AJ17),2)&"."&RIGHT("0"&MONTH(AJ17),2)&"."&YEAR(AJ17)&". "),IF(AE17>AJ17,"Reclamația pentru întârziere a fost trimisă după termen. ","")),"")&IF(AND(AH17="În tranzit – întârziat"),"Termenul de livrare a trecut și marfa nu a ajuns. ","")&IF(AND(ISNUMBER(AK17),OR(AB17<>"",ISNUMBER(AC17),ISNUMBER(AJ17)),Azi>N(AK17)-60,Azi<=N(AK17)),"Acțiunea în instanță se prescrie la "&RIGHT("0"&DAY(AK17),2)&"."&RIGHT("0"&MONTH(AK17),2)&"."&YEAR(AK17)&". ","")))
AF18: =IF(B18="","",SUMIF(Mărfuri!$B$5:$B$1004,B18,Mărfuri!$D$5:$D$1004)) | AG18: =IF(B18="","",SUMIF(Mărfuri!$B$5:$B$1004,B18,Mărfuri!$H$5:$H$1004)) | AH18: =IF(B18="","",IF(NOT(ISNUMBER(AA18)),IF(AND(ISNUMBER(Y18),Azi>Y18),"În tranzit – întârziat","În tranzit"),IF(OR(AB18<>"",ISNUMBER(AC18)),"Livrat cu rezerve",IF(AND(ISNUMBER(Y18),AA18>Y18),"Livrat cu întârziere","Livrat fără rezerve")))) | AI18: =IF(OR(B18="",NOT(ISNUMBER(AA18))),"",WORKDAY.INTL(AA18,7,"0000001",Sarb)) | AJ18: =IF(OR(B18="",NOT(ISNUMBER(AA18)),NOT(ISNUMBER(Y18))),"",IF(AA18>Y18,AA18+21,"")) | AK18: =IF(OR(B18="",NOT(ISNUMBER(AA18))),"",EDATE(AA18,12)) | AL18: =IF(B18="","",TRIM(IF(COUNTIF($B$5:$B$504,B18)>1,"Număr CMR dublat. ","")&IF(LEN(IF(C18="","data, ","")&IF(D18="","locul întocmirii, ","")&IF(OR(E18="",F18=""),"expeditorul, ","")&IF(OR(H18="",I18=""),"destinatarul, ","")&IF(OR(N18="",O18=""),"transportatorul, ","")&IF(OR(K18="",NOT(ISNUMBER(L18))),"locul și data încărcării, ","")&IF(M18="","locul de livrare, ","")&IF(N(AF18)=0,"numărul de colete, ","")&IF(COUNTIFS(Mărfuri!$B$5:$B$1004,B18,Mărfuri!$H$5:$H$1004,"")>0,"greutatea unor loturi, ",""))>0,"Lipsesc date obligatorii (art. 6): "&LEFT(IF(C18="","data, ","")&IF(D18="","locul întocmirii, ","")&IF(OR(E18="",F18=""),"expeditorul, ","")&IF(OR(H18="",I18=""),"destinatarul, ","")&IF(OR(N18="",O18=""),"transportatorul, ","")&IF(OR(K18="",NOT(ISNUMBER(L18))),"locul și data încărcării, ","")&IF(M18="","locul de livrare, ","")&IF(N(AF18)=0,"numărul de colete, ","")&IF(COUNTIFS(Mărfuri!$B$5:$B$1004,B18,Mărfuri!$H$5:$H$1004,"")>0,"greutatea unor loturi, ",""),LEN(IF(C18="","data, ","")&IF(D18="","locul întocmirii, ","")&IF(OR(E18="",F18=""),"expeditorul, ","")&IF(OR(H18="",I18=""),"destinatarul, ","")&IF(OR(N18="",O18=""),"transportatorul, ","")&IF(OR(K18="",NOT(ISNUMBER(L18))),"locul și data încărcării, ","")&IF(M18="","locul de livrare, ","")&IF(N(AF18)=0,"numărul de colete, ","")&IF(COUNTIFS(Mărfuri!$B$5:$B$1004,B18,Mărfuri!$H$5:$H$1004,"")>0,"greutatea unor loturi, ",""))-2)&". ","")&IF(Z18<>"","Transportatorul a făcut rezerve la încărcare (art. 8): ele te obligă doar dacă le-ai acceptat expres. ","")&IF(AND(ISNUMBER(AC18),ISNUMBER(AI18)),IF(NOT(ISNUMBER(AD18)),IF(Azi>AI18,"Rezerva scrisă pentru avarii neaparente nu a fost trimisă în termen ("&RIGHT("0"&DAY(AI18),2)&"."&RIGHT("0"&MONTH(AI18),2)&"."&YEAR(AI18)&"). ","Trimite rezerva scrisă pentru avarii neaparente până la "&RIGHT("0"&DAY(AI18),2)&"."&RIGHT("0"&MONTH(AI18),2)&"."&YEAR(AI18)&". "),IF(AD18>AI18,"Rezerva scrisă a fost trimisă după termenul de 7 zile ("&RIGHT("0"&DAY(AI18),2)&"."&RIGHT("0"&MONTH(AI18),2)&"."&YEAR(AI18)&"): se prezumă că marfa a fost primită în starea din CMR. ","")),"")&IF(ISNUMBER(AJ18),IF(NOT(ISNUMBER(AE18)),IF(Azi>AJ18,"Termenul de 21 de zile pentru reclamația de întârziere a expirat. ","Livrare cu întârziere: trimite reclamația scrisă până la "&RIGHT("0"&DAY(AJ18),2)&"."&RIGHT("0"&MONTH(AJ18),2)&"."&YEAR(AJ18)&". "),IF(AE18>AJ18,"Reclamația pentru întârziere a fost trimisă după termen. ","")),"")&IF(AND(AH18="În tranzit – întârziat"),"Termenul de livrare a trecut și marfa nu a ajuns. ","")&IF(AND(ISNUMBER(AK18),OR(AB18<>"",ISNUMBER(AC18),ISNUMBER(AJ18)),Azi>N(AK18)-60,Azi<=N(AK18)),"Acțiunea în instanță se prescrie la "&RIGHT("0"&DAY(AK18),2)&"."&RIGHT("0"&MONTH(AK18),2)&"."&YEAR(AK18)&". ","")))
AF19: =IF(B19="","",SUMIF(Mărfuri!$B$5:$B$1004,B19,Mărfuri!$D$5:$D$1004)) | AG19: =IF(B19="","",SUMIF(Mărfuri!$B$5:$B$1004,B19,Mărfuri!$H$5:$H$1004)) | AH19: =IF(B19="","",IF(NOT(ISNUMBER(AA19)),IF(AND(ISNUMBER(Y19),Azi>Y19),"În tranzit – întârziat","În tranzit"),IF(OR(AB19<>"",ISNUMBER(AC19)),"Livrat cu rezerve",IF(AND(ISNUMBER(Y19),AA19>Y19),"Livrat cu întârziere","Livrat fără rezerve")))) | AI19: =IF(OR(B19="",NOT(ISNUMBER(AA19))),"",WORKDAY.INTL(AA19,7,"0000001",Sarb)) | AJ19: =IF(OR(B19="",NOT(ISNUMBER(AA19)),NOT(ISNUMBER(Y19))),"",IF(AA19>Y19,AA19+21,"")) | AK19: =IF(OR(B19="",NOT(ISNUMBER(AA19))),"",EDATE(AA19,12)) | AL19: =IF(B19="","",TRIM(IF(COUNTIF($B$5:$B$504,B19)>1,"Număr CMR dublat. ","")&IF(LEN(IF(C19="","data, ","")&IF(D19="","locul întocmirii, ","")&IF(OR(E19="",F19=""),"expeditorul, ","")&IF(OR(H19="",I19=""),"destinatarul, ","")&IF(OR(N19="",O19=""),"transportatorul, ","")&IF(OR(K19="",NOT(ISNUMBER(L19))),"locul și data încărcării, ","")&IF(M19="","locul de livrare, ","")&IF(N(AF19)=0,"numărul de colete, ","")&IF(COUNTIFS(Mărfuri!$B$5:$B$1004,B19,Mărfuri!$H$5:$H$1004,"")>0,"greutatea unor loturi, ",""))>0,"Lipsesc date obligatorii (art. 6): "&LEFT(IF(C19="","data, ","")&IF(D19="","locul întocmirii, ","")&IF(OR(E19="",F19=""),"expeditorul, ","")&IF(OR(H19="",I19=""),"destinatarul, ","")&IF(OR(N19="",O19=""),"transportatorul, ","")&IF(OR(K19="",NOT(ISNUMBER(L19))),"locul și data încărcării, ","")&IF(M19="","locul de livrare, ","")&IF(N(AF19)=0,"numărul de colete, ","")&IF(COUNTIFS(Mărfuri!$B$5:$B$1004,B19,Mărfuri!$H$5:$H$1004,"")>0,"greutatea unor loturi, ",""),LEN(IF(C19="","data, ","")&IF(D19="","locul întocmirii, ","")&IF(OR(E19="",F19=""),"expeditorul, ","")&IF(OR(H19="",I19=""),"destinatarul, ","")&IF(OR(N19="",O19=""),"transportatorul, ","")&IF(OR(K19="",NOT(ISNUMBER(L19))),"locul și data încărcării, ","")&IF(M19="","locul de livrare, ","")&IF(N(AF19)=0,"numărul de colete, ","")&IF(COUNTIFS(Mărfuri!$B$5:$B$1004,B19,Mărfuri!$H$5:$H$1004,"")>0,"greutatea unor loturi, ",""))-2)&". ","")&IF(Z19<>"","Transportatorul a făcut rezerve la încărcare (art. 8): ele te obligă doar dacă le-ai acceptat expres. ","")&IF(AND(ISNUMBER(AC19),ISNUMBER(AI19)),IF(NOT(ISNUMBER(AD19)),IF(Azi>AI19,"Rezerva scrisă pentru avarii neaparente nu a fost trimisă în termen ("&RIGHT("0"&DAY(AI19),2)&"."&RIGHT("0"&MONTH(AI19),2)&"."&YEAR(AI19)&"). ","Trimite rezerva scrisă pentru avarii neaparente până la "&RIGHT("0"&DAY(AI19),2)&"."&RIGHT("0"&MONTH(AI19),2)&"."&YEAR(AI19)&". "),IF(AD19>AI19,"Rezerva scrisă a fost trimisă după termenul de 7 zile ("&RIGHT("0"&DAY(AI19),2)&"."&RIGHT("0"&MONTH(AI19),2)&"."&YEAR(AI19)&"): se prezumă că marfa a fost primită în starea din CMR. ","")),"")&IF(ISNUMBER(AJ19),IF(NOT(ISNUMBER(AE19)),IF(Azi>AJ19,"Termenul de 21 de zile pentru reclamația de întârziere a expirat. ","Livrare cu întârziere: trimite reclamația scrisă până la "&RIGHT("0"&DAY(AJ19),2)&"."&RIGHT("0"&MONTH(AJ19),2)&"."&YEAR(AJ19)&". "),IF(AE19>AJ19,"Reclamația pentru întârziere a fost trimisă după termen. ","")),"")&IF(AND(AH19="În tranzit – întârziat"),"Termenul de livrare a trecut și marfa nu a ajuns. ","")&IF(AND(ISNUMBER(AK19),OR(AB19<>"",ISNUMBER(AC19),ISNUMBER(AJ19)),Azi>N(AK19)-60,Azi<=N(AK19)),"Acțiunea în instanță se prescrie la "&RIGHT("0"&DAY(AK19),2)&"."&RIGHT("0"&MONTH(AK19),2)&"."&YEAR(AK19)&". ","")))
AF20: =IF(B20="","",SUMIF(Mărfuri!$B$5:$B$1004,B20,Mărfuri!$D$5:$D$1004)) | AG20: =IF(B20="","",SUMIF(Mărfuri!$B$5:$B$1004,B20,Mărfuri!$H$5:$H$1004)) | AH20: =IF(B20="","",IF(NOT(ISNUMBER(AA20)),IF(AND(ISNUMBER(Y20),Azi>Y20),"În tranzit – întârziat","În tranzit"),IF(OR(AB20<>"",ISNUMBER(AC20)),"Livrat cu rezerve",IF(AND(ISNUMBER(Y20),AA20>Y20),"Livrat cu întârziere","Livrat fără rezerve")))) | AI20: =IF(OR(B20="",NOT(ISNUMBER(AA20))),"",WORKDAY.INTL(AA20,7,"0000001",Sarb)) | AJ20: =IF(OR(B20="",NOT(ISNUMBER(AA20)),NOT(ISNUMBER(Y20))),"",IF(AA20>Y20,AA20+21,"")) | AK20: =IF(OR(B20="",NOT(ISNUMBER(AA20))),"",EDATE(AA20,12)) | AL20: =IF(B20="","",TRIM(IF(COUNTIF($B$5:$B$504,B20)>1,"Număr CMR dublat. ","")&IF(LEN(IF(C20="","data, ","")&IF(D20="","locul întocmirii, ","")&IF(OR(E20="",F20=""),"expeditorul, ","")&IF(OR(H20="",I20=""),"destinatarul, ","")&IF(OR(N20="",O20=""),"transportatorul, ","")&IF(OR(K20="",NOT(ISNUMBER(L20))),"locul și data încărcării, ","")&IF(M20="","locul de livrare, ","")&IF(N(AF20)=0,"numărul de colete, ","")&IF(COUNTIFS(Mărfuri!$B$5:$B$1004,B20,Mărfuri!$H$5:$H$1004,"")>0,"greutatea unor loturi, ",""))>0,"Lipsesc date obligatorii (art. 6): "&LEFT(IF(C20="","data, ","")&IF(D20="","locul întocmirii, ","")&IF(OR(E20="",F20=""),"expeditorul, ","")&IF(OR(H20="",I20=""),"destinatarul, ","")&IF(OR(N20="",O20=""),"transportatorul, ","")&IF(OR(K20="",NOT(ISNUMBER(L20))),"locul și data încărcării, ","")&IF(M20="","locul de livrare, ","")&IF(N(AF20)=0,"numărul de colete, ","")&IF(COUNTIFS(Mărfuri!$B$5:$B$1004,B20,Mărfuri!$H$5:$H$1004,"")>0,"greutatea unor loturi, ",""),LEN(IF(C20="","data, ","")&IF(D20="","locul întocmirii, ","")&IF(OR(E20="",F20=""),"expeditorul, ","")&IF(OR(H20="",I20=""),"destinatarul, ","")&IF(OR(N20="",O20=""),"transportatorul, ","")&IF(OR(K20="",NOT(ISNUMBER(L20))),"locul și data încărcării, ","")&IF(M20="","locul de livrare, ","")&IF(N(AF20)=0,"numărul de colete, ","")&IF(COUNTIFS(Mărfuri!$B$5:$B$1004,B20,Mărfuri!$H$5:$H$1004,"")>0,"greutatea unor loturi, ",""))-2)&". ","")&IF(Z20<>"","Transportatorul a făcut rezerve la încărcare (art. 8): ele te obligă doar dacă le-ai acceptat expres. ","")&IF(AND(ISNUMBER(AC20),ISNUMBER(AI20)),IF(NOT(ISNUMBER(AD20)),IF(Azi>AI20,"Rezerva scrisă pentru avarii neaparente nu a fost trimisă în termen ("&RIGHT("0"&DAY(AI20),2)&"."&RIGHT("0"&MONTH(AI20),2)&"."&YEAR(AI20)&"). ","Trimite rezerva scrisă pentru avarii neaparente până la "&RIGHT("0"&DAY(AI20),2)&"."&RIGHT("0"&MONTH(AI20),2)&"."&YEAR(AI20)&". "),IF(AD20>AI20,"Rezerva scrisă a fost trimisă după termenul de 7 zile ("&RIGHT("0"&DAY(AI20),2)&"."&RIGHT("0"&MONTH(AI20),2)&"."&YEAR(AI20)&"): se prezumă că marfa a fost primită în starea din CMR. ","")),"")&IF(ISNUMBER(AJ20),IF(NOT(ISNUMBER(AE20)),IF(Azi>AJ20,"Termenul de 21 de zile pentru reclamația de întârziere a expirat. ","Livrare cu întârziere: trimite reclamația scrisă până la "&RIGHT("0"&DAY(AJ20),2)&"."&RIGHT("0"&MONTH(AJ20),2)&"."&YEAR(AJ20)&". "),IF(AE20>AJ20,"Reclamația pentru întârziere a fost trimisă după termen. ","")),"")&IF(AND(AH20="În tranzit – întârziat"),"Termenul de livrare a trecut și marfa nu a ajuns. ","")&IF(AND(ISNUMBER(AK20),OR(AB20<>"",ISNUMBER(AC20),ISNUMBER(AJ20)),Azi>N(AK20)-60,Azi<=N(AK20)),"Acțiunea în instanță se prescrie la "&RIGHT("0"&DAY(AK20),2)&"."&RIGHT("0"&MONTH(AK20),2)&"."&YEAR(AK20)&". ","")))
... AF504: =IF(B504="","",SUMIF(Mărfuri!$B$5:$B$1004,B504,Mărfuri!$D$5:$D$1004)) | AG504: =IF(B504="","",SUMIF(Mărfuri!$B$5:$B$1004,B504,Mărfuri!$H$5:$H$1004)) | AH504: =IF(B504="","",IF(NOT(ISNUMBER(AA504)),IF(AND(ISNUMBER(Y504),Azi>Y504),"În tranzit – întârziat","În tranzit"),IF(OR(AB504<>"",ISNUMBER(AC504)),"Livrat cu rezerve",IF(AND(ISNUMBER(Y504),AA504>Y504),"Livrat cu întârziere","Livrat fără rezerve")))) | AI504: =IF(OR(B504="",NOT(ISNUMBER(AA504))),"",WORKDAY.INTL(AA504,7,"0000001",Sarb)) | AJ504: =IF(OR(B504="",NOT(ISNUMBER(AA504)),NOT(ISNUMBER(Y504))),"",IF(AA504>Y504,AA504+21,"")) | AK504: =IF(OR(B504="",NOT(ISNUMBER(AA504))),"",EDATE(AA504,12)) | AL504: =IF(B504="","",TRIM(IF(COUNTIF($B$5:$B$504,B504)>1,"Număr CMR dublat. ","")&IF(LEN(IF(C504="","data, ","")&IF(D504="","locul întocmirii, ","")&IF(OR(E504="",F504=""),"expeditorul, ","")&IF(OR(H504="",I504=""),"destinatarul, ","")&IF(OR(N504="",O504=""),"transportatorul, ","")&IF(OR(K504="",NOT(ISNUMBER(L504))),"locul și data încărcării, ","")&IF(M504="","locul de livrare, ","")&IF(N(AF504)=0,"numărul de colete, ","")&IF(COUNTIFS(Mărfuri!$B$5:$B$1004,B504,Mărfuri!$H$5:$H$1004,"")>0,"greutatea unor loturi, ",""))>0,"Lipsesc date obligatorii (art. 6): "&LEFT(IF(C504="","data, ","")&IF(D504="","locul întocmirii, ","")&IF(OR(E504="",F504=""),"expeditorul, ","")&IF(OR(H504="",I504=""),"destinatarul, ","")&IF(OR(N504="",O504=""),"transportatorul, ","")&IF(OR(K504="",NOT(ISNUMBER(L504))),"locul și data încărcării, ","")&IF(M504="","locul de livrare, ","")&IF(N(AF504)=0,"numărul de colete, ","")&IF(COUNTIFS(Mărfuri!$B$5:$B$1004,B504,Mărfuri!$H$5:$H$1004,"")>0,"greutatea unor loturi, ",""),LEN(IF(C504="","data, ","")&IF(D504="","locul întocmirii, ","")&IF(OR(E504="",F504=""),"expeditorul, ","")&IF(OR(H504="",I504=""),"destinatarul, ","")&IF(OR(N504="",O504=""),"transportatorul, ","")&IF(OR(K504="",NOT(ISNUMBER(L504))),"locul și data încărcării, ","")&IF(M504="","locul de livrare, ","")&IF(N(AF504)=0,"numărul de colete, ","")&IF(COUNTIFS(Mărfuri!$B$5:$B$1004,B504,Mărfuri!$H$5:$H$1004,"")>0,"greutatea unor loturi, ",""))-2)&". ","")&IF(Z504<>"","Transportatorul a făcut rezerve la încărcare (art. 8): ele te obligă doar dacă le-ai acceptat expres. ","")&IF(AND(ISNUMBER(AC504),ISNUMBER(AI504)),IF(NOT(ISNUMBER(AD504)),IF(Azi>AI504,"Rezerva scrisă pentru avarii neaparente nu a fost trimisă în termen ("&RIGHT("0"&DAY(AI504),2)&"."&RIGHT("0"&MONTH(AI504),2)&"."&YEAR(AI504)&"). ","Trimite rezerva scrisă pentru avarii neaparente până la "&RIGHT("0"&DAY(AI504),2)&"."&RIGHT("0"&MONTH(AI504),2)&"."&YEAR(AI504)&". "),IF(AD504>AI504,"Rezerva scrisă a fost trimisă după termenul de 7 zile ("&RIGHT("0"&DAY(AI504),2)&"."&RIGHT("0"&MONTH(AI504),2)&"."&YEAR(AI504)&"): se prezumă că marfa a fost primită în starea din CMR. ","")),"")&IF(ISNUMBER(AJ504),IF(NOT(ISNUMBER(AE504)),IF(Azi>AJ504,"Termenul de 21 de zile pentru reclamația de întârziere a expirat. ","Livrare cu întârziere: trimite reclamația scrisă până la "&RIGHT("0"&DAY(AJ504),2)&"."&RIGHT("0"&MONTH(AJ504),2)&"."&YEAR(AJ504)&". "),IF(AE504>AJ504,"Reclamația pentru întârziere a fost trimisă după termen. ","")),"")&IF(AND(AH504="În tranzit – întârziat"),"Termenul de livrare a trecut și marfa nu a ajuns. ","")&IF(AND(ISNUMBER(AK504),OR(AB504<>"",ISNUMBER(AC504),ISNUMBER(AJ504)),Azi>N(AK504)-60,Azi<=N(AK504)),"Acțiunea în instanță se prescrie la "&RIGHT("0"&DAY(AK504),2)&"."&RIGHT("0"&MONTH(AK504),2)&"."&YEAR(AK504)&". ","")))

Sheet Mărfuri
B1: Mărfurile transportate
B2: Un rând pentru fiecare lot de marfă, cu numărul CMR. Totalurile de colete și greutate trec automat în registru și pe scrisoarea de trăsură (căsuțele 6–12).
B4: Nr. CMR | C4: Mărci și numere | D4: Nr. colete | E4: Mod de ambalare | F4: Natura mărfii | G4: Nr. statistic (cod NC) | H4: Greutate brută (kg) | I4: Volum (m³) | J4: Verificare | K4: cheie
B5: RO-2026-0145 | C5: EXM-145/1-20 | D5: 20 | E5: Paleți | F5: Mobilier din lemn – dulapuri demontate | G5: 9403 | H5: 4800 | I5: 38 | J5: =IF(B5="","",TRIM(IF(ISNA(MATCH(B5,'Registru CMR'!$B$5:$B$504,0)),"CMR-ul nu există în registru. ","")&IF(N(D5)<=0,"Lipsește numărul de colete. ","")&IF(F5="","Lipsește natura mărfii. ","")&IF(N(H5)<=0,"Lipsește greutatea brută. ",""))) | K5: =IF(B5="","",B5&"|"&COUNTIF($B$5:B5,B5)) -> RO-2026-0145|1
B6: RO-2026-0145 | C6: EXM-145/21-36 | D6: 16 | E6: Cutii de carton | F6: Scaune tapițate | G6: 9401 | H6: 640 | I6: 12 | J6: =IF(B6="","",TRIM(IF(ISNA(MATCH(B6,'Registru CMR'!$B$5:$B$504,0)),"CMR-ul nu există în registru. ","")&IF(N(D6)<=0,"Lipsește numărul de colete. ","")&IF(F6="","Lipsește natura mărfii. ","")&IF(N(H6)<=0,"Lipsește greutatea brută. ",""))) | K6: =IF(B6="","",B6&"|"&COUNTIF($B$5:B6,B6)) -> RO-2026-0145|2
B7: RO-2026-0146 | C7: EXM-146/1-12 | D7: 12 | E7: Paleți | F7: Mese din lemn masiv | G7: 9403 | H7: 2900 | I7: 22 | J7: =IF(B7="","",TRIM(IF(ISNA(MATCH(B7,'Registru CMR'!$B$5:$B$504,0)),"CMR-ul nu există în registru. ","")&IF(N(D7)<=0,"Lipsește numărul de colete. ","")&IF(F7="","Lipsește natura mărfii. ","")&IF(N(H7)<=0,"Lipsește greutatea brută. ",""))) | K7: =IF(B7="","",B7&"|"&COUNTIF($B$5:B7,B7)) -> RO-2026-0146|1
B8: RO-2026-0147 | C8: EXM-147/1-8 | D8: 8 | E8: Paleți | F8: Biblioteci modulare | G8: 9403 | H8: 1450 | I8: 15 | J8: =IF(B8="","",TRIM(IF(ISNA(MATCH(B8,'Registru CMR'!$B$5:$B$504,0)),"CMR-ul nu există în registru. ","")&IF(N(D8)<=0,"Lipsește numărul de colete. ","")&IF(F8="","Lipsește natura mărfii. ","")&IF(N(H8)<=0,"Lipsește greutatea brută. ",""))) | K8: =IF(B8="","",B8&"|"&COUNTIF($B$5:B8,B8)) -> RO-2026-0147|1
B9: RO-2026-0148 | C9: EXM-148/1-10 | D9: 10 | E9: Paleți | F9: Dulapuri de birou | G9: 9403 | H9: 2600 | I9: 20 | J9: =IF(B9="","",TRIM(IF(ISNA(MATCH(B9,'Registru CMR'!$B$5:$B$504,0)),"CMR-ul nu există în registru. ","")&IF(N(D9)<=0,"Lipsește numărul de colete. ","")&IF(F9="","Lipsește natura mărfii. ","")&IF(N(H9)<=0,"Lipsește greutatea brută. ",""))) | K9: =IF(B9="","",B9&"|"&COUNTIF($B$5:B9,B9)) -> RO-2026-0148|1
B10: RO-2026-0148 | C10: EXM-148/11-14 | D10: 4 | E10: Lăzi de lemn | F10: Accesorii de montaj | G10: 8302 | I10: 1.5 | J10: =IF(B10="","",TRIM(IF(ISNA(MATCH(B10,'Registru CMR'!$B$5:$B$504,0)),"CMR-ul nu există în registru. ","")&IF(N(D10)<=0,"Lipsește numărul de colete. ","")&IF(F10="","Lipsește natura mărfii. ","")&IF(N(H10)<=0,"Lipsește greutatea brută. ",""))) -> Lipsește greutatea brută. | K10: =IF(B10="","",B10&"|"&COUNTIF($B$5:B10,B10)) -> RO-2026-0148|2
J11: =IF(B11="","",TRIM(IF(ISNA(MATCH(B11,'Registru CMR'!$B$5:$B$504,0)),"CMR-ul nu există în registru. ","")&IF(N(D11)<=0,"Lipsește numărul de colete. ","")&IF(F11="","Lipsește natura mărfii. ","")&IF(N(H11)<=0,"Lipsește greutatea brută. ",""))) | K11: =IF(B11="","",B11&"|"&COUNTIF($B$5:B11,B11))
J12: =IF(B12="","",TRIM(IF(ISNA(MATCH(B12,'Registru CMR'!$B$5:$B$504,0)),"CMR-ul nu există în registru. ","")&IF(N(D12)<=0,"Lipsește numărul de colete. ","")&IF(F12="","Lipsește natura mărfii. ","")&IF(N(H12)<=0,"Lipsește greutatea brută. ",""))) | K12: =IF(B12="","",B12&"|"&COUNTIF($B$5:B12,B12))
J13: =IF(B13="","",TRIM(IF(ISNA(MATCH(B13,'Registru CMR'!$B$5:$B$504,0)),"CMR-ul nu există în registru. ","")&IF(N(D13)<=0,"Lipsește numărul de colete. ","")&IF(F13="","Lipsește natura mărfii. ","")&IF(N(H13)<=0,"Lipsește greutatea brută. ",""))) | K13: =IF(B13="","",B13&"|"&COUNTIF($B$5:B13,B13))
J14: =IF(B14="","",TRIM(IF(ISNA(MATCH(B14,'Registru CMR'!$B$5:$B$504,0)),"CMR-ul nu există în registru. ","")&IF(N(D14)<=0,"Lipsește numărul de colete. ","")&IF(F14="","Lipsește natura mărfii. ","")&IF(N(H14)<=0,"Lipsește greutatea brută. ",""))) | K14: =IF(B14="","",B14&"|"&COUNTIF($B$5:B14,B14))
J15: =IF(B15="","",TRIM(IF(ISNA(MATCH(B15,'Registru CMR'!$B$5:$B$504,0)),"CMR-ul nu există în registru. ","")&IF(N(D15)<=0,"Lipsește numărul de colete. ","")&IF(F15="","Lipsește natura mărfii. ","")&IF(N(H15)<=0,"Lipsește greutatea brută. ",""))) | K15: =IF(B15="","",B15&"|"&COUNTIF($B$5:B15,B15))
J16: =IF(B16="","",TRIM(IF(ISNA(MATCH(B16,'Registru CMR'!$B$5:$B$504,0)),"CMR-ul nu există în registru. ","")&IF(N(D16)<=0,"Lipsește numărul de colete. ","")&IF(F16="","Lipsește natura mărfii. ","")&IF(N(H16)<=0,"Lipsește greutatea brută. ",""))) | K16: =IF(B16="","",B16&"|"&COUNTIF($B$5:B16,B16))
J17: =IF(B17="","",TRIM(IF(ISNA(MATCH(B17,'Registru CMR'!$B$5:$B$504,0)),"CMR-ul nu există în registru. ","")&IF(N(D17)<=0,"Lipsește numărul de colete. ","")&IF(F17="","Lipsește natura mărfii. ","")&IF(N(H17)<=0,"Lipsește greutatea brută. ",""))) | K17: =IF(B17="","",B17&"|"&COUNTIF($B$5:B17,B17))
J18: =IF(B18="","",TRIM(IF(ISNA(MATCH(B18,'Registru CMR'!$B$5:$B$504,0)),"CMR-ul nu există în registru. ","")&IF(N(D18)<=0,"Lipsește numărul de colete. ","")&IF(F18="","Lipsește natura mărfii. ","")&IF(N(H18)<=0,"Lipsește greutatea brută. ",""))) | K18: =IF(B18="","",B18&"|"&COUNTIF($B$5:B18,B18))
J19: =IF(B19="","",TRIM(IF(ISNA(MATCH(B19,'Registru CMR'!$B$5:$B$504,0)),"CMR-ul nu există în registru. ","")&IF(N(D19)<=0,"Lipsește numărul de colete. ","")&IF(F19="","Lipsește natura mărfii. ","")&IF(N(H19)<=0,"Lipsește greutatea brută. ",""))) | K19: =IF(B19="","",B19&"|"&COUNTIF($B$5:B19,B19))
J20: =IF(B20="","",TRIM(IF(ISNA(MATCH(B20,'Registru CMR'!$B$5:$B$504,0)),"CMR-ul nu există în registru. ","")&IF(N(D20)<=0,"Lipsește numărul de colete. ","")&IF(F20="","Lipsește natura mărfii. ","")&IF(N(H20)<=0,"Lipsește greutatea brută. ",""))) | K20: =IF(B20="","",B20&"|"&COUNTIF($B$5:B20,B20))
J21: =IF(B21="","",TRIM(IF(ISNA(MATCH(B21,'Registru CMR'!$B$5:$B$504,0)),"CMR-ul nu există în registru. ","")&IF(N(D21)<=0,"Lipsește numărul de colete. ","")&IF(F21="","Lipsește natura mărfii. ","")&IF(N(H21)<=0,"Lipsește greutatea brută. ",""))) | K21: =IF(B21="","",B21&"|"&COUNTIF($B$5:B21,B21))
J22: =IF(B22="","",TRIM(IF(ISNA(MATCH(B22,'Registru CMR'!$B$5:$B$504,0)),"CMR-ul nu există în registru. ","")&IF(N(D22)<=0,"Lipsește numărul de colete. ","")&IF(F22="","Lipsește natura mărfii. ","")&IF(N(H22)<=0,"Lipsește greutatea brută. ",""))) | K22: =IF(B22="","",B22&"|"&COUNTIF($B$5:B22,B22))
... J1004: =IF(B1004="","",TRIM(IF(ISNA(MATCH(B1004,'Registru CMR'!$B$5:$B$504,0)),"CMR-ul nu există în registru. ","")&IF(N(D1004)<=0,"Lipsește numărul de colete. ","")&IF(F1004="","Lipsește natura mărfii. ","")&IF(N(H1004)<=0,"Lipsește greutatea brută. ",""))) | K1004: =IF(B1004="","",B1004&"|"&COUNTIF($B$5:B1004,B1004))

Sheet Setări
B1: Setări
B2: Data de referință pentru termene și sărbătorile legale care nu intră în termenul de 7 zile (art. 30 din Convenția CMR exclude duminicile și sărbătorile legale).
E3: Sărbători legale | G3: Francare
B4: Data de referință | C4: =TODAY() -> 46309 | E4: =DATE(2026,1,1) -> 46023 | G4: Franco
E5: =DATE(2026,1,2) -> 46024 | G5: Nefranco
B6: Lista conține sărbătorile legale din România (2026–2027). Dacă marfa se livrează în altă țară, adaugă și sărbătorile legale de acolo. | E6: =DATE(2026,1,6) -> 46028
E7: =DATE(2026,1,7) -> 46029 | G7: Franco = transportul îl plătește expeditorul; Nefranco = îl plătește destinatarul.
E8: =DATE(2026,1,24) -> 46046
E9: =DATE(2026,4,10) -> 46122
E10: =DATE(2026,4,12) -> 46124
E11: =DATE(2026,4,13) -> 46125
E12: =DATE(2026,5,1) -> 46143
E13: =DATE(2026,5,31) -> 46173
E14: =DATE(2026,6,1) -> 46174
E15: =DATE(2026,8,15) -> 46249
E16: =DATE(2026,11,30) -> 46356
E17: =DATE(2026,12,1) -> 46357
E18: =DATE(2026,12,25) -> 46381
E19: =DATE(2026,12,26) -> 46382
E20: =DATE(2027,1,1) -> 46388
E21: =DATE(2027,1,2) -> 46389
E22: =DATE(2027,1,6) -> 46393
E23: =DATE(2027,1,7) -> 46394
E24: =DATE(2027,1,24) -> 46411
E25: =DATE(2027,4,30) -> 46507
E26: =DATE(2027,5,1) -> 46508
E27: =DATE(2027,5,2) -> 46509
E28: =DATE(2027,5,3) -> 46510
E29: =DATE(2027,6,1) -> 46539
E30: =DATE(2027,6,20) -> 46558
E31: =DATE(2027,6,21) -> 46559
E32: =DATE(2027,8,15) -> 46614
E33: =DATE(2027,11,30) -> 46721
E34: =DATE(2027,12,1) -> 46722
E35: =DATE(2027,12,25) -> 46746
E36: =DATE(2027,12,26) -> 46747
B54: © 2026 Ray Moreno – modelexcel.ro
B55: Model gratuit: îl poți folosi și adapta în activitatea ta. Nu este permisă revânzarea lui sau publicarea pe alte site-uri.
B56: Instrucțiuni și alte modele: modelexcel.ro/model-cmr-excel/
