Workbook
Name Adresa: Setări!$C$7
Name CIF: Setări!$C$5
Name Firma: Setări!$C$4
Name ListaDaNu: Setări!$G$5:$G$6
Name ListaMotiv: Setări!$F$5:$F$9
Name ListaTip: Setări!$E$5:$E$6
Name RandS: 'Factură storno'!$M$1
Name RegCom: Setări!$C$6
Name Sarb: Setări!$I$5:$I$43
Name Seria: Setări!$C$8

Sheet Factură storno
B1: Factura storno nr.: | D1: 1210 | E1: ← scrie numărul din registru; restul se completează automat | M1: =IFERROR(MATCH(D1,'Registru stornări'!$B$5:$B$304,0),0) -> 1
B3: FACTURĂ (STORNO)
B4: =IF(RandS=0,"","Seria "&Seria&" nr. "&D1&" din "&RIGHT("0"&DAY(INDEX('Registru stornări'!$C$5:$C$304,RandS)),2)&"."&RIGHT("0"&MONTH(INDEX('Registru stornări'!$C$5:$C$304,RandS)),2)&"."&YEAR(INDEX('Registru stornări'!$C$5:$C$304,RandS))) -> Seria EXF nr. 1210 din 08.10.2026
B5: =IF(RandS=0,"","Stornează "&IF(IF(RandS=0,"",INDEX('Registru stornări'!$H$5:$H$304,RandS)&"")="Stornare totală","integral","parțial")&" factura seria "&Seria&" nr. "&IF(RandS=0,"",INDEX('Registru stornări'!$D$5:$D$304,RandS)&"")&" din "&IF(IF(RandS=0,"",INDEX('Registru stornări'!$E$5:$E$304,RandS)&"")="","–",RIGHT("0"&DAY(INDEX('Registru stornări'!$E$5:$E$304,RandS)),2)&"."&RIGHT("0"&MONTH(INDEX('Registru stornări'!$E$5:$E$304,RandS)),2)&"."&YEAR(INDEX('Registru stornări'!$E$5:$E$304,RandS)))) -> Stornează parțial factura seria EXF nr. 1202 din 05.10.2026
B7: FURNIZOR | F7: CLIENT
B8: =Firma -> Exemplu Distribuție SRL | F8: =IF(RandS=0,"",INDEX('Registru stornări'!$F$5:$F$304,RandS)&"") -> Electro Plus SRL
B9: ="CIF: "&CIF&" · Reg. Com.: "&RegCom -> CIF: RO12345678 · Reg. Com.: J29/1234/2015 | F9: =IF(RandS=0,"","CIF: "&IF(RandS=0,"",INDEX('Registru stornări'!$G$5:$G$304,RandS)&"")) -> CIF: RO34567890
B10: ="Sediu: "&Adresa -> Sediu: Str. Gării nr. 10, Ploiești, jud. Prahova
B11: =IF(RandS=0,"","Motivul corectării: "&IF(RandS=0,"",INDEX('Registru stornări'!$I$5:$I$304,RandS)&"")&IF(IF(RandS=0,"",INDEX('Registru stornări'!$J$5:$J$304,RandS)&"")="",""," · Factura corectă: seria "&Seria&" nr. "&IF(RandS=0,"",INDEX('Registru stornări'!$J$5:$J$304,RandS)&""))) -> Motivul corectării: Retur / refuz de marfă
B13: Nr. | C13: Denumirea produselor / serviciilor | E13: U.M. | F13: Cantitate | G13: Preț unitar (fără TVA) | H13: Valoare | I13: TVA
B14: =IF($M14=0,"",1) -> 1 | C14: =IF($M14=0,"",INDEX('Linii storno'!$E$5:$E$1004,$M14)&IF(INDEX('Linii storno'!$M$5:$M$1004,$M14)="Reducere de preț pe unitate."," – reducere de preț","")) -> Siguranță automată 16A | E14: =IF($M14=0,"",INDEX('Linii storno'!$F$5:$F$1004,$M14)) -> buc | F14: =IF($M14=0,"",-INDEX('Linii storno'!$H$5:$H$1004,$M14)) -> -10 | G14: =IF($M14=0,"",INDEX('Linii storno'!$I$5:$I$1004,$M14)) -> 22.4 | H14: =IF($M14=0,"",INDEX('Linii storno'!$K$5:$K$1004,$M14)) -> -224 | I14: =IF($M14=0,"",INDEX('Linii storno'!$L$5:$L$1004,$M14)) -> -47.04 | M14: =IFERROR(MATCH($D$1&"|"&1,'Linii storno'!$A$5:$A$1004,0),0) -> 1
B15: =IF($M15=0,"",2) | C15: =IF($M15=0,"",INDEX('Linii storno'!$E$5:$E$1004,$M15)&IF(INDEX('Linii storno'!$M$5:$M$1004,$M15)="Reducere de preț pe unitate."," – reducere de preț","")) | E15: =IF($M15=0,"",INDEX('Linii storno'!$F$5:$F$1004,$M15)) | F15: =IF($M15=0,"",-INDEX('Linii storno'!$H$5:$H$1004,$M15)) | G15: =IF($M15=0,"",INDEX('Linii storno'!$I$5:$I$1004,$M15)) | H15: =IF($M15=0,"",INDEX('Linii storno'!$K$5:$K$1004,$M15)) | I15: =IF($M15=0,"",INDEX('Linii storno'!$L$5:$L$1004,$M15)) | M15: =IFERROR(MATCH($D$1&"|"&2,'Linii storno'!$A$5:$A$1004,0),0) -> 0
B16: =IF($M16=0,"",3) | C16: =IF($M16=0,"",INDEX('Linii storno'!$E$5:$E$1004,$M16)&IF(INDEX('Linii storno'!$M$5:$M$1004,$M16)="Reducere de preț pe unitate."," – reducere de preț","")) | E16: =IF($M16=0,"",INDEX('Linii storno'!$F$5:$F$1004,$M16)) | F16: =IF($M16=0,"",-INDEX('Linii storno'!$H$5:$H$1004,$M16)) | G16: =IF($M16=0,"",INDEX('Linii storno'!$I$5:$I$1004,$M16)) | H16: =IF($M16=0,"",INDEX('Linii storno'!$K$5:$K$1004,$M16)) | I16: =IF($M16=0,"",INDEX('Linii storno'!$L$5:$L$1004,$M16)) | M16: =IFERROR(MATCH($D$1&"|"&3,'Linii storno'!$A$5:$A$1004,0),0) -> 0
B17: =IF($M17=0,"",4) | C17: =IF($M17=0,"",INDEX('Linii storno'!$E$5:$E$1004,$M17)&IF(INDEX('Linii storno'!$M$5:$M$1004,$M17)="Reducere de preț pe unitate."," – reducere de preț","")) | E17: =IF($M17=0,"",INDEX('Linii storno'!$F$5:$F$1004,$M17)) | F17: =IF($M17=0,"",-INDEX('Linii storno'!$H$5:$H$1004,$M17)) | G17: =IF($M17=0,"",INDEX('Linii storno'!$I$5:$I$1004,$M17)) | H17: =IF($M17=0,"",INDEX('Linii storno'!$K$5:$K$1004,$M17)) | I17: =IF($M17=0,"",INDEX('Linii storno'!$L$5:$L$1004,$M17)) | M17: =IFERROR(MATCH($D$1&"|"&4,'Linii storno'!$A$5:$A$1004,0),0) -> 0
B18: =IF($M18=0,"",5) | C18: =IF($M18=0,"",INDEX('Linii storno'!$E$5:$E$1004,$M18)&IF(INDEX('Linii storno'!$M$5:$M$1004,$M18)="Reducere de preț pe unitate."," – reducere de preț","")) | E18: =IF($M18=0,"",INDEX('Linii storno'!$F$5:$F$1004,$M18)) | F18: =IF($M18=0,"",-INDEX('Linii storno'!$H$5:$H$1004,$M18)) | G18: =IF($M18=0,"",INDEX('Linii storno'!$I$5:$I$1004,$M18)) | H18: =IF($M18=0,"",INDEX('Linii storno'!$K$5:$K$1004,$M18)) | I18: =IF($M18=0,"",INDEX('Linii storno'!$L$5:$L$1004,$M18)) | M18: =IFERROR(MATCH($D$1&"|"&5,'Linii storno'!$A$5:$A$1004,0),0) -> 0
B19: =IF($M19=0,"",6) | C19: =IF($M19=0,"",INDEX('Linii storno'!$E$5:$E$1004,$M19)&IF(INDEX('Linii storno'!$M$5:$M$1004,$M19)="Reducere de preț pe unitate."," – reducere de preț","")) | E19: =IF($M19=0,"",INDEX('Linii storno'!$F$5:$F$1004,$M19)) | F19: =IF($M19=0,"",-INDEX('Linii storno'!$H$5:$H$1004,$M19)) | G19: =IF($M19=0,"",INDEX('Linii storno'!$I$5:$I$1004,$M19)) | H19: =IF($M19=0,"",INDEX('Linii storno'!$K$5:$K$1004,$M19)) | I19: =IF($M19=0,"",INDEX('Linii storno'!$L$5:$L$1004,$M19)) | M19: =IFERROR(MATCH($D$1&"|"&6,'Linii storno'!$A$5:$A$1004,0),0) -> 0
B20: =IF($M20=0,"",7) | C20: =IF($M20=0,"",INDEX('Linii storno'!$E$5:$E$1004,$M20)&IF(INDEX('Linii storno'!$M$5:$M$1004,$M20)="Reducere de preț pe unitate."," – reducere de preț","")) | E20: =IF($M20=0,"",INDEX('Linii storno'!$F$5:$F$1004,$M20)) | F20: =IF($M20=0,"",-INDEX('Linii storno'!$H$5:$H$1004,$M20)) | G20: =IF($M20=0,"",INDEX('Linii storno'!$I$5:$I$1004,$M20)) | H20: =IF($M20=0,"",INDEX('Linii storno'!$K$5:$K$1004,$M20)) | I20: =IF($M20=0,"",INDEX('Linii storno'!$L$5:$L$1004,$M20)) | M20: =IFERROR(MATCH($D$1&"|"&7,'Linii storno'!$A$5:$A$1004,0),0) -> 0
B21: =IF($M21=0,"",8) | C21: =IF($M21=0,"",INDEX('Linii storno'!$E$5:$E$1004,$M21)&IF(INDEX('Linii storno'!$M$5:$M$1004,$M21)="Reducere de preț pe unitate."," – reducere de preț","")) | E21: =IF($M21=0,"",INDEX('Linii storno'!$F$5:$F$1004,$M21)) | F21: =IF($M21=0,"",-INDEX('Linii storno'!$H$5:$H$1004,$M21)) | G21: =IF($M21=0,"",INDEX('Linii storno'!$I$5:$I$1004,$M21)) | H21: =IF($M21=0,"",INDEX('Linii storno'!$K$5:$K$1004,$M21)) | I21: =IF($M21=0,"",INDEX('Linii storno'!$L$5:$L$1004,$M21)) | M21: =IFERROR(MATCH($D$1&"|"&8,'Linii storno'!$A$5:$A$1004,0),0) -> 0
B22: =IF($M22=0,"",9) | C22: =IF($M22=0,"",INDEX('Linii storno'!$E$5:$E$1004,$M22)&IF(INDEX('Linii storno'!$M$5:$M$1004,$M22)="Reducere de preț pe unitate."," – reducere de preț","")) | E22: =IF($M22=0,"",INDEX('Linii storno'!$F$5:$F$1004,$M22)) | F22: =IF($M22=0,"",-INDEX('Linii storno'!$H$5:$H$1004,$M22)) | G22: =IF($M22=0,"",INDEX('Linii storno'!$I$5:$I$1004,$M22)) | H22: =IF($M22=0,"",INDEX('Linii storno'!$K$5:$K$1004,$M22)) | I22: =IF($M22=0,"",INDEX('Linii storno'!$L$5:$L$1004,$M22)) | M22: =IFERROR(MATCH($D$1&"|"&9,'Linii storno'!$A$5:$A$1004,0),0) -> 0
B23: =IF($M23=0,"",10) | C23: =IF($M23=0,"",INDEX('Linii storno'!$E$5:$E$1004,$M23)&IF(INDEX('Linii storno'!$M$5:$M$1004,$M23)="Reducere de preț pe unitate."," – reducere de preț","")) | E23: =IF($M23=0,"",INDEX('Linii storno'!$F$5:$F$1004,$M23)) | F23: =IF($M23=0,"",-INDEX('Linii storno'!$H$5:$H$1004,$M23)) | G23: =IF($M23=0,"",INDEX('Linii storno'!$I$5:$I$1004,$M23)) | H23: =IF($M23=0,"",INDEX('Linii storno'!$K$5:$K$1004,$M23)) | I23: =IF($M23=0,"",INDEX('Linii storno'!$L$5:$L$1004,$M23)) | M23: =IFERROR(MATCH($D$1&"|"&10,'Linii storno'!$A$5:$A$1004,0),0) -> 0
B24: =IF($M24=0,"",11) | C24: =IF($M24=0,"",INDEX('Linii storno'!$E$5:$E$1004,$M24)&IF(INDEX('Linii storno'!$M$5:$M$1004,$M24)="Reducere de preț pe unitate."," – reducere de preț","")) | E24: =IF($M24=0,"",INDEX('Linii storno'!$F$5:$F$1004,$M24)) | F24: =IF($M24=0,"",-INDEX('Linii storno'!$H$5:$H$1004,$M24)) | G24: =IF($M24=0,"",INDEX('Linii storno'!$I$5:$I$1004,$M24)) | H24: =IF($M24=0,"",INDEX('Linii storno'!$K$5:$K$1004,$M24)) | I24: =IF($M24=0,"",INDEX('Linii storno'!$L$5:$L$1004,$M24)) | M24: =IFERROR(MATCH($D$1&"|"&11,'Linii storno'!$A$5:$A$1004,0),0) -> 0
B25: =IF($M25=0,"",12) | C25: =IF($M25=0,"",INDEX('Linii storno'!$E$5:$E$1004,$M25)&IF(INDEX('Linii storno'!$M$5:$M$1004,$M25)="Reducere de preț pe unitate."," – reducere de preț","")) | E25: =IF($M25=0,"",INDEX('Linii storno'!$F$5:$F$1004,$M25)) | F25: =IF($M25=0,"",-INDEX('Linii storno'!$H$5:$H$1004,$M25)) | G25: =IF($M25=0,"",INDEX('Linii storno'!$I$5:$I$1004,$M25)) | H25: =IF($M25=0,"",INDEX('Linii storno'!$K$5:$K$1004,$M25)) | I25: =IF($M25=0,"",INDEX('Linii storno'!$L$5:$L$1004,$M25)) | M25: =IFERROR(MATCH($D$1&"|"&12,'Linii storno'!$A$5:$A$1004,0),0) -> 0
G26: Total: | H26: =IF(RandS=0,"",INDEX('Registru stornări'!$K$5:$K$304,RandS)) -> -224 | I26: =IF(RandS=0,"",INDEX('Registru stornări'!$L$5:$L$304,RandS)) -> -47.04
G27: Total de plată: | H27: =IF(RandS=0,"",INDEX('Registru stornări'!$M$5:$M$304,RandS)) -> -271.04
B29: =IF(RandS=0,"","Valorile cu semnul minus corectează factura seria "&Seria&" nr. "&IF(RandS=0,"",INDEX('Registru stornări'!$D$5:$D$304,RandS)&"")&", conform art. 330 din Codul fiscal"&IF(OR(IF(RandS=0,"",INDEX('Registru stornări'!$I$5:$I$304,RandS)&"")="Retur / refuz de marfă",IF(RandS=0,"",INDEX('Registru stornări'!$I$5:$I$304,RandS)&"")="Reducere de preț după livrare",IF(RandS=0,"",INDEX('Registru stornări'!$I$5:$I$304,RandS)&"")="Anularea contractului (avans)")," și art. 287","")&". Factura se transmite în sistemul RO e-Factura.") -> Valorile cu semnul minus corectează factura seria EXF nr. 1202, conform art. 330 din Codul fiscal și art. 287. Factura se transmite în sistemul RO e-Factura.
B31: =IF(RandS=0,"Numărul nu există în registru.",IF(IF(RandS=0,"",INDEX('Registru stornări'!$R$5:$R$304,RandS)&"")="","","Atenție: "&IF(RandS=0,"",INDEX('Registru stornări'!$R$5:$R$304,RandS)&"")))

Sheet Registru stornări
B1: Registrul facturilor storno
B2: Un rând pentru fiecare factură storno: numărul ei, factura pe care o corectează, tipul și motivul. Liniile stornate se trec în foaia „Linii storno”.
B4: Nr. factură storno | C4: Data | D4: Factura inițială nr. | E4: Data facturii inițiale | F4: Client | G4: CIF client | H4: Tipul stornării | I4: Motivul | J4: Factura corectă nr. (dacă e cazul) | K4: Valoare | L4: TVA | M4: Total | N4: Total factură inițială | O4: Stornat în total din factura inițială | P4: Transmisă în e-Factura | Q4: Termen e-Factura | R4: Verificare
B5: 1210 | C5: =DATE(2026,10,8) -> 46303 | D5: 1202 | E5: =IF(D5="","",IFERROR(INDEX('Facturi emise'!$D$5:$D$1004,MATCH(D5,'Facturi emise'!$B$5:$B$1004,0)),"")) -> 46300 | F5: =IF(D5="","",IFERROR(INDEX('Facturi emise'!$E$5:$E$1004,MATCH(D5,'Facturi emise'!$B$5:$B$1004,0)),"")) -> Electro Plus SRL | G5: =IF(D5="","",IFERROR(INDEX('Facturi emise'!$F$5:$F$1004,MATCH(D5,'Facturi emise'!$B$5:$B$1004,0)),"")) -> RO34567890 | H5: Stornare parțială | I5: Retur / refuz de marfă | K5: =IF(B5="","",SUMIF('Linii storno'!$B$5:$B$1004,B5,'Linii storno'!$K$5:$K$1004)) -> -224 | L5: =IF(B5="","",SUMIF('Linii storno'!$B$5:$B$1004,B5,'Linii storno'!$L$5:$L$1004)) -> -47.04 | M5: =IF(B5="","",K5+L5) -> -271.04 | N5: =IF(D5="","",SUMIF('Facturi emise'!$B$5:$B$1004,D5,'Facturi emise'!$N$5:$N$1004)) -> 2838.66 | O5: =IF(D5="","",-SUMIF($D$5:$D$304,D5,$M$5:$M$304)) -> 271.04 | P5: Da | Q5: =IF(C5="","",WORKDAY(C5,5,Sarb)) -> 46310 | R5: =IF(AND(B5="",D5=""),"",TRIM(IF(COUNTIF($B$5:$B$304,B5)>1,"Număr dublat. ","")&IF(OR(C5="",D5="",H5="",I5=""),"Date incomplete. ","")&IF(AND(D5<>"",COUNTIF('Facturi emise'!$B$5:$B$1004,D5)=0),"Factura inițială nu există în Facturi emise. ","")&IF(COUNTIF('Linii storno'!$B$5:$B$1004,B5)=0,"Nicio linie stornată. ","")&IF(AND(N(O5)>0,O5>N(N5)+0.01),"Stornat mai mult decât factura inițială. ","")&IF(AND(H5="Stornare totală",ABS(N(M5)+N(N5))>0.01),"Stornare totală, dar suma diferă de factura inițială. ","")&IF(AND(I5="Eroare în factură",J5=""),"Emite și factura corectă. ","")&IF(AND(C5<>"",P5<>"Da"),IF(TODAY()>Q5,"Netransmisă în e-Factura – termen depășit. ","De transmis în e-Factura până la "&RIGHT("0"&DAY(Q5),2)&"."&RIGHT("0"&MONTH(Q5),2)&"."&YEAR(Q5)&". "),"")))
B6: 1211 | C6: =DATE(2026,10,9) -> 46304 | D6: 1203 | E6: =IF(D6="","",IFERROR(INDEX('Facturi emise'!$D$5:$D$1004,MATCH(D6,'Facturi emise'!$B$5:$B$1004,0)),"")) -> 46302 | F6: =IF(D6="","",IFERROR(INDEX('Facturi emise'!$E$5:$E$1004,MATCH(D6,'Facturi emise'!$B$5:$B$1004,0)),"")) -> Instal Rapid SRL | G6: =IF(D6="","",IFERROR(INDEX('Facturi emise'!$F$5:$F$1004,MATCH(D6,'Facturi emise'!$B$5:$B$1004,0)),"")) -> RO45678901 | H6: Stornare totală | I6: Eroare în factură | J6: 1212 | K6: =IF(B6="","",SUMIF('Linii storno'!$B$5:$B$1004,B6,'Linii storno'!$K$5:$K$1004)) -> -1960 | L6: =IF(B6="","",SUMIF('Linii storno'!$B$5:$B$1004,B6,'Linii storno'!$L$5:$L$1004)) -> -411.6 | M6: =IF(B6="","",K6+L6) -> -2371.6 | N6: =IF(D6="","",SUMIF('Facturi emise'!$B$5:$B$1004,D6,'Facturi emise'!$N$5:$N$1004)) -> 2371.6 | O6: =IF(D6="","",-SUMIF($D$5:$D$304,D6,$M$5:$M$304)) -> 2371.6 | P6: Nu | Q6: =IF(C6="","",WORKDAY(C6,5,Sarb)) -> 46311 | R6: =IF(AND(B6="",D6=""),"",TRIM(IF(COUNTIF($B$5:$B$304,B6)>1,"Număr dublat. ","")&IF(OR(C6="",D6="",H6="",I6=""),"Date incomplete. ","")&IF(AND(D6<>"",COUNTIF('Facturi emise'!$B$5:$B$1004,D6)=0),"Factura inițială nu există în Facturi emise. ","")&IF(COUNTIF('Linii storno'!$B$5:$B$1004,B6)=0,"Nicio linie stornată. ","")&IF(AND(N(O6)>0,O6>N(N6)+0.01),"Stornat mai mult decât factura inițială. ","")&IF(AND(H6="Stornare totală",ABS(N(M6)+N(N6))>0.01),"Stornare totală, dar suma diferă de factura inițială. ","")&IF(AND(I6="Eroare în factură",J6=""),"Emite și factura corectă. ","")&IF(AND(C6<>"",P6<>"Da"),IF(TODAY()>Q6,"Netransmisă în e-Factura – termen depășit. ","De transmis în e-Factura până la "&RIGHT("0"&DAY(Q6),2)&"."&RIGHT("0"&MONTH(Q6),2)&"."&YEAR(Q6)&". "),""))) -> De transmis în e-Factura până la 16.10.2026.
B7: 1213 | C7: =DATE(2026,10,12) -> 46307 | D7: 1201 | E7: =IF(D7="","",IFERROR(INDEX('Facturi emise'!$D$5:$D$1004,MATCH(D7,'Facturi emise'!$B$5:$B$1004,0)),"")) -> 46296 | F7: =IF(D7="","",IFERROR(INDEX('Facturi emise'!$E$5:$E$1004,MATCH(D7,'Facturi emise'!$B$5:$B$1004,0)),"")) -> Exemplu Construct SRL | G7: =IF(D7="","",IFERROR(INDEX('Facturi emise'!$F$5:$F$1004,MATCH(D7,'Facturi emise'!$B$5:$B$1004,0)),"")) -> RO23456789 | H7: Stornare parțială | I7: Reducere de preț după livrare | K7: =IF(B7="","",SUMIF('Linii storno'!$B$5:$B$1004,B7,'Linii storno'!$K$5:$K$1004)) -> -160 | L7: =IF(B7="","",SUMIF('Linii storno'!$B$5:$B$1004,B7,'Linii storno'!$L$5:$L$1004)) -> -33.6 | M7: =IF(B7="","",K7+L7) -> -193.6 | N7: =IF(D7="","",SUMIF('Facturi emise'!$B$5:$B$1004,D7,'Facturi emise'!$N$5:$N$1004)) -> 4243.47 | O7: =IF(D7="","",-SUMIF($D$5:$D$304,D7,$M$5:$M$304)) -> 193.6 | P7: Nu | Q7: =IF(C7="","",WORKDAY(C7,5,Sarb)) -> 46314 | R7: =IF(AND(B7="",D7=""),"",TRIM(IF(COUNTIF($B$5:$B$304,B7)>1,"Număr dublat. ","")&IF(OR(C7="",D7="",H7="",I7=""),"Date incomplete. ","")&IF(AND(D7<>"",COUNTIF('Facturi emise'!$B$5:$B$1004,D7)=0),"Factura inițială nu există în Facturi emise. ","")&IF(COUNTIF('Linii storno'!$B$5:$B$1004,B7)=0,"Nicio linie stornată. ","")&IF(AND(N(O7)>0,O7>N(N7)+0.01),"Stornat mai mult decât factura inițială. ","")&IF(AND(H7="Stornare totală",ABS(N(M7)+N(N7))>0.01),"Stornare totală, dar suma diferă de factura inițială. ","")&IF(AND(I7="Eroare în factură",J7=""),"Emite și factura corectă. ","")&IF(AND(C7<>"",P7<>"Da"),IF(TODAY()>Q7,"Netransmisă în e-Factura – termen depășit. ","De transmis în e-Factura până la "&RIGHT("0"&DAY(Q7),2)&"."&RIGHT("0"&MONTH(Q7),2)&"."&YEAR(Q7)&". "),""))) -> De transmis în e-Factura până la 19.10.2026.
E8: =IF(D8="","",IFERROR(INDEX('Facturi emise'!$D$5:$D$1004,MATCH(D8,'Facturi emise'!$B$5:$B$1004,0)),"")) | F8: =IF(D8="","",IFERROR(INDEX('Facturi emise'!$E$5:$E$1004,MATCH(D8,'Facturi emise'!$B$5:$B$1004,0)),"")) | G8: =IF(D8="","",IFERROR(INDEX('Facturi emise'!$F$5:$F$1004,MATCH(D8,'Facturi emise'!$B$5:$B$1004,0)),"")) | K8: =IF(B8="","",SUMIF('Linii storno'!$B$5:$B$1004,B8,'Linii storno'!$K$5:$K$1004)) | L8: =IF(B8="","",SUMIF('Linii storno'!$B$5:$B$1004,B8,'Linii storno'!$L$5:$L$1004)) | M8: =IF(B8="","",K8+L8) | N8: =IF(D8="","",SUMIF('Facturi emise'!$B$5:$B$1004,D8,'Facturi emise'!$N$5:$N$1004)) | O8: =IF(D8="","",-SUMIF($D$5:$D$304,D8,$M$5:$M$304)) | Q8: =IF(C8="","",WORKDAY(C8,5,Sarb)) | R8: =IF(AND(B8="",D8=""),"",TRIM(IF(COUNTIF($B$5:$B$304,B8)>1,"Număr dublat. ","")&IF(OR(C8="",D8="",H8="",I8=""),"Date incomplete. ","")&IF(AND(D8<>"",COUNTIF('Facturi emise'!$B$5:$B$1004,D8)=0),"Factura inițială nu există în Facturi emise. ","")&IF(COUNTIF('Linii storno'!$B$5:$B$1004,B8)=0,"Nicio linie stornată. ","")&IF(AND(N(O8)>0,O8>N(N8)+0.01),"Stornat mai mult decât factura inițială. ","")&IF(AND(H8="Stornare totală",ABS(N(M8)+N(N8))>0.01),"Stornare totală, dar suma diferă de factura inițială. ","")&IF(AND(I8="Eroare în factură",J8=""),"Emite și factura corectă. ","")&IF(AND(C8<>"",P8<>"Da"),IF(TODAY()>Q8,"Netransmisă în e-Factura – termen depășit. ","De transmis în e-Factura până la "&RIGHT("0"&DAY(Q8),2)&"."&RIGHT("0"&MONTH(Q8),2)&"."&YEAR(Q8)&". "),"")))
E9: =IF(D9="","",IFERROR(INDEX('Facturi emise'!$D$5:$D$1004,MATCH(D9,'Facturi emise'!$B$5:$B$1004,0)),"")) | F9: =IF(D9="","",IFERROR(INDEX('Facturi emise'!$E$5:$E$1004,MATCH(D9,'Facturi emise'!$B$5:$B$1004,0)),"")) | G9: =IF(D9="","",IFERROR(INDEX('Facturi emise'!$F$5:$F$1004,MATCH(D9,'Facturi emise'!$B$5:$B$1004,0)),"")) | K9: =IF(B9="","",SUMIF('Linii storno'!$B$5:$B$1004,B9,'Linii storno'!$K$5:$K$1004)) | L9: =IF(B9="","",SUMIF('Linii storno'!$B$5:$B$1004,B9,'Linii storno'!$L$5:$L$1004)) | M9: =IF(B9="","",K9+L9) | N9: =IF(D9="","",SUMIF('Facturi emise'!$B$5:$B$1004,D9,'Facturi emise'!$N$5:$N$1004)) | O9: =IF(D9="","",-SUMIF($D$5:$D$304,D9,$M$5:$M$304)) | Q9: =IF(C9="","",WORKDAY(C9,5,Sarb)) | R9: =IF(AND(B9="",D9=""),"",TRIM(IF(COUNTIF($B$5:$B$304,B9)>1,"Număr dublat. ","")&IF(OR(C9="",D9="",H9="",I9=""),"Date incomplete. ","")&IF(AND(D9<>"",COUNTIF('Facturi emise'!$B$5:$B$1004,D9)=0),"Factura inițială nu există în Facturi emise. ","")&IF(COUNTIF('Linii storno'!$B$5:$B$1004,B9)=0,"Nicio linie stornată. ","")&IF(AND(N(O9)>0,O9>N(N9)+0.01),"Stornat mai mult decât factura inițială. ","")&IF(AND(H9="Stornare totală",ABS(N(M9)+N(N9))>0.01),"Stornare totală, dar suma diferă de factura inițială. ","")&IF(AND(I9="Eroare în factură",J9=""),"Emite și factura corectă. ","")&IF(AND(C9<>"",P9<>"Da"),IF(TODAY()>Q9,"Netransmisă în e-Factura – termen depășit. ","De transmis în e-Factura până la "&RIGHT("0"&DAY(Q9),2)&"."&RIGHT("0"&MONTH(Q9),2)&"."&YEAR(Q9)&". "),"")))
E10: =IF(D10="","",IFERROR(INDEX('Facturi emise'!$D$5:$D$1004,MATCH(D10,'Facturi emise'!$B$5:$B$1004,0)),"")) | F10: =IF(D10="","",IFERROR(INDEX('Facturi emise'!$E$5:$E$1004,MATCH(D10,'Facturi emise'!$B$5:$B$1004,0)),"")) | G10: =IF(D10="","",IFERROR(INDEX('Facturi emise'!$F$5:$F$1004,MATCH(D10,'Facturi emise'!$B$5:$B$1004,0)),"")) | K10: =IF(B10="","",SUMIF('Linii storno'!$B$5:$B$1004,B10,'Linii storno'!$K$5:$K$1004)) | L10: =IF(B10="","",SUMIF('Linii storno'!$B$5:$B$1004,B10,'Linii storno'!$L$5:$L$1004)) | M10: =IF(B10="","",K10+L10) | N10: =IF(D10="","",SUMIF('Facturi emise'!$B$5:$B$1004,D10,'Facturi emise'!$N$5:$N$1004)) | O10: =IF(D10="","",-SUMIF($D$5:$D$304,D10,$M$5:$M$304)) | Q10: =IF(C10="","",WORKDAY(C10,5,Sarb)) | R10: =IF(AND(B10="",D10=""),"",TRIM(IF(COUNTIF($B$5:$B$304,B10)>1,"Număr dublat. ","")&IF(OR(C10="",D10="",H10="",I10=""),"Date incomplete. ","")&IF(AND(D10<>"",COUNTIF('Facturi emise'!$B$5:$B$1004,D10)=0),"Factura inițială nu există în Facturi emise. ","")&IF(COUNTIF('Linii storno'!$B$5:$B$1004,B10)=0,"Nicio linie stornată. ","")&IF(AND(N(O10)>0,O10>N(N10)+0.01),"Stornat mai mult decât factura inițială. ","")&IF(AND(H10="Stornare totală",ABS(N(M10)+N(N10))>0.01),"Stornare totală, dar suma diferă de factura inițială. ","")&IF(AND(I10="Eroare în factură",J10=""),"Emite și factura corectă. ","")&IF(AND(C10<>"",P10<>"Da"),IF(TODAY()>Q10,"Netransmisă în e-Factura – termen depășit. ","De transmis în e-Factura până la "&RIGHT("0"&DAY(Q10),2)&"."&RIGHT("0"&MONTH(Q10),2)&"."&YEAR(Q10)&". "),"")))
E11: =IF(D11="","",IFERROR(INDEX('Facturi emise'!$D$5:$D$1004,MATCH(D11,'Facturi emise'!$B$5:$B$1004,0)),"")) | F11: =IF(D11="","",IFERROR(INDEX('Facturi emise'!$E$5:$E$1004,MATCH(D11,'Facturi emise'!$B$5:$B$1004,0)),"")) | G11: =IF(D11="","",IFERROR(INDEX('Facturi emise'!$F$5:$F$1004,MATCH(D11,'Facturi emise'!$B$5:$B$1004,0)),"")) | K11: =IF(B11="","",SUMIF('Linii storno'!$B$5:$B$1004,B11,'Linii storno'!$K$5:$K$1004)) | L11: =IF(B11="","",SUMIF('Linii storno'!$B$5:$B$1004,B11,'Linii storno'!$L$5:$L$1004)) | M11: =IF(B11="","",K11+L11) | N11: =IF(D11="","",SUMIF('Facturi emise'!$B$5:$B$1004,D11,'Facturi emise'!$N$5:$N$1004)) | O11: =IF(D11="","",-SUMIF($D$5:$D$304,D11,$M$5:$M$304)) | Q11: =IF(C11="","",WORKDAY(C11,5,Sarb)) | R11: =IF(AND(B11="",D11=""),"",TRIM(IF(COUNTIF($B$5:$B$304,B11)>1,"Număr dublat. ","")&IF(OR(C11="",D11="",H11="",I11=""),"Date incomplete. ","")&IF(AND(D11<>"",COUNTIF('Facturi emise'!$B$5:$B$1004,D11)=0),"Factura inițială nu există în Facturi emise. ","")&IF(COUNTIF('Linii storno'!$B$5:$B$1004,B11)=0,"Nicio linie stornată. ","")&IF(AND(N(O11)>0,O11>N(N11)+0.01),"Stornat mai mult decât factura inițială. ","")&IF(AND(H11="Stornare totală",ABS(N(M11)+N(N11))>0.01),"Stornare totală, dar suma diferă de factura inițială. ","")&IF(AND(I11="Eroare în factură",J11=""),"Emite și factura corectă. ","")&IF(AND(C11<>"",P11<>"Da"),IF(TODAY()>Q11,"Netransmisă în e-Factura – termen depășit. ","De transmis în e-Factura până la "&RIGHT("0"&DAY(Q11),2)&"."&RIGHT("0"&MONTH(Q11),2)&"."&YEAR(Q11)&". "),"")))
E12: =IF(D12="","",IFERROR(INDEX('Facturi emise'!$D$5:$D$1004,MATCH(D12,'Facturi emise'!$B$5:$B$1004,0)),"")) | F12: =IF(D12="","",IFERROR(INDEX('Facturi emise'!$E$5:$E$1004,MATCH(D12,'Facturi emise'!$B$5:$B$1004,0)),"")) | G12: =IF(D12="","",IFERROR(INDEX('Facturi emise'!$F$5:$F$1004,MATCH(D12,'Facturi emise'!$B$5:$B$1004,0)),"")) | K12: =IF(B12="","",SUMIF('Linii storno'!$B$5:$B$1004,B12,'Linii storno'!$K$5:$K$1004)) | L12: =IF(B12="","",SUMIF('Linii storno'!$B$5:$B$1004,B12,'Linii storno'!$L$5:$L$1004)) | M12: =IF(B12="","",K12+L12) | N12: =IF(D12="","",SUMIF('Facturi emise'!$B$5:$B$1004,D12,'Facturi emise'!$N$5:$N$1004)) | O12: =IF(D12="","",-SUMIF($D$5:$D$304,D12,$M$5:$M$304)) | Q12: =IF(C12="","",WORKDAY(C12,5,Sarb)) | R12: =IF(AND(B12="",D12=""),"",TRIM(IF(COUNTIF($B$5:$B$304,B12)>1,"Număr dublat. ","")&IF(OR(C12="",D12="",H12="",I12=""),"Date incomplete. ","")&IF(AND(D12<>"",COUNTIF('Facturi emise'!$B$5:$B$1004,D12)=0),"Factura inițială nu există în Facturi emise. ","")&IF(COUNTIF('Linii storno'!$B$5:$B$1004,B12)=0,"Nicio linie stornată. ","")&IF(AND(N(O12)>0,O12>N(N12)+0.01),"Stornat mai mult decât factura inițială. ","")&IF(AND(H12="Stornare totală",ABS(N(M12)+N(N12))>0.01),"Stornare totală, dar suma diferă de factura inițială. ","")&IF(AND(I12="Eroare în factură",J12=""),"Emite și factura corectă. ","")&IF(AND(C12<>"",P12<>"Da"),IF(TODAY()>Q12,"Netransmisă în e-Factura – termen depășit. ","De transmis în e-Factura până la "&RIGHT("0"&DAY(Q12),2)&"."&RIGHT("0"&MONTH(Q12),2)&"."&YEAR(Q12)&". "),"")))
E13: =IF(D13="","",IFERROR(INDEX('Facturi emise'!$D$5:$D$1004,MATCH(D13,'Facturi emise'!$B$5:$B$1004,0)),"")) | F13: =IF(D13="","",IFERROR(INDEX('Facturi emise'!$E$5:$E$1004,MATCH(D13,'Facturi emise'!$B$5:$B$1004,0)),"")) | G13: =IF(D13="","",IFERROR(INDEX('Facturi emise'!$F$5:$F$1004,MATCH(D13,'Facturi emise'!$B$5:$B$1004,0)),"")) | K13: =IF(B13="","",SUMIF('Linii storno'!$B$5:$B$1004,B13,'Linii storno'!$K$5:$K$1004)) | L13: =IF(B13="","",SUMIF('Linii storno'!$B$5:$B$1004,B13,'Linii storno'!$L$5:$L$1004)) | M13: =IF(B13="","",K13+L13) | N13: =IF(D13="","",SUMIF('Facturi emise'!$B$5:$B$1004,D13,'Facturi emise'!$N$5:$N$1004)) | O13: =IF(D13="","",-SUMIF($D$5:$D$304,D13,$M$5:$M$304)) | Q13: =IF(C13="","",WORKDAY(C13,5,Sarb)) | R13: =IF(AND(B13="",D13=""),"",TRIM(IF(COUNTIF($B$5:$B$304,B13)>1,"Număr dublat. ","")&IF(OR(C13="",D13="",H13="",I13=""),"Date incomplete. ","")&IF(AND(D13<>"",COUNTIF('Facturi emise'!$B$5:$B$1004,D13)=0),"Factura inițială nu există în Facturi emise. ","")&IF(COUNTIF('Linii storno'!$B$5:$B$1004,B13)=0,"Nicio linie stornată. ","")&IF(AND(N(O13)>0,O13>N(N13)+0.01),"Stornat mai mult decât factura inițială. ","")&IF(AND(H13="Stornare totală",ABS(N(M13)+N(N13))>0.01),"Stornare totală, dar suma diferă de factura inițială. ","")&IF(AND(I13="Eroare în factură",J13=""),"Emite și factura corectă. ","")&IF(AND(C13<>"",P13<>"Da"),IF(TODAY()>Q13,"Netransmisă în e-Factura – termen depășit. ","De transmis în e-Factura până la "&RIGHT("0"&DAY(Q13),2)&"."&RIGHT("0"&MONTH(Q13),2)&"."&YEAR(Q13)&". "),"")))
E14: =IF(D14="","",IFERROR(INDEX('Facturi emise'!$D$5:$D$1004,MATCH(D14,'Facturi emise'!$B$5:$B$1004,0)),"")) | F14: =IF(D14="","",IFERROR(INDEX('Facturi emise'!$E$5:$E$1004,MATCH(D14,'Facturi emise'!$B$5:$B$1004,0)),"")) | G14: =IF(D14="","",IFERROR(INDEX('Facturi emise'!$F$5:$F$1004,MATCH(D14,'Facturi emise'!$B$5:$B$1004,0)),"")) | K14: =IF(B14="","",SUMIF('Linii storno'!$B$5:$B$1004,B14,'Linii storno'!$K$5:$K$1004)) | L14: =IF(B14="","",SUMIF('Linii storno'!$B$5:$B$1004,B14,'Linii storno'!$L$5:$L$1004)) | M14: =IF(B14="","",K14+L14) | N14: =IF(D14="","",SUMIF('Facturi emise'!$B$5:$B$1004,D14,'Facturi emise'!$N$5:$N$1004)) | O14: =IF(D14="","",-SUMIF($D$5:$D$304,D14,$M$5:$M$304)) | Q14: =IF(C14="","",WORKDAY(C14,5,Sarb)) | R14: =IF(AND(B14="",D14=""),"",TRIM(IF(COUNTIF($B$5:$B$304,B14)>1,"Număr dublat. ","")&IF(OR(C14="",D14="",H14="",I14=""),"Date incomplete. ","")&IF(AND(D14<>"",COUNTIF('Facturi emise'!$B$5:$B$1004,D14)=0),"Factura inițială nu există în Facturi emise. ","")&IF(COUNTIF('Linii storno'!$B$5:$B$1004,B14)=0,"Nicio linie stornată. ","")&IF(AND(N(O14)>0,O14>N(N14)+0.01),"Stornat mai mult decât factura inițială. ","")&IF(AND(H14="Stornare totală",ABS(N(M14)+N(N14))>0.01),"Stornare totală, dar suma diferă de factura inițială. ","")&IF(AND(I14="Eroare în factură",J14=""),"Emite și factura corectă. ","")&IF(AND(C14<>"",P14<>"Da"),IF(TODAY()>Q14,"Netransmisă în e-Factura – termen depășit. ","De transmis în e-Factura până la "&RIGHT("0"&DAY(Q14),2)&"."&RIGHT("0"&MONTH(Q14),2)&"."&YEAR(Q14)&". "),"")))
E15: =IF(D15="","",IFERROR(INDEX('Facturi emise'!$D$5:$D$1004,MATCH(D15,'Facturi emise'!$B$5:$B$1004,0)),"")) | F15: =IF(D15="","",IFERROR(INDEX('Facturi emise'!$E$5:$E$1004,MATCH(D15,'Facturi emise'!$B$5:$B$1004,0)),"")) | G15: =IF(D15="","",IFERROR(INDEX('Facturi emise'!$F$5:$F$1004,MATCH(D15,'Facturi emise'!$B$5:$B$1004,0)),"")) | K15: =IF(B15="","",SUMIF('Linii storno'!$B$5:$B$1004,B15,'Linii storno'!$K$5:$K$1004)) | L15: =IF(B15="","",SUMIF('Linii storno'!$B$5:$B$1004,B15,'Linii storno'!$L$5:$L$1004)) | M15: =IF(B15="","",K15+L15) | N15: =IF(D15="","",SUMIF('Facturi emise'!$B$5:$B$1004,D15,'Facturi emise'!$N$5:$N$1004)) | O15: =IF(D15="","",-SUMIF($D$5:$D$304,D15,$M$5:$M$304)) | Q15: =IF(C15="","",WORKDAY(C15,5,Sarb)) | R15: =IF(AND(B15="",D15=""),"",TRIM(IF(COUNTIF($B$5:$B$304,B15)>1,"Număr dublat. ","")&IF(OR(C15="",D15="",H15="",I15=""),"Date incomplete. ","")&IF(AND(D15<>"",COUNTIF('Facturi emise'!$B$5:$B$1004,D15)=0),"Factura inițială nu există în Facturi emise. ","")&IF(COUNTIF('Linii storno'!$B$5:$B$1004,B15)=0,"Nicio linie stornată. ","")&IF(AND(N(O15)>0,O15>N(N15)+0.01),"Stornat mai mult decât factura inițială. ","")&IF(AND(H15="Stornare totală",ABS(N(M15)+N(N15))>0.01),"Stornare totală, dar suma diferă de factura inițială. ","")&IF(AND(I15="Eroare în factură",J15=""),"Emite și factura corectă. ","")&IF(AND(C15<>"",P15<>"Da"),IF(TODAY()>Q15,"Netransmisă în e-Factura – termen depășit. ","De transmis în e-Factura până la "&RIGHT("0"&DAY(Q15),2)&"."&RIGHT("0"&MONTH(Q15),2)&"."&YEAR(Q15)&". "),"")))
E16: =IF(D16="","",IFERROR(INDEX('Facturi emise'!$D$5:$D$1004,MATCH(D16,'Facturi emise'!$B$5:$B$1004,0)),"")) | F16: =IF(D16="","",IFERROR(INDEX('Facturi emise'!$E$5:$E$1004,MATCH(D16,'Facturi emise'!$B$5:$B$1004,0)),"")) | G16: =IF(D16="","",IFERROR(INDEX('Facturi emise'!$F$5:$F$1004,MATCH(D16,'Facturi emise'!$B$5:$B$1004,0)),"")) | K16: =IF(B16="","",SUMIF('Linii storno'!$B$5:$B$1004,B16,'Linii storno'!$K$5:$K$1004)) | L16: =IF(B16="","",SUMIF('Linii storno'!$B$5:$B$1004,B16,'Linii storno'!$L$5:$L$1004)) | M16: =IF(B16="","",K16+L16) | N16: =IF(D16="","",SUMIF('Facturi emise'!$B$5:$B$1004,D16,'Facturi emise'!$N$5:$N$1004)) | O16: =IF(D16="","",-SUMIF($D$5:$D$304,D16,$M$5:$M$304)) | Q16: =IF(C16="","",WORKDAY(C16,5,Sarb)) | R16: =IF(AND(B16="",D16=""),"",TRIM(IF(COUNTIF($B$5:$B$304,B16)>1,"Număr dublat. ","")&IF(OR(C16="",D16="",H16="",I16=""),"Date incomplete. ","")&IF(AND(D16<>"",COUNTIF('Facturi emise'!$B$5:$B$1004,D16)=0),"Factura inițială nu există în Facturi emise. ","")&IF(COUNTIF('Linii storno'!$B$5:$B$1004,B16)=0,"Nicio linie stornată. ","")&IF(AND(N(O16)>0,O16>N(N16)+0.01),"Stornat mai mult decât factura inițială. ","")&IF(AND(H16="Stornare totală",ABS(N(M16)+N(N16))>0.01),"Stornare totală, dar suma diferă de factura inițială. ","")&IF(AND(I16="Eroare în factură",J16=""),"Emite și factura corectă. ","")&IF(AND(C16<>"",P16<>"Da"),IF(TODAY()>Q16,"Netransmisă în e-Factura – termen depășit. ","De transmis în e-Factura până la "&RIGHT("0"&DAY(Q16),2)&"."&RIGHT("0"&MONTH(Q16),2)&"."&YEAR(Q16)&". "),"")))
E17: =IF(D17="","",IFERROR(INDEX('Facturi emise'!$D$5:$D$1004,MATCH(D17,'Facturi emise'!$B$5:$B$1004,0)),"")) | F17: =IF(D17="","",IFERROR(INDEX('Facturi emise'!$E$5:$E$1004,MATCH(D17,'Facturi emise'!$B$5:$B$1004,0)),"")) | G17: =IF(D17="","",IFERROR(INDEX('Facturi emise'!$F$5:$F$1004,MATCH(D17,'Facturi emise'!$B$5:$B$1004,0)),"")) | K17: =IF(B17="","",SUMIF('Linii storno'!$B$5:$B$1004,B17,'Linii storno'!$K$5:$K$1004)) | L17: =IF(B17="","",SUMIF('Linii storno'!$B$5:$B$1004,B17,'Linii storno'!$L$5:$L$1004)) | M17: =IF(B17="","",K17+L17) | N17: =IF(D17="","",SUMIF('Facturi emise'!$B$5:$B$1004,D17,'Facturi emise'!$N$5:$N$1004)) | O17: =IF(D17="","",-SUMIF($D$5:$D$304,D17,$M$5:$M$304)) | Q17: =IF(C17="","",WORKDAY(C17,5,Sarb)) | R17: =IF(AND(B17="",D17=""),"",TRIM(IF(COUNTIF($B$5:$B$304,B17)>1,"Număr dublat. ","")&IF(OR(C17="",D17="",H17="",I17=""),"Date incomplete. ","")&IF(AND(D17<>"",COUNTIF('Facturi emise'!$B$5:$B$1004,D17)=0),"Factura inițială nu există în Facturi emise. ","")&IF(COUNTIF('Linii storno'!$B$5:$B$1004,B17)=0,"Nicio linie stornată. ","")&IF(AND(N(O17)>0,O17>N(N17)+0.01),"Stornat mai mult decât factura inițială. ","")&IF(AND(H17="Stornare totală",ABS(N(M17)+N(N17))>0.01),"Stornare totală, dar suma diferă de factura inițială. ","")&IF(AND(I17="Eroare în factură",J17=""),"Emite și factura corectă. ","")&IF(AND(C17<>"",P17<>"Da"),IF(TODAY()>Q17,"Netransmisă în e-Factura – termen depășit. ","De transmis în e-Factura până la "&RIGHT("0"&DAY(Q17),2)&"."&RIGHT("0"&MONTH(Q17),2)&"."&YEAR(Q17)&". "),"")))
E18: =IF(D18="","",IFERROR(INDEX('Facturi emise'!$D$5:$D$1004,MATCH(D18,'Facturi emise'!$B$5:$B$1004,0)),"")) | F18: =IF(D18="","",IFERROR(INDEX('Facturi emise'!$E$5:$E$1004,MATCH(D18,'Facturi emise'!$B$5:$B$1004,0)),"")) | G18: =IF(D18="","",IFERROR(INDEX('Facturi emise'!$F$5:$F$1004,MATCH(D18,'Facturi emise'!$B$5:$B$1004,0)),"")) | K18: =IF(B18="","",SUMIF('Linii storno'!$B$5:$B$1004,B18,'Linii storno'!$K$5:$K$1004)) | L18: =IF(B18="","",SUMIF('Linii storno'!$B$5:$B$1004,B18,'Linii storno'!$L$5:$L$1004)) | M18: =IF(B18="","",K18+L18) | N18: =IF(D18="","",SUMIF('Facturi emise'!$B$5:$B$1004,D18,'Facturi emise'!$N$5:$N$1004)) | O18: =IF(D18="","",-SUMIF($D$5:$D$304,D18,$M$5:$M$304)) | Q18: =IF(C18="","",WORKDAY(C18,5,Sarb)) | R18: =IF(AND(B18="",D18=""),"",TRIM(IF(COUNTIF($B$5:$B$304,B18)>1,"Număr dublat. ","")&IF(OR(C18="",D18="",H18="",I18=""),"Date incomplete. ","")&IF(AND(D18<>"",COUNTIF('Facturi emise'!$B$5:$B$1004,D18)=0),"Factura inițială nu există în Facturi emise. ","")&IF(COUNTIF('Linii storno'!$B$5:$B$1004,B18)=0,"Nicio linie stornată. ","")&IF(AND(N(O18)>0,O18>N(N18)+0.01),"Stornat mai mult decât factura inițială. ","")&IF(AND(H18="Stornare totală",ABS(N(M18)+N(N18))>0.01),"Stornare totală, dar suma diferă de factura inițială. ","")&IF(AND(I18="Eroare în factură",J18=""),"Emite și factura corectă. ","")&IF(AND(C18<>"",P18<>"Da"),IF(TODAY()>Q18,"Netransmisă în e-Factura – termen depășit. ","De transmis în e-Factura până la "&RIGHT("0"&DAY(Q18),2)&"."&RIGHT("0"&MONTH(Q18),2)&"."&YEAR(Q18)&". "),"")))
E19: =IF(D19="","",IFERROR(INDEX('Facturi emise'!$D$5:$D$1004,MATCH(D19,'Facturi emise'!$B$5:$B$1004,0)),"")) | F19: =IF(D19="","",IFERROR(INDEX('Facturi emise'!$E$5:$E$1004,MATCH(D19,'Facturi emise'!$B$5:$B$1004,0)),"")) | G19: =IF(D19="","",IFERROR(INDEX('Facturi emise'!$F$5:$F$1004,MATCH(D19,'Facturi emise'!$B$5:$B$1004,0)),"")) | K19: =IF(B19="","",SUMIF('Linii storno'!$B$5:$B$1004,B19,'Linii storno'!$K$5:$K$1004)) | L19: =IF(B19="","",SUMIF('Linii storno'!$B$5:$B$1004,B19,'Linii storno'!$L$5:$L$1004)) | M19: =IF(B19="","",K19+L19) | N19: =IF(D19="","",SUMIF('Facturi emise'!$B$5:$B$1004,D19,'Facturi emise'!$N$5:$N$1004)) | O19: =IF(D19="","",-SUMIF($D$5:$D$304,D19,$M$5:$M$304)) | Q19: =IF(C19="","",WORKDAY(C19,5,Sarb)) | R19: =IF(AND(B19="",D19=""),"",TRIM(IF(COUNTIF($B$5:$B$304,B19)>1,"Număr dublat. ","")&IF(OR(C19="",D19="",H19="",I19=""),"Date incomplete. ","")&IF(AND(D19<>"",COUNTIF('Facturi emise'!$B$5:$B$1004,D19)=0),"Factura inițială nu există în Facturi emise. ","")&IF(COUNTIF('Linii storno'!$B$5:$B$1004,B19)=0,"Nicio linie stornată. ","")&IF(AND(N(O19)>0,O19>N(N19)+0.01),"Stornat mai mult decât factura inițială. ","")&IF(AND(H19="Stornare totală",ABS(N(M19)+N(N19))>0.01),"Stornare totală, dar suma diferă de factura inițială. ","")&IF(AND(I19="Eroare în factură",J19=""),"Emite și factura corectă. ","")&IF(AND(C19<>"",P19<>"Da"),IF(TODAY()>Q19,"Netransmisă în e-Factura – termen depășit. ","De transmis în e-Factura până la "&RIGHT("0"&DAY(Q19),2)&"."&RIGHT("0"&MONTH(Q19),2)&"."&YEAR(Q19)&". "),"")))
... E304: =IF(D304="","",IFERROR(INDEX('Facturi emise'!$D$5:$D$1004,MATCH(D304,'Facturi emise'!$B$5:$B$1004,0)),"")) | F304: =IF(D304="","",IFERROR(INDEX('Facturi emise'!$E$5:$E$1004,MATCH(D304,'Facturi emise'!$B$5:$B$1004,0)),"")) | G304: =IF(D304="","",IFERROR(INDEX('Facturi emise'!$F$5:$F$1004,MATCH(D304,'Facturi emise'!$B$5:$B$1004,0)),"")) | K304: =IF(B304="","",SUMIF('Linii storno'!$B$5:$B$1004,B304,'Linii storno'!$K$5:$K$1004)) | L304: =IF(B304="","",SUMIF('Linii storno'!$B$5:$B$1004,B304,'Linii storno'!$L$5:$L$1004)) | M304: =IF(B304="","",K304+L304) | N304: =IF(D304="","",SUMIF('Facturi emise'!$B$5:$B$1004,D304,'Facturi emise'!$N$5:$N$1004)) | O304: =IF(D304="","",-SUMIF($D$5:$D$304,D304,$M$5:$M$304)) | Q304: =IF(C304="","",WORKDAY(C304,5,Sarb)) | R304: =IF(AND(B304="",D304=""),"",TRIM(IF(COUNTIF($B$5:$B$304,B304)>1,"Număr dublat. ","")&IF(OR(C304="",D304="",H304="",I304=""),"Date incomplete. ","")&IF(AND(D304<>"",COUNTIF('Facturi emise'!$B$5:$B$1004,D304)=0),"Factura inițială nu există în Facturi emise. ","")&IF(COUNTIF('Linii storno'!$B$5:$B$1004,B304)=0,"Nicio linie stornată. ","")&IF(AND(N(O304)>0,O304>N(N304)+0.01),"Stornat mai mult decât factura inițială. ","")&IF(AND(H304="Stornare totală",ABS(N(M304)+N(N304))>0.01),"Stornare totală, dar suma diferă de factura inițială. ","")&IF(AND(I304="Eroare în factură",J304=""),"Emite și factura corectă. ","")&IF(AND(C304<>"",P304<>"Da"),IF(TODAY()>Q304,"Netransmisă în e-Factura – termen depășit. ","De transmis în e-Factura până la "&RIGHT("0"&DAY(Q304),2)&"."&RIGHT("0"&MONTH(Q304),2)&"."&YEAR(Q304)&". "),"")))

Sheet Linii storno
B1: Liniile stornate
B2: Scrie numărul facturii storno, linia din factura inițială și cantitatea stornată (cu plus). Pentru o reducere de preț, scrie peste „Preț unitar” doar reducerea pe unitate.
B4: Nr. factură storno | C4: Nr. crt. | D4: Linia din factura inițială | E4: Denumire | F4: U.M. | G4: Cantitate facturată | H4: Cantitate stornată | I4: Preț unitar | J4: Cota TVA | K4: Valoare (minus) | L4: TVA (minus) | M4: Verificare | N4: Factura inițială
A5: =IF(B5="","",B5&"|"&C5) -> 1210|1 | B5: 1210 | C5: =IF(B5="","",COUNTIF(INDEX($B:$B,5):B5,B5)) -> 1 | D5: 2 | E5: =IF(OR(N5="",D5=""),"",IFERROR(INDEX('Facturi emise'!$G$5:$G$1004,MATCH(N5&"|"&D5,'Facturi emise'!$A$5:$A$1004,0)),"")) -> Siguranță automată 16A | F5: =IF(OR(N5="",D5=""),"",IFERROR(INDEX('Facturi emise'!$H$5:$H$1004,MATCH(N5&"|"&D5,'Facturi emise'!$A$5:$A$1004,0)),"")) -> buc | G5: =IF(OR(N5="",D5=""),"",IFERROR(INDEX('Facturi emise'!$I$5:$I$1004,MATCH(N5&"|"&D5,'Facturi emise'!$A$5:$A$1004,0)),"")) -> 40 | H5: 10 | I5: =IF(OR(N5="",D5=""),"",IFERROR(INDEX('Facturi emise'!$J$5:$J$1004,MATCH(N5&"|"&D5,'Facturi emise'!$A$5:$A$1004,0)),"")) -> 22.4 | J5: =IF(OR(N5="",D5=""),"",IFERROR(INDEX('Facturi emise'!$K$5:$K$1004,MATCH(N5&"|"&D5,'Facturi emise'!$A$5:$A$1004,0)),"")) -> 0.21 | K5: =IF(OR(H5="",I5=""),"",-ROUND(H5*I5,2)) -> -224 | L5: =IF(OR(K5="",J5=""),"",ROUND(K5*J5,2)) -> -47.04 | M5: =IF(B5="","",TRIM(IF(N5="","Factura storno nu există în registru. ",IF(ISNA(MATCH(N5&"|"&D5,'Facturi emise'!$A$5:$A$1004,0)),"Linia nu există în factura inițială. ",""))&IF(N(H5)<=0,"Lipsește cantitatea stornată. ","")&IF(AND(N(I5)=IFERROR(INDEX('Facturi emise'!$J$5:$J$1004,MATCH(N5&"|"&D5,'Facturi emise'!$A$5:$A$1004,0)),0),SUMIFS($H$5:$H$1004,$N$5:$N$1004,N5,$D$5:$D$1004,D5,$I$5:$I$1004,I5)>N(G5)),"Stornezi mai mult decât s-a facturat. ","")&IF(AND(N(I5)>0,N(I5)<IFERROR(INDEX('Facturi emise'!$J$5:$J$1004,MATCH(N5&"|"&D5,'Facturi emise'!$A$5:$A$1004,0)),0)),"Reducere de preț pe unitate. ",""))) | N5: =IF(B5="","",IFERROR(INDEX('Registru stornări'!$D$5:$D$304,MATCH(B5,'Registru stornări'!$B$5:$B$304,0)),"")) -> 1202
A6: =IF(B6="","",B6&"|"&C6) -> 1211|1 | B6: 1211 | C6: =IF(B6="","",COUNTIF(INDEX($B:$B,5):B6,B6)) -> 1 | D6: 1 | E6: =IF(OR(N6="",D6=""),"",IFERROR(INDEX('Facturi emise'!$G$5:$G$1004,MATCH(N6&"|"&D6,'Facturi emise'!$A$5:$A$1004,0)),"")) -> Corp iluminat LED 36W | F6: =IF(OR(N6="",D6=""),"",IFERROR(INDEX('Facturi emise'!$H$5:$H$1004,MATCH(N6&"|"&D6,'Facturi emise'!$A$5:$A$1004,0)),"")) -> buc | G6: =IF(OR(N6="",D6=""),"",IFERROR(INDEX('Facturi emise'!$I$5:$I$1004,MATCH(N6&"|"&D6,'Facturi emise'!$A$5:$A$1004,0)),"")) -> 20 | H6: 20 | I6: =IF(OR(N6="",D6=""),"",IFERROR(INDEX('Facturi emise'!$J$5:$J$1004,MATCH(N6&"|"&D6,'Facturi emise'!$A$5:$A$1004,0)),"")) -> 98 | J6: =IF(OR(N6="",D6=""),"",IFERROR(INDEX('Facturi emise'!$K$5:$K$1004,MATCH(N6&"|"&D6,'Facturi emise'!$A$5:$A$1004,0)),"")) -> 0.21 | K6: =IF(OR(H6="",I6=""),"",-ROUND(H6*I6,2)) -> -1960 | L6: =IF(OR(K6="",J6=""),"",ROUND(K6*J6,2)) -> -411.6 | M6: =IF(B6="","",TRIM(IF(N6="","Factura storno nu există în registru. ",IF(ISNA(MATCH(N6&"|"&D6,'Facturi emise'!$A$5:$A$1004,0)),"Linia nu există în factura inițială. ",""))&IF(N(H6)<=0,"Lipsește cantitatea stornată. ","")&IF(AND(N(I6)=IFERROR(INDEX('Facturi emise'!$J$5:$J$1004,MATCH(N6&"|"&D6,'Facturi emise'!$A$5:$A$1004,0)),0),SUMIFS($H$5:$H$1004,$N$5:$N$1004,N6,$D$5:$D$1004,D6,$I$5:$I$1004,I6)>N(G6)),"Stornezi mai mult decât s-a facturat. ","")&IF(AND(N(I6)>0,N(I6)<IFERROR(INDEX('Facturi emise'!$J$5:$J$1004,MATCH(N6&"|"&D6,'Facturi emise'!$A$5:$A$1004,0)),0)),"Reducere de preț pe unitate. ",""))) | N6: =IF(B6="","",IFERROR(INDEX('Registru stornări'!$D$5:$D$304,MATCH(B6,'Registru stornări'!$B$5:$B$304,0)),"")) -> 1203
A7: =IF(B7="","",B7&"|"&C7) -> 1213|1 | B7: 1213 | C7: =IF(B7="","",COUNTIF(INDEX($B:$B,5):B7,B7)) -> 1 | D7: 6 | E7: =IF(OR(N7="",D7=""),"",IFERROR(INDEX('Facturi emise'!$G$5:$G$1004,MATCH(N7&"|"&D7,'Facturi emise'!$A$5:$A$1004,0)),"")) -> Manoperă montaj instalație electrică | F7: =IF(OR(N7="",D7=""),"",IFERROR(INDEX('Facturi emise'!$H$5:$H$1004,MATCH(N7&"|"&D7,'Facturi emise'!$A$5:$A$1004,0)),"")) -> ore | G7: =IF(OR(N7="",D7=""),"",IFERROR(INDEX('Facturi emise'!$I$5:$I$1004,MATCH(N7&"|"&D7,'Facturi emise'!$A$5:$A$1004,0)),"")) -> 16 | H7: 16 | I7: 10 | J7: =IF(OR(N7="",D7=""),"",IFERROR(INDEX('Facturi emise'!$K$5:$K$1004,MATCH(N7&"|"&D7,'Facturi emise'!$A$5:$A$1004,0)),"")) -> 0.21 | K7: =IF(OR(H7="",I7=""),"",-ROUND(H7*I7,2)) -> -160 | L7: =IF(OR(K7="",J7=""),"",ROUND(K7*J7,2)) -> -33.6 | M7: =IF(B7="","",TRIM(IF(N7="","Factura storno nu există în registru. ",IF(ISNA(MATCH(N7&"|"&D7,'Facturi emise'!$A$5:$A$1004,0)),"Linia nu există în factura inițială. ",""))&IF(N(H7)<=0,"Lipsește cantitatea stornată. ","")&IF(AND(N(I7)=IFERROR(INDEX('Facturi emise'!$J$5:$J$1004,MATCH(N7&"|"&D7,'Facturi emise'!$A$5:$A$1004,0)),0),SUMIFS($H$5:$H$1004,$N$5:$N$1004,N7,$D$5:$D$1004,D7,$I$5:$I$1004,I7)>N(G7)),"Stornezi mai mult decât s-a facturat. ","")&IF(AND(N(I7)>0,N(I7)<IFERROR(INDEX('Facturi emise'!$J$5:$J$1004,MATCH(N7&"|"&D7,'Facturi emise'!$A$5:$A$1004,0)),0)),"Reducere de preț pe unitate. ",""))) -> Reducere de preț pe unitate. | N7: =IF(B7="","",IFERROR(INDEX('Registru stornări'!$D$5:$D$304,MATCH(B7,'Registru stornări'!$B$5:$B$304,0)),"")) -> 1201
A8: =IF(B8="","",B8&"|"&C8) | C8: =IF(B8="","",COUNTIF(INDEX($B:$B,5):B8,B8)) | E8: =IF(OR(N8="",D8=""),"",IFERROR(INDEX('Facturi emise'!$G$5:$G$1004,MATCH(N8&"|"&D8,'Facturi emise'!$A$5:$A$1004,0)),"")) | F8: =IF(OR(N8="",D8=""),"",IFERROR(INDEX('Facturi emise'!$H$5:$H$1004,MATCH(N8&"|"&D8,'Facturi emise'!$A$5:$A$1004,0)),"")) | G8: =IF(OR(N8="",D8=""),"",IFERROR(INDEX('Facturi emise'!$I$5:$I$1004,MATCH(N8&"|"&D8,'Facturi emise'!$A$5:$A$1004,0)),"")) | I8: =IF(OR(N8="",D8=""),"",IFERROR(INDEX('Facturi emise'!$J$5:$J$1004,MATCH(N8&"|"&D8,'Facturi emise'!$A$5:$A$1004,0)),"")) | J8: =IF(OR(N8="",D8=""),"",IFERROR(INDEX('Facturi emise'!$K$5:$K$1004,MATCH(N8&"|"&D8,'Facturi emise'!$A$5:$A$1004,0)),"")) | K8: =IF(OR(H8="",I8=""),"",-ROUND(H8*I8,2)) | L8: =IF(OR(K8="",J8=""),"",ROUND(K8*J8,2)) | M8: =IF(B8="","",TRIM(IF(N8="","Factura storno nu există în registru. ",IF(ISNA(MATCH(N8&"|"&D8,'Facturi emise'!$A$5:$A$1004,0)),"Linia nu există în factura inițială. ",""))&IF(N(H8)<=0,"Lipsește cantitatea stornată. ","")&IF(AND(N(I8)=IFERROR(INDEX('Facturi emise'!$J$5:$J$1004,MATCH(N8&"|"&D8,'Facturi emise'!$A$5:$A$1004,0)),0),SUMIFS($H$5:$H$1004,$N$5:$N$1004,N8,$D$5:$D$1004,D8,$I$5:$I$1004,I8)>N(G8)),"Stornezi mai mult decât s-a facturat. ","")&IF(AND(N(I8)>0,N(I8)<IFERROR(INDEX('Facturi emise'!$J$5:$J$1004,MATCH(N8&"|"&D8,'Facturi emise'!$A$5:$A$1004,0)),0)),"Reducere de preț pe unitate. ",""))) | N8: =IF(B8="","",IFERROR(INDEX('Registru stornări'!$D$5:$D$304,MATCH(B8,'Registru stornări'!$B$5:$B$304,0)),""))
A9: =IF(B9="","",B9&"|"&C9) | C9: =IF(B9="","",COUNTIF(INDEX($B:$B,5):B9,B9)) | E9: =IF(OR(N9="",D9=""),"",IFERROR(INDEX('Facturi emise'!$G$5:$G$1004,MATCH(N9&"|"&D9,'Facturi emise'!$A$5:$A$1004,0)),"")) | F9: =IF(OR(N9="",D9=""),"",IFERROR(INDEX('Facturi emise'!$H$5:$H$1004,MATCH(N9&"|"&D9,'Facturi emise'!$A$5:$A$1004,0)),"")) | G9: =IF(OR(N9="",D9=""),"",IFERROR(INDEX('Facturi emise'!$I$5:$I$1004,MATCH(N9&"|"&D9,'Facturi emise'!$A$5:$A$1004,0)),"")) | I9: =IF(OR(N9="",D9=""),"",IFERROR(INDEX('Facturi emise'!$J$5:$J$1004,MATCH(N9&"|"&D9,'Facturi emise'!$A$5:$A$1004,0)),"")) | J9: =IF(OR(N9="",D9=""),"",IFERROR(INDEX('Facturi emise'!$K$5:$K$1004,MATCH(N9&"|"&D9,'Facturi emise'!$A$5:$A$1004,0)),"")) | K9: =IF(OR(H9="",I9=""),"",-ROUND(H9*I9,2)) | L9: =IF(OR(K9="",J9=""),"",ROUND(K9*J9,2)) | M9: =IF(B9="","",TRIM(IF(N9="","Factura storno nu există în registru. ",IF(ISNA(MATCH(N9&"|"&D9,'Facturi emise'!$A$5:$A$1004,0)),"Linia nu există în factura inițială. ",""))&IF(N(H9)<=0,"Lipsește cantitatea stornată. ","")&IF(AND(N(I9)=IFERROR(INDEX('Facturi emise'!$J$5:$J$1004,MATCH(N9&"|"&D9,'Facturi emise'!$A$5:$A$1004,0)),0),SUMIFS($H$5:$H$1004,$N$5:$N$1004,N9,$D$5:$D$1004,D9,$I$5:$I$1004,I9)>N(G9)),"Stornezi mai mult decât s-a facturat. ","")&IF(AND(N(I9)>0,N(I9)<IFERROR(INDEX('Facturi emise'!$J$5:$J$1004,MATCH(N9&"|"&D9,'Facturi emise'!$A$5:$A$1004,0)),0)),"Reducere de preț pe unitate. ",""))) | N9: =IF(B9="","",IFERROR(INDEX('Registru stornări'!$D$5:$D$304,MATCH(B9,'Registru stornări'!$B$5:$B$304,0)),""))
A10: =IF(B10="","",B10&"|"&C10) | C10: =IF(B10="","",COUNTIF(INDEX($B:$B,5):B10,B10)) | E10: =IF(OR(N10="",D10=""),"",IFERROR(INDEX('Facturi emise'!$G$5:$G$1004,MATCH(N10&"|"&D10,'Facturi emise'!$A$5:$A$1004,0)),"")) | F10: =IF(OR(N10="",D10=""),"",IFERROR(INDEX('Facturi emise'!$H$5:$H$1004,MATCH(N10&"|"&D10,'Facturi emise'!$A$5:$A$1004,0)),"")) | G10: =IF(OR(N10="",D10=""),"",IFERROR(INDEX('Facturi emise'!$I$5:$I$1004,MATCH(N10&"|"&D10,'Facturi emise'!$A$5:$A$1004,0)),"")) | I10: =IF(OR(N10="",D10=""),"",IFERROR(INDEX('Facturi emise'!$J$5:$J$1004,MATCH(N10&"|"&D10,'Facturi emise'!$A$5:$A$1004,0)),"")) | J10: =IF(OR(N10="",D10=""),"",IFERROR(INDEX('Facturi emise'!$K$5:$K$1004,MATCH(N10&"|"&D10,'Facturi emise'!$A$5:$A$1004,0)),"")) | K10: =IF(OR(H10="",I10=""),"",-ROUND(H10*I10,2)) | L10: =IF(OR(K10="",J10=""),"",ROUND(K10*J10,2)) | M10: =IF(B10="","",TRIM(IF(N10="","Factura storno nu există în registru. ",IF(ISNA(MATCH(N10&"|"&D10,'Facturi emise'!$A$5:$A$1004,0)),"Linia nu există în factura inițială. ",""))&IF(N(H10)<=0,"Lipsește cantitatea stornată. ","")&IF(AND(N(I10)=IFERROR(INDEX('Facturi emise'!$J$5:$J$1004,MATCH(N10&"|"&D10,'Facturi emise'!$A$5:$A$1004,0)),0),SUMIFS($H$5:$H$1004,$N$5:$N$1004,N10,$D$5:$D$1004,D10,$I$5:$I$1004,I10)>N(G10)),"Stornezi mai mult decât s-a facturat. ","")&IF(AND(N(I10)>0,N(I10)<IFERROR(INDEX('Facturi emise'!$J$5:$J$1004,MATCH(N10&"|"&D10,'Facturi emise'!$A$5:$A$1004,0)),0)),"Reducere de preț pe unitate. ",""))) | N10: =IF(B10="","",IFERROR(INDEX('Registru stornări'!$D$5:$D$304,MATCH(B10,'Registru stornări'!$B$5:$B$304,0)),""))
A11: =IF(B11="","",B11&"|"&C11) | C11: =IF(B11="","",COUNTIF(INDEX($B:$B,5):B11,B11)) | E11: =IF(OR(N11="",D11=""),"",IFERROR(INDEX('Facturi emise'!$G$5:$G$1004,MATCH(N11&"|"&D11,'Facturi emise'!$A$5:$A$1004,0)),"")) | F11: =IF(OR(N11="",D11=""),"",IFERROR(INDEX('Facturi emise'!$H$5:$H$1004,MATCH(N11&"|"&D11,'Facturi emise'!$A$5:$A$1004,0)),"")) | G11: =IF(OR(N11="",D11=""),"",IFERROR(INDEX('Facturi emise'!$I$5:$I$1004,MATCH(N11&"|"&D11,'Facturi emise'!$A$5:$A$1004,0)),"")) | I11: =IF(OR(N11="",D11=""),"",IFERROR(INDEX('Facturi emise'!$J$5:$J$1004,MATCH(N11&"|"&D11,'Facturi emise'!$A$5:$A$1004,0)),"")) | J11: =IF(OR(N11="",D11=""),"",IFERROR(INDEX('Facturi emise'!$K$5:$K$1004,MATCH(N11&"|"&D11,'Facturi emise'!$A$5:$A$1004,0)),"")) | K11: =IF(OR(H11="",I11=""),"",-ROUND(H11*I11,2)) | L11: =IF(OR(K11="",J11=""),"",ROUND(K11*J11,2)) | M11: =IF(B11="","",TRIM(IF(N11="","Factura storno nu există în registru. ",IF(ISNA(MATCH(N11&"|"&D11,'Facturi emise'!$A$5:$A$1004,0)),"Linia nu există în factura inițială. ",""))&IF(N(H11)<=0,"Lipsește cantitatea stornată. ","")&IF(AND(N(I11)=IFERROR(INDEX('Facturi emise'!$J$5:$J$1004,MATCH(N11&"|"&D11,'Facturi emise'!$A$5:$A$1004,0)),0),SUMIFS($H$5:$H$1004,$N$5:$N$1004,N11,$D$5:$D$1004,D11,$I$5:$I$1004,I11)>N(G11)),"Stornezi mai mult decât s-a facturat. ","")&IF(AND(N(I11)>0,N(I11)<IFERROR(INDEX('Facturi emise'!$J$5:$J$1004,MATCH(N11&"|"&D11,'Facturi emise'!$A$5:$A$1004,0)),0)),"Reducere de preț pe unitate. ",""))) | N11: =IF(B11="","",IFERROR(INDEX('Registru stornări'!$D$5:$D$304,MATCH(B11,'Registru stornări'!$B$5:$B$304,0)),""))
A12: =IF(B12="","",B12&"|"&C12) | C12: =IF(B12="","",COUNTIF(INDEX($B:$B,5):B12,B12)) | E12: =IF(OR(N12="",D12=""),"",IFERROR(INDEX('Facturi emise'!$G$5:$G$1004,MATCH(N12&"|"&D12,'Facturi emise'!$A$5:$A$1004,0)),"")) | F12: =IF(OR(N12="",D12=""),"",IFERROR(INDEX('Facturi emise'!$H$5:$H$1004,MATCH(N12&"|"&D12,'Facturi emise'!$A$5:$A$1004,0)),"")) | G12: =IF(OR(N12="",D12=""),"",IFERROR(INDEX('Facturi emise'!$I$5:$I$1004,MATCH(N12&"|"&D12,'Facturi emise'!$A$5:$A$1004,0)),"")) | I12: =IF(OR(N12="",D12=""),"",IFERROR(INDEX('Facturi emise'!$J$5:$J$1004,MATCH(N12&"|"&D12,'Facturi emise'!$A$5:$A$1004,0)),"")) | J12: =IF(OR(N12="",D12=""),"",IFERROR(INDEX('Facturi emise'!$K$5:$K$1004,MATCH(N12&"|"&D12,'Facturi emise'!$A$5:$A$1004,0)),"")) | K12: =IF(OR(H12="",I12=""),"",-ROUND(H12*I12,2)) | L12: =IF(OR(K12="",J12=""),"",ROUND(K12*J12,2)) | M12: =IF(B12="","",TRIM(IF(N12="","Factura storno nu există în registru. ",IF(ISNA(MATCH(N12&"|"&D12,'Facturi emise'!$A$5:$A$1004,0)),"Linia nu există în factura inițială. ",""))&IF(N(H12)<=0,"Lipsește cantitatea stornată. ","")&IF(AND(N(I12)=IFERROR(INDEX('Facturi emise'!$J$5:$J$1004,MATCH(N12&"|"&D12,'Facturi emise'!$A$5:$A$1004,0)),0),SUMIFS($H$5:$H$1004,$N$5:$N$1004,N12,$D$5:$D$1004,D12,$I$5:$I$1004,I12)>N(G12)),"Stornezi mai mult decât s-a facturat. ","")&IF(AND(N(I12)>0,N(I12)<IFERROR(INDEX('Facturi emise'!$J$5:$J$1004,MATCH(N12&"|"&D12,'Facturi emise'!$A$5:$A$1004,0)),0)),"Reducere de preț pe unitate. ",""))) | N12: =IF(B12="","",IFERROR(INDEX('Registru stornări'!$D$5:$D$304,MATCH(B12,'Registru stornări'!$B$5:$B$304,0)),""))
A13: =IF(B13="","",B13&"|"&C13) | C13: =IF(B13="","",COUNTIF(INDEX($B:$B,5):B13,B13)) | E13: =IF(OR(N13="",D13=""),"",IFERROR(INDEX('Facturi emise'!$G$5:$G$1004,MATCH(N13&"|"&D13,'Facturi emise'!$A$5:$A$1004,0)),"")) | F13: =IF(OR(N13="",D13=""),"",IFERROR(INDEX('Facturi emise'!$H$5:$H$1004,MATCH(N13&"|"&D13,'Facturi emise'!$A$5:$A$1004,0)),"")) | G13: =IF(OR(N13="",D13=""),"",IFERROR(INDEX('Facturi emise'!$I$5:$I$1004,MATCH(N13&"|"&D13,'Facturi emise'!$A$5:$A$1004,0)),"")) | I13: =IF(OR(N13="",D13=""),"",IFERROR(INDEX('Facturi emise'!$J$5:$J$1004,MATCH(N13&"|"&D13,'Facturi emise'!$A$5:$A$1004,0)),"")) | J13: =IF(OR(N13="",D13=""),"",IFERROR(INDEX('Facturi emise'!$K$5:$K$1004,MATCH(N13&"|"&D13,'Facturi emise'!$A$5:$A$1004,0)),"")) | K13: =IF(OR(H13="",I13=""),"",-ROUND(H13*I13,2)) | L13: =IF(OR(K13="",J13=""),"",ROUND(K13*J13,2)) | M13: =IF(B13="","",TRIM(IF(N13="","Factura storno nu există în registru. ",IF(ISNA(MATCH(N13&"|"&D13,'Facturi emise'!$A$5:$A$1004,0)),"Linia nu există în factura inițială. ",""))&IF(N(H13)<=0,"Lipsește cantitatea stornată. ","")&IF(AND(N(I13)=IFERROR(INDEX('Facturi emise'!$J$5:$J$1004,MATCH(N13&"|"&D13,'Facturi emise'!$A$5:$A$1004,0)),0),SUMIFS($H$5:$H$1004,$N$5:$N$1004,N13,$D$5:$D$1004,D13,$I$5:$I$1004,I13)>N(G13)),"Stornezi mai mult decât s-a facturat. ","")&IF(AND(N(I13)>0,N(I13)<IFERROR(INDEX('Facturi emise'!$J$5:$J$1004,MATCH(N13&"|"&D13,'Facturi emise'!$A$5:$A$1004,0)),0)),"Reducere de preț pe unitate. ",""))) | N13: =IF(B13="","",IFERROR(INDEX('Registru stornări'!$D$5:$D$304,MATCH(B13,'Registru stornări'!$B$5:$B$304,0)),""))
A14: =IF(B14="","",B14&"|"&C14) | C14: =IF(B14="","",COUNTIF(INDEX($B:$B,5):B14,B14)) | E14: =IF(OR(N14="",D14=""),"",IFERROR(INDEX('Facturi emise'!$G$5:$G$1004,MATCH(N14&"|"&D14,'Facturi emise'!$A$5:$A$1004,0)),"")) | F14: =IF(OR(N14="",D14=""),"",IFERROR(INDEX('Facturi emise'!$H$5:$H$1004,MATCH(N14&"|"&D14,'Facturi emise'!$A$5:$A$1004,0)),"")) | G14: =IF(OR(N14="",D14=""),"",IFERROR(INDEX('Facturi emise'!$I$5:$I$1004,MATCH(N14&"|"&D14,'Facturi emise'!$A$5:$A$1004,0)),"")) | I14: =IF(OR(N14="",D14=""),"",IFERROR(INDEX('Facturi emise'!$J$5:$J$1004,MATCH(N14&"|"&D14,'Facturi emise'!$A$5:$A$1004,0)),"")) | J14: =IF(OR(N14="",D14=""),"",IFERROR(INDEX('Facturi emise'!$K$5:$K$1004,MATCH(N14&"|"&D14,'Facturi emise'!$A$5:$A$1004,0)),"")) | K14: =IF(OR(H14="",I14=""),"",-ROUND(H14*I14,2)) | L14: =IF(OR(K14="",J14=""),"",ROUND(K14*J14,2)) | M14: =IF(B14="","",TRIM(IF(N14="","Factura storno nu există în registru. ",IF(ISNA(MATCH(N14&"|"&D14,'Facturi emise'!$A$5:$A$1004,0)),"Linia nu există în factura inițială. ",""))&IF(N(H14)<=0,"Lipsește cantitatea stornată. ","")&IF(AND(N(I14)=IFERROR(INDEX('Facturi emise'!$J$5:$J$1004,MATCH(N14&"|"&D14,'Facturi emise'!$A$5:$A$1004,0)),0),SUMIFS($H$5:$H$1004,$N$5:$N$1004,N14,$D$5:$D$1004,D14,$I$5:$I$1004,I14)>N(G14)),"Stornezi mai mult decât s-a facturat. ","")&IF(AND(N(I14)>0,N(I14)<IFERROR(INDEX('Facturi emise'!$J$5:$J$1004,MATCH(N14&"|"&D14,'Facturi emise'!$A$5:$A$1004,0)),0)),"Reducere de preț pe unitate. ",""))) | N14: =IF(B14="","",IFERROR(INDEX('Registru stornări'!$D$5:$D$304,MATCH(B14,'Registru stornări'!$B$5:$B$304,0)),""))
A15: =IF(B15="","",B15&"|"&C15) | C15: =IF(B15="","",COUNTIF(INDEX($B:$B,5):B15,B15)) | E15: =IF(OR(N15="",D15=""),"",IFERROR(INDEX('Facturi emise'!$G$5:$G$1004,MATCH(N15&"|"&D15,'Facturi emise'!$A$5:$A$1004,0)),"")) | F15: =IF(OR(N15="",D15=""),"",IFERROR(INDEX('Facturi emise'!$H$5:$H$1004,MATCH(N15&"|"&D15,'Facturi emise'!$A$5:$A$1004,0)),"")) | G15: =IF(OR(N15="",D15=""),"",IFERROR(INDEX('Facturi emise'!$I$5:$I$1004,MATCH(N15&"|"&D15,'Facturi emise'!$A$5:$A$1004,0)),"")) | I15: =IF(OR(N15="",D15=""),"",IFERROR(INDEX('Facturi emise'!$J$5:$J$1004,MATCH(N15&"|"&D15,'Facturi emise'!$A$5:$A$1004,0)),"")) | J15: =IF(OR(N15="",D15=""),"",IFERROR(INDEX('Facturi emise'!$K$5:$K$1004,MATCH(N15&"|"&D15,'Facturi emise'!$A$5:$A$1004,0)),"")) | K15: =IF(OR(H15="",I15=""),"",-ROUND(H15*I15,2)) | L15: =IF(OR(K15="",J15=""),"",ROUND(K15*J15,2)) | M15: =IF(B15="","",TRIM(IF(N15="","Factura storno nu există în registru. ",IF(ISNA(MATCH(N15&"|"&D15,'Facturi emise'!$A$5:$A$1004,0)),"Linia nu există în factura inițială. ",""))&IF(N(H15)<=0,"Lipsește cantitatea stornată. ","")&IF(AND(N(I15)=IFERROR(INDEX('Facturi emise'!$J$5:$J$1004,MATCH(N15&"|"&D15,'Facturi emise'!$A$5:$A$1004,0)),0),SUMIFS($H$5:$H$1004,$N$5:$N$1004,N15,$D$5:$D$1004,D15,$I$5:$I$1004,I15)>N(G15)),"Stornezi mai mult decât s-a facturat. ","")&IF(AND(N(I15)>0,N(I15)<IFERROR(INDEX('Facturi emise'!$J$5:$J$1004,MATCH(N15&"|"&D15,'Facturi emise'!$A$5:$A$1004,0)),0)),"Reducere de preț pe unitate. ",""))) | N15: =IF(B15="","",IFERROR(INDEX('Registru stornări'!$D$5:$D$304,MATCH(B15,'Registru stornări'!$B$5:$B$304,0)),""))
A16: =IF(B16="","",B16&"|"&C16) | C16: =IF(B16="","",COUNTIF(INDEX($B:$B,5):B16,B16)) | E16: =IF(OR(N16="",D16=""),"",IFERROR(INDEX('Facturi emise'!$G$5:$G$1004,MATCH(N16&"|"&D16,'Facturi emise'!$A$5:$A$1004,0)),"")) | F16: =IF(OR(N16="",D16=""),"",IFERROR(INDEX('Facturi emise'!$H$5:$H$1004,MATCH(N16&"|"&D16,'Facturi emise'!$A$5:$A$1004,0)),"")) | G16: =IF(OR(N16="",D16=""),"",IFERROR(INDEX('Facturi emise'!$I$5:$I$1004,MATCH(N16&"|"&D16,'Facturi emise'!$A$5:$A$1004,0)),"")) | I16: =IF(OR(N16="",D16=""),"",IFERROR(INDEX('Facturi emise'!$J$5:$J$1004,MATCH(N16&"|"&D16,'Facturi emise'!$A$5:$A$1004,0)),"")) | J16: =IF(OR(N16="",D16=""),"",IFERROR(INDEX('Facturi emise'!$K$5:$K$1004,MATCH(N16&"|"&D16,'Facturi emise'!$A$5:$A$1004,0)),"")) | K16: =IF(OR(H16="",I16=""),"",-ROUND(H16*I16,2)) | L16: =IF(OR(K16="",J16=""),"",ROUND(K16*J16,2)) | M16: =IF(B16="","",TRIM(IF(N16="","Factura storno nu există în registru. ",IF(ISNA(MATCH(N16&"|"&D16,'Facturi emise'!$A$5:$A$1004,0)),"Linia nu există în factura inițială. ",""))&IF(N(H16)<=0,"Lipsește cantitatea stornată. ","")&IF(AND(N(I16)=IFERROR(INDEX('Facturi emise'!$J$5:$J$1004,MATCH(N16&"|"&D16,'Facturi emise'!$A$5:$A$1004,0)),0),SUMIFS($H$5:$H$1004,$N$5:$N$1004,N16,$D$5:$D$1004,D16,$I$5:$I$1004,I16)>N(G16)),"Stornezi mai mult decât s-a facturat. ","")&IF(AND(N(I16)>0,N(I16)<IFERROR(INDEX('Facturi emise'!$J$5:$J$1004,MATCH(N16&"|"&D16,'Facturi emise'!$A$5:$A$1004,0)),0)),"Reducere de preț pe unitate. ",""))) | N16: =IF(B16="","",IFERROR(INDEX('Registru stornări'!$D$5:$D$304,MATCH(B16,'Registru stornări'!$B$5:$B$304,0)),""))
A17: =IF(B17="","",B17&"|"&C17) | C17: =IF(B17="","",COUNTIF(INDEX($B:$B,5):B17,B17)) | E17: =IF(OR(N17="",D17=""),"",IFERROR(INDEX('Facturi emise'!$G$5:$G$1004,MATCH(N17&"|"&D17,'Facturi emise'!$A$5:$A$1004,0)),"")) | F17: =IF(OR(N17="",D17=""),"",IFERROR(INDEX('Facturi emise'!$H$5:$H$1004,MATCH(N17&"|"&D17,'Facturi emise'!$A$5:$A$1004,0)),"")) | G17: =IF(OR(N17="",D17=""),"",IFERROR(INDEX('Facturi emise'!$I$5:$I$1004,MATCH(N17&"|"&D17,'Facturi emise'!$A$5:$A$1004,0)),"")) | I17: =IF(OR(N17="",D17=""),"",IFERROR(INDEX('Facturi emise'!$J$5:$J$1004,MATCH(N17&"|"&D17,'Facturi emise'!$A$5:$A$1004,0)),"")) | J17: =IF(OR(N17="",D17=""),"",IFERROR(INDEX('Facturi emise'!$K$5:$K$1004,MATCH(N17&"|"&D17,'Facturi emise'!$A$5:$A$1004,0)),"")) | K17: =IF(OR(H17="",I17=""),"",-ROUND(H17*I17,2)) | L17: =IF(OR(K17="",J17=""),"",ROUND(K17*J17,2)) | M17: =IF(B17="","",TRIM(IF(N17="","Factura storno nu există în registru. ",IF(ISNA(MATCH(N17&"|"&D17,'Facturi emise'!$A$5:$A$1004,0)),"Linia nu există în factura inițială. ",""))&IF(N(H17)<=0,"Lipsește cantitatea stornată. ","")&IF(AND(N(I17)=IFERROR(INDEX('Facturi emise'!$J$5:$J$1004,MATCH(N17&"|"&D17,'Facturi emise'!$A$5:$A$1004,0)),0),SUMIFS($H$5:$H$1004,$N$5:$N$1004,N17,$D$5:$D$1004,D17,$I$5:$I$1004,I17)>N(G17)),"Stornezi mai mult decât s-a facturat. ","")&IF(AND(N(I17)>0,N(I17)<IFERROR(INDEX('Facturi emise'!$J$5:$J$1004,MATCH(N17&"|"&D17,'Facturi emise'!$A$5:$A$1004,0)),0)),"Reducere de preț pe unitate. ",""))) | N17: =IF(B17="","",IFERROR(INDEX('Registru stornări'!$D$5:$D$304,MATCH(B17,'Registru stornări'!$B$5:$B$304,0)),""))
A18: =IF(B18="","",B18&"|"&C18) | C18: =IF(B18="","",COUNTIF(INDEX($B:$B,5):B18,B18)) | E18: =IF(OR(N18="",D18=""),"",IFERROR(INDEX('Facturi emise'!$G$5:$G$1004,MATCH(N18&"|"&D18,'Facturi emise'!$A$5:$A$1004,0)),"")) | F18: =IF(OR(N18="",D18=""),"",IFERROR(INDEX('Facturi emise'!$H$5:$H$1004,MATCH(N18&"|"&D18,'Facturi emise'!$A$5:$A$1004,0)),"")) | G18: =IF(OR(N18="",D18=""),"",IFERROR(INDEX('Facturi emise'!$I$5:$I$1004,MATCH(N18&"|"&D18,'Facturi emise'!$A$5:$A$1004,0)),"")) | I18: =IF(OR(N18="",D18=""),"",IFERROR(INDEX('Facturi emise'!$J$5:$J$1004,MATCH(N18&"|"&D18,'Facturi emise'!$A$5:$A$1004,0)),"")) | J18: =IF(OR(N18="",D18=""),"",IFERROR(INDEX('Facturi emise'!$K$5:$K$1004,MATCH(N18&"|"&D18,'Facturi emise'!$A$5:$A$1004,0)),"")) | K18: =IF(OR(H18="",I18=""),"",-ROUND(H18*I18,2)) | L18: =IF(OR(K18="",J18=""),"",ROUND(K18*J18,2)) | M18: =IF(B18="","",TRIM(IF(N18="","Factura storno nu există în registru. ",IF(ISNA(MATCH(N18&"|"&D18,'Facturi emise'!$A$5:$A$1004,0)),"Linia nu există în factura inițială. ",""))&IF(N(H18)<=0,"Lipsește cantitatea stornată. ","")&IF(AND(N(I18)=IFERROR(INDEX('Facturi emise'!$J$5:$J$1004,MATCH(N18&"|"&D18,'Facturi emise'!$A$5:$A$1004,0)),0),SUMIFS($H$5:$H$1004,$N$5:$N$1004,N18,$D$5:$D$1004,D18,$I$5:$I$1004,I18)>N(G18)),"Stornezi mai mult decât s-a facturat. ","")&IF(AND(N(I18)>0,N(I18)<IFERROR(INDEX('Facturi emise'!$J$5:$J$1004,MATCH(N18&"|"&D18,'Facturi emise'!$A$5:$A$1004,0)),0)),"Reducere de preț pe unitate. ",""))) | N18: =IF(B18="","",IFERROR(INDEX('Registru stornări'!$D$5:$D$304,MATCH(B18,'Registru stornări'!$B$5:$B$304,0)),""))
