Workbook
Name Angajator: Setări!$C$4
Name AnSal: Setări!$C$8
Name CotaCAM: Setări!$C$20
Name CotaCAS: Setări!$C$17
Name CotaCASS: Setări!$C$18
Name CotaImp: Setări!$C$19
Name DaNuSal: Setări!$H$4:$H$5
Name EsteTanar: Setări!$C$12
Name FunctiaAng: Setări!$C$6
Name FunctieBaza: Setări!$C$10
Name ListaLuniSal: Setări!$H$40:$H$51
Name Marca: Setări!$C$7
Name NormaZi: Setări!$C$9
Name NrCopii: Setări!$C$13
Name NrPers: Setări!$C$11
Name NumeAng: Setări!$C$5
Name PerData: Setări!$B$24:$B$30
Name PerNetax: Setări!$D$24:$D$30
Name PerPlafon: Setări!$E$24:$E$30
Name PerSM: Setări!$C$24:$C$30
Name RandSal: Fluturaș!$H$3
Name SarbSal: 'Zile libere'!$G$5:$G$21
Name SporSupl: Setări!$C$14

Sheet Fluturaș
B2: FLUTURAȘ DE SALARIU
B3: Luna: | C3: Septembrie | D3: =AnSal -> 2026 | E3: ← alege luna | H3: =MATCH(C3,ListaLuniSal,0)+4 -> 13
B5: Angajator: | C5: =Angajator -> Exemplu Servicii SRL | E5: Zile lucrătoare: | F5: =INDEX('Calcul lunar'!$D$1:$D$16,RandSal) -> 22
B6: Angajat: | C6: =NumeAng -> Ionescu Andrei | E6: Zile lucrate: | F6: =N(INDEX('Calcul lunar'!$E$1:$E$16,RandSal)) -> 22
B7: Funcția: | C7: =FunctiaAng -> Operator date | E7: Zile CO / CM: | F7: =N(INDEX('Calcul lunar'!$F$1:$F$16,RandSal))&" / "&N(INDEX('Calcul lunar'!$G$1:$G$16,RandSal)) -> 0 / 0
B8: Marca: | C8: =Marca -> 0007 | E8: Persoane în întreținere: | F8: =NrPers -> 1
B10: VENITURI
B11: Salariu de bază | F11: =N(INDEX('Calcul lunar'!$C$1:$C$16,RandSal)) -> 5000
B12: Salariu realizat (zile lucrate + CO) | F12: =N(INDEX('Calcul lunar'!$M$1:$M$16,RandSal)) -> 5000
B13: Plată ore suplimentare | F13: =N(INDEX('Calcul lunar'!$N$1:$N$16,RandSal)) -> 0
B14: Prime / bonusuri | F14: =N(INDEX('Calcul lunar'!$I$1:$I$16,RandSal)) -> 0
B15: Alte sporuri | F15: =N(INDEX('Calcul lunar'!$J$1:$J$16,RandSal)) -> 0
B16: VENIT BRUT | F16: =N(INDEX('Calcul lunar'!$O$1:$O$16,RandSal)) -> 5000
B18: REȚINERI
B19: Sumă netaxabilă (salariul minim) | F19: =N(INDEX('Calcul lunar'!$P$1:$P$16,RandSal)) -> 0
B20: CAS 25% (pensie) | F20: =N(INDEX('Calcul lunar'!$R$1:$R$16,RandSal)) -> 1250
B21: CASS 10% (sănătate) | F21: =N(INDEX('Calcul lunar'!$S$1:$S$16,RandSal)) -> 500
B22: Deducere personală | F22: =N(INDEX('Calcul lunar'!$T$1:$T$16,RandSal)) -> 779
B23: Bază de calcul impozit | F23: =N(INDEX('Calcul lunar'!$U$1:$U$16,RandSal)) -> 2471
B24: Impozit pe venit 10% | F24: =N(INDEX('Calcul lunar'!$V$1:$V$16,RandSal)) -> 247
B26: SALARIU NET | F26: =N(INDEX('Calcul lunar'!$W$1:$W$16,RandSal)) -> 3003
B28: Tichete de masă (acordate separat) | F28: =N(INDEX('Calcul lunar'!$K$1:$K$16,RandSal)) -> 0
B29: CAM 2,25% (plătit de angajator) | F29: =N(INDEX('Calcul lunar'!$X$1:$X$16,RandSal)) -> 113
B30: Cost total angajator | F30: =N(INDEX('Calcul lunar'!$Y$1:$Y$16,RandSal)) -> 5113
B32: =IF(INDEX('Calcul lunar'!$Z$1:$Z$16,RandSal)="","","Față de luna precedentă, salariul net este "&IF(INDEX('Calcul lunar'!$Z$1:$Z$16,RandSal)>=0,"mai mare","mai mic")&" cu "&TEXT(ABS(INDEX('Calcul lunar'!$Z$1:$Z$16,RandSal))*100,"0")&"%.") -> Față de luna precedentă, salariul net este mai mare cu 15%.
B34: Calcul orientativ. Indemnizația de concediu medical și cea de concediu de odihnă se calculează de contabil pe baza mediei veniturilor; în model, zilele de CO sunt plătite la salariul de bază.

Sheet Calcul lunar
B1: Calcul salariu pe luni
B2: =NumeAng&" – "&FunctiaAng&" – anul "&AnSal -> Ionescu Andrei – Operator date – anul 2026 | H2: Completează doar coloanele verzi. Ultima coloană compară salariul net cu luna precedentă: diferențele de peste 5% apar colorate.
B4: Luna | C4: Salariu de bază | D4: Zile lucrătoare | E4: Zile lucrate | F4: Zile CO | G4: Zile CM | H4: Ore suplimentare | I4: Prime / bonusuri | J4: Alte sporuri | K4: Tichete de masă (valoare) | L4: Salariul minim în lună | M4: Salariu realizat | N4: Plată ore suplimentare | O4: Venit brut | P4: Sumă netaxabilă | Q4: Bază CAS și CASS | R4: CAS 25% | S4: CASS 10% | T4: Deducere personală | U4: Bază impozit | V4: Impozit 10% | W4: Salariu net | X4: CAM 2,25% | Y4: Cost total angajator | Z4: Net față de luna precedentă | AA4: Data
B5: Ianuarie | C5: 5000 | D5: =NETWORKDAYS(AA5,EOMONTH(AA5,0),SarbSal) -> 18 | E5: 18 | L5: =INDEX(PerSM,MATCH(AA5,PerData,1)) -> 4050 | M5: =IF(C5="","",ROUND(C5/D5*(N(E5)+N(F5)),0)) -> 5000 | N5: =IF(C5="","",ROUND(C5/(D5*NormaZi)*N(H5)*(1+SporSupl),0)) -> 0 | O5: =IF(C5="","",M5+N5+N(I5)+N(J5)) -> 5000 | P5: =IF(C5="","",IF(AND(C5=L5,O5<=INDEX(PerPlafon,MATCH(AA5,PerData,1)),FunctieBaza="Da"),ROUND(INDEX(PerNetax,MATCH(AA5,PerData,1))*MIN(1,(N(E5)+N(F5))/D5),0),0)) -> 0 | Q5: =IF(C5="","",O5-P5) -> 5000 | R5: =IF(C5="","",ROUND(Q5*CotaCAS,0)) -> 1250 | S5: =IF(C5="","",ROUND((Q5+N(K5))*CotaCASS,0)) -> 500 | T5: =IF(C5="","",IF(OR(FunctieBaza<>"Da",O5>L5+2000),0,ROUND(L5*MAX(0,CHOOSE(MIN(NrPers,4)+1,0.2,0.25,0.3,0.35,0.45)-0.005*MAX(0,ROUNDUP((O5-L5)/50,0))),0)+IF(EsteTanar="Da",ROUND(0.15*L5,0),0)+100*NrCopii)) -> 628 | U5: =IF(C5="","",MAX(0,Q5+N(K5)-R5-S5-T5)) -> 2622 | V5: =IF(C5="","",ROUND(U5*CotaImp,0)) -> 262 | W5: =IF(C5="","",O5-R5-S5-V5) -> 2988 | X5: =IF(C5="","",ROUND(Q5*CotaCAM,0)) -> 113 | Y5: =IF(C5="","",O5+X5+N(K5)) -> 5113 | AA5: =DATE(AnSal,1,1) -> 46023
B6: Februarie | C6: 5000 | D6: =NETWORKDAYS(AA6,EOMONTH(AA6,0),SarbSal) -> 20 | E6: 20 | L6: =INDEX(PerSM,MATCH(AA6,PerData,1)) -> 4050 | M6: =IF(C6="","",ROUND(C6/D6*(N(E6)+N(F6)),0)) -> 5000 | N6: =IF(C6="","",ROUND(C6/(D6*NormaZi)*N(H6)*(1+SporSupl),0)) -> 0 | O6: =IF(C6="","",M6+N6+N(I6)+N(J6)) -> 5000 | P6: =IF(C6="","",IF(AND(C6=L6,O6<=INDEX(PerPlafon,MATCH(AA6,PerData,1)),FunctieBaza="Da"),ROUND(INDEX(PerNetax,MATCH(AA6,PerData,1))*MIN(1,(N(E6)+N(F6))/D6),0),0)) -> 0 | Q6: =IF(C6="","",O6-P6) -> 5000 | R6: =IF(C6="","",ROUND(Q6*CotaCAS,0)) -> 1250 | S6: =IF(C6="","",ROUND((Q6+N(K6))*CotaCASS,0)) -> 500 | T6: =IF(C6="","",IF(OR(FunctieBaza<>"Da",O6>L6+2000),0,ROUND(L6*MAX(0,CHOOSE(MIN(NrPers,4)+1,0.2,0.25,0.3,0.35,0.45)-0.005*MAX(0,ROUNDUP((O6-L6)/50,0))),0)+IF(EsteTanar="Da",ROUND(0.15*L6,0),0)+100*NrCopii)) -> 628 | U6: =IF(C6="","",MAX(0,Q6+N(K6)-R6-S6-T6)) -> 2622 | V6: =IF(C6="","",ROUND(U6*CotaImp,0)) -> 262 | W6: =IF(C6="","",O6-R6-S6-V6) -> 2988 | X6: =IF(C6="","",ROUND(Q6*CotaCAM,0)) -> 113 | Y6: =IF(C6="","",O6+X6+N(K6)) -> 5113 | Z6: =IF(OR(W6="",W5="",W5=0),"",W6/W5-1) -> 0 | AA6: =DATE(AnSal,2,1) -> 46054
B7: Martie | C7: 5000 | D7: =NETWORKDAYS(AA7,EOMONTH(AA7,0),SarbSal) -> 22 | E7: 20 | F7: 2 | H7: 6 | L7: =INDEX(PerSM,MATCH(AA7,PerData,1)) -> 4050 | M7: =IF(C7="","",ROUND(C7/D7*(N(E7)+N(F7)),0)) -> 5000 | N7: =IF(C7="","",ROUND(C7/(D7*NormaZi)*N(H7)*(1+SporSupl),0)) -> 298 | O7: =IF(C7="","",M7+N7+N(I7)+N(J7)) -> 5298 | P7: =IF(C7="","",IF(AND(C7=L7,O7<=INDEX(PerPlafon,MATCH(AA7,PerData,1)),FunctieBaza="Da"),ROUND(INDEX(PerNetax,MATCH(AA7,PerData,1))*MIN(1,(N(E7)+N(F7))/D7),0),0)) -> 0 | Q7: =IF(C7="","",O7-P7) -> 5298 | R7: =IF(C7="","",ROUND(Q7*CotaCAS,0)) -> 1325 | S7: =IF(C7="","",ROUND((Q7+N(K7))*CotaCASS,0)) -> 530 | T7: =IF(C7="","",IF(OR(FunctieBaza<>"Da",O7>L7+2000),0,ROUND(L7*MAX(0,CHOOSE(MIN(NrPers,4)+1,0.2,0.25,0.3,0.35,0.45)-0.005*MAX(0,ROUNDUP((O7-L7)/50,0))),0)+IF(EsteTanar="Da",ROUND(0.15*L7,0),0)+100*NrCopii)) -> 506 | U7: =IF(C7="","",MAX(0,Q7+N(K7)-R7-S7-T7)) -> 2937 | V7: =IF(C7="","",ROUND(U7*CotaImp,0)) -> 294 | W7: =IF(C7="","",O7-R7-S7-V7) -> 3149 | X7: =IF(C7="","",ROUND(Q7*CotaCAM,0)) -> 119 | Y7: =IF(C7="","",O7+X7+N(K7)) -> 5417 | Z7: =IF(OR(W7="",W6="",W6=0),"",W7/W6-1) -> 0.053882195 | AA7: =DATE(AnSal,3,1) -> 46082
B8: Aprilie | C8: 5000 | D8: =NETWORKDAYS(AA8,EOMONTH(AA8,0),SarbSal) -> 20 | E8: 20 | L8: =INDEX(PerSM,MATCH(AA8,PerData,1)) -> 4050 | M8: =IF(C8="","",ROUND(C8/D8*(N(E8)+N(F8)),0)) -> 5000 | N8: =IF(C8="","",ROUND(C8/(D8*NormaZi)*N(H8)*(1+SporSupl),0)) -> 0 | O8: =IF(C8="","",M8+N8+N(I8)+N(J8)) -> 5000 | P8: =IF(C8="","",IF(AND(C8=L8,O8<=INDEX(PerPlafon,MATCH(AA8,PerData,1)),FunctieBaza="Da"),ROUND(INDEX(PerNetax,MATCH(AA8,PerData,1))*MIN(1,(N(E8)+N(F8))/D8),0),0)) -> 0 | Q8: =IF(C8="","",O8-P8) -> 5000 | R8: =IF(C8="","",ROUND(Q8*CotaCAS,0)) -> 1250 | S8: =IF(C8="","",ROUND((Q8+N(K8))*CotaCASS,0)) -> 500 | T8: =IF(C8="","",IF(OR(FunctieBaza<>"Da",O8>L8+2000),0,ROUND(L8*MAX(0,CHOOSE(MIN(NrPers,4)+1,0.2,0.25,0.3,0.35,0.45)-0.005*MAX(0,ROUNDUP((O8-L8)/50,0))),0)+IF(EsteTanar="Da",ROUND(0.15*L8,0),0)+100*NrCopii)) -> 628 | U8: =IF(C8="","",MAX(0,Q8+N(K8)-R8-S8-T8)) -> 2622 | V8: =IF(C8="","",ROUND(U8*CotaImp,0)) -> 262 | W8: =IF(C8="","",O8-R8-S8-V8) -> 2988 | X8: =IF(C8="","",ROUND(Q8*CotaCAM,0)) -> 113 | Y8: =IF(C8="","",O8+X8+N(K8)) -> 5113 | Z8: =IF(OR(W8="",W7="",W7=0),"",W8/W7-1) -> -0.051127342 | AA8: =DATE(AnSal,4,1) -> 46113
B9: Mai | C9: 5000 | D9: =NETWORKDAYS(AA9,EOMONTH(AA9,0),SarbSal) -> 20 | E9: 15 | F9: 5 | L9: =INDEX(PerSM,MATCH(AA9,PerData,1)) -> 4050 | M9: =IF(C9="","",ROUND(C9/D9*(N(E9)+N(F9)),0)) -> 5000 | N9: =IF(C9="","",ROUND(C9/(D9*NormaZi)*N(H9)*(1+SporSupl),0)) -> 0 | O9: =IF(C9="","",M9+N9+N(I9)+N(J9)) -> 5000 | P9: =IF(C9="","",IF(AND(C9=L9,O9<=INDEX(PerPlafon,MATCH(AA9,PerData,1)),FunctieBaza="Da"),ROUND(INDEX(PerNetax,MATCH(AA9,PerData,1))*MIN(1,(N(E9)+N(F9))/D9),0),0)) -> 0 | Q9: =IF(C9="","",O9-P9) -> 5000 | R9: =IF(C9="","",ROUND(Q9*CotaCAS,0)) -> 1250 | S9: =IF(C9="","",ROUND((Q9+N(K9))*CotaCASS,0)) -> 500 | T9: =IF(C9="","",IF(OR(FunctieBaza<>"Da",O9>L9+2000),0,ROUND(L9*MAX(0,CHOOSE(MIN(NrPers,4)+1,0.2,0.25,0.3,0.35,0.45)-0.005*MAX(0,ROUNDUP((O9-L9)/50,0))),0)+IF(EsteTanar="Da",ROUND(0.15*L9,0),0)+100*NrCopii)) -> 628 | U9: =IF(C9="","",MAX(0,Q9+N(K9)-R9-S9-T9)) -> 2622 | V9: =IF(C9="","",ROUND(U9*CotaImp,0)) -> 262 | W9: =IF(C9="","",O9-R9-S9-V9) -> 2988 | X9: =IF(C9="","",ROUND(Q9*CotaCAM,0)) -> 113 | Y9: =IF(C9="","",O9+X9+N(K9)) -> 5113 | Z9: =IF(OR(W9="",W8="",W8=0),"",W9/W8-1) -> 0 | AA9: =DATE(AnSal,5,1) -> 46143
B10: Iunie | C10: 5000 | D10: =NETWORKDAYS(AA10,EOMONTH(AA10,0),SarbSal) -> 21 | E10: 21 | L10: =INDEX(PerSM,MATCH(AA10,PerData,1)) -> 4050 | M10: =IF(C10="","",ROUND(C10/D10*(N(E10)+N(F10)),0)) -> 5000 | N10: =IF(C10="","",ROUND(C10/(D10*NormaZi)*N(H10)*(1+SporSupl),0)) -> 0 | O10: =IF(C10="","",M10+N10+N(I10)+N(J10)) -> 5000 | P10: =IF(C10="","",IF(AND(C10=L10,O10<=INDEX(PerPlafon,MATCH(AA10,PerData,1)),FunctieBaza="Da"),ROUND(INDEX(PerNetax,MATCH(AA10,PerData,1))*MIN(1,(N(E10)+N(F10))/D10),0),0)) -> 0 | Q10: =IF(C10="","",O10-P10) -> 5000 | R10: =IF(C10="","",ROUND(Q10*CotaCAS,0)) -> 1250 | S10: =IF(C10="","",ROUND((Q10+N(K10))*CotaCASS,0)) -> 500 | T10: =IF(C10="","",IF(OR(FunctieBaza<>"Da",O10>L10+2000),0,ROUND(L10*MAX(0,CHOOSE(MIN(NrPers,4)+1,0.2,0.25,0.3,0.35,0.45)-0.005*MAX(0,ROUNDUP((O10-L10)/50,0))),0)+IF(EsteTanar="Da",ROUND(0.15*L10,0),0)+100*NrCopii)) -> 628 | U10: =IF(C10="","",MAX(0,Q10+N(K10)-R10-S10-T10)) -> 2622 | V10: =IF(C10="","",ROUND(U10*CotaImp,0)) -> 262 | W10: =IF(C10="","",O10-R10-S10-V10) -> 2988 | X10: =IF(C10="","",ROUND(Q10*CotaCAM,0)) -> 113 | Y10: =IF(C10="","",O10+X10+N(K10)) -> 5113 | Z10: =IF(OR(W10="",W9="",W9=0),"",W10/W9-1) -> 0 | AA10: =DATE(AnSal,6,1) -> 46174
B11: Iulie | C11: 5000 | D11: =NETWORKDAYS(AA11,EOMONTH(AA11,0),SarbSal) -> 23 | E11: 23 | H11: 4 | I11: 500 | L11: =INDEX(PerSM,MATCH(AA11,PerData,1)) -> 4325 | M11: =IF(C11="","",ROUND(C11/D11*(N(E11)+N(F11)),0)) -> 5000 | N11: =IF(C11="","",ROUND(C11/(D11*NormaZi)*N(H11)*(1+SporSupl),0)) -> 190 | O11: =IF(C11="","",M11+N11+N(I11)+N(J11)) -> 5690 | P11: =IF(C11="","",IF(AND(C11=L11,O11<=INDEX(PerPlafon,MATCH(AA11,PerData,1)),FunctieBaza="Da"),ROUND(INDEX(PerNetax,MATCH(AA11,PerData,1))*MIN(1,(N(E11)+N(F11))/D11),0),0)) -> 0 | Q11: =IF(C11="","",O11-P11) -> 5690 | R11: =IF(C11="","",ROUND(Q11*CotaCAS,0)) -> 1423 | S11: =IF(C11="","",ROUND((Q11+N(K11))*CotaCASS,0)) -> 569 | T11: =IF(C11="","",IF(OR(FunctieBaza<>"Da",O11>L11+2000),0,ROUND(L11*MAX(0,CHOOSE(MIN(NrPers,4)+1,0.2,0.25,0.3,0.35,0.45)-0.005*MAX(0,ROUNDUP((O11-L11)/50,0))),0)+IF(EsteTanar="Da",ROUND(0.15*L11,0),0)+100*NrCopii)) -> 476 | U11: =IF(C11="","",MAX(0,Q11+N(K11)-R11-S11-T11)) -> 3222 | V11: =IF(C11="","",ROUND(U11*CotaImp,0)) -> 322 | W11: =IF(C11="","",O11-R11-S11-V11) -> 3376 | X11: =IF(C11="","",ROUND(Q11*CotaCAM,0)) -> 128 | Y11: =IF(C11="","",O11+X11+N(K11)) -> 5818 | Z11: =IF(OR(W11="",W10="",W10=0),"",W11/W10-1) -> 0.12985274 | AA11: =DATE(AnSal,7,1) -> 46204
B12: August | C12: 5000 | D12: =NETWORKDAYS(AA12,EOMONTH(AA12,0),SarbSal) -> 21 | E12: 11 | F12: 7 | G12: 3 | L12: =INDEX(PerSM,MATCH(AA12,PerData,1)) -> 4325 | M12: =IF(C12="","",ROUND(C12/D12*(N(E12)+N(F12)),0)) -> 4286 | N12: =IF(C12="","",ROUND(C12/(D12*NormaZi)*N(H12)*(1+SporSupl),0)) -> 0 | O12: =IF(C12="","",M12+N12+N(I12)+N(J12)) -> 4286 | P12: =IF(C12="","",IF(AND(C12=L12,O12<=INDEX(PerPlafon,MATCH(AA12,PerData,1)),FunctieBaza="Da"),ROUND(INDEX(PerNetax,MATCH(AA12,PerData,1))*MIN(1,(N(E12)+N(F12))/D12),0),0)) -> 0 | Q12: =IF(C12="","",O12-P12) -> 4286 | R12: =IF(C12="","",ROUND(Q12*CotaCAS,0)) -> 1072 | S12: =IF(C12="","",ROUND((Q12+N(K12))*CotaCASS,0)) -> 429 | T12: =IF(C12="","",IF(OR(FunctieBaza<>"Da",O12>L12+2000),0,ROUND(L12*MAX(0,CHOOSE(MIN(NrPers,4)+1,0.2,0.25,0.3,0.35,0.45)-0.005*MAX(0,ROUNDUP((O12-L12)/50,0))),0)+IF(EsteTanar="Da",ROUND(0.15*L12,0),0)+100*NrCopii)) -> 1081 | U12: =IF(C12="","",MAX(0,Q12+N(K12)-R12-S12-T12)) -> 1704 | V12: =IF(C12="","",ROUND(U12*CotaImp,0)) -> 170 | W12: =IF(C12="","",O12-R12-S12-V12) -> 2615 | X12: =IF(C12="","",ROUND(Q12*CotaCAM,0)) -> 96 | Y12: =IF(C12="","",O12+X12+N(K12)) -> 4382 | Z12: =IF(OR(W12="",W11="",W11=0),"",W12/W11-1) -> -0.22541469 | AA12: =DATE(AnSal,8,1) -> 46235
B13: Septembrie | C13: 5000 | D13: =NETWORKDAYS(AA13,EOMONTH(AA13,0),SarbSal) -> 22 | E13: 22 | L13: =INDEX(PerSM,MATCH(AA13,PerData,1)) -> 4325 | M13: =IF(C13="","",ROUND(C13/D13*(N(E13)+N(F13)),0)) -> 5000 | N13: =IF(C13="","",ROUND(C13/(D13*NormaZi)*N(H13)*(1+SporSupl),0)) -> 0 | O13: =IF(C13="","",M13+N13+N(I13)+N(J13)) -> 5000 | P13: =IF(C13="","",IF(AND(C13=L13,O13<=INDEX(PerPlafon,MATCH(AA13,PerData,1)),FunctieBaza="Da"),ROUND(INDEX(PerNetax,MATCH(AA13,PerData,1))*MIN(1,(N(E13)+N(F13))/D13),0),0)) -> 0 | Q13: =IF(C13="","",O13-P13) -> 5000 | R13: =IF(C13="","",ROUND(Q13*CotaCAS,0)) -> 1250 | S13: =IF(C13="","",ROUND((Q13+N(K13))*CotaCASS,0)) -> 500 | T13: =IF(C13="","",IF(OR(FunctieBaza<>"Da",O13>L13+2000),0,ROUND(L13*MAX(0,CHOOSE(MIN(NrPers,4)+1,0.2,0.25,0.3,0.35,0.45)-0.005*MAX(0,ROUNDUP((O13-L13)/50,0))),0)+IF(EsteTanar="Da",ROUND(0.15*L13,0),0)+100*NrCopii)) -> 779 | U13: =IF(C13="","",MAX(0,Q13+N(K13)-R13-S13-T13)) -> 2471 | V13: =IF(C13="","",ROUND(U13*CotaImp,0)) -> 247 | W13: =IF(C13="","",O13-R13-S13-V13) -> 3003 | X13: =IF(C13="","",ROUND(Q13*CotaCAM,0)) -> 113 | Y13: =IF(C13="","",O13+X13+N(K13)) -> 5113 | Z13: =IF(OR(W13="",W12="",W12=0),"",W13/W12-1) -> 0.14837476 | AA13: =DATE(AnSal,9,1) -> 46266
B14: Octombrie | D14: =NETWORKDAYS(AA14,EOMONTH(AA14,0),SarbSal) -> 22 | L14: =INDEX(PerSM,MATCH(AA14,PerData,1)) -> 4325 | M14: =IF(C14="","",ROUND(C14/D14*(N(E14)+N(F14)),0)) | N14: =IF(C14="","",ROUND(C14/(D14*NormaZi)*N(H14)*(1+SporSupl),0)) | O14: =IF(C14="","",M14+N14+N(I14)+N(J14)) | P14: =IF(C14="","",IF(AND(C14=L14,O14<=INDEX(PerPlafon,MATCH(AA14,PerData,1)),FunctieBaza="Da"),ROUND(INDEX(PerNetax,MATCH(AA14,PerData,1))*MIN(1,(N(E14)+N(F14))/D14),0),0)) | Q14: =IF(C14="","",O14-P14) | R14: =IF(C14="","",ROUND(Q14*CotaCAS,0)) | S14: =IF(C14="","",ROUND((Q14+N(K14))*CotaCASS,0)) | T14: =IF(C14="","",IF(OR(FunctieBaza<>"Da",O14>L14+2000),0,ROUND(L14*MAX(0,CHOOSE(MIN(NrPers,4)+1,0.2,0.25,0.3,0.35,0.45)-0.005*MAX(0,ROUNDUP((O14-L14)/50,0))),0)+IF(EsteTanar="Da",ROUND(0.15*L14,0),0)+100*NrCopii)) | U14: =IF(C14="","",MAX(0,Q14+N(K14)-R14-S14-T14)) | V14: =IF(C14="","",ROUND(U14*CotaImp,0)) | W14: =IF(C14="","",O14-R14-S14-V14) | X14: =IF(C14="","",ROUND(Q14*CotaCAM,0)) | Y14: =IF(C14="","",O14+X14+N(K14)) | Z14: =IF(OR(W14="",W13="",W13=0),"",W14/W13-1) | AA14: =DATE(AnSal,10,1) -> 46296
B15: Noiembrie | D15: =NETWORKDAYS(AA15,EOMONTH(AA15,0),SarbSal) -> 20 | L15: =INDEX(PerSM,MATCH(AA15,PerData,1)) -> 4325 | M15: =IF(C15="","",ROUND(C15/D15*(N(E15)+N(F15)),0)) | N15: =IF(C15="","",ROUND(C15/(D15*NormaZi)*N(H15)*(1+SporSupl),0)) | O15: =IF(C15="","",M15+N15+N(I15)+N(J15)) | P15: =IF(C15="","",IF(AND(C15=L15,O15<=INDEX(PerPlafon,MATCH(AA15,PerData,1)),FunctieBaza="Da"),ROUND(INDEX(PerNetax,MATCH(AA15,PerData,1))*MIN(1,(N(E15)+N(F15))/D15),0),0)) | Q15: =IF(C15="","",O15-P15) | R15: =IF(C15="","",ROUND(Q15*CotaCAS,0)) | S15: =IF(C15="","",ROUND((Q15+N(K15))*CotaCASS,0)) | T15: =IF(C15="","",IF(OR(FunctieBaza<>"Da",O15>L15+2000),0,ROUND(L15*MAX(0,CHOOSE(MIN(NrPers,4)+1,0.2,0.25,0.3,0.35,0.45)-0.005*MAX(0,ROUNDUP((O15-L15)/50,0))),0)+IF(EsteTanar="Da",ROUND(0.15*L15,0),0)+100*NrCopii)) | U15: =IF(C15="","",MAX(0,Q15+N(K15)-R15-S15-T15)) | V15: =IF(C15="","",ROUND(U15*CotaImp,0)) | W15: =IF(C15="","",O15-R15-S15-V15) | X15: =IF(C15="","",ROUND(Q15*CotaCAM,0)) | Y15: =IF(C15="","",O15+X15+N(K15)) | Z15: =IF(OR(W15="",W14="",W14=0),"",W15/W14-1) | AA15: =DATE(AnSal,11,1) -> 46327
B16: Decembrie | D16: =NETWORKDAYS(AA16,EOMONTH(AA16,0),SarbSal) -> 21 | L16: =INDEX(PerSM,MATCH(AA16,PerData,1)) -> 4325 | M16: =IF(C16="","",ROUND(C16/D16*(N(E16)+N(F16)),0)) | N16: =IF(C16="","",ROUND(C16/(D16*NormaZi)*N(H16)*(1+SporSupl),0)) | O16: =IF(C16="","",M16+N16+N(I16)+N(J16)) | P16: =IF(C16="","",IF(AND(C16=L16,O16<=INDEX(PerPlafon,MATCH(AA16,PerData,1)),FunctieBaza="Da"),ROUND(INDEX(PerNetax,MATCH(AA16,PerData,1))*MIN(1,(N(E16)+N(F16))/D16),0),0)) | Q16: =IF(C16="","",O16-P16) | R16: =IF(C16="","",ROUND(Q16*CotaCAS,0)) | S16: =IF(C16="","",ROUND((Q16+N(K16))*CotaCASS,0)) | T16: =IF(C16="","",IF(OR(FunctieBaza<>"Da",O16>L16+2000),0,ROUND(L16*MAX(0,CHOOSE(MIN(NrPers,4)+1,0.2,0.25,0.3,0.35,0.45)-0.005*MAX(0,ROUNDUP((O16-L16)/50,0))),0)+IF(EsteTanar="Da",ROUND(0.15*L16,0),0)+100*NrCopii)) | U16: =IF(C16="","",MAX(0,Q16+N(K16)-R16-S16-T16)) | V16: =IF(C16="","",ROUND(U16*CotaImp,0)) | W16: =IF(C16="","",O16-R16-S16-V16) | X16: =IF(C16="","",ROUND(Q16*CotaCAM,0)) | Y16: =IF(C16="","",O16+X16+N(K16)) | Z16: =IF(OR(W16="",W15="",W15=0),"",W16/W15-1) | AA16: =DATE(AnSal,12,1) -> 46357
B17: TOTAL AN | M17: =SUM(M5:M16) -> 44286 | N17: =SUM(N5:N16) -> 488 | O17: =SUM(O5:O16) -> 45274 | P17: =SUM(P5:P16) -> 0 | Q17: =SUM(Q5:Q16) -> 45274 | R17: =SUM(R5:R16) -> 11320 | S17: =SUM(S5:S16) -> 4528 | T17: =SUM(T5:T16) -> 5982 | ... Y17: =SUM(Y5:Y16) -> 46295

Sheet Setări
B2: Setări: angajat, angajator și parametri legali
B4: Angajator | C4: Exemplu Servicii SRL | H4: Da
B5: Nume angajat | C5: Ionescu Andrei | H5: Nu
B6: Funcția | C6: Operator date
B7: Marca / nr. intern | C7: 0007
B8: Anul | C8: 2026
B9: Normă zilnică (ore) | C9: 8
B10: Funcție de bază (Da/Nu) | C10: Da
B11: Persoane în întreținere (0–4) | C11: 1
B12: Sub 26 de ani (Da/Nu) | C12: Nu
B13: Copii înscriși la școală (nr.) | C13: 0
B14: Spor ore suplimentare | C14: 0.75
B16: Cote
B17: CAS (pensie) – angajat | C17: 0.25
B18: CASS (sănătate) – angajat | C18: 0.1
B19: Impozit pe venit | C19: 0.1
B20: CAM – angajator | C20: 0.0225
B22: Salariul minim și suma netaxabilă (pe perioade)
B23: Valabil de la | C23: Salariul minim brut | D23: Sumă netaxabilă | E23: Plafon venit brut
B24: =DATE(2025,1,1) -> 45658 | C24: 4050 | D24: 300 | E24: 4300
B25: =DATE(2026,1,1) -> 46023 | C25: 4050 | D25: 300 | E25: 4300
B26: =DATE(2026,7,1) -> 46204 | C26: 4325 | D26: 200 | E26: 4600
B32: Când se schimbă salariul minim, adaugă un rând nou sub ultimul, cu data de la care se aplică (în ordine cronologică).
B33: Suma netaxabilă se aplică doar dacă salariul de bază este egal cu salariul minim, venitul brut nu depășește plafonul, iar angajatul lucrează cu normă întreagă la funcția de bază.
B34: Deducerea personală: 20% din salariul minim (25%, 30%, 35% sau 45% cu 1, 2, 3 sau 4+ persoane în întreținere) pentru venit brut până la salariul minim; scade cu 0,5 puncte procentuale la fiecare 50 lei peste salariul minim și nu se mai acordă peste salariul minim + 2.000 lei.
B35: Deduceri suplimentare: 15% din salariul minim pentru tinerii sub 26 de ani și 100 lei pentru fiecare copil înscris la școală, în aceleași limite de venit. Verifică condițiile cu contabilul.
H40: Ianuarie
H41: Februarie
H42: Martie
H43: Aprilie
H44: Mai
H45: Iunie
H46: Iulie
H47: August
H48: Septembrie
H49: Octombrie
H50: Noiembrie
H51: Decembrie
B53: © 2026 Ray Moreno – modelexcel.ro
B54: Model gratuit: îl poți folosi și adapta în activitatea ta. Nu este permisă revânzarea lui sau publicarea pe alte site-uri.
...

Sheet Zile libere
B2: Sărbători legale (pentru zilele lucrătoare)
B4: Sărbătoare | C4: Data | G4: =DATE(AnSal,INT((MOD(19*MOD(AnSal,19)+15,30)+MOD(2*MOD(AnSal,4)+4*MOD(AnSal,7)-MOD(19*MOD(AnSal,19)+15,30)+34,7)+114)/31),MOD(MOD(19*MOD(AnSal,19)+15,30)+MOD(2*MOD(AnSal,4)+4*MOD(AnSal,7)-MOD(19*MOD(AnSal,19)+15,30)+34,7)+114,31)+1)+13 -> 46124
B5: Anul Nou | C5: =RIGHT("0"&DAY(G5),2)&"."&RIGHT("0"&MONTH(G5),2)&"."&YEAR(G5) -> 01.01.2026 | G5: =DATE(AnSal,1,1) -> 46023
B6: A doua zi de Anul Nou | C6: =RIGHT("0"&DAY(G6),2)&"."&RIGHT("0"&MONTH(G6),2)&"."&YEAR(G6) -> 02.01.2026 | G6: =DATE(AnSal,1,2) -> 46024
B7: Boboteaza | C7: =RIGHT("0"&DAY(G7),2)&"."&RIGHT("0"&MONTH(G7),2)&"."&YEAR(G7) -> 06.01.2026 | G7: =DATE(AnSal,1,6) -> 46028
B8: Sfântul Ioan | C8: =RIGHT("0"&DAY(G8),2)&"."&RIGHT("0"&MONTH(G8),2)&"."&YEAR(G8) -> 07.01.2026 | G8: =DATE(AnSal,1,7) -> 46029
B9: Ziua Unirii | C9: =RIGHT("0"&DAY(G9),2)&"."&RIGHT("0"&MONTH(G9),2)&"."&YEAR(G9) -> 24.01.2026 | G9: =DATE(AnSal,1,24) -> 46046
B10: Vinerea Mare | C10: =RIGHT("0"&DAY(G10),2)&"."&RIGHT("0"&MONTH(G10),2)&"."&YEAR(G10) -> 10.04.2026 | G10: =$G$4-2 -> 46122
B11: Paștele | C11: =RIGHT("0"&DAY(G11),2)&"."&RIGHT("0"&MONTH(G11),2)&"."&YEAR(G11) -> 12.04.2026 | G11: =$G$4 -> 46124
B12: A doua zi de Paște | C12: =RIGHT("0"&DAY(G12),2)&"."&RIGHT("0"&MONTH(G12),2)&"."&YEAR(G12) -> 13.04.2026 | G12: =$G$4+1 -> 46125
B13: Ziua Muncii | C13: =RIGHT("0"&DAY(G13),2)&"."&RIGHT("0"&MONTH(G13),2)&"."&YEAR(G13) -> 01.05.2026 | G13: =DATE(AnSal,5,1) -> 46143
B14: Ziua Copilului | C14: =RIGHT("0"&DAY(G14),2)&"."&RIGHT("0"&MONTH(G14),2)&"."&YEAR(G14) -> 01.06.2026 | G14: =DATE(AnSal,6,1) -> 46174
B15: Rusaliile | C15: =RIGHT("0"&DAY(G15),2)&"."&RIGHT("0"&MONTH(G15),2)&"."&YEAR(G15) -> 31.05.2026 | G15: =$G$4+49 -> 46173
B16: A doua zi de Rusalii | C16: =RIGHT("0"&DAY(G16),2)&"."&RIGHT("0"&MONTH(G16),2)&"."&YEAR(G16) -> 01.06.2026 | G16: =$G$4+50 -> 46174
B17: Sfânta Maria | C17: =RIGHT("0"&DAY(G17),2)&"."&RIGHT("0"&MONTH(G17),2)&"."&YEAR(G17) -> 15.08.2026 | G17: =DATE(AnSal,8,15) -> 46249
B18: Sfântul Andrei | C18: =RIGHT("0"&DAY(G18),2)&"."&RIGHT("0"&MONTH(G18),2)&"."&YEAR(G18) -> 30.11.2026 | G18: =DATE(AnSal,11,30) -> 46356
B19: Ziua Națională | C19: =RIGHT("0"&DAY(G19),2)&"."&RIGHT("0"&MONTH(G19),2)&"."&YEAR(G19) -> 01.12.2026 | G19: =DATE(AnSal,12,1) -> 46357
B20: Crăciunul | C20: =RIGHT("0"&DAY(G20),2)&"."&RIGHT("0"&MONTH(G20),2)&"."&YEAR(G20) -> 25.12.2026 | G20: =DATE(AnSal,12,25) -> 46381
B21: A doua zi de Crăciun | C21: =RIGHT("0"&DAY(G21),2)&"."&RIGHT("0"&MONTH(G21),2)&"."&YEAR(G21) -> 26.12.2026 | G21: =DATE(AnSal,12,26) -> 46382
