Workbook
Name ArC: Articole!$E$5:$E$2004
Name ArD: Articole!$D$5:$D$2004
Name ArData: Articole!$G$5:$G$2004
Name ArExp: Articole!$C$5:$C$2004
Name ArKey: Articole!$L$5:$L$2004
Name ArNr: Articole!$B$5:$B$2004
Name ArSort: Articole!$M$5:$M$2004
Name ArSuma: Articole!$F$5:$F$2004
Name CUIEnt: 'Plan de conturi'!$C$5
Name Entitate: 'Plan de conturi'!$C$4
Name NrNC: 'Notă contabilă'!$E$5
Name PlanCont: 'Plan de conturi'!$B$8:$B$207
Name PlanDen: 'Plan de conturi'!$C$8:$C$207
Name PlanTip: 'Plan de conturi'!$D$8:$D$207
Name RandNC: 'Notă contabilă'!$K$1

Sheet Notă contabilă
B1: =Entitate -> Exemplu Distribuție SRL | K1: =IFERROR(MATCH(NrNC,'Registru note'!$B$5:$B$504,0),0) -> 2
B2: ="CUI "&CUIEnt -> CUI RO12345678
B4: NOTĂ DE CONTABILITATE
D5: Nr. | E5: 2 | F5: din | G5: =IF(RandNC=0,"",RIGHT("0"&DAY(INDEX('Registru note'!$C$5:$C$504,RandNC)),2)&"."&RIGHT("0"&MONTH(INDEX('Registru note'!$C$5:$C$504,RandNC)),2)&"."&YEAR(INDEX('Registru note'!$C$5:$C$504,RandNC))) -> 31.10.2026 | J5: ← alege nota
B7: Explicație: | D7: =IF(RandNC=0,"",IF(INDEX('Registru note'!$E$5:$E$504,RandNC)="","—",INDEX('Registru note'!$E$5:$E$504,RandNC))) -> Salariile și contribuțiile – octombrie 2026
B8: Tipul operațiunii: | D8: =IF(RandNC=0,"",IF(INDEX('Registru note'!$D$5:$D$504,RandNC)="","—",INDEX('Registru note'!$D$5:$D$504,RandNC))) -> Închidere de lună
B9: Document justificativ: | D9: =IF(RandNC=0,"",IF(INDEX('Registru note'!$F$5:$F$504,RandNC)="","—",INDEX('Registru note'!$F$5:$F$504,RandNC))) -> Stat de plată, octombrie 2026
B10: Ce stornează: | D10: =IF(RandNC=0,"",IF(INDEX('Registru note'!$G$5:$G$504,RandNC)="","—",INDEX('Registru note'!$G$5:$G$504,RandNC))) -> —
B12: Nr. | C12: Explicația | F12: Cont debitor | G12: Cont creditor | H12: Suma (lei)
B13: =IF(ISNUMBER(MATCH(NrNC&"|"&1,ArKey,0)),1,"") -> 1 | C13: =IF($B13="","",INDEX(ArExp,MATCH(NrNC&"|"&1,ArKey,0))) -> Salariile brute ale lunii | F13: =IF($B13="","",INDEX(ArD,MATCH(NrNC&"|"&1,ArKey,0))) -> 641 | G13: =IF($B13="","",INDEX(ArC,MATCH(NrNC&"|"&1,ArKey,0))) -> 421 | H13: =IF($B13="","",INDEX(ArSuma,MATCH(NrNC&"|"&1,ArKey,0))) -> 18000
B14: =IF(ISNUMBER(MATCH(NrNC&"|"&2,ArKey,0)),2,"") -> 2 | C14: =IF($B14="","",INDEX(ArExp,MATCH(NrNC&"|"&2,ArKey,0))) -> Contribuția de asigurări sociale reținută | F14: =IF($B14="","",INDEX(ArD,MATCH(NrNC&"|"&2,ArKey,0))) -> 421 | G14: =IF($B14="","",INDEX(ArC,MATCH(NrNC&"|"&2,ArKey,0))) -> 4315 | H14: =IF($B14="","",INDEX(ArSuma,MATCH(NrNC&"|"&2,ArKey,0))) -> 4500
B15: =IF(ISNUMBER(MATCH(NrNC&"|"&3,ArKey,0)),3,"") -> 3 | C15: =IF($B15="","",INDEX(ArExp,MATCH(NrNC&"|"&3,ArKey,0))) -> Contribuția de asigurări sociale de sănătate reținută | F15: =IF($B15="","",INDEX(ArD,MATCH(NrNC&"|"&3,ArKey,0))) -> 421 | G15: =IF($B15="","",INDEX(ArC,MATCH(NrNC&"|"&3,ArKey,0))) -> 4316 | H15: =IF($B15="","",INDEX(ArSuma,MATCH(NrNC&"|"&3,ArKey,0))) -> 1800
B16: =IF(ISNUMBER(MATCH(NrNC&"|"&4,ArKey,0)),4,"") -> 4 | C16: =IF($B16="","",INDEX(ArExp,MATCH(NrNC&"|"&4,ArKey,0))) -> Impozitul pe salarii reținut | F16: =IF($B16="","",INDEX(ArD,MATCH(NrNC&"|"&4,ArKey,0))) -> 421 | G16: =IF($B16="","",INDEX(ArC,MATCH(NrNC&"|"&4,ArKey,0))) -> 444 | H16: =IF($B16="","",INDEX(ArSuma,MATCH(NrNC&"|"&4,ArKey,0))) -> 1170
B17: =IF(ISNUMBER(MATCH(NrNC&"|"&5,ArKey,0)),5,"") -> 5 | C17: =IF($B17="","",INDEX(ArExp,MATCH(NrNC&"|"&5,ArKey,0))) -> Contribuția asiguratorie pentru muncă | F17: =IF($B17="","",INDEX(ArD,MATCH(NrNC&"|"&5,ArKey,0))) -> 646 | G17: =IF($B17="","",INDEX(ArC,MATCH(NrNC&"|"&5,ArKey,0))) -> 436 | H17: =IF($B17="","",INDEX(ArSuma,MATCH(NrNC&"|"&5,ArKey,0))) -> 405
B18: =IF(ISNUMBER(MATCH(NrNC&"|"&6,ArKey,0)),6,"") | C18: =IF($B18="","",INDEX(ArExp,MATCH(NrNC&"|"&6,ArKey,0))) | F18: =IF($B18="","",INDEX(ArD,MATCH(NrNC&"|"&6,ArKey,0))) | G18: =IF($B18="","",INDEX(ArC,MATCH(NrNC&"|"&6,ArKey,0))) | H18: =IF($B18="","",INDEX(ArSuma,MATCH(NrNC&"|"&6,ArKey,0)))
B19: =IF(ISNUMBER(MATCH(NrNC&"|"&7,ArKey,0)),7,"") | C19: =IF($B19="","",INDEX(ArExp,MATCH(NrNC&"|"&7,ArKey,0))) | F19: =IF($B19="","",INDEX(ArD,MATCH(NrNC&"|"&7,ArKey,0))) | G19: =IF($B19="","",INDEX(ArC,MATCH(NrNC&"|"&7,ArKey,0))) | H19: =IF($B19="","",INDEX(ArSuma,MATCH(NrNC&"|"&7,ArKey,0)))
B20: =IF(ISNUMBER(MATCH(NrNC&"|"&8,ArKey,0)),8,"") | C20: =IF($B20="","",INDEX(ArExp,MATCH(NrNC&"|"&8,ArKey,0))) | F20: =IF($B20="","",INDEX(ArD,MATCH(NrNC&"|"&8,ArKey,0))) | G20: =IF($B20="","",INDEX(ArC,MATCH(NrNC&"|"&8,ArKey,0))) | H20: =IF($B20="","",INDEX(ArSuma,MATCH(NrNC&"|"&8,ArKey,0)))
B21: =IF(ISNUMBER(MATCH(NrNC&"|"&9,ArKey,0)),9,"") | C21: =IF($B21="","",INDEX(ArExp,MATCH(NrNC&"|"&9,ArKey,0))) | F21: =IF($B21="","",INDEX(ArD,MATCH(NrNC&"|"&9,ArKey,0))) | G21: =IF($B21="","",INDEX(ArC,MATCH(NrNC&"|"&9,ArKey,0))) | H21: =IF($B21="","",INDEX(ArSuma,MATCH(NrNC&"|"&9,ArKey,0)))
B22: =IF(ISNUMBER(MATCH(NrNC&"|"&10,ArKey,0)),10,"") | C22: =IF($B22="","",INDEX(ArExp,MATCH(NrNC&"|"&10,ArKey,0))) | F22: =IF($B22="","",INDEX(ArD,MATCH(NrNC&"|"&10,ArKey,0))) | G22: =IF($B22="","",INDEX(ArC,MATCH(NrNC&"|"&10,ArKey,0))) | H22: =IF($B22="","",INDEX(ArSuma,MATCH(NrNC&"|"&10,ArKey,0)))
B23: =IF(ISNUMBER(MATCH(NrNC&"|"&11,ArKey,0)),11,"") | C23: =IF($B23="","",INDEX(ArExp,MATCH(NrNC&"|"&11,ArKey,0))) | F23: =IF($B23="","",INDEX(ArD,MATCH(NrNC&"|"&11,ArKey,0))) | G23: =IF($B23="","",INDEX(ArC,MATCH(NrNC&"|"&11,ArKey,0))) | H23: =IF($B23="","",INDEX(ArSuma,MATCH(NrNC&"|"&11,ArKey,0)))
B24: =IF(ISNUMBER(MATCH(NrNC&"|"&12,ArKey,0)),12,"") | C24: =IF($B24="","",INDEX(ArExp,MATCH(NrNC&"|"&12,ArKey,0))) | F24: =IF($B24="","",INDEX(ArD,MATCH(NrNC&"|"&12,ArKey,0))) | G24: =IF($B24="","",INDEX(ArC,MATCH(NrNC&"|"&12,ArKey,0))) | H24: =IF($B24="","",INDEX(ArSuma,MATCH(NrNC&"|"&12,ArKey,0)))
B25: =IF(ISNUMBER(MATCH(NrNC&"|"&13,ArKey,0)),13,"") | C25: =IF($B25="","",INDEX(ArExp,MATCH(NrNC&"|"&13,ArKey,0))) | F25: =IF($B25="","",INDEX(ArD,MATCH(NrNC&"|"&13,ArKey,0))) | G25: =IF($B25="","",INDEX(ArC,MATCH(NrNC&"|"&13,ArKey,0))) | H25: =IF($B25="","",INDEX(ArSuma,MATCH(NrNC&"|"&13,ArKey,0)))
B26: =IF(ISNUMBER(MATCH(NrNC&"|"&14,ArKey,0)),14,"") | C26: =IF($B26="","",INDEX(ArExp,MATCH(NrNC&"|"&14,ArKey,0))) | F26: =IF($B26="","",INDEX(ArD,MATCH(NrNC&"|"&14,ArKey,0))) | G26: =IF($B26="","",INDEX(ArC,MATCH(NrNC&"|"&14,ArKey,0))) | H26: =IF($B26="","",INDEX(ArSuma,MATCH(NrNC&"|"&14,ArKey,0)))
B27: =IF(ISNUMBER(MATCH(NrNC&"|"&15,ArKey,0)),15,"") | C27: =IF($B27="","",INDEX(ArExp,MATCH(NrNC&"|"&15,ArKey,0))) | F27: =IF($B27="","",INDEX(ArD,MATCH(NrNC&"|"&15,ArKey,0))) | G27: =IF($B27="","",INDEX(ArC,MATCH(NrNC&"|"&15,ArKey,0))) | H27: =IF($B27="","",INDEX(ArSuma,MATCH(NrNC&"|"&15,ArKey,0)))
F28: TOTAL | H28: =SUM(H13:H27) -> 25875
B29: =IF(RandNC=0,"",IF(COUNTIFS(ArNr,NrNC)>15,"Atenție: nota are mai mult de 15 articole; pe pagină apar primele 15.",""))
B31: Întocmit | F31: Verificat
B32: =IF(RandNC=0,"",INDEX('Registru note'!$H$5:$H$504,RandNC)) -> Maria Stoica | F32: =IF(RandNC=0,"",IF(INDEX('Registru note'!$I$5:$I$504,RandNC)="","(neverificată)",INDEX('Registru note'!$I$5:$I$504,RandNC))) -> Dan Ilie
B33: Semnătura ........................... | F33: Semnătura ...........................
B35: Formular: Notă de contabilitate (cod 14-6-2/A), OMFP nr. 2.634/2015. Se înregistrează în Registrul-jurnal.

Sheet Registru note
B1: Registrul notelor contabile
B2: Un rând pentru fiecare notă: data, tipul operațiunii, explicația și documentul care o justifică (notă de calcul, proces-verbal, situație). Articolele contabile se scriu în foaia Articole.
B4: Nr. notă | C4: Data | D4: Tipul operațiunii | E4: Explicație | F4: Document justificativ | G4: Ce stornează (pentru stornări) | H4: Întocmit | I4: Verificat | J4: Nr. articole | K4: Total | L4: Verificare
B5: 1 | C5: =DATE(2026,10,31) -> 46326 | D5: Închidere de lună | E5: Amortizarea imobilizărilor – octombrie 2026 | F5: Situația amortizării, octombrie 2026 | H5: Maria Stoica | I5: Dan Ilie | J5: =IF(B5="","",COUNTIF(Articole!$B$5:$B$2004,B5)) -> 2 | K5: =IF(B5="","",SUMIF(Articole!$B$5:$B$2004,B5,Articole!$F$5:$F$2004)) -> 2458.33 | L5: =IF(B5="","",TRIM(IF(COUNTIF($B$5:$B$504,B5)>1,"Număr de notă dublat. ","")&IF(NOT(ISNUMBER(C5)),"Lipsește data. ","")&IF(N(J5)=0,"Nota nu are articole. ","")&IF(F5="","Lipsește documentul justificativ (notă de calcul, proces-verbal etc.). ","")&IF(AND(D5="Stornare",G5=""),"Precizează ce înregistrare stornezi. ","")&IF(I5="","Nota nu este verificată. ","")&IF(COUNTIFS(Articole!$B$5:$B$2004,B5,Articole!$K$5:$K$2004,"?*")>0,"Are articole cu probleme (vezi Articole). ","")))
B6: 2 | C6: =DATE(2026,10,31) -> 46326 | D6: Închidere de lună | E6: Salariile și contribuțiile – octombrie 2026 | F6: Stat de plată, octombrie 2026 | H6: Maria Stoica | I6: Dan Ilie | J6: =IF(B6="","",COUNTIF(Articole!$B$5:$B$2004,B6)) -> 5 | K6: =IF(B6="","",SUMIF(Articole!$B$5:$B$2004,B6,Articole!$F$5:$F$2004)) -> 25875 | L6: =IF(B6="","",TRIM(IF(COUNTIF($B$5:$B$504,B6)>1,"Număr de notă dublat. ","")&IF(NOT(ISNUMBER(C6)),"Lipsește data. ","")&IF(N(J6)=0,"Nota nu are articole. ","")&IF(F6="","Lipsește documentul justificativ (notă de calcul, proces-verbal etc.). ","")&IF(AND(D6="Stornare",G6=""),"Precizează ce înregistrare stornezi. ","")&IF(I6="","Nota nu este verificată. ","")&IF(COUNTIFS(Articole!$B$5:$B$2004,B6,Articole!$K$5:$K$2004,"?*")>0,"Are articole cu probleme (vezi Articole). ","")))
B7: 3 | C7: =DATE(2026,10,31) -> 46326 | D7: Regularizare | E7: Regularizarea TVA – octombrie 2026 | F7: Decontul de TVA (D300), octombrie 2026 | H7: Maria Stoica | I7: Dan Ilie | J7: =IF(B7="","",COUNTIF(Articole!$B$5:$B$2004,B7)) -> 2 | K7: =IF(B7="","",SUMIF(Articole!$B$5:$B$2004,B7,Articole!$F$5:$F$2004)) -> 12900 | L7: =IF(B7="","",TRIM(IF(COUNTIF($B$5:$B$504,B7)>1,"Număr de notă dublat. ","")&IF(NOT(ISNUMBER(C7)),"Lipsește data. ","")&IF(N(J7)=0,"Nota nu are articole. ","")&IF(F7="","Lipsește documentul justificativ (notă de calcul, proces-verbal etc.). ","")&IF(AND(D7="Stornare",G7=""),"Precizează ce înregistrare stornezi. ","")&IF(I7="","Nota nu este verificată. ","")&IF(COUNTIFS(Articole!$B$5:$B$2004,B7,Articole!$K$5:$K$2004,"?*")>0,"Are articole cu probleme (vezi Articole). ","")))
B8: 4 | C8: =DATE(2026,10,30) -> 46325 | D8: Regularizare | E8: Lipsă la inventarul mărfurilor | F8: Proces-verbal de inventariere nr. 12/30.10.2026 | H8: Maria Stoica | I8: Dan Ilie | J8: =IF(B8="","",COUNTIF(Articole!$B$5:$B$2004,B8)) -> 1 | K8: =IF(B8="","",SUMIF(Articole!$B$5:$B$2004,B8,Articole!$F$5:$F$2004)) -> 400 | L8: =IF(B8="","",TRIM(IF(COUNTIF($B$5:$B$504,B8)>1,"Număr de notă dublat. ","")&IF(NOT(ISNUMBER(C8)),"Lipsește data. ","")&IF(N(J8)=0,"Nota nu are articole. ","")&IF(F8="","Lipsește documentul justificativ (notă de calcul, proces-verbal etc.). ","")&IF(AND(D8="Stornare",G8=""),"Precizează ce înregistrare stornezi. ","")&IF(I8="","Nota nu este verificată. ","")&IF(COUNTIFS(Articole!$B$5:$B$2004,B8,Articole!$K$5:$K$2004,"?*")>0,"Are articole cu probleme (vezi Articole). ","")))
B9: 5 | C9: =DATE(2026,10,31) -> 46326 | D9: Închidere de lună | E9: Asigurarea CASCO plătită pe 12 luni – cota lunii octombrie | F9: Notă de calcul nr. 7/31.10.2026 | H9: Maria Stoica | I9: Dan Ilie | J9: =IF(B9="","",COUNTIF(Articole!$B$5:$B$2004,B9)) -> 1 | K9: =IF(B9="","",SUMIF(Articole!$B$5:$B$2004,B9,Articole!$F$5:$F$2004)) -> 300 | L9: =IF(B9="","",TRIM(IF(COUNTIF($B$5:$B$504,B9)>1,"Număr de notă dublat. ","")&IF(NOT(ISNUMBER(C9)),"Lipsește data. ","")&IF(N(J9)=0,"Nota nu are articole. ","")&IF(F9="","Lipsește documentul justificativ (notă de calcul, proces-verbal etc.). ","")&IF(AND(D9="Stornare",G9=""),"Precizează ce înregistrare stornezi. ","")&IF(I9="","Nota nu este verificată. ","")&IF(COUNTIFS(Articole!$B$5:$B$2004,B9,Articole!$K$5:$K$2004,"?*")>0,"Are articole cu probleme (vezi Articole). ","")))
B10: 6 | C10: =DATE(2026,10,27) -> 46322 | D10: Stornare | E10: Stornarea facturii nr. 778 înregistrate pe un cont greșit | F10: Factura nr. 778/20.10.2026 | G10: Înregistrarea din 20.10.2026 a facturii 778 pe contul 628 | H10: Maria Stoica | I10: Dan Ilie | J10: =IF(B10="","",COUNTIF(Articole!$B$5:$B$2004,B10)) -> 1 | K10: =IF(B10="","",SUMIF(Articole!$B$5:$B$2004,B10,Articole!$F$5:$F$2004)) -> -1200 | L10: =IF(B10="","",TRIM(IF(COUNTIF($B$5:$B$504,B10)>1,"Număr de notă dublat. ","")&IF(NOT(ISNUMBER(C10)),"Lipsește data. ","")&IF(N(J10)=0,"Nota nu are articole. ","")&IF(F10="","Lipsește documentul justificativ (notă de calcul, proces-verbal etc.). ","")&IF(AND(D10="Stornare",G10=""),"Precizează ce înregistrare stornezi. ","")&IF(I10="","Nota nu este verificată. ","")&IF(COUNTIFS(Articole!$B$5:$B$2004,B10,Articole!$K$5:$K$2004,"?*")>0,"Are articole cu probleme (vezi Articole). ","")))
B11: 7 | C11: =DATE(2026,10,27) -> 46322 | D11: Corectare | E11: Reînregistrarea facturii nr. 778 (onorariu avocat) pe contul corect | F11: Factura nr. 778/20.10.2026 | H11: Maria Stoica | I11: Dan Ilie | J11: =IF(B11="","",COUNTIF(Articole!$B$5:$B$2004,B11)) -> 1 | K11: =IF(B11="","",SUMIF(Articole!$B$5:$B$2004,B11,Articole!$F$5:$F$2004)) -> 1200 | L11: =IF(B11="","",TRIM(IF(COUNTIF($B$5:$B$504,B11)>1,"Număr de notă dublat. ","")&IF(NOT(ISNUMBER(C11)),"Lipsește data. ","")&IF(N(J11)=0,"Nota nu are articole. ","")&IF(F11="","Lipsește documentul justificativ (notă de calcul, proces-verbal etc.). ","")&IF(AND(D11="Stornare",G11=""),"Precizează ce înregistrare stornezi. ","")&IF(I11="","Nota nu este verificată. ","")&IF(COUNTIFS(Articole!$B$5:$B$2004,B11,Articole!$K$5:$K$2004,"?*")>0,"Are articole cu probleme (vezi Articole). ","")))
B12: 8 | C12: =DATE(2026,10,31) -> 46326 | D12: Compensare | E12: Compensare datorie furnizor cu creanță client – Electro Plus SRL | H12: Maria Stoica | J12: =IF(B12="","",COUNTIF(Articole!$B$5:$B$2004,B12)) -> 1 | K12: =IF(B12="","",SUMIF(Articole!$B$5:$B$2004,B12,Articole!$F$5:$F$2004)) -> 2500 | L12: =IF(B12="","",TRIM(IF(COUNTIF($B$5:$B$504,B12)>1,"Număr de notă dublat. ","")&IF(NOT(ISNUMBER(C12)),"Lipsește data. ","")&IF(N(J12)=0,"Nota nu are articole. ","")&IF(F12="","Lipsește documentul justificativ (notă de calcul, proces-verbal etc.). ","")&IF(AND(D12="Stornare",G12=""),"Precizează ce înregistrare stornezi. ","")&IF(I12="","Nota nu este verificată. ","")&IF(COUNTIFS(Articole!$B$5:$B$2004,B12,Articole!$K$5:$K$2004,"?*")>0,"Are articole cu probleme (vezi Articole). ",""))) -> Lipsește documentul justificativ (notă de calcul, proces-verbal etc.). Nota nu este verificată.
J13: =IF(B13="","",COUNTIF(Articole!$B$5:$B$2004,B13)) | K13: =IF(B13="","",SUMIF(Articole!$B$5:$B$2004,B13,Articole!$F$5:$F$2004)) | L13: =IF(B13="","",TRIM(IF(COUNTIF($B$5:$B$504,B13)>1,"Număr de notă dublat. ","")&IF(NOT(ISNUMBER(C13)),"Lipsește data. ","")&IF(N(J13)=0,"Nota nu are articole. ","")&IF(F13="","Lipsește documentul justificativ (notă de calcul, proces-verbal etc.). ","")&IF(AND(D13="Stornare",G13=""),"Precizează ce înregistrare stornezi. ","")&IF(I13="","Nota nu este verificată. ","")&IF(COUNTIFS(Articole!$B$5:$B$2004,B13,Articole!$K$5:$K$2004,"?*")>0,"Are articole cu probleme (vezi Articole). ","")))
J14: =IF(B14="","",COUNTIF(Articole!$B$5:$B$2004,B14)) | K14: =IF(B14="","",SUMIF(Articole!$B$5:$B$2004,B14,Articole!$F$5:$F$2004)) | L14: =IF(B14="","",TRIM(IF(COUNTIF($B$5:$B$504,B14)>1,"Număr de notă dublat. ","")&IF(NOT(ISNUMBER(C14)),"Lipsește data. ","")&IF(N(J14)=0,"Nota nu are articole. ","")&IF(F14="","Lipsește documentul justificativ (notă de calcul, proces-verbal etc.). ","")&IF(AND(D14="Stornare",G14=""),"Precizează ce înregistrare stornezi. ","")&IF(I14="","Nota nu este verificată. ","")&IF(COUNTIFS(Articole!$B$5:$B$2004,B14,Articole!$K$5:$K$2004,"?*")>0,"Are articole cu probleme (vezi Articole). ","")))
J15: =IF(B15="","",COUNTIF(Articole!$B$5:$B$2004,B15)) | K15: =IF(B15="","",SUMIF(Articole!$B$5:$B$2004,B15,Articole!$F$5:$F$2004)) | L15: =IF(B15="","",TRIM(IF(COUNTIF($B$5:$B$504,B15)>1,"Număr de notă dublat. ","")&IF(NOT(ISNUMBER(C15)),"Lipsește data. ","")&IF(N(J15)=0,"Nota nu are articole. ","")&IF(F15="","Lipsește documentul justificativ (notă de calcul, proces-verbal etc.). ","")&IF(AND(D15="Stornare",G15=""),"Precizează ce înregistrare stornezi. ","")&IF(I15="","Nota nu este verificată. ","")&IF(COUNTIFS(Articole!$B$5:$B$2004,B15,Articole!$K$5:$K$2004,"?*")>0,"Are articole cu probleme (vezi Articole). ","")))
J16: =IF(B16="","",COUNTIF(Articole!$B$5:$B$2004,B16)) | K16: =IF(B16="","",SUMIF(Articole!$B$5:$B$2004,B16,Articole!$F$5:$F$2004)) | L16: =IF(B16="","",TRIM(IF(COUNTIF($B$5:$B$504,B16)>1,"Număr de notă dublat. ","")&IF(NOT(ISNUMBER(C16)),"Lipsește data. ","")&IF(N(J16)=0,"Nota nu are articole. ","")&IF(F16="","Lipsește documentul justificativ (notă de calcul, proces-verbal etc.). ","")&IF(AND(D16="Stornare",G16=""),"Precizează ce înregistrare stornezi. ","")&IF(I16="","Nota nu este verificată. ","")&IF(COUNTIFS(Articole!$B$5:$B$2004,B16,Articole!$K$5:$K$2004,"?*")>0,"Are articole cu probleme (vezi Articole). ","")))
J17: =IF(B17="","",COUNTIF(Articole!$B$5:$B$2004,B17)) | K17: =IF(B17="","",SUMIF(Articole!$B$5:$B$2004,B17,Articole!$F$5:$F$2004)) | L17: =IF(B17="","",TRIM(IF(COUNTIF($B$5:$B$504,B17)>1,"Număr de notă dublat. ","")&IF(NOT(ISNUMBER(C17)),"Lipsește data. ","")&IF(N(J17)=0,"Nota nu are articole. ","")&IF(F17="","Lipsește documentul justificativ (notă de calcul, proces-verbal etc.). ","")&IF(AND(D17="Stornare",G17=""),"Precizează ce înregistrare stornezi. ","")&IF(I17="","Nota nu este verificată. ","")&IF(COUNTIFS(Articole!$B$5:$B$2004,B17,Articole!$K$5:$K$2004,"?*")>0,"Are articole cu probleme (vezi Articole). ","")))
J18: =IF(B18="","",COUNTIF(Articole!$B$5:$B$2004,B18)) | K18: =IF(B18="","",SUMIF(Articole!$B$5:$B$2004,B18,Articole!$F$5:$F$2004)) | L18: =IF(B18="","",TRIM(IF(COUNTIF($B$5:$B$504,B18)>1,"Număr de notă dublat. ","")&IF(NOT(ISNUMBER(C18)),"Lipsește data. ","")&IF(N(J18)=0,"Nota nu are articole. ","")&IF(F18="","Lipsește documentul justificativ (notă de calcul, proces-verbal etc.). ","")&IF(AND(D18="Stornare",G18=""),"Precizează ce înregistrare stornezi. ","")&IF(I18="","Nota nu este verificată. ","")&IF(COUNTIFS(Articole!$B$5:$B$2004,B18,Articole!$K$5:$K$2004,"?*")>0,"Are articole cu probleme (vezi Articole). ","")))
J19: =IF(B19="","",COUNTIF(Articole!$B$5:$B$2004,B19)) | K19: =IF(B19="","",SUMIF(Articole!$B$5:$B$2004,B19,Articole!$F$5:$F$2004)) | L19: =IF(B19="","",TRIM(IF(COUNTIF($B$5:$B$504,B19)>1,"Număr de notă dublat. ","")&IF(NOT(ISNUMBER(C19)),"Lipsește data. ","")&IF(N(J19)=0,"Nota nu are articole. ","")&IF(F19="","Lipsește documentul justificativ (notă de calcul, proces-verbal etc.). ","")&IF(AND(D19="Stornare",G19=""),"Precizează ce înregistrare stornezi. ","")&IF(I19="","Nota nu este verificată. ","")&IF(COUNTIFS(Articole!$B$5:$B$2004,B19,Articole!$K$5:$K$2004,"?*")>0,"Are articole cu probleme (vezi Articole). ","")))
J20: =IF(B20="","",COUNTIF(Articole!$B$5:$B$2004,B20)) | K20: =IF(B20="","",SUMIF(Articole!$B$5:$B$2004,B20,Articole!$F$5:$F$2004)) | L20: =IF(B20="","",TRIM(IF(COUNTIF($B$5:$B$504,B20)>1,"Număr de notă dublat. ","")&IF(NOT(ISNUMBER(C20)),"Lipsește data. ","")&IF(N(J20)=0,"Nota nu are articole. ","")&IF(F20="","Lipsește documentul justificativ (notă de calcul, proces-verbal etc.). ","")&IF(AND(D20="Stornare",G20=""),"Precizează ce înregistrare stornezi. ","")&IF(I20="","Nota nu este verificată. ","")&IF(COUNTIFS(Articole!$B$5:$B$2004,B20,Articole!$K$5:$K$2004,"?*")>0,"Are articole cu probleme (vezi Articole). ","")))
J21: =IF(B21="","",COUNTIF(Articole!$B$5:$B$2004,B21)) | K21: =IF(B21="","",SUMIF(Articole!$B$5:$B$2004,B21,Articole!$F$5:$F$2004)) | L21: =IF(B21="","",TRIM(IF(COUNTIF($B$5:$B$504,B21)>1,"Număr de notă dublat. ","")&IF(NOT(ISNUMBER(C21)),"Lipsește data. ","")&IF(N(J21)=0,"Nota nu are articole. ","")&IF(F21="","Lipsește documentul justificativ (notă de calcul, proces-verbal etc.). ","")&IF(AND(D21="Stornare",G21=""),"Precizează ce înregistrare stornezi. ","")&IF(I21="","Nota nu este verificată. ","")&IF(COUNTIFS(Articole!$B$5:$B$2004,B21,Articole!$K$5:$K$2004,"?*")>0,"Are articole cu probleme (vezi Articole). ","")))
J22: =IF(B22="","",COUNTIF(Articole!$B$5:$B$2004,B22)) | K22: =IF(B22="","",SUMIF(Articole!$B$5:$B$2004,B22,Articole!$F$5:$F$2004)) | L22: =IF(B22="","",TRIM(IF(COUNTIF($B$5:$B$504,B22)>1,"Număr de notă dublat. ","")&IF(NOT(ISNUMBER(C22)),"Lipsește data. ","")&IF(N(J22)=0,"Nota nu are articole. ","")&IF(F22="","Lipsește documentul justificativ (notă de calcul, proces-verbal etc.). ","")&IF(AND(D22="Stornare",G22=""),"Precizează ce înregistrare stornezi. ","")&IF(I22="","Nota nu este verificată. ","")&IF(COUNTIFS(Articole!$B$5:$B$2004,B22,Articole!$K$5:$K$2004,"?*")>0,"Are articole cu probleme (vezi Articole). ","")))
J23: =IF(B23="","",COUNTIF(Articole!$B$5:$B$2004,B23)) | K23: =IF(B23="","",SUMIF(Articole!$B$5:$B$2004,B23,Articole!$F$5:$F$2004)) | L23: =IF(B23="","",TRIM(IF(COUNTIF($B$5:$B$504,B23)>1,"Număr de notă dublat. ","")&IF(NOT(ISNUMBER(C23)),"Lipsește data. ","")&IF(N(J23)=0,"Nota nu are articole. ","")&IF(F23="","Lipsește documentul justificativ (notă de calcul, proces-verbal etc.). ","")&IF(AND(D23="Stornare",G23=""),"Precizează ce înregistrare stornezi. ","")&IF(I23="","Nota nu este verificată. ","")&IF(COUNTIFS(Articole!$B$5:$B$2004,B23,Articole!$K$5:$K$2004,"?*")>0,"Are articole cu probleme (vezi Articole). ","")))
J24: =IF(B24="","",COUNTIF(Articole!$B$5:$B$2004,B24)) | K24: =IF(B24="","",SUMIF(Articole!$B$5:$B$2004,B24,Articole!$F$5:$F$2004)) | L24: =IF(B24="","",TRIM(IF(COUNTIF($B$5:$B$504,B24)>1,"Număr de notă dublat. ","")&IF(NOT(ISNUMBER(C24)),"Lipsește data. ","")&IF(N(J24)=0,"Nota nu are articole. ","")&IF(F24="","Lipsește documentul justificativ (notă de calcul, proces-verbal etc.). ","")&IF(AND(D24="Stornare",G24=""),"Precizează ce înregistrare stornezi. ","")&IF(I24="","Nota nu este verificată. ","")&IF(COUNTIFS(Articole!$B$5:$B$2004,B24,Articole!$K$5:$K$2004,"?*")>0,"Are articole cu probleme (vezi Articole). ","")))
... J504: =IF(B504="","",COUNTIF(Articole!$B$5:$B$2004,B504)) | K504: =IF(B504="","",SUMIF(Articole!$B$5:$B$2004,B504,Articole!$F$5:$F$2004)) | L504: =IF(B504="","",TRIM(IF(COUNTIF($B$5:$B$504,B504)>1,"Număr de notă dublat. ","")&IF(NOT(ISNUMBER(C504)),"Lipsește data. ","")&IF(N(J504)=0,"Nota nu are articole. ","")&IF(F504="","Lipsește documentul justificativ (notă de calcul, proces-verbal etc.). ","")&IF(AND(D504="Stornare",G504=""),"Precizează ce înregistrare stornezi. ","")&IF(I504="","Nota nu este verificată. ","")&IF(COUNTIFS(Articole!$B$5:$B$2004,B504,Articole!$K$5:$K$2004,"?*")>0,"Are articole cu probleme (vezi Articole). ","")))

Sheet Articole
B1: Articolele contabile
B2: Un rând pentru fiecare înregistrare: contul debitor, contul creditor și suma. O notă poate avea oricâte articole. La stornare, suma se trece cu minus (stornare în roșu).
B3: Total sume: | F3: =SUM(F5:F2004) -> 44433.33 | K3: =IF(COUNTIF(K5:K2004,"?*")=0,"✔ Fără probleme",COUNTIF(K5:K2004,"?*")&" articole de verificat") -> ✔ Fără probleme
B4: Nr. notă | C4: Explicația articolului | D4: Cont debitor | E4: Cont creditor | F4: Sumă | G4: Data | H4: Denumire cont debitor | I4: Denumire cont creditor | J4: Tip notă | K4: Verificare | L4: cheie | M4: sortare
B5: 1 | C5: Amortizarea echipamentelor și a mijloacelor de transport | D5: 6811 | E5: 2813 | F5: 2208.33 | G5: =IF(B5="","",IFERROR(INDEX('Registru note'!$C$5:$C$504,MATCH(B5,'Registru note'!$B$5:$B$504,0)),"")) -> 46326 | H5: =IF(D5="","",IFERROR(INDEX(PlanDen,MATCH(TRIM(IF(ISNUMBER(FIND(".",D5)),LEFT(D5,FIND(".",D5)-1),D5)),PlanCont,0)),IFERROR(INDEX(PlanDen,MATCH(LEFT(TRIM(IF(ISNUMBER(FIND(".",D5)),LEFT(D5,FIND(".",D5)-1),D5)),4),PlanCont,0)),IFERROR(INDEX(PlanDen,MATCH(LEFT(TRIM(IF(ISNUMBER(FIND(".",D5)),LEFT(D5,FIND(".",D5)-1),D5)),3),PlanCont,0)),"Cont inexistent în plan")))) -> Cheltuieli de exploatare privind amortizarea imobilizărilor | I5: =IF(E5="","",IFERROR(INDEX(PlanDen,MATCH(TRIM(IF(ISNUMBER(FIND(".",E5)),LEFT(E5,FIND(".",E5)-1),E5)),PlanCont,0)),IFERROR(INDEX(PlanDen,MATCH(LEFT(TRIM(IF(ISNUMBER(FIND(".",E5)),LEFT(E5,FIND(".",E5)-1),E5)),4),PlanCont,0)),IFERROR(INDEX(PlanDen,MATCH(LEFT(TRIM(IF(ISNUMBER(FIND(".",E5)),LEFT(E5,FIND(".",E5)-1),E5)),3),PlanCont,0)),"Cont inexistent în plan")))) -> Amortizarea instalațiilor și mijloacelor de transport | J5: =IF(B5="","",IFERROR(INDEX('Registru note'!$D$5:$D$504,MATCH(B5,'Registru note'!$B$5:$B$504,0)),"")) -> Închidere de lună | K5: =IF(AND(B5="",D5="",E5=""),"",TRIM(IF(ISNA(MATCH(B5,'Registru note'!$B$5:$B$504,0)),"Nota nu există în registru. ","")&IF(D5="","Lipsește contul debitor. ",IF(NOT(OR(ISNUMBER(MATCH(TRIM(IF(ISNUMBER(FIND(".",D5)),LEFT(D5,FIND(".",D5)-1),D5)),PlanCont,0)),ISNUMBER(MATCH(LEFT(TRIM(IF(ISNUMBER(FIND(".",D5)),LEFT(D5,FIND(".",D5)-1),D5)),4),PlanCont,0)),ISNUMBER(MATCH(LEFT(TRIM(IF(ISNUMBER(FIND(".",D5)),LEFT(D5,FIND(".",D5)-1),D5)),3),PlanCont,0)))),"Contul debitor nu există în plan. ",""))&IF(E5="","Lipsește contul creditor. ",IF(NOT(OR(ISNUMBER(MATCH(TRIM(IF(ISNUMBER(FIND(".",E5)),LEFT(E5,FIND(".",E5)-1),E5)),PlanCont,0)),ISNUMBER(MATCH(LEFT(TRIM(IF(ISNUMBER(FIND(".",E5)),LEFT(E5,FIND(".",E5)-1),E5)),4),PlanCont,0)),ISNUMBER(MATCH(LEFT(TRIM(IF(ISNUMBER(FIND(".",E5)),LEFT(E5,FIND(".",E5)-1),E5)),3),PlanCont,0)))),"Contul creditor nu există în plan. ",""))&IF(AND(D5<>"",TRIM(D5&"")=TRIM(E5&"")),"Același cont pe debit și credit. ","")&IF(N(F5)=0,"Lipsește suma. ","")&IF(AND(N(F5)<0,J5<>"Stornare"),"Sumă negativă într-o notă care nu e de stornare. ","")&IF(C5="","Lipsește explicația. ",""))) | L5: =IF(B5="","",B5&"|"&COUNTIF($B$5:B5,B5)) -> 1|1 | M5: =IF(OR(B5="",NOT(ISNUMBER(G5))),"",G5*100000+ROW()) -> 4632600005
B6: 1 | C6: Amortizarea licențelor software | D6: 6811 | E6: 2808 | F6: 250 | G6: =IF(B6="","",IFERROR(INDEX('Registru note'!$C$5:$C$504,MATCH(B6,'Registru note'!$B$5:$B$504,0)),"")) -> 46326 | H6: =IF(D6="","",IFERROR(INDEX(PlanDen,MATCH(TRIM(IF(ISNUMBER(FIND(".",D6)),LEFT(D6,FIND(".",D6)-1),D6)),PlanCont,0)),IFERROR(INDEX(PlanDen,MATCH(LEFT(TRIM(IF(ISNUMBER(FIND(".",D6)),LEFT(D6,FIND(".",D6)-1),D6)),4),PlanCont,0)),IFERROR(INDEX(PlanDen,MATCH(LEFT(TRIM(IF(ISNUMBER(FIND(".",D6)),LEFT(D6,FIND(".",D6)-1),D6)),3),PlanCont,0)),"Cont inexistent în plan")))) -> Cheltuieli de exploatare privind amortizarea imobilizărilor | I6: =IF(E6="","",IFERROR(INDEX(PlanDen,MATCH(TRIM(IF(ISNUMBER(FIND(".",E6)),LEFT(E6,FIND(".",E6)-1),E6)),PlanCont,0)),IFERROR(INDEX(PlanDen,MATCH(LEFT(TRIM(IF(ISNUMBER(FIND(".",E6)),LEFT(E6,FIND(".",E6)-1),E6)),4),PlanCont,0)),IFERROR(INDEX(PlanDen,MATCH(LEFT(TRIM(IF(ISNUMBER(FIND(".",E6)),LEFT(E6,FIND(".",E6)-1),E6)),3),PlanCont,0)),"Cont inexistent în plan")))) -> Amortizarea altor imobilizări necorporale | J6: =IF(B6="","",IFERROR(INDEX('Registru note'!$D$5:$D$504,MATCH(B6,'Registru note'!$B$5:$B$504,0)),"")) -> Închidere de lună | K6: =IF(AND(B6="",D6="",E6=""),"",TRIM(IF(ISNA(MATCH(B6,'Registru note'!$B$5:$B$504,0)),"Nota nu există în registru. ","")&IF(D6="","Lipsește contul debitor. ",IF(NOT(OR(ISNUMBER(MATCH(TRIM(IF(ISNUMBER(FIND(".",D6)),LEFT(D6,FIND(".",D6)-1),D6)),PlanCont,0)),ISNUMBER(MATCH(LEFT(TRIM(IF(ISNUMBER(FIND(".",D6)),LEFT(D6,FIND(".",D6)-1),D6)),4),PlanCont,0)),ISNUMBER(MATCH(LEFT(TRIM(IF(ISNUMBER(FIND(".",D6)),LEFT(D6,FIND(".",D6)-1),D6)),3),PlanCont,0)))),"Contul debitor nu există în plan. ",""))&IF(E6="","Lipsește contul creditor. ",IF(NOT(OR(ISNUMBER(MATCH(TRIM(IF(ISNUMBER(FIND(".",E6)),LEFT(E6,FIND(".",E6)-1),E6)),PlanCont,0)),ISNUMBER(MATCH(LEFT(TRIM(IF(ISNUMBER(FIND(".",E6)),LEFT(E6,FIND(".",E6)-1),E6)),4),PlanCont,0)),ISNUMBER(MATCH(LEFT(TRIM(IF(ISNUMBER(FIND(".",E6)),LEFT(E6,FIND(".",E6)-1),E6)),3),PlanCont,0)))),"Contul creditor nu există în plan. ",""))&IF(AND(D6<>"",TRIM(D6&"")=TRIM(E6&"")),"Același cont pe debit și credit. ","")&IF(N(F6)=0,"Lipsește suma. ","")&IF(AND(N(F6)<0,J6<>"Stornare"),"Sumă negativă într-o notă care nu e de stornare. ","")&IF(C6="","Lipsește explicația. ",""))) | L6: =IF(B6="","",B6&"|"&COUNTIF($B$5:B6,B6)) -> 1|2 | M6: =IF(OR(B6="",NOT(ISNUMBER(G6))),"",G6*100000+ROW()) -> 4632600006
B7: 2 | C7: Salariile brute ale lunii | D7: 641 | E7: 421 | F7: 18000 | G7: =IF(B7="","",IFERROR(INDEX('Registru note'!$C$5:$C$504,MATCH(B7,'Registru note'!$B$5:$B$504,0)),"")) -> 46326 | H7: =IF(D7="","",IFERROR(INDEX(PlanDen,MATCH(TRIM(IF(ISNUMBER(FIND(".",D7)),LEFT(D7,FIND(".",D7)-1),D7)),PlanCont,0)),IFERROR(INDEX(PlanDen,MATCH(LEFT(TRIM(IF(ISNUMBER(FIND(".",D7)),LEFT(D7,FIND(".",D7)-1),D7)),4),PlanCont,0)),IFERROR(INDEX(PlanDen,MATCH(LEFT(TRIM(IF(ISNUMBER(FIND(".",D7)),LEFT(D7,FIND(".",D7)-1),D7)),3),PlanCont,0)),"Cont inexistent în plan")))) -> Cheltuieli cu salariile personalului | I7: =IF(E7="","",IFERROR(INDEX(PlanDen,MATCH(TRIM(IF(ISNUMBER(FIND(".",E7)),LEFT(E7,FIND(".",E7)-1),E7)),PlanCont,0)),IFERROR(INDEX(PlanDen,MATCH(LEFT(TRIM(IF(ISNUMBER(FIND(".",E7)),LEFT(E7,FIND(".",E7)-1),E7)),4),PlanCont,0)),IFERROR(INDEX(PlanDen,MATCH(LEFT(TRIM(IF(ISNUMBER(FIND(".",E7)),LEFT(E7,FIND(".",E7)-1),E7)),3),PlanCont,0)),"Cont inexistent în plan")))) -> Personal – salarii datorate | J7: =IF(B7="","",IFERROR(INDEX('Registru note'!$D$5:$D$504,MATCH(B7,'Registru note'!$B$5:$B$504,0)),"")) -> Închidere de lună | K7: =IF(AND(B7="",D7="",E7=""),"",TRIM(IF(ISNA(MATCH(B7,'Registru note'!$B$5:$B$504,0)),"Nota nu există în registru. ","")&IF(D7="","Lipsește contul debitor. ",IF(NOT(OR(ISNUMBER(MATCH(TRIM(IF(ISNUMBER(FIND(".",D7)),LEFT(D7,FIND(".",D7)-1),D7)),PlanCont,0)),ISNUMBER(MATCH(LEFT(TRIM(IF(ISNUMBER(FIND(".",D7)),LEFT(D7,FIND(".",D7)-1),D7)),4),PlanCont,0)),ISNUMBER(MATCH(LEFT(TRIM(IF(ISNUMBER(FIND(".",D7)),LEFT(D7,FIND(".",D7)-1),D7)),3),PlanCont,0)))),"Contul debitor nu există în plan. ",""))&IF(E7="","Lipsește contul creditor. ",IF(NOT(OR(ISNUMBER(MATCH(TRIM(IF(ISNUMBER(FIND(".",E7)),LEFT(E7,FIND(".",E7)-1),E7)),PlanCont,0)),ISNUMBER(MATCH(LEFT(TRIM(IF(ISNUMBER(FIND(".",E7)),LEFT(E7,FIND(".",E7)-1),E7)),4),PlanCont,0)),ISNUMBER(MATCH(LEFT(TRIM(IF(ISNUMBER(FIND(".",E7)),LEFT(E7,FIND(".",E7)-1),E7)),3),PlanCont,0)))),"Contul creditor nu există în plan. ",""))&IF(AND(D7<>"",TRIM(D7&"")=TRIM(E7&"")),"Același cont pe debit și credit. ","")&IF(N(F7)=0,"Lipsește suma. ","")&IF(AND(N(F7)<0,J7<>"Stornare"),"Sumă negativă într-o notă care nu e de stornare. ","")&IF(C7="","Lipsește explicația. ",""))) | L7: =IF(B7="","",B7&"|"&COUNTIF($B$5:B7,B7)) -> 2|1 | M7: =IF(OR(B7="",NOT(ISNUMBER(G7))),"",G7*100000+ROW()) -> 4632600007
B8: 2 | C8: Contribuția de asigurări sociale reținută | D8: 421 | E8: 4315 | F8: 4500 | G8: =IF(B8="","",IFERROR(INDEX('Registru note'!$C$5:$C$504,MATCH(B8,'Registru note'!$B$5:$B$504,0)),"")) -> 46326 | H8: =IF(D8="","",IFERROR(INDEX(PlanDen,MATCH(TRIM(IF(ISNUMBER(FIND(".",D8)),LEFT(D8,FIND(".",D8)-1),D8)),PlanCont,0)),IFERROR(INDEX(PlanDen,MATCH(LEFT(TRIM(IF(ISNUMBER(FIND(".",D8)),LEFT(D8,FIND(".",D8)-1),D8)),4),PlanCont,0)),IFERROR(INDEX(PlanDen,MATCH(LEFT(TRIM(IF(ISNUMBER(FIND(".",D8)),LEFT(D8,FIND(".",D8)-1),D8)),3),PlanCont,0)),"Cont inexistent în plan")))) -> Personal – salarii datorate | I8: =IF(E8="","",IFERROR(INDEX(PlanDen,MATCH(TRIM(IF(ISNUMBER(FIND(".",E8)),LEFT(E8,FIND(".",E8)-1),E8)),PlanCont,0)),IFERROR(INDEX(PlanDen,MATCH(LEFT(TRIM(IF(ISNUMBER(FIND(".",E8)),LEFT(E8,FIND(".",E8)-1),E8)),4),PlanCont,0)),IFERROR(INDEX(PlanDen,MATCH(LEFT(TRIM(IF(ISNUMBER(FIND(".",E8)),LEFT(E8,FIND(".",E8)-1),E8)),3),PlanCont,0)),"Cont inexistent în plan")))) -> Contribuția de asigurări sociale | J8: =IF(B8="","",IFERROR(INDEX('Registru note'!$D$5:$D$504,MATCH(B8,'Registru note'!$B$5:$B$504,0)),"")) -> Închidere de lună | K8: =IF(AND(B8="",D8="",E8=""),"",TRIM(IF(ISNA(MATCH(B8,'Registru note'!$B$5:$B$504,0)),"Nota nu există în registru. ","")&IF(D8="","Lipsește contul debitor. ",IF(NOT(OR(ISNUMBER(MATCH(TRIM(IF(ISNUMBER(FIND(".",D8)),LEFT(D8,FIND(".",D8)-1),D8)),PlanCont,0)),ISNUMBER(MATCH(LEFT(TRIM(IF(ISNUMBER(FIND(".",D8)),LEFT(D8,FIND(".",D8)-1),D8)),4),PlanCont,0)),ISNUMBER(MATCH(LEFT(TRIM(IF(ISNUMBER(FIND(".",D8)),LEFT(D8,FIND(".",D8)-1),D8)),3),PlanCont,0)))),"Contul debitor nu există în plan. ",""))&IF(E8="","Lipsește contul creditor. ",IF(NOT(OR(ISNUMBER(MATCH(TRIM(IF(ISNUMBER(FIND(".",E8)),LEFT(E8,FIND(".",E8)-1),E8)),PlanCont,0)),ISNUMBER(MATCH(LEFT(TRIM(IF(ISNUMBER(FIND(".",E8)),LEFT(E8,FIND(".",E8)-1),E8)),4),PlanCont,0)),ISNUMBER(MATCH(LEFT(TRIM(IF(ISNUMBER(FIND(".",E8)),LEFT(E8,FIND(".",E8)-1),E8)),3),PlanCont,0)))),"Contul creditor nu există în plan. ",""))&IF(AND(D8<>"",TRIM(D8&"")=TRIM(E8&"")),"Același cont pe debit și credit. ","")&IF(N(F8)=0,"Lipsește suma. ","")&IF(AND(N(F8)<0,J8<>"Stornare"),"Sumă negativă într-o notă care nu e de stornare. ","")&IF(C8="","Lipsește explicația. ",""))) | L8: =IF(B8="","",B8&"|"&COUNTIF($B$5:B8,B8)) -> 2|2 | M8: =IF(OR(B8="",NOT(ISNUMBER(G8))),"",G8*100000+ROW()) -> 4632600008
B9: 2 | C9: Contribuția de asigurări sociale de sănătate reținută | D9: 421 | E9: 4316 | F9: 1800 | G9: =IF(B9="","",IFERROR(INDEX('Registru note'!$C$5:$C$504,MATCH(B9,'Registru note'!$B$5:$B$504,0)),"")) -> 46326 | H9: =IF(D9="","",IFERROR(INDEX(PlanDen,MATCH(TRIM(IF(ISNUMBER(FIND(".",D9)),LEFT(D9,FIND(".",D9)-1),D9)),PlanCont,0)),IFERROR(INDEX(PlanDen,MATCH(LEFT(TRIM(IF(ISNUMBER(FIND(".",D9)),LEFT(D9,FIND(".",D9)-1),D9)),4),PlanCont,0)),IFERROR(INDEX(PlanDen,MATCH(LEFT(TRIM(IF(ISNUMBER(FIND(".",D9)),LEFT(D9,FIND(".",D9)-1),D9)),3),PlanCont,0)),"Cont inexistent în plan")))) -> Personal – salarii datorate | I9: =IF(E9="","",IFERROR(INDEX(PlanDen,MATCH(TRIM(IF(ISNUMBER(FIND(".",E9)),LEFT(E9,FIND(".",E9)-1),E9)),PlanCont,0)),IFERROR(INDEX(PlanDen,MATCH(LEFT(TRIM(IF(ISNUMBER(FIND(".",E9)),LEFT(E9,FIND(".",E9)-1),E9)),4),PlanCont,0)),IFERROR(INDEX(PlanDen,MATCH(LEFT(TRIM(IF(ISNUMBER(FIND(".",E9)),LEFT(E9,FIND(".",E9)-1),E9)),3),PlanCont,0)),"Cont inexistent în plan")))) -> Contribuția de asigurări sociale de sănătate | J9: =IF(B9="","",IFERROR(INDEX('Registru note'!$D$5:$D$504,MATCH(B9,'Registru note'!$B$5:$B$504,0)),"")) -> Închidere de lună | K9: =IF(AND(B9="",D9="",E9=""),"",TRIM(IF(ISNA(MATCH(B9,'Registru note'!$B$5:$B$504,0)),"Nota nu există în registru. ","")&IF(D9="","Lipsește contul debitor. ",IF(NOT(OR(ISNUMBER(MATCH(TRIM(IF(ISNUMBER(FIND(".",D9)),LEFT(D9,FIND(".",D9)-1),D9)),PlanCont,0)),ISNUMBER(MATCH(LEFT(TRIM(IF(ISNUMBER(FIND(".",D9)),LEFT(D9,FIND(".",D9)-1),D9)),4),PlanCont,0)),ISNUMBER(MATCH(LEFT(TRIM(IF(ISNUMBER(FIND(".",D9)),LEFT(D9,FIND(".",D9)-1),D9)),3),PlanCont,0)))),"Contul debitor nu există în plan. ",""))&IF(E9="","Lipsește contul creditor. ",IF(NOT(OR(ISNUMBER(MATCH(TRIM(IF(ISNUMBER(FIND(".",E9)),LEFT(E9,FIND(".",E9)-1),E9)),PlanCont,0)),ISNUMBER(MATCH(LEFT(TRIM(IF(ISNUMBER(FIND(".",E9)),LEFT(E9,FIND(".",E9)-1),E9)),4),PlanCont,0)),ISNUMBER(MATCH(LEFT(TRIM(IF(ISNUMBER(FIND(".",E9)),LEFT(E9,FIND(".",E9)-1),E9)),3),PlanCont,0)))),"Contul creditor nu există în plan. ",""))&IF(AND(D9<>"",TRIM(D9&"")=TRIM(E9&"")),"Același cont pe debit și credit. ","")&IF(N(F9)=0,"Lipsește suma. ","")&IF(AND(N(F9)<0,J9<>"Stornare"),"Sumă negativă într-o notă care nu e de stornare. ","")&IF(C9="","Lipsește explicația. ",""))) | L9: =IF(B9="","",B9&"|"&COUNTIF($B$5:B9,B9)) -> 2|3 | M9: =IF(OR(B9="",NOT(ISNUMBER(G9))),"",G9*100000+ROW()) -> 4632600009
B10: 2 | C10: Impozitul pe salarii reținut | D10: 421 | E10: 444 | F10: 1170 | G10: =IF(B10="","",IFERROR(INDEX('Registru note'!$C$5:$C$504,MATCH(B10,'Registru note'!$B$5:$B$504,0)),"")) -> 46326 | H10: =IF(D10="","",IFERROR(INDEX(PlanDen,MATCH(TRIM(IF(ISNUMBER(FIND(".",D10)),LEFT(D10,FIND(".",D10)-1),D10)),PlanCont,0)),IFERROR(INDEX(PlanDen,MATCH(LEFT(TRIM(IF(ISNUMBER(FIND(".",D10)),LEFT(D10,FIND(".",D10)-1),D10)),4),PlanCont,0)),IFERROR(INDEX(PlanDen,MATCH(LEFT(TRIM(IF(ISNUMBER(FIND(".",D10)),LEFT(D10,FIND(".",D10)-1),D10)),3),PlanCont,0)),"Cont inexistent în plan")))) -> Personal – salarii datorate | I10: =IF(E10="","",IFERROR(INDEX(PlanDen,MATCH(TRIM(IF(ISNUMBER(FIND(".",E10)),LEFT(E10,FIND(".",E10)-1),E10)),PlanCont,0)),IFERROR(INDEX(PlanDen,MATCH(LEFT(TRIM(IF(ISNUMBER(FIND(".",E10)),LEFT(E10,FIND(".",E10)-1),E10)),4),PlanCont,0)),IFERROR(INDEX(PlanDen,MATCH(LEFT(TRIM(IF(ISNUMBER(FIND(".",E10)),LEFT(E10,FIND(".",E10)-1),E10)),3),PlanCont,0)),"Cont inexistent în plan")))) -> Impozitul pe venituri de natura salariilor | J10: =IF(B10="","",IFERROR(INDEX('Registru note'!$D$5:$D$504,MATCH(B10,'Registru note'!$B$5:$B$504,0)),"")) -> Închidere de lună | K10: =IF(AND(B10="",D10="",E10=""),"",TRIM(IF(ISNA(MATCH(B10,'Registru note'!$B$5:$B$504,0)),"Nota nu există în registru. ","")&IF(D10="","Lipsește contul debitor. ",IF(NOT(OR(ISNUMBER(MATCH(TRIM(IF(ISNUMBER(FIND(".",D10)),LEFT(D10,FIND(".",D10)-1),D10)),PlanCont,0)),ISNUMBER(MATCH(LEFT(TRIM(IF(ISNUMBER(FIND(".",D10)),LEFT(D10,FIND(".",D10)-1),D10)),4),PlanCont,0)),ISNUMBER(MATCH(LEFT(TRIM(IF(ISNUMBER(FIND(".",D10)),LEFT(D10,FIND(".",D10)-1),D10)),3),PlanCont,0)))),"Contul debitor nu există în plan. ",""))&IF(E10="","Lipsește contul creditor. ",IF(NOT(OR(ISNUMBER(MATCH(TRIM(IF(ISNUMBER(FIND(".",E10)),LEFT(E10,FIND(".",E10)-1),E10)),PlanCont,0)),ISNUMBER(MATCH(LEFT(TRIM(IF(ISNUMBER(FIND(".",E10)),LEFT(E10,FIND(".",E10)-1),E10)),4),PlanCont,0)),ISNUMBER(MATCH(LEFT(TRIM(IF(ISNUMBER(FIND(".",E10)),LEFT(E10,FIND(".",E10)-1),E10)),3),PlanCont,0)))),"Contul creditor nu există în plan. ",""))&IF(AND(D10<>"",TRIM(D10&"")=TRIM(E10&"")),"Același cont pe debit și credit. ","")&IF(N(F10)=0,"Lipsește suma. ","")&IF(AND(N(F10)<0,J10<>"Stornare"),"Sumă negativă într-o notă care nu e de stornare. ","")&IF(C10="","Lipsește explicația. ",""))) | L10: =IF(B10="","",B10&"|"&COUNTIF($B$5:B10,B10)) -> 2|4 | M10: =IF(OR(B10="",NOT(ISNUMBER(G10))),"",G10*100000+ROW()) -> 4632600010
B11: 2 | C11: Contribuția asiguratorie pentru muncă | D11: 646 | E11: 436 | F11: 405 | G11: =IF(B11="","",IFERROR(INDEX('Registru note'!$C$5:$C$504,MATCH(B11,'Registru note'!$B$5:$B$504,0)),"")) -> 46326 | H11: =IF(D11="","",IFERROR(INDEX(PlanDen,MATCH(TRIM(IF(ISNUMBER(FIND(".",D11)),LEFT(D11,FIND(".",D11)-1),D11)),PlanCont,0)),IFERROR(INDEX(PlanDen,MATCH(LEFT(TRIM(IF(ISNUMBER(FIND(".",D11)),LEFT(D11,FIND(".",D11)-1),D11)),4),PlanCont,0)),IFERROR(INDEX(PlanDen,MATCH(LEFT(TRIM(IF(ISNUMBER(FIND(".",D11)),LEFT(D11,FIND(".",D11)-1),D11)),3),PlanCont,0)),"Cont inexistent în plan")))) -> Cheltuieli privind contribuția asiguratorie pentru muncă | I11: =IF(E11="","",IFERROR(INDEX(PlanDen,MATCH(TRIM(IF(ISNUMBER(FIND(".",E11)),LEFT(E11,FIND(".",E11)-1),E11)),PlanCont,0)),IFERROR(INDEX(PlanDen,MATCH(LEFT(TRIM(IF(ISNUMBER(FIND(".",E11)),LEFT(E11,FIND(".",E11)-1),E11)),4),PlanCont,0)),IFERROR(INDEX(PlanDen,MATCH(LEFT(TRIM(IF(ISNUMBER(FIND(".",E11)),LEFT(E11,FIND(".",E11)-1),E11)),3),PlanCont,0)),"Cont inexistent în plan")))) -> Contribuția asiguratorie pentru muncă | J11: =IF(B11="","",IFERROR(INDEX('Registru note'!$D$5:$D$504,MATCH(B11,'Registru note'!$B$5:$B$504,0)),"")) -> Închidere de lună | K11: =IF(AND(B11="",D11="",E11=""),"",TRIM(IF(ISNA(MATCH(B11,'Registru note'!$B$5:$B$504,0)),"Nota nu există în registru. ","")&IF(D11="","Lipsește contul debitor. ",IF(NOT(OR(ISNUMBER(MATCH(TRIM(IF(ISNUMBER(FIND(".",D11)),LEFT(D11,FIND(".",D11)-1),D11)),PlanCont,0)),ISNUMBER(MATCH(LEFT(TRIM(IF(ISNUMBER(FIND(".",D11)),LEFT(D11,FIND(".",D11)-1),D11)),4),PlanCont,0)),ISNUMBER(MATCH(LEFT(TRIM(IF(ISNUMBER(FIND(".",D11)),LEFT(D11,FIND(".",D11)-1),D11)),3),PlanCont,0)))),"Contul debitor nu există în plan. ",""))&IF(E11="","Lipsește contul creditor. ",IF(NOT(OR(ISNUMBER(MATCH(TRIM(IF(ISNUMBER(FIND(".",E11)),LEFT(E11,FIND(".",E11)-1),E11)),PlanCont,0)),ISNUMBER(MATCH(LEFT(TRIM(IF(ISNUMBER(FIND(".",E11)),LEFT(E11,FIND(".",E11)-1),E11)),4),PlanCont,0)),ISNUMBER(MATCH(LEFT(TRIM(IF(ISNUMBER(FIND(".",E11)),LEFT(E11,FIND(".",E11)-1),E11)),3),PlanCont,0)))),"Contul creditor nu există în plan. ",""))&IF(AND(D11<>"",TRIM(D11&"")=TRIM(E11&"")),"Același cont pe debit și credit. ","")&IF(N(F11)=0,"Lipsește suma. ","")&IF(AND(N(F11)<0,J11<>"Stornare"),"Sumă negativă într-o notă care nu e de stornare. ","")&IF(C11="","Lipsește explicația. ",""))) | L11: =IF(B11="","",B11&"|"&COUNTIF($B$5:B11,B11)) -> 2|5 | M11: =IF(OR(B11="",NOT(ISNUMBER(G11))),"",G11*100000+ROW()) -> 4632600011
B12: 3 | C12: Compensarea TVA deductibile cu TVA colectată | D12: 4427 | E12: 4426 | F12: 9800 | G12: =IF(B12="","",IFERROR(INDEX('Registru note'!$C$5:$C$504,MATCH(B12,'Registru note'!$B$5:$B$504,0)),"")) -> 46326 | H12: =IF(D12="","",IFERROR(INDEX(PlanDen,MATCH(TRIM(IF(ISNUMBER(FIND(".",D12)),LEFT(D12,FIND(".",D12)-1),D12)),PlanCont,0)),IFERROR(INDEX(PlanDen,MATCH(LEFT(TRIM(IF(ISNUMBER(FIND(".",D12)),LEFT(D12,FIND(".",D12)-1),D12)),4),PlanCont,0)),IFERROR(INDEX(PlanDen,MATCH(LEFT(TRIM(IF(ISNUMBER(FIND(".",D12)),LEFT(D12,FIND(".",D12)-1),D12)),3),PlanCont,0)),"Cont inexistent în plan")))) -> TVA colectată | I12: =IF(E12="","",IFERROR(INDEX(PlanDen,MATCH(TRIM(IF(ISNUMBER(FIND(".",E12)),LEFT(E12,FIND(".",E12)-1),E12)),PlanCont,0)),IFERROR(INDEX(PlanDen,MATCH(LEFT(TRIM(IF(ISNUMBER(FIND(".",E12)),LEFT(E12,FIND(".",E12)-1),E12)),4),PlanCont,0)),IFERROR(INDEX(PlanDen,MATCH(LEFT(TRIM(IF(ISNUMBER(FIND(".",E12)),LEFT(E12,FIND(".",E12)-1),E12)),3),PlanCont,0)),"Cont inexistent în plan")))) -> TVA deductibilă | J12: =IF(B12="","",IFERROR(INDEX('Registru note'!$D$5:$D$504,MATCH(B12,'Registru note'!$B$5:$B$504,0)),"")) -> Regularizare | K12: =IF(AND(B12="",D12="",E12=""),"",TRIM(IF(ISNA(MATCH(B12,'Registru note'!$B$5:$B$504,0)),"Nota nu există în registru. ","")&IF(D12="","Lipsește contul debitor. ",IF(NOT(OR(ISNUMBER(MATCH(TRIM(IF(ISNUMBER(FIND(".",D12)),LEFT(D12,FIND(".",D12)-1),D12)),PlanCont,0)),ISNUMBER(MATCH(LEFT(TRIM(IF(ISNUMBER(FIND(".",D12)),LEFT(D12,FIND(".",D12)-1),D12)),4),PlanCont,0)),ISNUMBER(MATCH(LEFT(TRIM(IF(ISNUMBER(FIND(".",D12)),LEFT(D12,FIND(".",D12)-1),D12)),3),PlanCont,0)))),"Contul debitor nu există în plan. ",""))&IF(E12="","Lipsește contul creditor. ",IF(NOT(OR(ISNUMBER(MATCH(TRIM(IF(ISNUMBER(FIND(".",E12)),LEFT(E12,FIND(".",E12)-1),E12)),PlanCont,0)),ISNUMBER(MATCH(LEFT(TRIM(IF(ISNUMBER(FIND(".",E12)),LEFT(E12,FIND(".",E12)-1),E12)),4),PlanCont,0)),ISNUMBER(MATCH(LEFT(TRIM(IF(ISNUMBER(FIND(".",E12)),LEFT(E12,FIND(".",E12)-1),E12)),3),PlanCont,0)))),"Contul creditor nu există în plan. ",""))&IF(AND(D12<>"",TRIM(D12&"")=TRIM(E12&"")),"Același cont pe debit și credit. ","")&IF(N(F12)=0,"Lipsește suma. ","")&IF(AND(N(F12)<0,J12<>"Stornare"),"Sumă negativă într-o notă care nu e de stornare. ","")&IF(C12="","Lipsește explicația. ",""))) | L12: =IF(B12="","",B12&"|"&COUNTIF($B$5:B12,B12)) -> 3|1 | M12: =IF(OR(B12="",NOT(ISNUMBER(G12))),"",G12*100000+ROW()) -> 4632600012
B13: 3 | C13: TVA de plată pentru octombrie | D13: 4427 | E13: 4423 | F13: 3100 | G13: =IF(B13="","",IFERROR(INDEX('Registru note'!$C$5:$C$504,MATCH(B13,'Registru note'!$B$5:$B$504,0)),"")) -> 46326 | H13: =IF(D13="","",IFERROR(INDEX(PlanDen,MATCH(TRIM(IF(ISNUMBER(FIND(".",D13)),LEFT(D13,FIND(".",D13)-1),D13)),PlanCont,0)),IFERROR(INDEX(PlanDen,MATCH(LEFT(TRIM(IF(ISNUMBER(FIND(".",D13)),LEFT(D13,FIND(".",D13)-1),D13)),4),PlanCont,0)),IFERROR(INDEX(PlanDen,MATCH(LEFT(TRIM(IF(ISNUMBER(FIND(".",D13)),LEFT(D13,FIND(".",D13)-1),D13)),3),PlanCont,0)),"Cont inexistent în plan")))) -> TVA colectată | I13: =IF(E13="","",IFERROR(INDEX(PlanDen,MATCH(TRIM(IF(ISNUMBER(FIND(".",E13)),LEFT(E13,FIND(".",E13)-1),E13)),PlanCont,0)),IFERROR(INDEX(PlanDen,MATCH(LEFT(TRIM(IF(ISNUMBER(FIND(".",E13)),LEFT(E13,FIND(".",E13)-1),E13)),4),PlanCont,0)),IFERROR(INDEX(PlanDen,MATCH(LEFT(TRIM(IF(ISNUMBER(FIND(".",E13)),LEFT(E13,FIND(".",E13)-1),E13)),3),PlanCont,0)),"Cont inexistent în plan")))) -> TVA de plată | J13: =IF(B13="","",IFERROR(INDEX('Registru note'!$D$5:$D$504,MATCH(B13,'Registru note'!$B$5:$B$504,0)),"")) -> Regularizare | K13: =IF(AND(B13="",D13="",E13=""),"",TRIM(IF(ISNA(MATCH(B13,'Registru note'!$B$5:$B$504,0)),"Nota nu există în registru. ","")&IF(D13="","Lipsește contul debitor. ",IF(NOT(OR(ISNUMBER(MATCH(TRIM(IF(ISNUMBER(FIND(".",D13)),LEFT(D13,FIND(".",D13)-1),D13)),PlanCont,0)),ISNUMBER(MATCH(LEFT(TRIM(IF(ISNUMBER(FIND(".",D13)),LEFT(D13,FIND(".",D13)-1),D13)),4),PlanCont,0)),ISNUMBER(MATCH(LEFT(TRIM(IF(ISNUMBER(FIND(".",D13)),LEFT(D13,FIND(".",D13)-1),D13)),3),PlanCont,0)))),"Contul debitor nu există în plan. ",""))&IF(E13="","Lipsește contul creditor. ",IF(NOT(OR(ISNUMBER(MATCH(TRIM(IF(ISNUMBER(FIND(".",E13)),LEFT(E13,FIND(".",E13)-1),E13)),PlanCont,0)),ISNUMBER(MATCH(LEFT(TRIM(IF(ISNUMBER(FIND(".",E13)),LEFT(E13,FIND(".",E13)-1),E13)),4),PlanCont,0)),ISNUMBER(MATCH(LEFT(TRIM(IF(ISNUMBER(FIND(".",E13)),LEFT(E13,FIND(".",E13)-1),E13)),3),PlanCont,0)))),"Contul creditor nu există în plan. ",""))&IF(AND(D13<>"",TRIM(D13&"")=TRIM(E13&"")),"Același cont pe debit și credit. ","")&IF(N(F13)=0,"Lipsește suma. ","")&IF(AND(N(F13)<0,J13<>"Stornare"),"Sumă negativă într-o notă care nu e de stornare. ","")&IF(C13="","Lipsește explicația. ",""))) | L13: =IF(B13="","",B13&"|"&COUNTIF($B$5:B13,B13)) -> 3|2 | M13: =IF(OR(B13="",NOT(ISNUMBER(G13))),"",G13*100000+ROW()) -> 4632600013
B14: 4 | C14: Lipsă de mărfuri constatată la inventar | D14: 607 | E14: 371 | F14: 400 | G14: =IF(B14="","",IFERROR(INDEX('Registru note'!$C$5:$C$504,MATCH(B14,'Registru note'!$B$5:$B$504,0)),"")) -> 46325 | H14: =IF(D14="","",IFERROR(INDEX(PlanDen,MATCH(TRIM(IF(ISNUMBER(FIND(".",D14)),LEFT(D14,FIND(".",D14)-1),D14)),PlanCont,0)),IFERROR(INDEX(PlanDen,MATCH(LEFT(TRIM(IF(ISNUMBER(FIND(".",D14)),LEFT(D14,FIND(".",D14)-1),D14)),4),PlanCont,0)),IFERROR(INDEX(PlanDen,MATCH(LEFT(TRIM(IF(ISNUMBER(FIND(".",D14)),LEFT(D14,FIND(".",D14)-1),D14)),3),PlanCont,0)),"Cont inexistent în plan")))) -> Cheltuieli privind mărfurile | I14: =IF(E14="","",IFERROR(INDEX(PlanDen,MATCH(TRIM(IF(ISNUMBER(FIND(".",E14)),LEFT(E14,FIND(".",E14)-1),E14)),PlanCont,0)),IFERROR(INDEX(PlanDen,MATCH(LEFT(TRIM(IF(ISNUMBER(FIND(".",E14)),LEFT(E14,FIND(".",E14)-1),E14)),4),PlanCont,0)),IFERROR(INDEX(PlanDen,MATCH(LEFT(TRIM(IF(ISNUMBER(FIND(".",E14)),LEFT(E14,FIND(".",E14)-1),E14)),3),PlanCont,0)),"Cont inexistent în plan")))) -> Mărfuri | J14: =IF(B14="","",IFERROR(INDEX('Registru note'!$D$5:$D$504,MATCH(B14,'Registru note'!$B$5:$B$504,0)),"")) -> Regularizare | K14: =IF(AND(B14="",D14="",E14=""),"",TRIM(IF(ISNA(MATCH(B14,'Registru note'!$B$5:$B$504,0)),"Nota nu există în registru. ","")&IF(D14="","Lipsește contul debitor. ",IF(NOT(OR(ISNUMBER(MATCH(TRIM(IF(ISNUMBER(FIND(".",D14)),LEFT(D14,FIND(".",D14)-1),D14)),PlanCont,0)),ISNUMBER(MATCH(LEFT(TRIM(IF(ISNUMBER(FIND(".",D14)),LEFT(D14,FIND(".",D14)-1),D14)),4),PlanCont,0)),ISNUMBER(MATCH(LEFT(TRIM(IF(ISNUMBER(FIND(".",D14)),LEFT(D14,FIND(".",D14)-1),D14)),3),PlanCont,0)))),"Contul debitor nu există în plan. ",""))&IF(E14="","Lipsește contul creditor. ",IF(NOT(OR(ISNUMBER(MATCH(TRIM(IF(ISNUMBER(FIND(".",E14)),LEFT(E14,FIND(".",E14)-1),E14)),PlanCont,0)),ISNUMBER(MATCH(LEFT(TRIM(IF(ISNUMBER(FIND(".",E14)),LEFT(E14,FIND(".",E14)-1),E14)),4),PlanCont,0)),ISNUMBER(MATCH(LEFT(TRIM(IF(ISNUMBER(FIND(".",E14)),LEFT(E14,FIND(".",E14)-1),E14)),3),PlanCont,0)))),"Contul creditor nu există în plan. ",""))&IF(AND(D14<>"",TRIM(D14&"")=TRIM(E14&"")),"Același cont pe debit și credit. ","")&IF(N(F14)=0,"Lipsește suma. ","")&IF(AND(N(F14)<0,J14<>"Stornare"),"Sumă negativă într-o notă care nu e de stornare. ","")&IF(C14="","Lipsește explicația. ",""))) | L14: =IF(B14="","",B14&"|"&COUNTIF($B$5:B14,B14)) -> 4|1 | M14: =IF(OR(B14="",NOT(ISNUMBER(G14))),"",G14*100000+ROW()) -> 4632500014
B15: 5 | C15: Cota lunară din asigurarea plătită în avans | D15: 613 | E15: 471 | F15: 300 | G15: =IF(B15="","",IFERROR(INDEX('Registru note'!$C$5:$C$504,MATCH(B15,'Registru note'!$B$5:$B$504,0)),"")) -> 46326 | H15: =IF(D15="","",IFERROR(INDEX(PlanDen,MATCH(TRIM(IF(ISNUMBER(FIND(".",D15)),LEFT(D15,FIND(".",D15)-1),D15)),PlanCont,0)),IFERROR(INDEX(PlanDen,MATCH(LEFT(TRIM(IF(ISNUMBER(FIND(".",D15)),LEFT(D15,FIND(".",D15)-1),D15)),4),PlanCont,0)),IFERROR(INDEX(PlanDen,MATCH(LEFT(TRIM(IF(ISNUMBER(FIND(".",D15)),LEFT(D15,FIND(".",D15)-1),D15)),3),PlanCont,0)),"Cont inexistent în plan")))) -> Cheltuieli cu primele de asigurare | I15: =IF(E15="","",IFERROR(INDEX(PlanDen,MATCH(TRIM(IF(ISNUMBER(FIND(".",E15)),LEFT(E15,FIND(".",E15)-1),E15)),PlanCont,0)),IFERROR(INDEX(PlanDen,MATCH(LEFT(TRIM(IF(ISNUMBER(FIND(".",E15)),LEFT(E15,FIND(".",E15)-1),E15)),4),PlanCont,0)),IFERROR(INDEX(PlanDen,MATCH(LEFT(TRIM(IF(ISNUMBER(FIND(".",E15)),LEFT(E15,FIND(".",E15)-1),E15)),3),PlanCont,0)),"Cont inexistent în plan")))) -> Cheltuieli înregistrate în avans | J15: =IF(B15="","",IFERROR(INDEX('Registru note'!$D$5:$D$504,MATCH(B15,'Registru note'!$B$5:$B$504,0)),"")) -> Închidere de lună | K15: =IF(AND(B15="",D15="",E15=""),"",TRIM(IF(ISNA(MATCH(B15,'Registru note'!$B$5:$B$504,0)),"Nota nu există în registru. ","")&IF(D15="","Lipsește contul debitor. ",IF(NOT(OR(ISNUMBER(MATCH(TRIM(IF(ISNUMBER(FIND(".",D15)),LEFT(D15,FIND(".",D15)-1),D15)),PlanCont,0)),ISNUMBER(MATCH(LEFT(TRIM(IF(ISNUMBER(FIND(".",D15)),LEFT(D15,FIND(".",D15)-1),D15)),4),PlanCont,0)),ISNUMBER(MATCH(LEFT(TRIM(IF(ISNUMBER(FIND(".",D15)),LEFT(D15,FIND(".",D15)-1),D15)),3),PlanCont,0)))),"Contul debitor nu există în plan. ",""))&IF(E15="","Lipsește contul creditor. ",IF(NOT(OR(ISNUMBER(MATCH(TRIM(IF(ISNUMBER(FIND(".",E15)),LEFT(E15,FIND(".",E15)-1),E15)),PlanCont,0)),ISNUMBER(MATCH(LEFT(TRIM(IF(ISNUMBER(FIND(".",E15)),LEFT(E15,FIND(".",E15)-1),E15)),4),PlanCont,0)),ISNUMBER(MATCH(LEFT(TRIM(IF(ISNUMBER(FIND(".",E15)),LEFT(E15,FIND(".",E15)-1),E15)),3),PlanCont,0)))),"Contul creditor nu există în plan. ",""))&IF(AND(D15<>"",TRIM(D15&"")=TRIM(E15&"")),"Același cont pe debit și credit. ","")&IF(N(F15)=0,"Lipsește suma. ","")&IF(AND(N(F15)<0,J15<>"Stornare"),"Sumă negativă într-o notă care nu e de stornare. ","")&IF(C15="","Lipsește explicația. ",""))) | L15: =IF(B15="","",B15&"|"&COUNTIF($B$5:B15,B15)) -> 5|1 | M15: =IF(OR(B15="",NOT(ISNUMBER(G15))),"",G15*100000+ROW()) -> 4632600015
B16: 6 | C16: Stornarea înregistrării facturii 778 pe contul 628 | D16: 628 | E16: 401 | F16: -1200 | G16: =IF(B16="","",IFERROR(INDEX('Registru note'!$C$5:$C$504,MATCH(B16,'Registru note'!$B$5:$B$504,0)),"")) -> 46322 | H16: =IF(D16="","",IFERROR(INDEX(PlanDen,MATCH(TRIM(IF(ISNUMBER(FIND(".",D16)),LEFT(D16,FIND(".",D16)-1),D16)),PlanCont,0)),IFERROR(INDEX(PlanDen,MATCH(LEFT(TRIM(IF(ISNUMBER(FIND(".",D16)),LEFT(D16,FIND(".",D16)-1),D16)),4),PlanCont,0)),IFERROR(INDEX(PlanDen,MATCH(LEFT(TRIM(IF(ISNUMBER(FIND(".",D16)),LEFT(D16,FIND(".",D16)-1),D16)),3),PlanCont,0)),"Cont inexistent în plan")))) -> Alte cheltuieli cu serviciile executate de terți | I16: =IF(E16="","",IFERROR(INDEX(PlanDen,MATCH(TRIM(IF(ISNUMBER(FIND(".",E16)),LEFT(E16,FIND(".",E16)-1),E16)),PlanCont,0)),IFERROR(INDEX(PlanDen,MATCH(LEFT(TRIM(IF(ISNUMBER(FIND(".",E16)),LEFT(E16,FIND(".",E16)-1),E16)),4),PlanCont,0)),IFERROR(INDEX(PlanDen,MATCH(LEFT(TRIM(IF(ISNUMBER(FIND(".",E16)),LEFT(E16,FIND(".",E16)-1),E16)),3),PlanCont,0)),"Cont inexistent în plan")))) -> Furnizori | J16: =IF(B16="","",IFERROR(INDEX('Registru note'!$D$5:$D$504,MATCH(B16,'Registru note'!$B$5:$B$504,0)),"")) -> Stornare | K16: =IF(AND(B16="",D16="",E16=""),"",TRIM(IF(ISNA(MATCH(B16,'Registru note'!$B$5:$B$504,0)),"Nota nu există în registru. ","")&IF(D16="","Lipsește contul debitor. ",IF(NOT(OR(ISNUMBER(MATCH(TRIM(IF(ISNUMBER(FIND(".",D16)),LEFT(D16,FIND(".",D16)-1),D16)),PlanCont,0)),ISNUMBER(MATCH(LEFT(TRIM(IF(ISNUMBER(FIND(".",D16)),LEFT(D16,FIND(".",D16)-1),D16)),4),PlanCont,0)),ISNUMBER(MATCH(LEFT(TRIM(IF(ISNUMBER(FIND(".",D16)),LEFT(D16,FIND(".",D16)-1),D16)),3),PlanCont,0)))),"Contul debitor nu există în plan. ",""))&IF(E16="","Lipsește contul creditor. ",IF(NOT(OR(ISNUMBER(MATCH(TRIM(IF(ISNUMBER(FIND(".",E16)),LEFT(E16,FIND(".",E16)-1),E16)),PlanCont,0)),ISNUMBER(MATCH(LEFT(TRIM(IF(ISNUMBER(FIND(".",E16)),LEFT(E16,FIND(".",E16)-1),E16)),4),PlanCont,0)),ISNUMBER(MATCH(LEFT(TRIM(IF(ISNUMBER(FIND(".",E16)),LEFT(E16,FIND(".",E16)-1),E16)),3),PlanCont,0)))),"Contul creditor nu există în plan. ",""))&IF(AND(D16<>"",TRIM(D16&"")=TRIM(E16&"")),"Același cont pe debit și credit. ","")&IF(N(F16)=0,"Lipsește suma. ","")&IF(AND(N(F16)<0,J16<>"Stornare"),"Sumă negativă într-o notă care nu e de stornare. ","")&IF(C16="","Lipsește explicația. ",""))) | L16: =IF(B16="","",B16&"|"&COUNTIF($B$5:B16,B16)) -> 6|1 | M16: =IF(OR(B16="",NOT(ISNUMBER(G16))),"",G16*100000+ROW()) -> 4632200016
... B18: 8 | C18: Compensare datorie – creanță Electro Plus SRL | D18: 401 | E18: 4111 | F18: 2500 | G18: =IF(B18="","",IFERROR(INDEX('Registru note'!$C$5:$C$504,MATCH(B18,'Registru note'!$B$5:$B$504,0)),"")) -> 46326 | H18: =IF(D18="","",IFERROR(INDEX(PlanDen,MATCH(TRIM(IF(ISNUMBER(FIND(".",D18)),LEFT(D18,FIND(".",D18)-1),D18)),PlanCont,0)),IFERROR(INDEX(PlanDen,MATCH(LEFT(TRIM(IF(ISNUMBER(FIND(".",D18)),LEFT(D18,FIND(".",D18)-1),D18)),4),PlanCont,0)),IFERROR(INDEX(PlanDen,MATCH(LEFT(TRIM(IF(ISNUMBER(FIND(".",D18)),LEFT(D18,FIND(".",D18)-1),D18)),3),PlanCont,0)),"Cont inexistent în plan")))) -> Furnizori | I18: =IF(E18="","",IFERROR(INDEX(PlanDen,MATCH(TRIM(IF(ISNUMBER(FIND(".",E18)),LEFT(E18,FIND(".",E18)-1),E18)),PlanCont,0)),IFERROR(INDEX(PlanDen,MATCH(LEFT(TRIM(IF(ISNUMBER(FIND(".",E18)),LEFT(E18,FIND(".",E18)-1),E18)),4),PlanCont,0)),IFERROR(INDEX(PlanDen,MATCH(LEFT(TRIM(IF(ISNUMBER(FIND(".",E18)),LEFT(E18,FIND(".",E18)-1),E18)),3),PlanCont,0)),"Cont inexistent în plan")))) -> Clienți | J18: =IF(B18="","",IFERROR(INDEX('Registru note'!$D$5:$D$504,MATCH(B18,'Registru note'!$B$5:$B$504,0)),"")) -> Compensare | K18: =IF(AND(B18="",D18="",E18=""),"",TRIM(IF(ISNA(MATCH(B18,'Registru note'!$B$5:$B$504,0)),"Nota nu există în registru. ","")&IF(D18="","Lipsește contul debitor. ",IF(NOT(OR(ISNUMBER(MATCH(TRIM(IF(ISNUMBER(FIND(".",D18)),LEFT(D18,FIND(".",D18)-1),D18)),PlanCont,0)),ISNUMBER(MATCH(LEFT(TRIM(IF(ISNUMBER(FIND(".",D18)),LEFT(D18,FIND(".",D18)-1),D18)),4),PlanCont,0)),ISNUMBER(MATCH(LEFT(TRIM(IF(ISNUMBER(FIND(".",D18)),LEFT(D18,FIND(".",D18)-1),D18)),3),PlanCont,0)))),"Contul debitor nu există în plan. ",""))&IF(E18="","Lipsește contul creditor. ",IF(NOT(OR(ISNUMBER(MATCH(TRIM(IF(ISNUMBER(FIND(".",E18)),LEFT(E18,FIND(".",E18)-1),E18)),PlanCont,0)),ISNUMBER(MATCH(LEFT(TRIM(IF(ISNUMBER(FIND(".",E18)),LEFT(E18,FIND(".",E18)-1),E18)),4),PlanCont,0)),ISNUMBER(MATCH(LEFT(TRIM(IF(ISNUMBER(FIND(".",E18)),LEFT(E18,FIND(".",E18)-1),E18)),3),PlanCont,0)))),"Contul creditor nu există în plan. ",""))&IF(AND(D18<>"",TRIM(D18&"")=TRIM(E18&"")),"Același cont pe debit și credit. ","")&IF(N(F18)=0,"Lipsește suma. ","")&IF(AND(N(F18)<0,J18<>"Stornare"),"Sumă negativă într-o notă care nu e de stornare. ","")&IF(C18="","Lipsește explicația. ",""))) | L18: =IF(B18="","",B18&"|"&COUNTIF($B$5:B18,B18)) -> 8|1 | M18: =IF(OR(B18="",NOT(ISNUMBER(G18))),"",G18*100000+ROW()) -> 4632600018
G19: =IF(B19="","",IFERROR(INDEX('Registru note'!$C$5:$C$504,MATCH(B19,'Registru note'!$B$5:$B$504,0)),"")) | H19: =IF(D19="","",IFERROR(INDEX(PlanDen,MATCH(TRIM(IF(ISNUMBER(FIND(".",D19)),LEFT(D19,FIND(".",D19)-1),D19)),PlanCont,0)),IFERROR(INDEX(PlanDen,MATCH(LEFT(TRIM(IF(ISNUMBER(FIND(".",D19)),LEFT(D19,FIND(".",D19)-1),D19)),4),PlanCont,0)),IFERROR(INDEX(PlanDen,MATCH(LEFT(TRIM(IF(ISNUMBER(FIND(".",D19)),LEFT(D19,FIND(".",D19)-1),D19)),3),PlanCont,0)),"Cont inexistent în plan")))) | I19: =IF(E19="","",IFERROR(INDEX(PlanDen,MATCH(TRIM(IF(ISNUMBER(FIND(".",E19)),LEFT(E19,FIND(".",E19)-1),E19)),PlanCont,0)),IFERROR(INDEX(PlanDen,MATCH(LEFT(TRIM(IF(ISNUMBER(FIND(".",E19)),LEFT(E19,FIND(".",E19)-1),E19)),4),PlanCont,0)),IFERROR(INDEX(PlanDen,MATCH(LEFT(TRIM(IF(ISNUMBER(FIND(".",E19)),LEFT(E19,FIND(".",E19)-1),E19)),3),PlanCont,0)),"Cont inexistent în plan")))) | J19: =IF(B19="","",IFERROR(INDEX('Registru note'!$D$5:$D$504,MATCH(B19,'Registru note'!$B$5:$B$504,0)),"")) | K19: =IF(AND(B19="",D19="",E19=""),"",TRIM(IF(ISNA(MATCH(B19,'Registru note'!$B$5:$B$504,0)),"Nota nu există în registru. ","")&IF(D19="","Lipsește contul debitor. ",IF(NOT(OR(ISNUMBER(MATCH(TRIM(IF(ISNUMBER(FIND(".",D19)),LEFT(D19,FIND(".",D19)-1),D19)),PlanCont,0)),ISNUMBER(MATCH(LEFT(TRIM(IF(ISNUMBER(FIND(".",D19)),LEFT(D19,FIND(".",D19)-1),D19)),4),PlanCont,0)),ISNUMBER(MATCH(LEFT(TRIM(IF(ISNUMBER(FIND(".",D19)),LEFT(D19,FIND(".",D19)-1),D19)),3),PlanCont,0)))),"Contul debitor nu există în plan. ",""))&IF(E19="","Lipsește contul creditor. ",IF(NOT(OR(ISNUMBER(MATCH(TRIM(IF(ISNUMBER(FIND(".",E19)),LEFT(E19,FIND(".",E19)-1),E19)),PlanCont,0)),ISNUMBER(MATCH(LEFT(TRIM(IF(ISNUMBER(FIND(".",E19)),LEFT(E19,FIND(".",E19)-1),E19)),4),PlanCont,0)),ISNUMBER(MATCH(LEFT(TRIM(IF(ISNUMBER(FIND(".",E19)),LEFT(E19,FIND(".",E19)-1),E19)),3),PlanCont,0)))),"Contul creditor nu există în plan. ",""))&IF(AND(D19<>"",TRIM(D19&"")=TRIM(E19&"")),"Același cont pe debit și credit. ","")&IF(N(F19)=0,"Lipsește suma. ","")&IF(AND(N(F19)<0,J19<>"Stornare"),"Sumă negativă într-o notă care nu e de stornare. ","")&IF(C19="","Lipsește explicația. ",""))) | L19: =IF(B19="","",B19&"|"&COUNTIF($B$5:B19,B19)) | M19: =IF(OR(B19="",NOT(ISNUMBER(G19))),"",G19*100000+ROW())
G20: =IF(B20="","",IFERROR(INDEX('Registru note'!$C$5:$C$504,MATCH(B20,'Registru note'!$B$5:$B$504,0)),"")) | H20: =IF(D20="","",IFERROR(INDEX(PlanDen,MATCH(TRIM(IF(ISNUMBER(FIND(".",D20)),LEFT(D20,FIND(".",D20)-1),D20)),PlanCont,0)),IFERROR(INDEX(PlanDen,MATCH(LEFT(TRIM(IF(ISNUMBER(FIND(".",D20)),LEFT(D20,FIND(".",D20)-1),D20)),4),PlanCont,0)),IFERROR(INDEX(PlanDen,MATCH(LEFT(TRIM(IF(ISNUMBER(FIND(".",D20)),LEFT(D20,FIND(".",D20)-1),D20)),3),PlanCont,0)),"Cont inexistent în plan")))) | I20: =IF(E20="","",IFERROR(INDEX(PlanDen,MATCH(TRIM(IF(ISNUMBER(FIND(".",E20)),LEFT(E20,FIND(".",E20)-1),E20)),PlanCont,0)),IFERROR(INDEX(PlanDen,MATCH(LEFT(TRIM(IF(ISNUMBER(FIND(".",E20)),LEFT(E20,FIND(".",E20)-1),E20)),4),PlanCont,0)),IFERROR(INDEX(PlanDen,MATCH(LEFT(TRIM(IF(ISNUMBER(FIND(".",E20)),LEFT(E20,FIND(".",E20)-1),E20)),3),PlanCont,0)),"Cont inexistent în plan")))) | J20: =IF(B20="","",IFERROR(INDEX('Registru note'!$D$5:$D$504,MATCH(B20,'Registru note'!$B$5:$B$504,0)),"")) | K20: =IF(AND(B20="",D20="",E20=""),"",TRIM(IF(ISNA(MATCH(B20,'Registru note'!$B$5:$B$504,0)),"Nota nu există în registru. ","")&IF(D20="","Lipsește contul debitor. ",IF(NOT(OR(ISNUMBER(MATCH(TRIM(IF(ISNUMBER(FIND(".",D20)),LEFT(D20,FIND(".",D20)-1),D20)),PlanCont,0)),ISNUMBER(MATCH(LEFT(TRIM(IF(ISNUMBER(FIND(".",D20)),LEFT(D20,FIND(".",D20)-1),D20)),4),PlanCont,0)),ISNUMBER(MATCH(LEFT(TRIM(IF(ISNUMBER(FIND(".",D20)),LEFT(D20,FIND(".",D20)-1),D20)),3),PlanCont,0)))),"Contul debitor nu există în plan. ",""))&IF(E20="","Lipsește contul creditor. ",IF(NOT(OR(ISNUMBER(MATCH(TRIM(IF(ISNUMBER(FIND(".",E20)),LEFT(E20,FIND(".",E20)-1),E20)),PlanCont,0)),ISNUMBER(MATCH(LEFT(TRIM(IF(ISNUMBER(FIND(".",E20)),LEFT(E20,FIND(".",E20)-1),E20)),4),PlanCont,0)),ISNUMBER(MATCH(LEFT(TRIM(IF(ISNUMBER(FIND(".",E20)),LEFT(E20,FIND(".",E20)-1),E20)),3),PlanCont,0)))),"Contul creditor nu există în plan. ",""))&IF(AND(D20<>"",TRIM(D20&"")=TRIM(E20&"")),"Același cont pe debit și credit. ","")&IF(N(F20)=0,"Lipsește suma. ","")&IF(AND(N(F20)<0,J20<>"Stornare"),"Sumă negativă într-o notă care nu e de stornare. ","")&IF(C20="","Lipsește explicația. ",""))) | L20: =IF(B20="","",B20&"|"&COUNTIF($B$5:B20,B20)) | M20: =IF(OR(B20="",NOT(ISNUMBER(G20))),"",G20*100000+ROW())
