Workbook
Name Adresa: Setări!$C$6
Name Catalog: Produse!$B$5:$F$204
Name CIF: Setări!$C$5
Name Coduri: Produse!$B$5:$B$204
Name Contact: Setări!$C$7
Name Firma: Setări!$C$4
Name ListaConf: Setări!$F$5:$F$7
Name ListaPlata: Setări!$E$5:$E$8
Name RandC: 'Notă de comandă'!$N$1
Name Seria: Setări!$C$8
Name ZileConf: Setări!$C$9

Sheet Notă de comandă
B1: Comanda nr.: | D1: 319 | E1: ← scrie numărul din registru; restul se completează automat | N1: =IFERROR(MATCH(D1,'Registru comenzi'!$B$5:$B$304,0),0) -> 5
B3: NOTĂ DE COMANDĂ
B4: =IF(RandC=0,"","Seria "&Seria&" nr. "&D1&" din "&RIGHT("0"&DAY(INDEX('Registru comenzi'!$C$5:$C$304,RandC)),2)&"."&RIGHT("0"&MONTH(INDEX('Registru comenzi'!$C$5:$C$304,RandC)),2)&"."&YEAR(INDEX('Registru comenzi'!$C$5:$C$304,RandC))&IF(IF(RandC=0,"",INDEX('Registru comenzi'!$I$5:$I$304,RandC)&"")="",""," · conform ofertei "&IF(RandC=0,"",INDEX('Registru comenzi'!$I$5:$I$304,RandC)&""))) -> Seria CMD nr. 319 din 12.10.2026
B6: FURNIZOR | G6: CLIENT
B7: =Firma -> Exemplu Distribuție SRL | G7: =IF(RandC=0,"",INDEX('Registru comenzi'!$D$5:$D$304,RandC)&"") -> Casa Verde SRL
B8: ="CIF: "&CIF -> CIF: RO12345678 | G8: =IF(RandC=0,"","CIF / CNP: "&IF(RandC=0,"",INDEX('Registru comenzi'!$E$5:$E$304,RandC)&"")) -> CIF / CNP: RO67890123
B9: =Adresa -> Str. Gării nr. 10, Ploiești, jud. Prahova | G9: =IF(RandC=0,"","Persoana de contact: "&IF(RandC=0,"",INDEX('Registru comenzi'!$F$5:$F$304,RandC)&"")) -> Persoana de contact: Elena Dinu
B10: =Contact -> 0244 000 000 · comenzi@exemplu.ro | G10: =IF(RandC=0,"",INDEX('Registru comenzi'!$G$5:$G$304,RandC)&"") -> office@casaverde.ro
B12: Nr. | C12: Denumirea produselor / serviciilor | E12: U.M. | F12: Cantitate | G12: Preț unitar | H12: Discount | I12: Valoare | J12: TVA
B13: =IF($N13=0,"",1) -> 1 | C13: =IF($N13=0,"",IF(INDEX('Linii comandă'!$E$5:$E$1004,$N13)="","",INDEX('Linii comandă'!$E$5:$E$1004,$N13))) -> Priză dublă cu împământare | E13: =IF($N13=0,"",IF(INDEX('Linii comandă'!$F$5:$F$1004,$N13)="","",INDEX('Linii comandă'!$F$5:$F$1004,$N13))) -> buc | F13: =IF($N13=0,"",IF(INDEX('Linii comandă'!$G$5:$G$1004,$N13)="","",INDEX('Linii comandă'!$G$5:$G$1004,$N13))) -> 40 | G13: =IF($N13=0,"",IF(INDEX('Linii comandă'!$H$5:$H$1004,$N13)="","",INDEX('Linii comandă'!$H$5:$H$1004,$N13))) -> 18.9 | H13: =IF($N13=0,"",IF(INDEX('Linii comandă'!$I$5:$I$1004,$N13)="","",INDEX('Linii comandă'!$I$5:$I$1004,$N13))) -> 0.05 | I13: =IF($N13=0,"",IF(INDEX('Linii comandă'!$K$5:$K$1004,$N13)="","",INDEX('Linii comandă'!$K$5:$K$1004,$N13))) -> 718.2 | J13: =IF($N13=0,"",IF(INDEX('Linii comandă'!$L$5:$L$1004,$N13)="","",INDEX('Linii comandă'!$L$5:$L$1004,$N13))) -> 150.82 | N13: =IFERROR(MATCH($D$1&"|"&1,'Linii comandă'!$A$5:$A$1004,0),0) -> 14
B14: =IF($N14=0,"",2) -> 2 | C14: =IF($N14=0,"",IF(INDEX('Linii comandă'!$E$5:$E$1004,$N14)="","",INDEX('Linii comandă'!$E$5:$E$1004,$N14))) -> Întrerupător simplu Schneider Sedna | E14: =IF($N14=0,"",IF(INDEX('Linii comandă'!$F$5:$F$1004,$N14)="","",INDEX('Linii comandă'!$F$5:$F$1004,$N14))) -> buc | F14: =IF($N14=0,"",IF(INDEX('Linii comandă'!$G$5:$G$1004,$N14)="","",INDEX('Linii comandă'!$G$5:$G$1004,$N14))) -> 40 | G14: =IF($N14=0,"",IF(INDEX('Linii comandă'!$H$5:$H$1004,$N14)="","",INDEX('Linii comandă'!$H$5:$H$1004,$N14))) -> 14.5 | H14: =IF($N14=0,"",IF(INDEX('Linii comandă'!$I$5:$I$1004,$N14)="","",INDEX('Linii comandă'!$I$5:$I$1004,$N14))) -> 0.05 | I14: =IF($N14=0,"",IF(INDEX('Linii comandă'!$K$5:$K$1004,$N14)="","",INDEX('Linii comandă'!$K$5:$K$1004,$N14))) -> 551 | J14: =IF($N14=0,"",IF(INDEX('Linii comandă'!$L$5:$L$1004,$N14)="","",INDEX('Linii comandă'!$L$5:$L$1004,$N14))) -> 115.71 | N14: =IFERROR(MATCH($D$1&"|"&2,'Linii comandă'!$A$5:$A$1004,0),0) -> 15
B15: =IF($N15=0,"",3) -> 3 | C15: =IF($N15=0,"",IF(INDEX('Linii comandă'!$E$5:$E$1004,$N15)="","",INDEX('Linii comandă'!$E$5:$E$1004,$N15))) -> Doză aparat îngropată | E15: =IF($N15=0,"",IF(INDEX('Linii comandă'!$F$5:$F$1004,$N15)="","",INDEX('Linii comandă'!$F$5:$F$1004,$N15))) -> buc | F15: =IF($N15=0,"",IF(INDEX('Linii comandă'!$G$5:$G$1004,$N15)="","",INDEX('Linii comandă'!$G$5:$G$1004,$N15))) -> 80 | G15: =IF($N15=0,"",IF(INDEX('Linii comandă'!$H$5:$H$1004,$N15)="","",INDEX('Linii comandă'!$H$5:$H$1004,$N15))) -> 1.2 | H15: =IF($N15=0,"",IF(INDEX('Linii comandă'!$I$5:$I$1004,$N15)="","",INDEX('Linii comandă'!$I$5:$I$1004,$N15))) | I15: =IF($N15=0,"",IF(INDEX('Linii comandă'!$K$5:$K$1004,$N15)="","",INDEX('Linii comandă'!$K$5:$K$1004,$N15))) -> 96 | J15: =IF($N15=0,"",IF(INDEX('Linii comandă'!$L$5:$L$1004,$N15)="","",INDEX('Linii comandă'!$L$5:$L$1004,$N15))) -> 20.16 | N15: =IFERROR(MATCH($D$1&"|"&3,'Linii comandă'!$A$5:$A$1004,0),0) -> 16
B16: =IF($N16=0,"",4) | C16: =IF($N16=0,"",IF(INDEX('Linii comandă'!$E$5:$E$1004,$N16)="","",INDEX('Linii comandă'!$E$5:$E$1004,$N16))) | E16: =IF($N16=0,"",IF(INDEX('Linii comandă'!$F$5:$F$1004,$N16)="","",INDEX('Linii comandă'!$F$5:$F$1004,$N16))) | F16: =IF($N16=0,"",IF(INDEX('Linii comandă'!$G$5:$G$1004,$N16)="","",INDEX('Linii comandă'!$G$5:$G$1004,$N16))) | G16: =IF($N16=0,"",IF(INDEX('Linii comandă'!$H$5:$H$1004,$N16)="","",INDEX('Linii comandă'!$H$5:$H$1004,$N16))) | H16: =IF($N16=0,"",IF(INDEX('Linii comandă'!$I$5:$I$1004,$N16)="","",INDEX('Linii comandă'!$I$5:$I$1004,$N16))) | I16: =IF($N16=0,"",IF(INDEX('Linii comandă'!$K$5:$K$1004,$N16)="","",INDEX('Linii comandă'!$K$5:$K$1004,$N16))) | J16: =IF($N16=0,"",IF(INDEX('Linii comandă'!$L$5:$L$1004,$N16)="","",INDEX('Linii comandă'!$L$5:$L$1004,$N16))) | N16: =IFERROR(MATCH($D$1&"|"&4,'Linii comandă'!$A$5:$A$1004,0),0) -> 0
B17: =IF($N17=0,"",5) | C17: =IF($N17=0,"",IF(INDEX('Linii comandă'!$E$5:$E$1004,$N17)="","",INDEX('Linii comandă'!$E$5:$E$1004,$N17))) | E17: =IF($N17=0,"",IF(INDEX('Linii comandă'!$F$5:$F$1004,$N17)="","",INDEX('Linii comandă'!$F$5:$F$1004,$N17))) | F17: =IF($N17=0,"",IF(INDEX('Linii comandă'!$G$5:$G$1004,$N17)="","",INDEX('Linii comandă'!$G$5:$G$1004,$N17))) | G17: =IF($N17=0,"",IF(INDEX('Linii comandă'!$H$5:$H$1004,$N17)="","",INDEX('Linii comandă'!$H$5:$H$1004,$N17))) | H17: =IF($N17=0,"",IF(INDEX('Linii comandă'!$I$5:$I$1004,$N17)="","",INDEX('Linii comandă'!$I$5:$I$1004,$N17))) | I17: =IF($N17=0,"",IF(INDEX('Linii comandă'!$K$5:$K$1004,$N17)="","",INDEX('Linii comandă'!$K$5:$K$1004,$N17))) | J17: =IF($N17=0,"",IF(INDEX('Linii comandă'!$L$5:$L$1004,$N17)="","",INDEX('Linii comandă'!$L$5:$L$1004,$N17))) | N17: =IFERROR(MATCH($D$1&"|"&5,'Linii comandă'!$A$5:$A$1004,0),0) -> 0
B18: =IF($N18=0,"",6) | C18: =IF($N18=0,"",IF(INDEX('Linii comandă'!$E$5:$E$1004,$N18)="","",INDEX('Linii comandă'!$E$5:$E$1004,$N18))) | E18: =IF($N18=0,"",IF(INDEX('Linii comandă'!$F$5:$F$1004,$N18)="","",INDEX('Linii comandă'!$F$5:$F$1004,$N18))) | F18: =IF($N18=0,"",IF(INDEX('Linii comandă'!$G$5:$G$1004,$N18)="","",INDEX('Linii comandă'!$G$5:$G$1004,$N18))) | G18: =IF($N18=0,"",IF(INDEX('Linii comandă'!$H$5:$H$1004,$N18)="","",INDEX('Linii comandă'!$H$5:$H$1004,$N18))) | H18: =IF($N18=0,"",IF(INDEX('Linii comandă'!$I$5:$I$1004,$N18)="","",INDEX('Linii comandă'!$I$5:$I$1004,$N18))) | I18: =IF($N18=0,"",IF(INDEX('Linii comandă'!$K$5:$K$1004,$N18)="","",INDEX('Linii comandă'!$K$5:$K$1004,$N18))) | J18: =IF($N18=0,"",IF(INDEX('Linii comandă'!$L$5:$L$1004,$N18)="","",INDEX('Linii comandă'!$L$5:$L$1004,$N18))) | N18: =IFERROR(MATCH($D$1&"|"&6,'Linii comandă'!$A$5:$A$1004,0),0) -> 0
B19: =IF($N19=0,"",7) | C19: =IF($N19=0,"",IF(INDEX('Linii comandă'!$E$5:$E$1004,$N19)="","",INDEX('Linii comandă'!$E$5:$E$1004,$N19))) | E19: =IF($N19=0,"",IF(INDEX('Linii comandă'!$F$5:$F$1004,$N19)="","",INDEX('Linii comandă'!$F$5:$F$1004,$N19))) | F19: =IF($N19=0,"",IF(INDEX('Linii comandă'!$G$5:$G$1004,$N19)="","",INDEX('Linii comandă'!$G$5:$G$1004,$N19))) | G19: =IF($N19=0,"",IF(INDEX('Linii comandă'!$H$5:$H$1004,$N19)="","",INDEX('Linii comandă'!$H$5:$H$1004,$N19))) | H19: =IF($N19=0,"",IF(INDEX('Linii comandă'!$I$5:$I$1004,$N19)="","",INDEX('Linii comandă'!$I$5:$I$1004,$N19))) | I19: =IF($N19=0,"",IF(INDEX('Linii comandă'!$K$5:$K$1004,$N19)="","",INDEX('Linii comandă'!$K$5:$K$1004,$N19))) | J19: =IF($N19=0,"",IF(INDEX('Linii comandă'!$L$5:$L$1004,$N19)="","",INDEX('Linii comandă'!$L$5:$L$1004,$N19))) | N19: =IFERROR(MATCH($D$1&"|"&7,'Linii comandă'!$A$5:$A$1004,0),0) -> 0
B20: =IF($N20=0,"",8) | C20: =IF($N20=0,"",IF(INDEX('Linii comandă'!$E$5:$E$1004,$N20)="","",INDEX('Linii comandă'!$E$5:$E$1004,$N20))) | E20: =IF($N20=0,"",IF(INDEX('Linii comandă'!$F$5:$F$1004,$N20)="","",INDEX('Linii comandă'!$F$5:$F$1004,$N20))) | F20: =IF($N20=0,"",IF(INDEX('Linii comandă'!$G$5:$G$1004,$N20)="","",INDEX('Linii comandă'!$G$5:$G$1004,$N20))) | G20: =IF($N20=0,"",IF(INDEX('Linii comandă'!$H$5:$H$1004,$N20)="","",INDEX('Linii comandă'!$H$5:$H$1004,$N20))) | H20: =IF($N20=0,"",IF(INDEX('Linii comandă'!$I$5:$I$1004,$N20)="","",INDEX('Linii comandă'!$I$5:$I$1004,$N20))) | I20: =IF($N20=0,"",IF(INDEX('Linii comandă'!$K$5:$K$1004,$N20)="","",INDEX('Linii comandă'!$K$5:$K$1004,$N20))) | J20: =IF($N20=0,"",IF(INDEX('Linii comandă'!$L$5:$L$1004,$N20)="","",INDEX('Linii comandă'!$L$5:$L$1004,$N20))) | N20: =IFERROR(MATCH($D$1&"|"&8,'Linii comandă'!$A$5:$A$1004,0),0) -> 0
B21: =IF($N21=0,"",9) | C21: =IF($N21=0,"",IF(INDEX('Linii comandă'!$E$5:$E$1004,$N21)="","",INDEX('Linii comandă'!$E$5:$E$1004,$N21))) | E21: =IF($N21=0,"",IF(INDEX('Linii comandă'!$F$5:$F$1004,$N21)="","",INDEX('Linii comandă'!$F$5:$F$1004,$N21))) | F21: =IF($N21=0,"",IF(INDEX('Linii comandă'!$G$5:$G$1004,$N21)="","",INDEX('Linii comandă'!$G$5:$G$1004,$N21))) | G21: =IF($N21=0,"",IF(INDEX('Linii comandă'!$H$5:$H$1004,$N21)="","",INDEX('Linii comandă'!$H$5:$H$1004,$N21))) | H21: =IF($N21=0,"",IF(INDEX('Linii comandă'!$I$5:$I$1004,$N21)="","",INDEX('Linii comandă'!$I$5:$I$1004,$N21))) | I21: =IF($N21=0,"",IF(INDEX('Linii comandă'!$K$5:$K$1004,$N21)="","",INDEX('Linii comandă'!$K$5:$K$1004,$N21))) | J21: =IF($N21=0,"",IF(INDEX('Linii comandă'!$L$5:$L$1004,$N21)="","",INDEX('Linii comandă'!$L$5:$L$1004,$N21))) | N21: =IFERROR(MATCH($D$1&"|"&9,'Linii comandă'!$A$5:$A$1004,0),0) -> 0
B22: =IF($N22=0,"",10) | C22: =IF($N22=0,"",IF(INDEX('Linii comandă'!$E$5:$E$1004,$N22)="","",INDEX('Linii comandă'!$E$5:$E$1004,$N22))) | E22: =IF($N22=0,"",IF(INDEX('Linii comandă'!$F$5:$F$1004,$N22)="","",INDEX('Linii comandă'!$F$5:$F$1004,$N22))) | F22: =IF($N22=0,"",IF(INDEX('Linii comandă'!$G$5:$G$1004,$N22)="","",INDEX('Linii comandă'!$G$5:$G$1004,$N22))) | G22: =IF($N22=0,"",IF(INDEX('Linii comandă'!$H$5:$H$1004,$N22)="","",INDEX('Linii comandă'!$H$5:$H$1004,$N22))) | H22: =IF($N22=0,"",IF(INDEX('Linii comandă'!$I$5:$I$1004,$N22)="","",INDEX('Linii comandă'!$I$5:$I$1004,$N22))) | I22: =IF($N22=0,"",IF(INDEX('Linii comandă'!$K$5:$K$1004,$N22)="","",INDEX('Linii comandă'!$K$5:$K$1004,$N22))) | J22: =IF($N22=0,"",IF(INDEX('Linii comandă'!$L$5:$L$1004,$N22)="","",INDEX('Linii comandă'!$L$5:$L$1004,$N22))) | N22: =IFERROR(MATCH($D$1&"|"&10,'Linii comandă'!$A$5:$A$1004,0),0) -> 0
B23: =IF($N23=0,"",11) | C23: =IF($N23=0,"",IF(INDEX('Linii comandă'!$E$5:$E$1004,$N23)="","",INDEX('Linii comandă'!$E$5:$E$1004,$N23))) | E23: =IF($N23=0,"",IF(INDEX('Linii comandă'!$F$5:$F$1004,$N23)="","",INDEX('Linii comandă'!$F$5:$F$1004,$N23))) | F23: =IF($N23=0,"",IF(INDEX('Linii comandă'!$G$5:$G$1004,$N23)="","",INDEX('Linii comandă'!$G$5:$G$1004,$N23))) | G23: =IF($N23=0,"",IF(INDEX('Linii comandă'!$H$5:$H$1004,$N23)="","",INDEX('Linii comandă'!$H$5:$H$1004,$N23))) | H23: =IF($N23=0,"",IF(INDEX('Linii comandă'!$I$5:$I$1004,$N23)="","",INDEX('Linii comandă'!$I$5:$I$1004,$N23))) | I23: =IF($N23=0,"",IF(INDEX('Linii comandă'!$K$5:$K$1004,$N23)="","",INDEX('Linii comandă'!$K$5:$K$1004,$N23))) | J23: =IF($N23=0,"",IF(INDEX('Linii comandă'!$L$5:$L$1004,$N23)="","",INDEX('Linii comandă'!$L$5:$L$1004,$N23))) | N23: =IFERROR(MATCH($D$1&"|"&11,'Linii comandă'!$A$5:$A$1004,0),0) -> 0
B24: =IF($N24=0,"",12) | C24: =IF($N24=0,"",IF(INDEX('Linii comandă'!$E$5:$E$1004,$N24)="","",INDEX('Linii comandă'!$E$5:$E$1004,$N24))) | E24: =IF($N24=0,"",IF(INDEX('Linii comandă'!$F$5:$F$1004,$N24)="","",INDEX('Linii comandă'!$F$5:$F$1004,$N24))) | F24: =IF($N24=0,"",IF(INDEX('Linii comandă'!$G$5:$G$1004,$N24)="","",INDEX('Linii comandă'!$G$5:$G$1004,$N24))) | G24: =IF($N24=0,"",IF(INDEX('Linii comandă'!$H$5:$H$1004,$N24)="","",INDEX('Linii comandă'!$H$5:$H$1004,$N24))) | H24: =IF($N24=0,"",IF(INDEX('Linii comandă'!$I$5:$I$1004,$N24)="","",INDEX('Linii comandă'!$I$5:$I$1004,$N24))) | I24: =IF($N24=0,"",IF(INDEX('Linii comandă'!$K$5:$K$1004,$N24)="","",INDEX('Linii comandă'!$K$5:$K$1004,$N24))) | J24: =IF($N24=0,"",IF(INDEX('Linii comandă'!$L$5:$L$1004,$N24)="","",INDEX('Linii comandă'!$L$5:$L$1004,$N24))) | N24: =IFERROR(MATCH($D$1&"|"&12,'Linii comandă'!$A$5:$A$1004,0),0) -> 0
H25: Total: | I25: =IF(RandC=0,"",INDEX('Registru comenzi'!$N$5:$N$304,RandC)) -> 1365.2 | J25: =IF(RandC=0,"",INDEX('Registru comenzi'!$O$5:$O$304,RandC)) -> 286.69
H26: Total cu TVA: | I26: =IF(RandC=0,"",INDEX('Registru comenzi'!$P$5:$P$304,RandC)) -> 1651.89
B28: CONDIȚII
B29: =IF(RandC=0,"","Termen de livrare: "&IF(IF(RandC=0,"",INDEX('Registru comenzi'!$J$5:$J$304,RandC)&"")="","–",RIGHT("0"&DAY(INDEX('Registru comenzi'!$J$5:$J$304,RandC)),2)&"."&RIGHT("0"&MONTH(INDEX('Registru comenzi'!$J$5:$J$304,RandC)),2)&"."&YEAR(INDEX('Registru comenzi'!$J$5:$J$304,RandC)))&" · Adresa de livrare: "&IF(RandC=0,"",INDEX('Registru comenzi'!$H$5:$H$304,RandC)&"")) -> Termen de livrare: 20.10.2026 · Adresa de livrare: Str. Lalelor 3, Bucov
B30: =IF(RandC=0,"","Condiții de plată: "&IF(RandC=0,"",INDEX('Registru comenzi'!$K$5:$K$304,RandC)&"")) -> Condiții de plată: Plată în avans
B32: Confirmăm comanda de mai sus, cu produsele, cantitățile, prețurile și condițiile menționate.
B34: CLIENT (confirmare comandă) | G34: FURNIZOR (comandă primită)
B35: =IF(RandC=0,"",INDEX('Registru comenzi'!$F$5:$F$304,RandC)&"") -> Elena Dinu | G35: =Firma -> Exemplu Distribuție SRL
B37: Semnătura ____________ Data ________ | G37: Semnătura ____________ Data ________
B39: =IF(RandC=0,"Numărul nu există în registru.","Status: "&IF(RandC=0,"",INDEX('Registru comenzi'!$S$5:$S$304,RandC)&"")&IF(IF(RandC=0,"",INDEX('Registru comenzi'!$T$5:$T$304,RandC)&"")="",""," · "&IF(RandC=0,"",INDEX('Registru comenzi'!$T$5:$T$304,RandC)&""))) -> Status: Confirmată – în pregătire

Sheet Registru comenzi
B1: Registrul comenzilor de la clienți
B2: Un rând pentru fiecare comandă. Valoarea, livrarea și statusul se calculează automat; produsele se trec în foaia „Linii comandă”.
B4: Nr. comandă | C4: Data | D4: Client | E4: CIF / CNP | F4: Persoana de contact | G4: Telefon / e-mail | H4: Adresa de livrare | I4: Oferta nr. | J4: Livrare promisă | K4: Condiții de plată | L4: Confirmare client | M4: Data confirmării | N4: Valoare fără TVA | O4: TVA | P4: Total | Q4: Livrare | R4: Factura nr. | S4: Status | T4: Verificare
B5: 315 | C5: =DATE(2026,9,29) -> 46294 | D5: Exemplu Construct SRL | E5: RO23456789 | F5: Dan Ilie | G5: 0722 111 222 | H5: Str. Florilor 5, Câmpina | I5: OF-052 | J5: =DATE(2026,10,1) -> 46296 | K5: OP la 15 zile | L5: Da | M5: =DATE(2026,9,30) -> 46295 | N5: =IF(B5="","",SUMIF('Linii comandă'!$B$5:$B$1004,B5,'Linii comandă'!$K$5:$K$1004)) -> 3507 | O5: =IF(B5="","",SUMIF('Linii comandă'!$B$5:$B$1004,B5,'Linii comandă'!$L$5:$L$1004)) -> 736.47 | P5: =IF(B5="","",N5+O5) -> 4243.47 | Q5: =IF(OR(B5="",COUNTIF('Linii comandă'!$B$5:$B$1004,B5)=0),"",IF(SUMIF('Linii comandă'!$B$5:$B$1004,B5,'Linii comandă'!$N$5:$N$1004)<=0,"Completă",IF(SUMIF('Linii comandă'!$B$5:$B$1004,B5,'Linii comandă'!$M$5:$M$1004)>0,"Parțială","Nelivrată"))) -> Completă | R5: EXF 1201 | S5: =IF(B5="","",IF(L5="Anulată","Anulată",IF(AND(L5="Da",Q5<>"Completă",J5<>"",J5<TODAY()),"Întârziată",IF(AND(Q5="Completă",R5<>""),"Facturată",IF(Q5="Completă","Livrată – de facturat",IF(L5<>"Da","Neconfirmată",IF(Q5="Parțială","Livrată parțial","Confirmată – în pregătire"))))))) -> Facturată | T5: =IF(AND(B5="",D5=""),"",IF(S5="Anulată","",TRIM(IF(COUNTIF($B$5:$B$304,B5)>1,"Număr dublat. ","")&IF(OR(C5="",D5="",H5="",J5="",K5=""),"Date incomplete. ","")&IF(COUNTIF('Linii comandă'!$B$5:$B$1004,B5)=0,"Nicio linie de comandă. ","")&IF(AND(L5<>"Da",C5<>"",TODAY()-C5>ZileConf),"Neconfirmată de "&(TODAY()-C5)&" zile. ","")&IF(S5="Întârziată","Termenul de livrare a trecut: "&RIGHT("0"&DAY(J5),2)&"."&RIGHT("0"&MONTH(J5),2)&"."&YEAR(J5)&". ","")&IF(S5="Livrată – de facturat","Emite factura. ",""))))
B6: 316 | C6: =DATE(2026,10,1) -> 46296 | D6: Electro Plus SRL | E6: RO34567890 | F6: Maria Stoica | G6: achizitii@electroplus.ro | H6: Bd. București 118, Ploiești | J6: =DATE(2026,10,5) -> 46300 | K6: OP la 30 zile | L6: Da | M6: =DATE(2026,10,1) -> 46296 | N6: =IF(B6="","",SUMIF('Linii comandă'!$B$5:$B$1004,B6,'Linii comandă'!$K$5:$K$1004)) -> 2346 | O6: =IF(B6="","",SUMIF('Linii comandă'!$B$5:$B$1004,B6,'Linii comandă'!$L$5:$L$1004)) -> 492.66 | P6: =IF(B6="","",N6+O6) -> 2838.66 | Q6: =IF(OR(B6="",COUNTIF('Linii comandă'!$B$5:$B$1004,B6)=0),"",IF(SUMIF('Linii comandă'!$B$5:$B$1004,B6,'Linii comandă'!$N$5:$N$1004)<=0,"Completă",IF(SUMIF('Linii comandă'!$B$5:$B$1004,B6,'Linii comandă'!$M$5:$M$1004)>0,"Parțială","Nelivrată"))) -> Completă | R6: EXF 1202 | S6: =IF(B6="","",IF(L6="Anulată","Anulată",IF(AND(L6="Da",Q6<>"Completă",J6<>"",J6<TODAY()),"Întârziată",IF(AND(Q6="Completă",R6<>""),"Facturată",IF(Q6="Completă","Livrată – de facturat",IF(L6<>"Da","Neconfirmată",IF(Q6="Parțială","Livrată parțial","Confirmată – în pregătire"))))))) -> Facturată | T6: =IF(AND(B6="",D6=""),"",IF(S6="Anulată","",TRIM(IF(COUNTIF($B$5:$B$304,B6)>1,"Număr dublat. ","")&IF(OR(C6="",D6="",H6="",J6="",K6=""),"Date incomplete. ","")&IF(COUNTIF('Linii comandă'!$B$5:$B$1004,B6)=0,"Nicio linie de comandă. ","")&IF(AND(L6<>"Da",C6<>"",TODAY()-C6>ZileConf),"Neconfirmată de "&(TODAY()-C6)&" zile. ","")&IF(S6="Întârziată","Termenul de livrare a trecut: "&RIGHT("0"&DAY(J6),2)&"."&RIGHT("0"&MONTH(J6),2)&"."&YEAR(J6)&". ","")&IF(S6="Livrată – de facturat","Emite factura. ",""))))
B7: 317 | C7: =DATE(2026,10,5) -> 46300 | D7: Instal Rapid SRL | E7: RO45678901 | F7: Sorin Neagu | G7: 0733 222 333 | H7: Str. Republicii 22, Ploiești | J7: =DATE(2026,10,10) -> 46305 | K7: La livrare | L7: Da | M7: =DATE(2026,10,5) -> 46300 | N7: =IF(B7="","",SUMIF('Linii comandă'!$B$5:$B$1004,B7,'Linii comandă'!$K$5:$K$1004)) -> 2228 | O7: =IF(B7="","",SUMIF('Linii comandă'!$B$5:$B$1004,B7,'Linii comandă'!$L$5:$L$1004)) -> 467.88 | P7: =IF(B7="","",N7+O7) -> 2695.88 | Q7: =IF(OR(B7="",COUNTIF('Linii comandă'!$B$5:$B$1004,B7)=0),"",IF(SUMIF('Linii comandă'!$B$5:$B$1004,B7,'Linii comandă'!$N$5:$N$1004)<=0,"Completă",IF(SUMIF('Linii comandă'!$B$5:$B$1004,B7,'Linii comandă'!$M$5:$M$1004)>0,"Parțială","Nelivrată"))) -> Parțială | R7: EXF 1212 | S7: =IF(B7="","",IF(L7="Anulată","Anulată",IF(AND(L7="Da",Q7<>"Completă",J7<>"",J7<TODAY()),"Întârziată",IF(AND(Q7="Completă",R7<>""),"Facturată",IF(Q7="Completă","Livrată – de facturat",IF(L7<>"Da","Neconfirmată",IF(Q7="Parțială","Livrată parțial","Confirmată – în pregătire"))))))) -> Întârziată | T7: =IF(AND(B7="",D7=""),"",IF(S7="Anulată","",TRIM(IF(COUNTIF($B$5:$B$304,B7)>1,"Număr dublat. ","")&IF(OR(C7="",D7="",H7="",J7="",K7=""),"Date incomplete. ","")&IF(COUNTIF('Linii comandă'!$B$5:$B$1004,B7)=0,"Nicio linie de comandă. ","")&IF(AND(L7<>"Da",C7<>"",TODAY()-C7>ZileConf),"Neconfirmată de "&(TODAY()-C7)&" zile. ","")&IF(S7="Întârziată","Termenul de livrare a trecut: "&RIGHT("0"&DAY(J7),2)&"."&RIGHT("0"&MONTH(J7),2)&"."&YEAR(J7)&". ","")&IF(S7="Livrată – de facturat","Emite factura. ","")))) -> Termenul de livrare a trecut: 10.10.2026.
B8: 318 | C8: =DATE(2026,10,9) -> 46304 | D8: Montaj Expert SRL | E8: RO56789012 | F8: Andrei Toma | G8: 0744 333 444 | H8: Str. Mihai Bravu 40, Ploiești | I8: OF-055 | J8: =DATE(2026,10,16) -> 46311 | K8: OP la 15 zile | L8: Nu | N8: =IF(B8="","",SUMIF('Linii comandă'!$B$5:$B$1004,B8,'Linii comandă'!$K$5:$K$1004)) -> 3110.2 | O8: =IF(B8="","",SUMIF('Linii comandă'!$B$5:$B$1004,B8,'Linii comandă'!$L$5:$L$1004)) -> 653.14 | P8: =IF(B8="","",N8+O8) -> 3763.34 | Q8: =IF(OR(B8="",COUNTIF('Linii comandă'!$B$5:$B$1004,B8)=0),"",IF(SUMIF('Linii comandă'!$B$5:$B$1004,B8,'Linii comandă'!$N$5:$N$1004)<=0,"Completă",IF(SUMIF('Linii comandă'!$B$5:$B$1004,B8,'Linii comandă'!$M$5:$M$1004)>0,"Parțială","Nelivrată"))) -> Nelivrată | S8: =IF(B8="","",IF(L8="Anulată","Anulată",IF(AND(L8="Da",Q8<>"Completă",J8<>"",J8<TODAY()),"Întârziată",IF(AND(Q8="Completă",R8<>""),"Facturată",IF(Q8="Completă","Livrată – de facturat",IF(L8<>"Da","Neconfirmată",IF(Q8="Parțială","Livrată parțial","Confirmată – în pregătire"))))))) -> Neconfirmată | T8: =IF(AND(B8="",D8=""),"",IF(S8="Anulată","",TRIM(IF(COUNTIF($B$5:$B$304,B8)>1,"Număr dublat. ","")&IF(OR(C8="",D8="",H8="",J8="",K8=""),"Date incomplete. ","")&IF(COUNTIF('Linii comandă'!$B$5:$B$1004,B8)=0,"Nicio linie de comandă. ","")&IF(AND(L8<>"Da",C8<>"",TODAY()-C8>ZileConf),"Neconfirmată de "&(TODAY()-C8)&" zile. ","")&IF(S8="Întârziată","Termenul de livrare a trecut: "&RIGHT("0"&DAY(J8),2)&"."&RIGHT("0"&MONTH(J8),2)&"."&YEAR(J8)&". ","")&IF(S8="Livrată – de facturat","Emite factura. ","")))) -> Neconfirmată de 4 zile.
B9: 319 | C9: =DATE(2026,10,12) -> 46307 | D9: Casa Verde SRL | E9: RO67890123 | F9: Elena Dinu | G9: office@casaverde.ro | H9: Str. Lalelor 3, Bucov | J9: =DATE(2026,10,20) -> 46315 | K9: Plată în avans | L9: Da | M9: =DATE(2026,10,12) -> 46307 | N9: =IF(B9="","",SUMIF('Linii comandă'!$B$5:$B$1004,B9,'Linii comandă'!$K$5:$K$1004)) -> 1365.2 | O9: =IF(B9="","",SUMIF('Linii comandă'!$B$5:$B$1004,B9,'Linii comandă'!$L$5:$L$1004)) -> 286.69 | P9: =IF(B9="","",N9+O9) -> 1651.89 | Q9: =IF(OR(B9="",COUNTIF('Linii comandă'!$B$5:$B$1004,B9)=0),"",IF(SUMIF('Linii comandă'!$B$5:$B$1004,B9,'Linii comandă'!$N$5:$N$1004)<=0,"Completă",IF(SUMIF('Linii comandă'!$B$5:$B$1004,B9,'Linii comandă'!$M$5:$M$1004)>0,"Parțială","Nelivrată"))) -> Nelivrată | S9: =IF(B9="","",IF(L9="Anulată","Anulată",IF(AND(L9="Da",Q9<>"Completă",J9<>"",J9<TODAY()),"Întârziată",IF(AND(Q9="Completă",R9<>""),"Facturată",IF(Q9="Completă","Livrată – de facturat",IF(L9<>"Da","Neconfirmată",IF(Q9="Parțială","Livrată parțial","Confirmată – în pregătire"))))))) -> Confirmată – în pregătire | T9: =IF(AND(B9="",D9=""),"",IF(S9="Anulată","",TRIM(IF(COUNTIF($B$5:$B$304,B9)>1,"Număr dublat. ","")&IF(OR(C9="",D9="",H9="",J9="",K9=""),"Date incomplete. ","")&IF(COUNTIF('Linii comandă'!$B$5:$B$1004,B9)=0,"Nicio linie de comandă. ","")&IF(AND(L9<>"Da",C9<>"",TODAY()-C9>ZileConf),"Neconfirmată de "&(TODAY()-C9)&" zile. ","")&IF(S9="Întârziată","Termenul de livrare a trecut: "&RIGHT("0"&DAY(J9),2)&"."&RIGHT("0"&MONTH(J9),2)&"."&YEAR(J9)&". ","")&IF(S9="Livrată – de facturat","Emite factura. ",""))))
B10: =IF(D10="","",MAX($B$5:B9)+1) | N10: =IF(B10="","",SUMIF('Linii comandă'!$B$5:$B$1004,B10,'Linii comandă'!$K$5:$K$1004)) | O10: =IF(B10="","",SUMIF('Linii comandă'!$B$5:$B$1004,B10,'Linii comandă'!$L$5:$L$1004)) | P10: =IF(B10="","",N10+O10) | Q10: =IF(OR(B10="",COUNTIF('Linii comandă'!$B$5:$B$1004,B10)=0),"",IF(SUMIF('Linii comandă'!$B$5:$B$1004,B10,'Linii comandă'!$N$5:$N$1004)<=0,"Completă",IF(SUMIF('Linii comandă'!$B$5:$B$1004,B10,'Linii comandă'!$M$5:$M$1004)>0,"Parțială","Nelivrată"))) | S10: =IF(B10="","",IF(L10="Anulată","Anulată",IF(AND(L10="Da",Q10<>"Completă",J10<>"",J10<TODAY()),"Întârziată",IF(AND(Q10="Completă",R10<>""),"Facturată",IF(Q10="Completă","Livrată – de facturat",IF(L10<>"Da","Neconfirmată",IF(Q10="Parțială","Livrată parțial","Confirmată – în pregătire"))))))) | T10: =IF(AND(B10="",D10=""),"",IF(S10="Anulată","",TRIM(IF(COUNTIF($B$5:$B$304,B10)>1,"Număr dublat. ","")&IF(OR(C10="",D10="",H10="",J10="",K10=""),"Date incomplete. ","")&IF(COUNTIF('Linii comandă'!$B$5:$B$1004,B10)=0,"Nicio linie de comandă. ","")&IF(AND(L10<>"Da",C10<>"",TODAY()-C10>ZileConf),"Neconfirmată de "&(TODAY()-C10)&" zile. ","")&IF(S10="Întârziată","Termenul de livrare a trecut: "&RIGHT("0"&DAY(J10),2)&"."&RIGHT("0"&MONTH(J10),2)&"."&YEAR(J10)&". ","")&IF(S10="Livrată – de facturat","Emite factura. ",""))))
B11: =IF(D11="","",MAX($B$5:B10)+1) | N11: =IF(B11="","",SUMIF('Linii comandă'!$B$5:$B$1004,B11,'Linii comandă'!$K$5:$K$1004)) | O11: =IF(B11="","",SUMIF('Linii comandă'!$B$5:$B$1004,B11,'Linii comandă'!$L$5:$L$1004)) | P11: =IF(B11="","",N11+O11) | Q11: =IF(OR(B11="",COUNTIF('Linii comandă'!$B$5:$B$1004,B11)=0),"",IF(SUMIF('Linii comandă'!$B$5:$B$1004,B11,'Linii comandă'!$N$5:$N$1004)<=0,"Completă",IF(SUMIF('Linii comandă'!$B$5:$B$1004,B11,'Linii comandă'!$M$5:$M$1004)>0,"Parțială","Nelivrată"))) | S11: =IF(B11="","",IF(L11="Anulată","Anulată",IF(AND(L11="Da",Q11<>"Completă",J11<>"",J11<TODAY()),"Întârziată",IF(AND(Q11="Completă",R11<>""),"Facturată",IF(Q11="Completă","Livrată – de facturat",IF(L11<>"Da","Neconfirmată",IF(Q11="Parțială","Livrată parțial","Confirmată – în pregătire"))))))) | T11: =IF(AND(B11="",D11=""),"",IF(S11="Anulată","",TRIM(IF(COUNTIF($B$5:$B$304,B11)>1,"Număr dublat. ","")&IF(OR(C11="",D11="",H11="",J11="",K11=""),"Date incomplete. ","")&IF(COUNTIF('Linii comandă'!$B$5:$B$1004,B11)=0,"Nicio linie de comandă. ","")&IF(AND(L11<>"Da",C11<>"",TODAY()-C11>ZileConf),"Neconfirmată de "&(TODAY()-C11)&" zile. ","")&IF(S11="Întârziată","Termenul de livrare a trecut: "&RIGHT("0"&DAY(J11),2)&"."&RIGHT("0"&MONTH(J11),2)&"."&YEAR(J11)&". ","")&IF(S11="Livrată – de facturat","Emite factura. ",""))))
B12: =IF(D12="","",MAX($B$5:B11)+1) | N12: =IF(B12="","",SUMIF('Linii comandă'!$B$5:$B$1004,B12,'Linii comandă'!$K$5:$K$1004)) | O12: =IF(B12="","",SUMIF('Linii comandă'!$B$5:$B$1004,B12,'Linii comandă'!$L$5:$L$1004)) | P12: =IF(B12="","",N12+O12) | Q12: =IF(OR(B12="",COUNTIF('Linii comandă'!$B$5:$B$1004,B12)=0),"",IF(SUMIF('Linii comandă'!$B$5:$B$1004,B12,'Linii comandă'!$N$5:$N$1004)<=0,"Completă",IF(SUMIF('Linii comandă'!$B$5:$B$1004,B12,'Linii comandă'!$M$5:$M$1004)>0,"Parțială","Nelivrată"))) | S12: =IF(B12="","",IF(L12="Anulată","Anulată",IF(AND(L12="Da",Q12<>"Completă",J12<>"",J12<TODAY()),"Întârziată",IF(AND(Q12="Completă",R12<>""),"Facturată",IF(Q12="Completă","Livrată – de facturat",IF(L12<>"Da","Neconfirmată",IF(Q12="Parțială","Livrată parțial","Confirmată – în pregătire"))))))) | T12: =IF(AND(B12="",D12=""),"",IF(S12="Anulată","",TRIM(IF(COUNTIF($B$5:$B$304,B12)>1,"Număr dublat. ","")&IF(OR(C12="",D12="",H12="",J12="",K12=""),"Date incomplete. ","")&IF(COUNTIF('Linii comandă'!$B$5:$B$1004,B12)=0,"Nicio linie de comandă. ","")&IF(AND(L12<>"Da",C12<>"",TODAY()-C12>ZileConf),"Neconfirmată de "&(TODAY()-C12)&" zile. ","")&IF(S12="Întârziată","Termenul de livrare a trecut: "&RIGHT("0"&DAY(J12),2)&"."&RIGHT("0"&MONTH(J12),2)&"."&YEAR(J12)&". ","")&IF(S12="Livrată – de facturat","Emite factura. ",""))))
B13: =IF(D13="","",MAX($B$5:B12)+1) | N13: =IF(B13="","",SUMIF('Linii comandă'!$B$5:$B$1004,B13,'Linii comandă'!$K$5:$K$1004)) | O13: =IF(B13="","",SUMIF('Linii comandă'!$B$5:$B$1004,B13,'Linii comandă'!$L$5:$L$1004)) | P13: =IF(B13="","",N13+O13) | Q13: =IF(OR(B13="",COUNTIF('Linii comandă'!$B$5:$B$1004,B13)=0),"",IF(SUMIF('Linii comandă'!$B$5:$B$1004,B13,'Linii comandă'!$N$5:$N$1004)<=0,"Completă",IF(SUMIF('Linii comandă'!$B$5:$B$1004,B13,'Linii comandă'!$M$5:$M$1004)>0,"Parțială","Nelivrată"))) | S13: =IF(B13="","",IF(L13="Anulată","Anulată",IF(AND(L13="Da",Q13<>"Completă",J13<>"",J13<TODAY()),"Întârziată",IF(AND(Q13="Completă",R13<>""),"Facturată",IF(Q13="Completă","Livrată – de facturat",IF(L13<>"Da","Neconfirmată",IF(Q13="Parțială","Livrată parțial","Confirmată – în pregătire"))))))) | T13: =IF(AND(B13="",D13=""),"",IF(S13="Anulată","",TRIM(IF(COUNTIF($B$5:$B$304,B13)>1,"Număr dublat. ","")&IF(OR(C13="",D13="",H13="",J13="",K13=""),"Date incomplete. ","")&IF(COUNTIF('Linii comandă'!$B$5:$B$1004,B13)=0,"Nicio linie de comandă. ","")&IF(AND(L13<>"Da",C13<>"",TODAY()-C13>ZileConf),"Neconfirmată de "&(TODAY()-C13)&" zile. ","")&IF(S13="Întârziată","Termenul de livrare a trecut: "&RIGHT("0"&DAY(J13),2)&"."&RIGHT("0"&MONTH(J13),2)&"."&YEAR(J13)&". ","")&IF(S13="Livrată – de facturat","Emite factura. ",""))))
B14: =IF(D14="","",MAX($B$5:B13)+1) | N14: =IF(B14="","",SUMIF('Linii comandă'!$B$5:$B$1004,B14,'Linii comandă'!$K$5:$K$1004)) | O14: =IF(B14="","",SUMIF('Linii comandă'!$B$5:$B$1004,B14,'Linii comandă'!$L$5:$L$1004)) | P14: =IF(B14="","",N14+O14) | Q14: =IF(OR(B14="",COUNTIF('Linii comandă'!$B$5:$B$1004,B14)=0),"",IF(SUMIF('Linii comandă'!$B$5:$B$1004,B14,'Linii comandă'!$N$5:$N$1004)<=0,"Completă",IF(SUMIF('Linii comandă'!$B$5:$B$1004,B14,'Linii comandă'!$M$5:$M$1004)>0,"Parțială","Nelivrată"))) | S14: =IF(B14="","",IF(L14="Anulată","Anulată",IF(AND(L14="Da",Q14<>"Completă",J14<>"",J14<TODAY()),"Întârziată",IF(AND(Q14="Completă",R14<>""),"Facturată",IF(Q14="Completă","Livrată – de facturat",IF(L14<>"Da","Neconfirmată",IF(Q14="Parțială","Livrată parțial","Confirmată – în pregătire"))))))) | T14: =IF(AND(B14="",D14=""),"",IF(S14="Anulată","",TRIM(IF(COUNTIF($B$5:$B$304,B14)>1,"Număr dublat. ","")&IF(OR(C14="",D14="",H14="",J14="",K14=""),"Date incomplete. ","")&IF(COUNTIF('Linii comandă'!$B$5:$B$1004,B14)=0,"Nicio linie de comandă. ","")&IF(AND(L14<>"Da",C14<>"",TODAY()-C14>ZileConf),"Neconfirmată de "&(TODAY()-C14)&" zile. ","")&IF(S14="Întârziată","Termenul de livrare a trecut: "&RIGHT("0"&DAY(J14),2)&"."&RIGHT("0"&MONTH(J14),2)&"."&YEAR(J14)&". ","")&IF(S14="Livrată – de facturat","Emite factura. ",""))))
B15: =IF(D15="","",MAX($B$5:B14)+1) | N15: =IF(B15="","",SUMIF('Linii comandă'!$B$5:$B$1004,B15,'Linii comandă'!$K$5:$K$1004)) | O15: =IF(B15="","",SUMIF('Linii comandă'!$B$5:$B$1004,B15,'Linii comandă'!$L$5:$L$1004)) | P15: =IF(B15="","",N15+O15) | Q15: =IF(OR(B15="",COUNTIF('Linii comandă'!$B$5:$B$1004,B15)=0),"",IF(SUMIF('Linii comandă'!$B$5:$B$1004,B15,'Linii comandă'!$N$5:$N$1004)<=0,"Completă",IF(SUMIF('Linii comandă'!$B$5:$B$1004,B15,'Linii comandă'!$M$5:$M$1004)>0,"Parțială","Nelivrată"))) | S15: =IF(B15="","",IF(L15="Anulată","Anulată",IF(AND(L15="Da",Q15<>"Completă",J15<>"",J15<TODAY()),"Întârziată",IF(AND(Q15="Completă",R15<>""),"Facturată",IF(Q15="Completă","Livrată – de facturat",IF(L15<>"Da","Neconfirmată",IF(Q15="Parțială","Livrată parțial","Confirmată – în pregătire"))))))) | T15: =IF(AND(B15="",D15=""),"",IF(S15="Anulată","",TRIM(IF(COUNTIF($B$5:$B$304,B15)>1,"Număr dublat. ","")&IF(OR(C15="",D15="",H15="",J15="",K15=""),"Date incomplete. ","")&IF(COUNTIF('Linii comandă'!$B$5:$B$1004,B15)=0,"Nicio linie de comandă. ","")&IF(AND(L15<>"Da",C15<>"",TODAY()-C15>ZileConf),"Neconfirmată de "&(TODAY()-C15)&" zile. ","")&IF(S15="Întârziată","Termenul de livrare a trecut: "&RIGHT("0"&DAY(J15),2)&"."&RIGHT("0"&MONTH(J15),2)&"."&YEAR(J15)&". ","")&IF(S15="Livrată – de facturat","Emite factura. ",""))))
B16: =IF(D16="","",MAX($B$5:B15)+1) | N16: =IF(B16="","",SUMIF('Linii comandă'!$B$5:$B$1004,B16,'Linii comandă'!$K$5:$K$1004)) | O16: =IF(B16="","",SUMIF('Linii comandă'!$B$5:$B$1004,B16,'Linii comandă'!$L$5:$L$1004)) | P16: =IF(B16="","",N16+O16) | Q16: =IF(OR(B16="",COUNTIF('Linii comandă'!$B$5:$B$1004,B16)=0),"",IF(SUMIF('Linii comandă'!$B$5:$B$1004,B16,'Linii comandă'!$N$5:$N$1004)<=0,"Completă",IF(SUMIF('Linii comandă'!$B$5:$B$1004,B16,'Linii comandă'!$M$5:$M$1004)>0,"Parțială","Nelivrată"))) | S16: =IF(B16="","",IF(L16="Anulată","Anulată",IF(AND(L16="Da",Q16<>"Completă",J16<>"",J16<TODAY()),"Întârziată",IF(AND(Q16="Completă",R16<>""),"Facturată",IF(Q16="Completă","Livrată – de facturat",IF(L16<>"Da","Neconfirmată",IF(Q16="Parțială","Livrată parțial","Confirmată – în pregătire"))))))) | T16: =IF(AND(B16="",D16=""),"",IF(S16="Anulată","",TRIM(IF(COUNTIF($B$5:$B$304,B16)>1,"Număr dublat. ","")&IF(OR(C16="",D16="",H16="",J16="",K16=""),"Date incomplete. ","")&IF(COUNTIF('Linii comandă'!$B$5:$B$1004,B16)=0,"Nicio linie de comandă. ","")&IF(AND(L16<>"Da",C16<>"",TODAY()-C16>ZileConf),"Neconfirmată de "&(TODAY()-C16)&" zile. ","")&IF(S16="Întârziată","Termenul de livrare a trecut: "&RIGHT("0"&DAY(J16),2)&"."&RIGHT("0"&MONTH(J16),2)&"."&YEAR(J16)&". ","")&IF(S16="Livrată – de facturat","Emite factura. ",""))))
B17: =IF(D17="","",MAX($B$5:B16)+1) | N17: =IF(B17="","",SUMIF('Linii comandă'!$B$5:$B$1004,B17,'Linii comandă'!$K$5:$K$1004)) | O17: =IF(B17="","",SUMIF('Linii comandă'!$B$5:$B$1004,B17,'Linii comandă'!$L$5:$L$1004)) | P17: =IF(B17="","",N17+O17) | Q17: =IF(OR(B17="",COUNTIF('Linii comandă'!$B$5:$B$1004,B17)=0),"",IF(SUMIF('Linii comandă'!$B$5:$B$1004,B17,'Linii comandă'!$N$5:$N$1004)<=0,"Completă",IF(SUMIF('Linii comandă'!$B$5:$B$1004,B17,'Linii comandă'!$M$5:$M$1004)>0,"Parțială","Nelivrată"))) | S17: =IF(B17="","",IF(L17="Anulată","Anulată",IF(AND(L17="Da",Q17<>"Completă",J17<>"",J17<TODAY()),"Întârziată",IF(AND(Q17="Completă",R17<>""),"Facturată",IF(Q17="Completă","Livrată – de facturat",IF(L17<>"Da","Neconfirmată",IF(Q17="Parțială","Livrată parțial","Confirmată – în pregătire"))))))) | T17: =IF(AND(B17="",D17=""),"",IF(S17="Anulată","",TRIM(IF(COUNTIF($B$5:$B$304,B17)>1,"Număr dublat. ","")&IF(OR(C17="",D17="",H17="",J17="",K17=""),"Date incomplete. ","")&IF(COUNTIF('Linii comandă'!$B$5:$B$1004,B17)=0,"Nicio linie de comandă. ","")&IF(AND(L17<>"Da",C17<>"",TODAY()-C17>ZileConf),"Neconfirmată de "&(TODAY()-C17)&" zile. ","")&IF(S17="Întârziată","Termenul de livrare a trecut: "&RIGHT("0"&DAY(J17),2)&"."&RIGHT("0"&MONTH(J17),2)&"."&YEAR(J17)&". ","")&IF(S17="Livrată – de facturat","Emite factura. ",""))))
B18: =IF(D18="","",MAX($B$5:B17)+1) | N18: =IF(B18="","",SUMIF('Linii comandă'!$B$5:$B$1004,B18,'Linii comandă'!$K$5:$K$1004)) | O18: =IF(B18="","",SUMIF('Linii comandă'!$B$5:$B$1004,B18,'Linii comandă'!$L$5:$L$1004)) | P18: =IF(B18="","",N18+O18) | Q18: =IF(OR(B18="",COUNTIF('Linii comandă'!$B$5:$B$1004,B18)=0),"",IF(SUMIF('Linii comandă'!$B$5:$B$1004,B18,'Linii comandă'!$N$5:$N$1004)<=0,"Completă",IF(SUMIF('Linii comandă'!$B$5:$B$1004,B18,'Linii comandă'!$M$5:$M$1004)>0,"Parțială","Nelivrată"))) | S18: =IF(B18="","",IF(L18="Anulată","Anulată",IF(AND(L18="Da",Q18<>"Completă",J18<>"",J18<TODAY()),"Întârziată",IF(AND(Q18="Completă",R18<>""),"Facturată",IF(Q18="Completă","Livrată – de facturat",IF(L18<>"Da","Neconfirmată",IF(Q18="Parțială","Livrată parțial","Confirmată – în pregătire"))))))) | T18: =IF(AND(B18="",D18=""),"",IF(S18="Anulată","",TRIM(IF(COUNTIF($B$5:$B$304,B18)>1,"Număr dublat. ","")&IF(OR(C18="",D18="",H18="",J18="",K18=""),"Date incomplete. ","")&IF(COUNTIF('Linii comandă'!$B$5:$B$1004,B18)=0,"Nicio linie de comandă. ","")&IF(AND(L18<>"Da",C18<>"",TODAY()-C18>ZileConf),"Neconfirmată de "&(TODAY()-C18)&" zile. ","")&IF(S18="Întârziată","Termenul de livrare a trecut: "&RIGHT("0"&DAY(J18),2)&"."&RIGHT("0"&MONTH(J18),2)&"."&YEAR(J18)&". ","")&IF(S18="Livrată – de facturat","Emite factura. ",""))))
B19: =IF(D19="","",MAX($B$5:B18)+1) | N19: =IF(B19="","",SUMIF('Linii comandă'!$B$5:$B$1004,B19,'Linii comandă'!$K$5:$K$1004)) | O19: =IF(B19="","",SUMIF('Linii comandă'!$B$5:$B$1004,B19,'Linii comandă'!$L$5:$L$1004)) | P19: =IF(B19="","",N19+O19) | Q19: =IF(OR(B19="",COUNTIF('Linii comandă'!$B$5:$B$1004,B19)=0),"",IF(SUMIF('Linii comandă'!$B$5:$B$1004,B19,'Linii comandă'!$N$5:$N$1004)<=0,"Completă",IF(SUMIF('Linii comandă'!$B$5:$B$1004,B19,'Linii comandă'!$M$5:$M$1004)>0,"Parțială","Nelivrată"))) | S19: =IF(B19="","",IF(L19="Anulată","Anulată",IF(AND(L19="Da",Q19<>"Completă",J19<>"",J19<TODAY()),"Întârziată",IF(AND(Q19="Completă",R19<>""),"Facturată",IF(Q19="Completă","Livrată – de facturat",IF(L19<>"Da","Neconfirmată",IF(Q19="Parțială","Livrată parțial","Confirmată – în pregătire"))))))) | T19: =IF(AND(B19="",D19=""),"",IF(S19="Anulată","",TRIM(IF(COUNTIF($B$5:$B$304,B19)>1,"Număr dublat. ","")&IF(OR(C19="",D19="",H19="",J19="",K19=""),"Date incomplete. ","")&IF(COUNTIF('Linii comandă'!$B$5:$B$1004,B19)=0,"Nicio linie de comandă. ","")&IF(AND(L19<>"Da",C19<>"",TODAY()-C19>ZileConf),"Neconfirmată de "&(TODAY()-C19)&" zile. ","")&IF(S19="Întârziată","Termenul de livrare a trecut: "&RIGHT("0"&DAY(J19),2)&"."&RIGHT("0"&MONTH(J19),2)&"."&YEAR(J19)&". ","")&IF(S19="Livrată – de facturat","Emite factura. ",""))))
B20: =IF(D20="","",MAX($B$5:B19)+1) | N20: =IF(B20="","",SUMIF('Linii comandă'!$B$5:$B$1004,B20,'Linii comandă'!$K$5:$K$1004)) | O20: =IF(B20="","",SUMIF('Linii comandă'!$B$5:$B$1004,B20,'Linii comandă'!$L$5:$L$1004)) | P20: =IF(B20="","",N20+O20) | Q20: =IF(OR(B20="",COUNTIF('Linii comandă'!$B$5:$B$1004,B20)=0),"",IF(SUMIF('Linii comandă'!$B$5:$B$1004,B20,'Linii comandă'!$N$5:$N$1004)<=0,"Completă",IF(SUMIF('Linii comandă'!$B$5:$B$1004,B20,'Linii comandă'!$M$5:$M$1004)>0,"Parțială","Nelivrată"))) | S20: =IF(B20="","",IF(L20="Anulată","Anulată",IF(AND(L20="Da",Q20<>"Completă",J20<>"",J20<TODAY()),"Întârziată",IF(AND(Q20="Completă",R20<>""),"Facturată",IF(Q20="Completă","Livrată – de facturat",IF(L20<>"Da","Neconfirmată",IF(Q20="Parțială","Livrată parțial","Confirmată – în pregătire"))))))) | T20: =IF(AND(B20="",D20=""),"",IF(S20="Anulată","",TRIM(IF(COUNTIF($B$5:$B$304,B20)>1,"Număr dublat. ","")&IF(OR(C20="",D20="",H20="",J20="",K20=""),"Date incomplete. ","")&IF(COUNTIF('Linii comandă'!$B$5:$B$1004,B20)=0,"Nicio linie de comandă. ","")&IF(AND(L20<>"Da",C20<>"",TODAY()-C20>ZileConf),"Neconfirmată de "&(TODAY()-C20)&" zile. ","")&IF(S20="Întârziată","Termenul de livrare a trecut: "&RIGHT("0"&DAY(J20),2)&"."&RIGHT("0"&MONTH(J20),2)&"."&YEAR(J20)&". ","")&IF(S20="Livrată – de facturat","Emite factura. ",""))))
B21: =IF(D21="","",MAX($B$5:B20)+1) | N21: =IF(B21="","",SUMIF('Linii comandă'!$B$5:$B$1004,B21,'Linii comandă'!$K$5:$K$1004)) | O21: =IF(B21="","",SUMIF('Linii comandă'!$B$5:$B$1004,B21,'Linii comandă'!$L$5:$L$1004)) | P21: =IF(B21="","",N21+O21) | Q21: =IF(OR(B21="",COUNTIF('Linii comandă'!$B$5:$B$1004,B21)=0),"",IF(SUMIF('Linii comandă'!$B$5:$B$1004,B21,'Linii comandă'!$N$5:$N$1004)<=0,"Completă",IF(SUMIF('Linii comandă'!$B$5:$B$1004,B21,'Linii comandă'!$M$5:$M$1004)>0,"Parțială","Nelivrată"))) | S21: =IF(B21="","",IF(L21="Anulată","Anulată",IF(AND(L21="Da",Q21<>"Completă",J21<>"",J21<TODAY()),"Întârziată",IF(AND(Q21="Completă",R21<>""),"Facturată",IF(Q21="Completă","Livrată – de facturat",IF(L21<>"Da","Neconfirmată",IF(Q21="Parțială","Livrată parțial","Confirmată – în pregătire"))))))) | T21: =IF(AND(B21="",D21=""),"",IF(S21="Anulată","",TRIM(IF(COUNTIF($B$5:$B$304,B21)>1,"Număr dublat. ","")&IF(OR(C21="",D21="",H21="",J21="",K21=""),"Date incomplete. ","")&IF(COUNTIF('Linii comandă'!$B$5:$B$1004,B21)=0,"Nicio linie de comandă. ","")&IF(AND(L21<>"Da",C21<>"",TODAY()-C21>ZileConf),"Neconfirmată de "&(TODAY()-C21)&" zile. ","")&IF(S21="Întârziată","Termenul de livrare a trecut: "&RIGHT("0"&DAY(J21),2)&"."&RIGHT("0"&MONTH(J21),2)&"."&YEAR(J21)&". ","")&IF(S21="Livrată – de facturat","Emite factura. ",""))))
... B304: =IF(D304="","",MAX($B$5:B303)+1) | N304: =IF(B304="","",SUMIF('Linii comandă'!$B$5:$B$1004,B304,'Linii comandă'!$K$5:$K$1004)) | O304: =IF(B304="","",SUMIF('Linii comandă'!$B$5:$B$1004,B304,'Linii comandă'!$L$5:$L$1004)) | P304: =IF(B304="","",N304+O304) | Q304: =IF(OR(B304="",COUNTIF('Linii comandă'!$B$5:$B$1004,B304)=0),"",IF(SUMIF('Linii comandă'!$B$5:$B$1004,B304,'Linii comandă'!$N$5:$N$1004)<=0,"Completă",IF(SUMIF('Linii comandă'!$B$5:$B$1004,B304,'Linii comandă'!$M$5:$M$1004)>0,"Parțială","Nelivrată"))) | S304: =IF(B304="","",IF(L304="Anulată","Anulată",IF(AND(L304="Da",Q304<>"Completă",J304<>"",J304<TODAY()),"Întârziată",IF(AND(Q304="Completă",R304<>""),"Facturată",IF(Q304="Completă","Livrată – de facturat",IF(L304<>"Da","Neconfirmată",IF(Q304="Parțială","Livrată parțial","Confirmată – în pregătire"))))))) | T304: =IF(AND(B304="",D304=""),"",IF(S304="Anulată","",TRIM(IF(COUNTIF($B$5:$B$304,B304)>1,"Număr dublat. ","")&IF(OR(C304="",D304="",H304="",J304="",K304=""),"Date incomplete. ","")&IF(COUNTIF('Linii comandă'!$B$5:$B$1004,B304)=0,"Nicio linie de comandă. ","")&IF(AND(L304<>"Da",C304<>"",TODAY()-C304>ZileConf),"Neconfirmată de "&(TODAY()-C304)&" zile. ","")&IF(S304="Întârziată","Termenul de livrare a trecut: "&RIGHT("0"&DAY(J304),2)&"."&RIGHT("0"&MONTH(J304),2)&"."&YEAR(J304)&". ","")&IF(S304="Livrată – de facturat","Emite factura. ",""))))

Sheet Linii comandă
B1: Produsele comandate
B2: Scrie numărul comenzii, codul și cantitatea. Denumirea, U.M., prețul și TVA vin din catalog (poți scrie peste preț). La livrare, completează cantitatea livrată.
B4: Nr. comandă | C4: Nr. crt. | D4: Cod | E4: Denumire | F4: U.M. | G4: Cantitate comandată | H4: Preț unitar fără TVA | I4: Discount | J4: Cota TVA | K4: Valoare | L4: TVA | M4: Cantitate livrată | N4: Rest de livrat | O4: Verificare
A5: =IF(B5="","",B5&"|"&C5) -> 315|1 | B5: 315 | C5: =IF(B5="","",COUNTIF(INDEX($B:$B,5):B5,B5)) -> 1 | D5: P01 | E5: =IF(D5="","",IFERROR(VLOOKUP(D5,Catalog,2,FALSE),"")) -> Cablu CYY-F 3x2,5 | F5: =IF(D5="","",IFERROR(VLOOKUP(D5,Catalog,3,FALSE),"")) -> m | G5: 200 | H5: =IF(D5="","",IFERROR(VLOOKUP(D5,Catalog,4,FALSE),"")) -> 4.85 | J5: =IF(D5="","",IFERROR(VLOOKUP(D5,Catalog,5,FALSE),"")) -> 0.21 | K5: =IF(OR(G5="",H5=""),"",ROUND(G5*H5*(1-N(I5)),2)) -> 970 | L5: =IF(OR(K5="",J5=""),"",ROUND(K5*J5,2)) -> 203.7 | M5: 200 | N5: =IF(G5="","",G5-N(M5)) -> 0 | O5: =IF(B5="","",TRIM(IF(COUNTIF('Registru comenzi'!$B$5:$B$304,B5)=0,"Comandă inexistentă în registru. ","")&IF(AND(D5<>"",E5=""),"Cod necunoscut. ","")&IF(N(G5)<=0,"Lipsește cantitatea. ","")&IF(N(M5)>N(G5),"Livrat mai mult decât s-a comandat. ","")&IF(N(I5)>0.3,"Discount neobișnuit de mare. ","")))
A6: =IF(B6="","",B6&"|"&C6) -> 315|2 | B6: 315 | C6: =IF(B6="","",COUNTIF(INDEX($B:$B,5):B6,B6)) -> 2 | D6: P02 | E6: =IF(D6="","",IFERROR(VLOOKUP(D6,Catalog,2,FALSE),"")) -> Tub flexibil PVC 20 mm | F6: =IF(D6="","",IFERROR(VLOOKUP(D6,Catalog,3,FALSE),"")) -> m | G6: 100 | H6: =IF(D6="","",IFERROR(VLOOKUP(D6,Catalog,4,FALSE),"")) -> 1.9 | J6: =IF(D6="","",IFERROR(VLOOKUP(D6,Catalog,5,FALSE),"")) -> 0.21 | K6: =IF(OR(G6="",H6=""),"",ROUND(G6*H6*(1-N(I6)),2)) -> 190 | L6: =IF(OR(K6="",J6=""),"",ROUND(K6*J6,2)) -> 39.9 | M6: 100 | N6: =IF(G6="","",G6-N(M6)) -> 0 | O6: =IF(B6="","",TRIM(IF(COUNTIF('Registru comenzi'!$B$5:$B$304,B6)=0,"Comandă inexistentă în registru. ","")&IF(AND(D6<>"",E6=""),"Cod necunoscut. ","")&IF(N(G6)<=0,"Lipsește cantitatea. ","")&IF(N(M6)>N(G6),"Livrat mai mult decât s-a comandat. ","")&IF(N(I6)>0.3,"Discount neobișnuit de mare. ","")))
A7: =IF(B7="","",B7&"|"&C7) -> 315|3 | B7: 315 | C7: =IF(B7="","",COUNTIF(INDEX($B:$B,5):B7,B7)) -> 3 | D7: P03 | E7: =IF(D7="","",IFERROR(VLOOKUP(D7,Catalog,2,FALSE),"")) -> Doză aparat îngropată | F7: =IF(D7="","",IFERROR(VLOOKUP(D7,Catalog,3,FALSE),"")) -> buc | G7: 60 | H7: =IF(D7="","",IFERROR(VLOOKUP(D7,Catalog,4,FALSE),"")) -> 1.2 | J7: =IF(D7="","",IFERROR(VLOOKUP(D7,Catalog,5,FALSE),"")) -> 0.21 | K7: =IF(OR(G7="",H7=""),"",ROUND(G7*H7*(1-N(I7)),2)) -> 72 | L7: =IF(OR(K7="",J7=""),"",ROUND(K7*J7,2)) -> 15.12 | M7: 60 | N7: =IF(G7="","",G7-N(M7)) -> 0 | O7: =IF(B7="","",TRIM(IF(COUNTIF('Registru comenzi'!$B$5:$B$304,B7)=0,"Comandă inexistentă în registru. ","")&IF(AND(D7<>"",E7=""),"Cod necunoscut. ","")&IF(N(G7)<=0,"Lipsește cantitatea. ","")&IF(N(M7)>N(G7),"Livrat mai mult decât s-a comandat. ","")&IF(N(I7)>0.3,"Discount neobișnuit de mare. ","")))
A8: =IF(B8="","",B8&"|"&C8) -> 315|4 | B8: 315 | C8: =IF(B8="","",COUNTIF(INDEX($B:$B,5):B8,B8)) -> 4 | D8: P04 | E8: =IF(D8="","",IFERROR(VLOOKUP(D8,Catalog,2,FALSE),"")) -> Întrerupător simplu Schneider Sedna | F8: =IF(D8="","",IFERROR(VLOOKUP(D8,Catalog,3,FALSE),"")) -> buc | G8: 24 | H8: =IF(D8="","",IFERROR(VLOOKUP(D8,Catalog,4,FALSE),"")) -> 14.5 | J8: =IF(D8="","",IFERROR(VLOOKUP(D8,Catalog,5,FALSE),"")) -> 0.21 | K8: =IF(OR(G8="",H8=""),"",ROUND(G8*H8*(1-N(I8)),2)) -> 348 | L8: =IF(OR(K8="",J8=""),"",ROUND(K8*J8,2)) -> 73.08 | M8: 24 | N8: =IF(G8="","",G8-N(M8)) -> 0 | O8: =IF(B8="","",TRIM(IF(COUNTIF('Registru comenzi'!$B$5:$B$304,B8)=0,"Comandă inexistentă în registru. ","")&IF(AND(D8<>"",E8=""),"Cod necunoscut. ","")&IF(N(G8)<=0,"Lipsește cantitatea. ","")&IF(N(M8)>N(G8),"Livrat mai mult decât s-a comandat. ","")&IF(N(I8)>0.3,"Discount neobișnuit de mare. ","")))
A9: =IF(B9="","",B9&"|"&C9) -> 315|5 | B9: 315 | C9: =IF(B9="","",COUNTIF(INDEX($B:$B,5):B9,B9)) -> 5 | D9: P05 | E9: =IF(D9="","",IFERROR(VLOOKUP(D9,Catalog,2,FALSE),"")) -> Priză dublă cu împământare | F9: =IF(D9="","",IFERROR(VLOOKUP(D9,Catalog,3,FALSE),"")) -> buc | G9: 30 | H9: =IF(D9="","",IFERROR(VLOOKUP(D9,Catalog,4,FALSE),"")) -> 18.9 | J9: =IF(D9="","",IFERROR(VLOOKUP(D9,Catalog,5,FALSE),"")) -> 0.21 | K9: =IF(OR(G9="",H9=""),"",ROUND(G9*H9*(1-N(I9)),2)) -> 567 | L9: =IF(OR(K9="",J9=""),"",ROUND(K9*J9,2)) -> 119.07 | M9: 30 | N9: =IF(G9="","",G9-N(M9)) -> 0 | O9: =IF(B9="","",TRIM(IF(COUNTIF('Registru comenzi'!$B$5:$B$304,B9)=0,"Comandă inexistentă în registru. ","")&IF(AND(D9<>"",E9=""),"Cod necunoscut. ","")&IF(N(G9)<=0,"Lipsește cantitatea. ","")&IF(N(M9)>N(G9),"Livrat mai mult decât s-a comandat. ","")&IF(N(I9)>0.3,"Discount neobișnuit de mare. ","")))
A10: =IF(B10="","",B10&"|"&C10) -> 315|6 | B10: 315 | C10: =IF(B10="","",COUNTIF(INDEX($B:$B,5):B10,B10)) -> 6 | D10: S01 | E10: =IF(D10="","",IFERROR(VLOOKUP(D10,Catalog,2,FALSE),"")) -> Manoperă montaj instalație electrică | F10: =IF(D10="","",IFERROR(VLOOKUP(D10,Catalog,3,FALSE),"")) -> ore | G10: 16 | H10: =IF(D10="","",IFERROR(VLOOKUP(D10,Catalog,4,FALSE),"")) -> 85 | J10: =IF(D10="","",IFERROR(VLOOKUP(D10,Catalog,5,FALSE),"")) -> 0.21 | K10: =IF(OR(G10="",H10=""),"",ROUND(G10*H10*(1-N(I10)),2)) -> 1360 | L10: =IF(OR(K10="",J10=""),"",ROUND(K10*J10,2)) -> 285.6 | M10: 16 | N10: =IF(G10="","",G10-N(M10)) -> 0 | O10: =IF(B10="","",TRIM(IF(COUNTIF('Registru comenzi'!$B$5:$B$304,B10)=0,"Comandă inexistentă în registru. ","")&IF(AND(D10<>"",E10=""),"Cod necunoscut. ","")&IF(N(G10)<=0,"Lipsește cantitatea. ","")&IF(N(M10)>N(G10),"Livrat mai mult decât s-a comandat. ","")&IF(N(I10)>0.3,"Discount neobișnuit de mare. ","")))
A11: =IF(B11="","",B11&"|"&C11) -> 316|1 | B11: 316 | C11: =IF(B11="","",COUNTIF(INDEX($B:$B,5):B11,B11)) -> 1 | D11: P06 | E11: =IF(D11="","",IFERROR(VLOOKUP(D11,Catalog,2,FALSE),"")) -> Tablou electric 12 module | F11: =IF(D11="","",IFERROR(VLOOKUP(D11,Catalog,3,FALSE),"")) -> buc | G11: 10 | H11: =IF(D11="","",IFERROR(VLOOKUP(D11,Catalog,4,FALSE),"")) -> 145 | J11: =IF(D11="","",IFERROR(VLOOKUP(D11,Catalog,5,FALSE),"")) -> 0.21 | K11: =IF(OR(G11="",H11=""),"",ROUND(G11*H11*(1-N(I11)),2)) -> 1450 | L11: =IF(OR(K11="",J11=""),"",ROUND(K11*J11,2)) -> 304.5 | M11: 10 | N11: =IF(G11="","",G11-N(M11)) -> 0 | O11: =IF(B11="","",TRIM(IF(COUNTIF('Registru comenzi'!$B$5:$B$304,B11)=0,"Comandă inexistentă în registru. ","")&IF(AND(D11<>"",E11=""),"Cod necunoscut. ","")&IF(N(G11)<=0,"Lipsește cantitatea. ","")&IF(N(M11)>N(G11),"Livrat mai mult decât s-a comandat. ","")&IF(N(I11)>0.3,"Discount neobișnuit de mare. ","")))
A12: =IF(B12="","",B12&"|"&C12) -> 316|2 | B12: 316 | C12: =IF(B12="","",COUNTIF(INDEX($B:$B,5):B12,B12)) -> 2 | D12: P07 | E12: =IF(D12="","",IFERROR(VLOOKUP(D12,Catalog,2,FALSE),"")) -> Siguranță automată 16A | F12: =IF(D12="","",IFERROR(VLOOKUP(D12,Catalog,3,FALSE),"")) -> buc | G12: 40 | H12: =IF(D12="","",IFERROR(VLOOKUP(D12,Catalog,4,FALSE),"")) -> 22.4 | J12: =IF(D12="","",IFERROR(VLOOKUP(D12,Catalog,5,FALSE),"")) -> 0.21 | K12: =IF(OR(G12="",H12=""),"",ROUND(G12*H12*(1-N(I12)),2)) -> 896 | L12: =IF(OR(K12="",J12=""),"",ROUND(K12*J12,2)) -> 188.16 | M12: 40 | N12: =IF(G12="","",G12-N(M12)) -> 0 | O12: =IF(B12="","",TRIM(IF(COUNTIF('Registru comenzi'!$B$5:$B$304,B12)=0,"Comandă inexistentă în registru. ","")&IF(AND(D12<>"",E12=""),"Cod necunoscut. ","")&IF(N(G12)<=0,"Lipsește cantitatea. ","")&IF(N(M12)>N(G12),"Livrat mai mult decât s-a comandat. ","")&IF(N(I12)>0.3,"Discount neobișnuit de mare. ","")))
A13: =IF(B13="","",B13&"|"&C13) -> 317|1 | B13: 317 | C13: =IF(B13="","",COUNTIF(INDEX($B:$B,5):B13,B13)) -> 1 | D13: P08 | E13: =IF(D13="","",IFERROR(VLOOKUP(D13,Catalog,2,FALSE),"")) -> Corp iluminat LED 36W | F13: =IF(D13="","",IFERROR(VLOOKUP(D13,Catalog,3,FALSE),"")) -> buc | G13: 20 | H13: =IF(D13="","",IFERROR(VLOOKUP(D13,Catalog,4,FALSE),"")) -> 89 | J13: =IF(D13="","",IFERROR(VLOOKUP(D13,Catalog,5,FALSE),"")) -> 0.21 | K13: =IF(OR(G13="",H13=""),"",ROUND(G13*H13*(1-N(I13)),2)) -> 1780 | L13: =IF(OR(K13="",J13=""),"",ROUND(K13*J13,2)) -> 373.8 | M13: 20 | N13: =IF(G13="","",G13-N(M13)) -> 0 | O13: =IF(B13="","",TRIM(IF(COUNTIF('Registru comenzi'!$B$5:$B$304,B13)=0,"Comandă inexistentă în registru. ","")&IF(AND(D13<>"",E13=""),"Cod necunoscut. ","")&IF(N(G13)<=0,"Lipsește cantitatea. ","")&IF(N(M13)>N(G13),"Livrat mai mult decât s-a comandat. ","")&IF(N(I13)>0.3,"Discount neobișnuit de mare. ","")))
A14: =IF(B14="","",B14&"|"&C14) -> 317|2 | B14: 317 | C14: =IF(B14="","",COUNTIF(INDEX($B:$B,5):B14,B14)) -> 2 | D14: P07 | E14: =IF(D14="","",IFERROR(VLOOKUP(D14,Catalog,2,FALSE),"")) -> Siguranță automată 16A | F14: =IF(D14="","",IFERROR(VLOOKUP(D14,Catalog,3,FALSE),"")) -> buc | G14: 20 | H14: =IF(D14="","",IFERROR(VLOOKUP(D14,Catalog,4,FALSE),"")) -> 22.4 | J14: =IF(D14="","",IFERROR(VLOOKUP(D14,Catalog,5,FALSE),"")) -> 0.21 | K14: =IF(OR(G14="",H14=""),"",ROUND(G14*H14*(1-N(I14)),2)) -> 448 | L14: =IF(OR(K14="",J14=""),"",ROUND(K14*J14,2)) -> 94.08 | M14: 0 | N14: =IF(G14="","",G14-N(M14)) -> 20 | O14: =IF(B14="","",TRIM(IF(COUNTIF('Registru comenzi'!$B$5:$B$304,B14)=0,"Comandă inexistentă în registru. ","")&IF(AND(D14<>"",E14=""),"Cod necunoscut. ","")&IF(N(G14)<=0,"Lipsește cantitatea. ","")&IF(N(M14)>N(G14),"Livrat mai mult decât s-a comandat. ","")&IF(N(I14)>0.3,"Discount neobișnuit de mare. ","")))
A15: =IF(B15="","",B15&"|"&C15) -> 318|1 | B15: 318 | C15: =IF(B15="","",COUNTIF(INDEX($B:$B,5):B15,B15)) -> 1 | D15: P06 | E15: =IF(D15="","",IFERROR(VLOOKUP(D15,Catalog,2,FALSE),"")) -> Tablou electric 12 module | F15: =IF(D15="","",IFERROR(VLOOKUP(D15,Catalog,3,FALSE),"")) -> buc | G15: 4 | H15: =IF(D15="","",IFERROR(VLOOKUP(D15,Catalog,4,FALSE),"")) -> 145 | J15: =IF(D15="","",IFERROR(VLOOKUP(D15,Catalog,5,FALSE),"")) -> 0.21 | K15: =IF(OR(G15="",H15=""),"",ROUND(G15*H15*(1-N(I15)),2)) -> 580 | L15: =IF(OR(K15="",J15=""),"",ROUND(K15*J15,2)) -> 121.8 | M15: 0 | N15: =IF(G15="","",G15-N(M15)) -> 4 | O15: =IF(B15="","",TRIM(IF(COUNTIF('Registru comenzi'!$B$5:$B$304,B15)=0,"Comandă inexistentă în registru. ","")&IF(AND(D15<>"",E15=""),"Cod necunoscut. ","")&IF(N(G15)<=0,"Lipsește cantitatea. ","")&IF(N(M15)>N(G15),"Livrat mai mult decât s-a comandat. ","")&IF(N(I15)>0.3,"Discount neobișnuit de mare. ","")))
A16: =IF(B16="","",B16&"|"&C16) -> 318|2 | B16: 318 | C16: =IF(B16="","",COUNTIF(INDEX($B:$B,5):B16,B16)) -> 2 | D16: P07 | E16: =IF(D16="","",IFERROR(VLOOKUP(D16,Catalog,2,FALSE),"")) -> Siguranță automată 16A | F16: =IF(D16="","",IFERROR(VLOOKUP(D16,Catalog,3,FALSE),"")) -> buc | G16: 48 | H16: =IF(D16="","",IFERROR(VLOOKUP(D16,Catalog,4,FALSE),"")) -> 22.4 | J16: =IF(D16="","",IFERROR(VLOOKUP(D16,Catalog,5,FALSE),"")) -> 0.21 | K16: =IF(OR(G16="",H16=""),"",ROUND(G16*H16*(1-N(I16)),2)) -> 1075.2 | L16: =IF(OR(K16="",J16=""),"",ROUND(K16*J16,2)) -> 225.79 | M16: 0 | N16: =IF(G16="","",G16-N(M16)) -> 48 | O16: =IF(B16="","",TRIM(IF(COUNTIF('Registru comenzi'!$B$5:$B$304,B16)=0,"Comandă inexistentă în registru. ","")&IF(AND(D16<>"",E16=""),"Cod necunoscut. ","")&IF(N(G16)<=0,"Lipsește cantitatea. ","")&IF(N(M16)>N(G16),"Livrat mai mult decât s-a comandat. ","")&IF(N(I16)>0.3,"Discount neobișnuit de mare. ","")))
A17: =IF(B17="","",B17&"|"&C17) -> 318|3 | B17: 318 | C17: =IF(B17="","",COUNTIF(INDEX($B:$B,5):B17,B17)) -> 3 | D17: P01 | E17: =IF(D17="","",IFERROR(VLOOKUP(D17,Catalog,2,FALSE),"")) -> Cablu CYY-F 3x2,5 | F17: =IF(D17="","",IFERROR(VLOOKUP(D17,Catalog,3,FALSE),"")) -> m | G17: 300 | H17: =IF(D17="","",IFERROR(VLOOKUP(D17,Catalog,4,FALSE),"")) -> 4.85 | J17: =IF(D17="","",IFERROR(VLOOKUP(D17,Catalog,5,FALSE),"")) -> 0.21 | K17: =IF(OR(G17="",H17=""),"",ROUND(G17*H17*(1-N(I17)),2)) -> 1455 | L17: =IF(OR(K17="",J17=""),"",ROUND(K17*J17,2)) -> 305.55 | M17: 0 | N17: =IF(G17="","",G17-N(M17)) -> 300 | O17: =IF(B17="","",TRIM(IF(COUNTIF('Registru comenzi'!$B$5:$B$304,B17)=0,"Comandă inexistentă în registru. ","")&IF(AND(D17<>"",E17=""),"Cod necunoscut. ","")&IF(N(G17)<=0,"Lipsește cantitatea. ","")&IF(N(M17)>N(G17),"Livrat mai mult decât s-a comandat. ","")&IF(N(I17)>0.3,"Discount neobișnuit de mare. ","")))
A18: =IF(B18="","",B18&"|"&C18) -> 319|1 | B18: 319 | C18: =IF(B18="","",COUNTIF(INDEX($B:$B,5):B18,B18)) -> 1 | D18: P05 | E18: =IF(D18="","",IFERROR(VLOOKUP(D18,Catalog,2,FALSE),"")) -> Priză dublă cu împământare | F18: =IF(D18="","",IFERROR(VLOOKUP(D18,Catalog,3,FALSE),"")) -> buc | G18: 40 | H18: =IF(D18="","",IFERROR(VLOOKUP(D18,Catalog,4,FALSE),"")) -> 18.9 | I18: 0.05 | J18: =IF(D18="","",IFERROR(VLOOKUP(D18,Catalog,5,FALSE),"")) -> 0.21 | K18: =IF(OR(G18="",H18=""),"",ROUND(G18*H18*(1-N(I18)),2)) -> 718.2 | L18: =IF(OR(K18="",J18=""),"",ROUND(K18*J18,2)) -> 150.82 | M18: 0 | N18: =IF(G18="","",G18-N(M18)) -> 40 | O18: =IF(B18="","",TRIM(IF(COUNTIF('Registru comenzi'!$B$5:$B$304,B18)=0,"Comandă inexistentă în registru. ","")&IF(AND(D18<>"",E18=""),"Cod necunoscut. ","")&IF(N(G18)<=0,"Lipsește cantitatea. ","")&IF(N(M18)>N(G18),"Livrat mai mult decât s-a comandat. ","")&IF(N(I18)>0.3,"Discount neobișnuit de mare. ","")))
A19: =IF(B19="","",B19&"|"&C19) -> 319|2 | B19: 319 | C19: =IF(B19="","",COUNTIF(INDEX($B:$B,5):B19,B19)) -> 2 | D19: P04 | E19: =IF(D19="","",IFERROR(VLOOKUP(D19,Catalog,2,FALSE),"")) -> Întrerupător simplu Schneider Sedna | F19: =IF(D19="","",IFERROR(VLOOKUP(D19,Catalog,3,FALSE),"")) -> buc | G19: 40 | H19: =IF(D19="","",IFERROR(VLOOKUP(D19,Catalog,4,FALSE),"")) -> 14.5 | I19: 0.05 | J19: =IF(D19="","",IFERROR(VLOOKUP(D19,Catalog,5,FALSE),"")) -> 0.21 | K19: =IF(OR(G19="",H19=""),"",ROUND(G19*H19*(1-N(I19)),2)) -> 551 | L19: =IF(OR(K19="",J19=""),"",ROUND(K19*J19,2)) -> 115.71 | M19: 0 | N19: =IF(G19="","",G19-N(M19)) -> 40 | O19: =IF(B19="","",TRIM(IF(COUNTIF('Registru comenzi'!$B$5:$B$304,B19)=0,"Comandă inexistentă în registru. ","")&IF(AND(D19<>"",E19=""),"Cod necunoscut. ","")&IF(N(G19)<=0,"Lipsește cantitatea. ","")&IF(N(M19)>N(G19),"Livrat mai mult decât s-a comandat. ","")&IF(N(I19)>0.3,"Discount neobișnuit de mare. ","")))
A20: =IF(B20="","",B20&"|"&C20) -> 319|3 | B20: 319 | C20: =IF(B20="","",COUNTIF(INDEX($B:$B,5):B20,B20)) -> 3 | D20: P03 | E20: =IF(D20="","",IFERROR(VLOOKUP(D20,Catalog,2,FALSE),"")) -> Doză aparat îngropată | F20: =IF(D20="","",IFERROR(VLOOKUP(D20,Catalog,3,FALSE),"")) -> buc | G20: 80 | H20: =IF(D20="","",IFERROR(VLOOKUP(D20,Catalog,4,FALSE),"")) -> 1.2 | J20: =IF(D20="","",IFERROR(VLOOKUP(D20,Catalog,5,FALSE),"")) -> 0.21 | K20: =IF(OR(G20="",H20=""),"",ROUND(G20*H20*(1-N(I20)),2)) -> 96 | L20: =IF(OR(K20="",J20=""),"",ROUND(K20*J20,2)) -> 20.16 | M20: 0 | N20: =IF(G20="","",G20-N(M20)) -> 80 | O20: =IF(B20="","",TRIM(IF(COUNTIF('Registru comenzi'!$B$5:$B$304,B20)=0,"Comandă inexistentă în registru. ","")&IF(AND(D20<>"",E20=""),"Cod necunoscut. ","")&IF(N(G20)<=0,"Lipsește cantitatea. ","")&IF(N(M20)>N(G20),"Livrat mai mult decât s-a comandat. ","")&IF(N(I20)>0.3,"Discount neobișnuit de mare. ","")))
A21: =IF(B21="","",B21&"|"&C21) | C21: =IF(B21="","",COUNTIF(INDEX($B:$B,5):B21,B21)) | E21: =IF(D21="","",IFERROR(VLOOKUP(D21,Catalog,2,FALSE),"")) | F21: =IF(D21="","",IFERROR(VLOOKUP(D21,Catalog,3,FALSE),"")) | H21: =IF(D21="","",IFERROR(VLOOKUP(D21,Catalog,4,FALSE),"")) | J21: =IF(D21="","",IFERROR(VLOOKUP(D21,Catalog,5,FALSE),"")) | K21: =IF(OR(G21="",H21=""),"",ROUND(G21*H21*(1-N(I21)),2)) | L21: =IF(OR(K21="",J21=""),"",ROUND(K21*J21,2)) | N21: =IF(G21="","",G21-N(M21)) | O21: =IF(B21="","",TRIM(IF(COUNTIF('Registru comenzi'!$B$5:$B$304,B21)=0,"Comandă inexistentă în registru. ","")&IF(AND(D21<>"",E21=""),"Cod necunoscut. ","")&IF(N(G21)<=0,"Lipsește cantitatea. ","")&IF(N(M21)>N(G21),"Livrat mai mult decât s-a comandat. ","")&IF(N(I21)>0.3,"Discount neobișnuit de mare. ","")))
A22: =IF(B22="","",B22&"|"&C22) | C22: =IF(B22="","",COUNTIF(INDEX($B:$B,5):B22,B22)) | E22: =IF(D22="","",IFERROR(VLOOKUP(D22,Catalog,2,FALSE),"")) | F22: =IF(D22="","",IFERROR(VLOOKUP(D22,Catalog,3,FALSE),"")) | H22: =IF(D22="","",IFERROR(VLOOKUP(D22,Catalog,4,FALSE),"")) | J22: =IF(D22="","",IFERROR(VLOOKUP(D22,Catalog,5,FALSE),"")) | K22: =IF(OR(G22="",H22=""),"",ROUND(G22*H22*(1-N(I22)),2)) | L22: =IF(OR(K22="",J22=""),"",ROUND(K22*J22,2)) | N22: =IF(G22="","",G22-N(M22)) | O22: =IF(B22="","",TRIM(IF(COUNTIF('Registru comenzi'!$B$5:$B$304,B22)=0,"Comandă inexistentă în registru. ","")&IF(AND(D22<>"",E22=""),"Cod necunoscut. ","")&IF(N(G22)<=0,"Lipsește cantitatea. ","")&IF(N(M22)>N(G22),"Livrat mai mult decât s-a comandat. ","")&IF(N(I22)>0.3,"Discount neobișnuit de mare. ","")))
A23: =IF(B23="","",B23&"|"&C23) | C23: =IF(B23="","",COUNTIF(INDEX($B:$B,5):B23,B23)) | E23: =IF(D23="","",IFERROR(VLOOKUP(D23,Catalog,2,FALSE),"")) | F23: =IF(D23="","",IFERROR(VLOOKUP(D23,Catalog,3,FALSE),"")) | H23: =IF(D23="","",IFERROR(VLOOKUP(D23,Catalog,4,FALSE),"")) | J23: =IF(D23="","",IFERROR(VLOOKUP(D23,Catalog,5,FALSE),"")) | K23: =IF(OR(G23="",H23=""),"",ROUND(G23*H23*(1-N(I23)),2)) | L23: =IF(OR(K23="",J23=""),"",ROUND(K23*J23,2)) | N23: =IF(G23="","",G23-N(M23)) | O23: =IF(B23="","",TRIM(IF(COUNTIF('Registru comenzi'!$B$5:$B$304,B23)=0,"Comandă inexistentă în registru. ","")&IF(AND(D23<>"",E23=""),"Cod necunoscut. ","")&IF(N(G23)<=0,"Lipsește cantitatea. ","")&IF(N(M23)>N(G23),"Livrat mai mult decât s-a comandat. ","")&IF(N(I23)>0.3,"Discount neobișnuit de mare. ","")))
A24: =IF(B24="","",B24&"|"&C24) | C24: =IF(B24="","",COUNTIF(INDEX($B:$B,5):B24,B24)) | E24: =IF(D24="","",IFERROR(VLOOKUP(D24,Catalog,2,FALSE),"")) | F24: =IF(D24="","",IFERROR(VLOOKUP(D24,Catalog,3,FALSE),"")) | H24: =IF(D24="","",IFERROR(VLOOKUP(D24,Catalog,4,FALSE),"")) | J24: =IF(D24="","",IFERROR(VLOOKUP(D24,Catalog,5,FALSE),"")) | K24: =IF(OR(G24="",H24=""),"",ROUND(G24*H24*(1-N(I24)),2)) | L24: =IF(OR(K24="",J24=""),"",ROUND(K24*J24,2)) | N24: =IF(G24="","",G24-N(M24)) | O24: =IF(B24="","",TRIM(IF(COUNTIF('Registru comenzi'!$B$5:$B$304,B24)=0,"Comandă inexistentă în registru. ","")&IF(AND(D24<>"",E24=""),"Cod necunoscut. ","")&IF(N(G24)<=0,"Lipsește cantitatea. ","")&IF(N(M24)>N(G24),"Livrat mai mult decât s-a comandat. ","")&IF(N(I24)>0.3,"Discount neobișnuit de mare. ","")))
A25: =IF(B25="","",B25&"|"&C25) | C25: =IF(B25="","",COUNTIF(INDEX($B:$B,5):B25,B25)) | E25: =IF(D25="","",IFERROR(VLOOKUP(D25,Catalog,2,FALSE),"")) | F25: =IF(D25="","",IFERROR(VLOOKUP(D25,Catalog,3,FALSE),"")) | H25: =IF(D25="","",IFERROR(VLOOKUP(D25,Catalog,4,FALSE),"")) | J25: =IF(D25="","",IFERROR(VLOOKUP(D25,Catalog,5,FALSE),"")) | K25: =IF(OR(G25="",H25=""),"",ROUND(G25*H25*(1-N(I25)),2)) | L25: =IF(OR(K25="",J25=""),"",ROUND(K25*J25,2)) | N25: =IF(G25="","",G25-N(M25)) | O25: =IF(B25="","",TRIM(IF(COUNTIF('Registru comenzi'!$B$5:$B$304,B25)=0,"Comandă inexistentă în registru. ","")&IF(AND(D25<>"",E25=""),"Cod necunoscut. ","")&IF(N(G25)<=0,"Lipsește cantitatea. ","")&IF(N(M25)>N(G25),"Livrat mai mult decât s-a comandat. ","")&IF(N(I25)>0.3,"Discount neobișnuit de mare. ","")))
A26: =IF(B26="","",B26&"|"&C26) | C26: =IF(B26="","",COUNTIF(INDEX($B:$B,5):B26,B26)) | E26: =IF(D26="","",IFERROR(VLOOKUP(D26,Catalog,2,FALSE),"")) | F26: =IF(D26="","",IFERROR(VLOOKUP(D26,Catalog,3,FALSE),"")) | H26: =IF(D26="","",IFERROR(VLOOKUP(D26,Catalog,4,FALSE),"")) | J26: =IF(D26="","",IFERROR(VLOOKUP(D26,Catalog,5,FALSE),"")) | K26: =IF(OR(G26="",H26=""),"",ROUND(G26*H26*(1-N(I26)),2)) | L26: =IF(OR(K26="",J26=""),"",ROUND(K26*J26,2)) | N26: =IF(G26="","",G26-N(M26)) | O26: =IF(B26="","",TRIM(IF(COUNTIF('Registru comenzi'!$B$5:$B$304,B26)=0,"Comandă inexistentă în registru. ","")&IF(AND(D26<>"",E26=""),"Cod necunoscut. ","")&IF(N(G26)<=0,"Lipsește cantitatea. ","")&IF(N(M26)>N(G26),"Livrat mai mult decât s-a comandat. ","")&IF(N(I26)>0.3,"Discount neobișnuit de mare. ","")))
A27: =IF(B27="","",B27&"|"&C27) | C27: =IF(B27="","",COUNTIF(INDEX($B:$B,5):B27,B27)) | E27: =IF(D27="","",IFERROR(VLOOKUP(D27,Catalog,2,FALSE),"")) | F27: =IF(D27="","",IFERROR(VLOOKUP(D27,Catalog,3,FALSE),"")) | H27: =IF(D27="","",IFERROR(VLOOKUP(D27,Catalog,4,FALSE),"")) | J27: =IF(D27="","",IFERROR(VLOOKUP(D27,Catalog,5,FALSE),"")) | K27: =IF(OR(G27="",H27=""),"",ROUND(G27*H27*(1-N(I27)),2)) | L27: =IF(OR(K27="",J27=""),"",ROUND(K27*J27,2)) | N27: =IF(G27="","",G27-N(M27)) | O27: =IF(B27="","",TRIM(IF(COUNTIF('Registru comenzi'!$B$5:$B$304,B27)=0,"Comandă inexistentă în registru. ","")&IF(AND(D27<>"",E27=""),"Cod necunoscut. ","")&IF(N(G27)<=0,"Lipsește cantitatea. ","")&IF(N(M27)>N(G27),"Livrat mai mult decât s-a comandat. ","")&IF(N(I27)>0.3,"Discount neobișnuit de mare. ","")))
A28: =IF(B28="","",B28&"|"&C28) | C28: =IF(B28="","",COUNTIF(INDEX($B:$B,5):B28,B28)) | E28: =IF(D28="","",IFERROR(VLOOKUP(D28,Catalog,2,FALSE),"")) | F28: =IF(D28="","",IFERROR(VLOOKUP(D28,Catalog,3,FALSE),"")) | H28: =IF(D28="","",IFERROR(VLOOKUP(D28,Catalog,4,FALSE),"")) | J28: =IF(D28="","",IFERROR(VLOOKUP(D28,Catalog,5,FALSE),"")) | K28: =IF(OR(G28="",H28=""),"",ROUND(G28*H28*(1-N(I28)),2)) | L28: =IF(OR(K28="",J28=""),"",ROUND(K28*J28,2)) | N28: =IF(G28="","",G28-N(M28)) | O28: =IF(B28="","",TRIM(IF(COUNTIF('Registru comenzi'!$B$5:$B$304,B28)=0,"Comandă inexistentă în registru. ","")&IF(AND(D28<>"",E28=""),"Cod necunoscut. ","")&IF(N(G28)<=0,"Lipsește cantitatea. ","")&IF(N(M28)>N(G28),"Livrat mai mult decât s-a comandat. ","")&IF(N(I28)>0.3,"Discount neobișnuit de mare. ","")))
A29: =IF(B29="","",B29&"|"&C29) | C29: =IF(B29="","",COUNTIF(INDEX($B:$B,5):B29,B29)) | E29: =IF(D29="","",IFERROR(VLOOKUP(D29,Catalog,2,FALSE),"")) | F29: =IF(D29="","",IFERROR(VLOOKUP(D29,Catalog,3,FALSE),"")) | H29: =IF(D29="","",IFERROR(VLOOKUP(D29,Catalog,4,FALSE),"")) | J29: =IF(D29="","",IFERROR(VLOOKUP(D29,Catalog,5,FALSE),"")) | K29: =IF(OR(G29="",H29=""),"",ROUND(G29*H29*(1-N(I29)),2)) | L29: =IF(OR(K29="",J29=""),"",ROUND(K29*J29,2)) | N29: =IF(G29="","",G29-N(M29)) | O29: =IF(B29="","",TRIM(IF(COUNTIF('Registru comenzi'!$B$5:$B$304,B29)=0,"Comandă inexistentă în registru. ","")&IF(AND(D29<>"",E29=""),"Cod necunoscut. ","")&IF(N(G29)<=0,"Lipsește cantitatea. ","")&IF(N(M29)>N(G29),"Livrat mai mult decât s-a comandat. ","")&IF(N(I29)>0.3,"Discount neobișnuit de mare. ","")))
A30: =IF(B30="","",B30&"|"&C30) | C30: =IF(B30="","",COUNTIF(INDEX($B:$B,5):B30,B30)) | E30: =IF(D30="","",IFERROR(VLOOKUP(D30,Catalog,2,FALSE),"")) | F30: =IF(D30="","",IFERROR(VLOOKUP(D30,Catalog,3,FALSE),"")) | H30: =IF(D30="","",IFERROR(VLOOKUP(D30,Catalog,4,FALSE),"")) | J30: =IF(D30="","",IFERROR(VLOOKUP(D30,Catalog,5,FALSE),"")) | K30: =IF(OR(G30="",H30=""),"",ROUND(G30*H30*(1-N(I30)),2)) | L30: =IF(OR(K30="",J30=""),"",ROUND(K30*J30,2)) | N30: =IF(G30="","",G30-N(M30)) | O30: =IF(B30="","",TRIM(IF(COUNTIF('Registru comenzi'!$B$5:$B$304,B30)=0,"Comandă inexistentă în registru. ","")&IF(AND(D30<>"",E30=""),"Cod necunoscut. ","")&IF(N(G30)<=0,"Lipsește cantitatea. ","")&IF(N(M30)>N(G30),"Livrat mai mult decât s-a comandat. ","")&IF(N(I30)>0.3,"Discount neobișnuit de mare. ","")))
A31: =IF(B31="","",B31&"|"&C31) | C31: =IF(B31="","",COUNTIF(INDEX($B:$B,5):B31,B31)) | E31: =IF(D31="","",IFERROR(VLOOKUP(D31,Catalog,2,FALSE),"")) | F31: =IF(D31="","",IFERROR(VLOOKUP(D31,Catalog,3,FALSE),"")) | H31: =IF(D31="","",IFERROR(VLOOKUP(D31,Catalog,4,FALSE),"")) | J31: =IF(D31="","",IFERROR(VLOOKUP(D31,Catalog,5,FALSE),"")) | K31: =IF(OR(G31="",H31=""),"",ROUND(G31*H31*(1-N(I31)),2)) | L31: =IF(OR(K31="",J31=""),"",ROUND(K31*J31,2)) | N31: =IF(G31="","",G31-N(M31)) | O31: =IF(B31="","",TRIM(IF(COUNTIF('Registru comenzi'!$B$5:$B$304,B31)=0,"Comandă inexistentă în registru. ","")&IF(AND(D31<>"",E31=""),"Cod necunoscut. ","")&IF(N(G31)<=0,"Lipsește cantitatea. ","")&IF(N(M31)>N(G31),"Livrat mai mult decât s-a comandat. ","")&IF(N(I31)>0.3,"Discount neobișnuit de mare. ","")))
A32: =IF(B32="","",B32&"|"&C32) | C32: =IF(B32="","",COUNTIF(INDEX($B:$B,5):B32,B32)) | E32: =IF(D32="","",IFERROR(VLOOKUP(D32,Catalog,2,FALSE),"")) | F32: =IF(D32="","",IFERROR(VLOOKUP(D32,Catalog,3,FALSE),"")) | H32: =IF(D32="","",IFERROR(VLOOKUP(D32,Catalog,4,FALSE),"")) | J32: =IF(D32="","",IFERROR(VLOOKUP(D32,Catalog,5,FALSE),"")) | K32: =IF(OR(G32="",H32=""),"",ROUND(G32*H32*(1-N(I32)),2)) | L32: =IF(OR(K32="",J32=""),"",ROUND(K32*J32,2)) | N32: =IF(G32="","",G32-N(M32)) | O32: =IF(B32="","",TRIM(IF(COUNTIF('Registru comenzi'!$B$5:$B$304,B32)=0,"Comandă inexistentă în registru. ","")&IF(AND(D32<>"",E32=""),"Cod necunoscut. ","")&IF(N(G32)<=0,"Lipsește cantitatea. ","")&IF(N(M32)>N(G32),"Livrat mai mult decât s-a comandat. ","")&IF(N(I32)>0.3,"Discount neobișnuit de mare. ","")))
... A1004: =IF(B1004="","",B1004&"|"&C1004) | C1004: =IF(B1004="","",COUNTIF(INDEX($B:$B,5):B1004,B1004)) | E1004: =IF(D1004="","",IFERROR(VLOOKUP(D1004,Catalog,2,FALSE),"")) | F1004: =IF(D1004="","",IFERROR(VLOOKUP(D1004,Catalog,3,FALSE),"")) | H1004: =IF(D1004="","",IFERROR(VLOOKUP(D1004,Catalog,4,FALSE),"")) | J1004: =IF(D1004="","",IFERROR(VLOOKUP(D1004,Catalog,5,FALSE),"")) | K1004: =IF(OR(G1004="",H1004=""),"",ROUND(G1004*H1004*(1-N(I1004)),2)) | L1004: =IF(OR(K1004="",J1004=""),"",ROUND(K1004*J1004,2)) | N1004: =IF(G1004="","",G1004-N(M1004)) | O1004: =IF(B1004="","",TRIM(IF(COUNTIF('Registru comenzi'!$B$5:$B$304,B1004)=0,"Comandă inexistentă în registru. ","")&IF(AND(D1004<>"",E1004=""),"Cod necunoscut. ","")&IF(N(G1004)<=0,"Lipsește cantitatea. ","")&IF(N(M1004)>N(G1004),"Livrat mai mult decât s-a comandat. ","")&IF(N(I1004)>0.3,"Discount neobișnuit de mare. ","")))

Sheet Produse
B1: Produse și servicii
B2: Catalogul din care se completează denumirea, unitatea de măsură, prețul și cota de TVA pe comandă.
B4: Cod | C4: Denumire | D4: U.M. | E4: Preț fără TVA (lei) | F4: Cota TVA
B5: P01 | C5: Cablu CYY-F 3x2,5 | D5: m | E5: 4.85 | F5: 0.21
B6: P02 | C6: Tub flexibil PVC 20 mm | D6: m | E6: 1.9 | F6: 0.21
B7: P03 | C7: Doză aparat îngropată | D7: buc | E7: 1.2 | F7: 0.21
B8: P04 | C8: Întrerupător simplu Schneider Sedna | D8: buc | E8: 14.5 | F8: 0.21
B9: P05 | C9: Priză dublă cu împământare | D9: buc | E9: 18.9 | F9: 0.21
B10: P06 | C10: Tablou electric 12 module | D10: buc | E10: 145 | F10: 0.21
B11: P07 | C11: Siguranță automată 16A | D11: buc | E11: 22.4 | F11: 0.21
B12: P08 | C12: Corp iluminat LED 36W | D12: buc | E12: 89 | F12: 0.21
B13: S01 | C13: Manoperă montaj instalație electrică | D13: ore | E13: 85 | F13: 0.21

Sheet Setări
B1: Setări
B2: Datele firmei apar pe nota de comandă. Listele alimentează meniurile din registru.
B4: Furnizor | C4: Exemplu Distribuție SRL | E4: Condiții de plată | F4: Confirmare client
B5: CIF | C5: RO12345678 | E5: Plată în avans | F5: Da
B6: Sediu | C6: Str. Gării nr. 10, Ploiești, jud. Prahova | E6: La livrare | F6: Nu
B7: Telefon / e-mail | C7: 0244 000 000 · comenzi@exemplu.ro | E7: OP la 15 zile | F7: Anulată
B8: Seria comenzilor | C8: CMD | E8: OP la 30 zile
B9: Zile până la alerta „neconfirmată” | C9: 2
B11: © 2026 Ray Moreno – modelexcel.ro
B12: Model gratuit: îl poți folosi și adapta în activitatea ta. Nu este permisă revânzarea lui sau publicarea pe alte site-uri.
B13: Instrucțiuni și alte modele: modelexcel.ro/model-nota-de-comanda-excel/
