Workbook
Name Plafon: 'Registru de casă'!$F$2
Name SoldInitial: 'Registru de casă'!$C$3
Name TipDoc: Liste!$B$3:$B$13
Name Unitatea: 'Registru de casă'!$C$2
Name ZiuaRap: 'Închidere zilnică'!$C$3

Sheet Registru de casă
B1: Registru de casă
B2: Unitatea: | C2: Exemplu Comerț SRL | E2: Plafon casă (lei): | F2: 50000 | H2: Trece fiecare încasare și plată în ordinea în care se fac. Soldul se calculează automat după fiecare rând.
B3: Sold inițial: | C3: 1250 | E3: Sold curent: | F3: =SoldInitial+SUM(F6:F305)-SUM(G6:G305) -> 4904.8 | H3: Roșu = sold negativ (imposibil, verifică). Portocaliu = sold peste plafonul de casă.
B5: Data | C5: Nr. document | D5: Tip document | E5: Explicații | F5: Încasări | G5: Plăți | H5: Sold
B6: =DATE(2026,10,12) -> 46307 | C6: Z-0412 | D6: Raport Z | E6: Vânzări cu numerar ziua 12.10 | F6: 3480 | H6: =IF(AND(F6="",G6=""),"",SoldInitial+SUM(F$6:F6)-SUM(G$6:G6)) -> 4730 | K6: =IF(B6="","",B6&"|"&COUNTIF(B$6:B6,B6)) -> 46307|1
B7: =DATE(2026,10,12) -> 46307 | C7: 45 | D7: Dispoziție de plată | E7: Avans decontare deplasare Popescu A. | G7: 600 | H7: =IF(AND(F7="",G7=""),"",SoldInitial+SUM(F$6:F7)-SUM(G$6:G7)) -> 4130 | K7: =IF(B7="","",B7&"|"&COUNTIF(B$6:B7,B7)) -> 46307|2
B8: =DATE(2026,10,12) -> 46307 | C8: F-2231 | D8: Factură | E8: Achiziție consumabile birou | G8: 245.5 | H8: =IF(AND(F8="",G8=""),"",SoldInitial+SUM(F$6:F8)-SUM(G$6:G8)) -> 3884.5 | K8: =IF(B8="","",B8&"|"&COUNTIF(B$6:B8,B8)) -> 46307|3
B9: =DATE(2026,10,12) -> 46307 | C9: DB-18 | D9: Depunere la bancă | E9: Depunere numerar în cont | G9: 3000 | H9: =IF(AND(F9="",G9=""),"",SoldInitial+SUM(F$6:F9)-SUM(G$6:G9)) -> 884.5 | K9: =IF(B9="","",B9&"|"&COUNTIF(B$6:B9,B9)) -> 46307|4
B10: =DATE(2026,10,13) -> 46308 | C10: Z-0413 | D10: Raport Z | E10: Vânzări cu numerar ziua 13.10 | F10: 2915.3 | H10: =IF(AND(F10="",G10=""),"",SoldInitial+SUM(F$6:F10)-SUM(G$6:G10)) -> 3799.8 | K10: =IF(B10="","",B10&"|"&COUNTIF(B$6:B10,B10)) -> 46308|1
B11: =DATE(2026,10,13) -> 46308 | C11: 112 | D11: Chitanță | E11: Încasare factură EXC-0003 de la client | F11: 1190 | H11: =IF(AND(F11="",G11=""),"",SoldInitial+SUM(F$6:F11)-SUM(G$6:G11)) -> 4989.8 | K11: =IF(B11="","",B11&"|"&COUNTIF(B$6:B11,B11)) -> 46308|2
B12: =DATE(2026,10,13) -> 46308 | C12: 46 | D12: Dispoziție de plată | E12: Plată curier | G12: 85 | H12: =IF(AND(F12="",G12=""),"",SoldInitial+SUM(F$6:F12)-SUM(G$6:G12)) -> 4904.8 | K12: =IF(B12="","",B12&"|"&COUNTIF(B$6:B12,B12)) -> 46308|3
H13: =IF(AND(F13="",G13=""),"",SoldInitial+SUM(F$6:F13)-SUM(G$6:G13)) | K13: =IF(B13="","",B13&"|"&COUNTIF(B$6:B13,B13))
H14: =IF(AND(F14="",G14=""),"",SoldInitial+SUM(F$6:F14)-SUM(G$6:G14)) | K14: =IF(B14="","",B14&"|"&COUNTIF(B$6:B14,B14))
H15: =IF(AND(F15="",G15=""),"",SoldInitial+SUM(F$6:F15)-SUM(G$6:G15)) | K15: =IF(B15="","",B15&"|"&COUNTIF(B$6:B15,B15))
H16: =IF(AND(F16="",G16=""),"",SoldInitial+SUM(F$6:F16)-SUM(G$6:G16)) | K16: =IF(B16="","",B16&"|"&COUNTIF(B$6:B16,B16))
H17: =IF(AND(F17="",G17=""),"",SoldInitial+SUM(F$6:F17)-SUM(G$6:G17)) | K17: =IF(B17="","",B17&"|"&COUNTIF(B$6:B17,B17))
H18: =IF(AND(F18="",G18=""),"",SoldInitial+SUM(F$6:F18)-SUM(G$6:G18)) | K18: =IF(B18="","",B18&"|"&COUNTIF(B$6:B18,B18))
H19: =IF(AND(F19="",G19=""),"",SoldInitial+SUM(F$6:F19)-SUM(G$6:G19)) | K19: =IF(B19="","",B19&"|"&COUNTIF(B$6:B19,B19))
H20: =IF(AND(F20="",G20=""),"",SoldInitial+SUM(F$6:F20)-SUM(G$6:G20)) | K20: =IF(B20="","",B20&"|"&COUNTIF(B$6:B20,B20))
H21: =IF(AND(F21="",G21=""),"",SoldInitial+SUM(F$6:F21)-SUM(G$6:G21)) | K21: =IF(B21="","",B21&"|"&COUNTIF(B$6:B21,B21))
H22: =IF(AND(F22="",G22=""),"",SoldInitial+SUM(F$6:F22)-SUM(G$6:G22)) | K22: =IF(B22="","",B22&"|"&COUNTIF(B$6:B22,B22))
H23: =IF(AND(F23="",G23=""),"",SoldInitial+SUM(F$6:F23)-SUM(G$6:G23)) | K23: =IF(B23="","",B23&"|"&COUNTIF(B$6:B23,B23))
H24: =IF(AND(F24="",G24=""),"",SoldInitial+SUM(F$6:F24)-SUM(G$6:G24)) | K24: =IF(B24="","",B24&"|"&COUNTIF(B$6:B24,B24))
... H305: =IF(AND(F305="",G305=""),"",SoldInitial+SUM(F$6:F305)-SUM(G$6:G305)) | K305: =IF(B305="","",B305&"|"&COUNTIF(B$6:B305,B305))

Sheet Închidere zilnică
B1: =Unitatea -> Exemplu Comerț SRL
B2: REGISTRU DE CASĂ
B3: Ziua: | C3: =DATE(2026,10,12) -> 46307 | D3: ← scrie data zilei pentru care faci închiderea
B5: Nr. crt. | C5: Nr. document | D5: Explicații | E5: Încasări | F5: Plăți
D6: Sold din ziua precedentă | E6: =SoldInitial+SUMIF('Registru de casă'!$B$6:$B$305,"<"&ZiuaRap,'Registru de casă'!$F$6:$F$305)-SUMIF('Registru de casă'!$B$6:$B$305,"<"&ZiuaRap,'Registru de casă'!$G$6:$G$305) -> 1250
B7: =IF(ISNUMBER(MATCH(ZiuaRap&"|"&1,'Registru de casă'!$K$6:$K$305,0)),1,"") -> 1 | C7: =IF($B7="","",INDEX('Registru de casă'!$C$6:$C$305,MATCH(ZiuaRap&"|"&1,'Registru de casă'!$K$6:$K$305,0))) -> Z-0412 | D7: =IF($B7="","",INDEX('Registru de casă'!$D$6:$D$305,MATCH(ZiuaRap&"|"&1,'Registru de casă'!$K$6:$K$305,0))&" – "&INDEX('Registru de casă'!$E$6:$E$305,MATCH(ZiuaRap&"|"&1,'Registru de casă'!$K$6:$K$305,0))) -> Raport Z – Vânzări cu numerar ziua 12.10 | E7: =IF($B7="","",IF(INDEX('Registru de casă'!$F$6:$F$305,MATCH(ZiuaRap&"|"&1,'Registru de casă'!$K$6:$K$305,0))="","",INDEX('Registru de casă'!$F$6:$F$305,MATCH(ZiuaRap&"|"&1,'Registru de casă'!$K$6:$K$305,0)))) -> 3480 | F7: =IF($B7="","",IF(INDEX('Registru de casă'!$G$6:$G$305,MATCH(ZiuaRap&"|"&1,'Registru de casă'!$K$6:$K$305,0))="","",INDEX('Registru de casă'!$G$6:$G$305,MATCH(ZiuaRap&"|"&1,'Registru de casă'!$K$6:$K$305,0))))
B8: =IF(ISNUMBER(MATCH(ZiuaRap&"|"&2,'Registru de casă'!$K$6:$K$305,0)),2,"") -> 2 | C8: =IF($B8="","",INDEX('Registru de casă'!$C$6:$C$305,MATCH(ZiuaRap&"|"&2,'Registru de casă'!$K$6:$K$305,0))) -> 45 | D8: =IF($B8="","",INDEX('Registru de casă'!$D$6:$D$305,MATCH(ZiuaRap&"|"&2,'Registru de casă'!$K$6:$K$305,0))&" – "&INDEX('Registru de casă'!$E$6:$E$305,MATCH(ZiuaRap&"|"&2,'Registru de casă'!$K$6:$K$305,0))) -> Dispoziție de plată – Avans decontare deplasare Popescu A. | E8: =IF($B8="","",IF(INDEX('Registru de casă'!$F$6:$F$305,MATCH(ZiuaRap&"|"&2,'Registru de casă'!$K$6:$K$305,0))="","",INDEX('Registru de casă'!$F$6:$F$305,MATCH(ZiuaRap&"|"&2,'Registru de casă'!$K$6:$K$305,0)))) | F8: =IF($B8="","",IF(INDEX('Registru de casă'!$G$6:$G$305,MATCH(ZiuaRap&"|"&2,'Registru de casă'!$K$6:$K$305,0))="","",INDEX('Registru de casă'!$G$6:$G$305,MATCH(ZiuaRap&"|"&2,'Registru de casă'!$K$6:$K$305,0)))) -> 600
B9: =IF(ISNUMBER(MATCH(ZiuaRap&"|"&3,'Registru de casă'!$K$6:$K$305,0)),3,"") -> 3 | C9: =IF($B9="","",INDEX('Registru de casă'!$C$6:$C$305,MATCH(ZiuaRap&"|"&3,'Registru de casă'!$K$6:$K$305,0))) -> F-2231 | D9: =IF($B9="","",INDEX('Registru de casă'!$D$6:$D$305,MATCH(ZiuaRap&"|"&3,'Registru de casă'!$K$6:$K$305,0))&" – "&INDEX('Registru de casă'!$E$6:$E$305,MATCH(ZiuaRap&"|"&3,'Registru de casă'!$K$6:$K$305,0))) -> Factură – Achiziție consumabile birou | E9: =IF($B9="","",IF(INDEX('Registru de casă'!$F$6:$F$305,MATCH(ZiuaRap&"|"&3,'Registru de casă'!$K$6:$K$305,0))="","",INDEX('Registru de casă'!$F$6:$F$305,MATCH(ZiuaRap&"|"&3,'Registru de casă'!$K$6:$K$305,0)))) | F9: =IF($B9="","",IF(INDEX('Registru de casă'!$G$6:$G$305,MATCH(ZiuaRap&"|"&3,'Registru de casă'!$K$6:$K$305,0))="","",INDEX('Registru de casă'!$G$6:$G$305,MATCH(ZiuaRap&"|"&3,'Registru de casă'!$K$6:$K$305,0)))) -> 245.5
B10: =IF(ISNUMBER(MATCH(ZiuaRap&"|"&4,'Registru de casă'!$K$6:$K$305,0)),4,"") -> 4 | C10: =IF($B10="","",INDEX('Registru de casă'!$C$6:$C$305,MATCH(ZiuaRap&"|"&4,'Registru de casă'!$K$6:$K$305,0))) -> DB-18 | D10: =IF($B10="","",INDEX('Registru de casă'!$D$6:$D$305,MATCH(ZiuaRap&"|"&4,'Registru de casă'!$K$6:$K$305,0))&" – "&INDEX('Registru de casă'!$E$6:$E$305,MATCH(ZiuaRap&"|"&4,'Registru de casă'!$K$6:$K$305,0))) -> Depunere la bancă – Depunere numerar în cont | E10: =IF($B10="","",IF(INDEX('Registru de casă'!$F$6:$F$305,MATCH(ZiuaRap&"|"&4,'Registru de casă'!$K$6:$K$305,0))="","",INDEX('Registru de casă'!$F$6:$F$305,MATCH(ZiuaRap&"|"&4,'Registru de casă'!$K$6:$K$305,0)))) | F10: =IF($B10="","",IF(INDEX('Registru de casă'!$G$6:$G$305,MATCH(ZiuaRap&"|"&4,'Registru de casă'!$K$6:$K$305,0))="","",INDEX('Registru de casă'!$G$6:$G$305,MATCH(ZiuaRap&"|"&4,'Registru de casă'!$K$6:$K$305,0)))) -> 3000
B11: =IF(ISNUMBER(MATCH(ZiuaRap&"|"&5,'Registru de casă'!$K$6:$K$305,0)),5,"") | C11: =IF($B11="","",INDEX('Registru de casă'!$C$6:$C$305,MATCH(ZiuaRap&"|"&5,'Registru de casă'!$K$6:$K$305,0))) | D11: =IF($B11="","",INDEX('Registru de casă'!$D$6:$D$305,MATCH(ZiuaRap&"|"&5,'Registru de casă'!$K$6:$K$305,0))&" – "&INDEX('Registru de casă'!$E$6:$E$305,MATCH(ZiuaRap&"|"&5,'Registru de casă'!$K$6:$K$305,0))) | E11: =IF($B11="","",IF(INDEX('Registru de casă'!$F$6:$F$305,MATCH(ZiuaRap&"|"&5,'Registru de casă'!$K$6:$K$305,0))="","",INDEX('Registru de casă'!$F$6:$F$305,MATCH(ZiuaRap&"|"&5,'Registru de casă'!$K$6:$K$305,0)))) | F11: =IF($B11="","",IF(INDEX('Registru de casă'!$G$6:$G$305,MATCH(ZiuaRap&"|"&5,'Registru de casă'!$K$6:$K$305,0))="","",INDEX('Registru de casă'!$G$6:$G$305,MATCH(ZiuaRap&"|"&5,'Registru de casă'!$K$6:$K$305,0))))
B12: =IF(ISNUMBER(MATCH(ZiuaRap&"|"&6,'Registru de casă'!$K$6:$K$305,0)),6,"") | C12: =IF($B12="","",INDEX('Registru de casă'!$C$6:$C$305,MATCH(ZiuaRap&"|"&6,'Registru de casă'!$K$6:$K$305,0))) | D12: =IF($B12="","",INDEX('Registru de casă'!$D$6:$D$305,MATCH(ZiuaRap&"|"&6,'Registru de casă'!$K$6:$K$305,0))&" – "&INDEX('Registru de casă'!$E$6:$E$305,MATCH(ZiuaRap&"|"&6,'Registru de casă'!$K$6:$K$305,0))) | E12: =IF($B12="","",IF(INDEX('Registru de casă'!$F$6:$F$305,MATCH(ZiuaRap&"|"&6,'Registru de casă'!$K$6:$K$305,0))="","",INDEX('Registru de casă'!$F$6:$F$305,MATCH(ZiuaRap&"|"&6,'Registru de casă'!$K$6:$K$305,0)))) | F12: =IF($B12="","",IF(INDEX('Registru de casă'!$G$6:$G$305,MATCH(ZiuaRap&"|"&6,'Registru de casă'!$K$6:$K$305,0))="","",INDEX('Registru de casă'!$G$6:$G$305,MATCH(ZiuaRap&"|"&6,'Registru de casă'!$K$6:$K$305,0))))
B13: =IF(ISNUMBER(MATCH(ZiuaRap&"|"&7,'Registru de casă'!$K$6:$K$305,0)),7,"") | C13: =IF($B13="","",INDEX('Registru de casă'!$C$6:$C$305,MATCH(ZiuaRap&"|"&7,'Registru de casă'!$K$6:$K$305,0))) | D13: =IF($B13="","",INDEX('Registru de casă'!$D$6:$D$305,MATCH(ZiuaRap&"|"&7,'Registru de casă'!$K$6:$K$305,0))&" – "&INDEX('Registru de casă'!$E$6:$E$305,MATCH(ZiuaRap&"|"&7,'Registru de casă'!$K$6:$K$305,0))) | E13: =IF($B13="","",IF(INDEX('Registru de casă'!$F$6:$F$305,MATCH(ZiuaRap&"|"&7,'Registru de casă'!$K$6:$K$305,0))="","",INDEX('Registru de casă'!$F$6:$F$305,MATCH(ZiuaRap&"|"&7,'Registru de casă'!$K$6:$K$305,0)))) | F13: =IF($B13="","",IF(INDEX('Registru de casă'!$G$6:$G$305,MATCH(ZiuaRap&"|"&7,'Registru de casă'!$K$6:$K$305,0))="","",INDEX('Registru de casă'!$G$6:$G$305,MATCH(ZiuaRap&"|"&7,'Registru de casă'!$K$6:$K$305,0))))
B14: =IF(ISNUMBER(MATCH(ZiuaRap&"|"&8,'Registru de casă'!$K$6:$K$305,0)),8,"") | C14: =IF($B14="","",INDEX('Registru de casă'!$C$6:$C$305,MATCH(ZiuaRap&"|"&8,'Registru de casă'!$K$6:$K$305,0))) | D14: =IF($B14="","",INDEX('Registru de casă'!$D$6:$D$305,MATCH(ZiuaRap&"|"&8,'Registru de casă'!$K$6:$K$305,0))&" – "&INDEX('Registru de casă'!$E$6:$E$305,MATCH(ZiuaRap&"|"&8,'Registru de casă'!$K$6:$K$305,0))) | E14: =IF($B14="","",IF(INDEX('Registru de casă'!$F$6:$F$305,MATCH(ZiuaRap&"|"&8,'Registru de casă'!$K$6:$K$305,0))="","",INDEX('Registru de casă'!$F$6:$F$305,MATCH(ZiuaRap&"|"&8,'Registru de casă'!$K$6:$K$305,0)))) | F14: =IF($B14="","",IF(INDEX('Registru de casă'!$G$6:$G$305,MATCH(ZiuaRap&"|"&8,'Registru de casă'!$K$6:$K$305,0))="","",INDEX('Registru de casă'!$G$6:$G$305,MATCH(ZiuaRap&"|"&8,'Registru de casă'!$K$6:$K$305,0))))
B15: =IF(ISNUMBER(MATCH(ZiuaRap&"|"&9,'Registru de casă'!$K$6:$K$305,0)),9,"") | C15: =IF($B15="","",INDEX('Registru de casă'!$C$6:$C$305,MATCH(ZiuaRap&"|"&9,'Registru de casă'!$K$6:$K$305,0))) | D15: =IF($B15="","",INDEX('Registru de casă'!$D$6:$D$305,MATCH(ZiuaRap&"|"&9,'Registru de casă'!$K$6:$K$305,0))&" – "&INDEX('Registru de casă'!$E$6:$E$305,MATCH(ZiuaRap&"|"&9,'Registru de casă'!$K$6:$K$305,0))) | E15: =IF($B15="","",IF(INDEX('Registru de casă'!$F$6:$F$305,MATCH(ZiuaRap&"|"&9,'Registru de casă'!$K$6:$K$305,0))="","",INDEX('Registru de casă'!$F$6:$F$305,MATCH(ZiuaRap&"|"&9,'Registru de casă'!$K$6:$K$305,0)))) | F15: =IF($B15="","",IF(INDEX('Registru de casă'!$G$6:$G$305,MATCH(ZiuaRap&"|"&9,'Registru de casă'!$K$6:$K$305,0))="","",INDEX('Registru de casă'!$G$6:$G$305,MATCH(ZiuaRap&"|"&9,'Registru de casă'!$K$6:$K$305,0))))
B16: =IF(ISNUMBER(MATCH(ZiuaRap&"|"&10,'Registru de casă'!$K$6:$K$305,0)),10,"") | C16: =IF($B16="","",INDEX('Registru de casă'!$C$6:$C$305,MATCH(ZiuaRap&"|"&10,'Registru de casă'!$K$6:$K$305,0))) | D16: =IF($B16="","",INDEX('Registru de casă'!$D$6:$D$305,MATCH(ZiuaRap&"|"&10,'Registru de casă'!$K$6:$K$305,0))&" – "&INDEX('Registru de casă'!$E$6:$E$305,MATCH(ZiuaRap&"|"&10,'Registru de casă'!$K$6:$K$305,0))) | E16: =IF($B16="","",IF(INDEX('Registru de casă'!$F$6:$F$305,MATCH(ZiuaRap&"|"&10,'Registru de casă'!$K$6:$K$305,0))="","",INDEX('Registru de casă'!$F$6:$F$305,MATCH(ZiuaRap&"|"&10,'Registru de casă'!$K$6:$K$305,0)))) | F16: =IF($B16="","",IF(INDEX('Registru de casă'!$G$6:$G$305,MATCH(ZiuaRap&"|"&10,'Registru de casă'!$K$6:$K$305,0))="","",INDEX('Registru de casă'!$G$6:$G$305,MATCH(ZiuaRap&"|"&10,'Registru de casă'!$K$6:$K$305,0))))
B17: =IF(ISNUMBER(MATCH(ZiuaRap&"|"&11,'Registru de casă'!$K$6:$K$305,0)),11,"") | C17: =IF($B17="","",INDEX('Registru de casă'!$C$6:$C$305,MATCH(ZiuaRap&"|"&11,'Registru de casă'!$K$6:$K$305,0))) | D17: =IF($B17="","",INDEX('Registru de casă'!$D$6:$D$305,MATCH(ZiuaRap&"|"&11,'Registru de casă'!$K$6:$K$305,0))&" – "&INDEX('Registru de casă'!$E$6:$E$305,MATCH(ZiuaRap&"|"&11,'Registru de casă'!$K$6:$K$305,0))) | E17: =IF($B17="","",IF(INDEX('Registru de casă'!$F$6:$F$305,MATCH(ZiuaRap&"|"&11,'Registru de casă'!$K$6:$K$305,0))="","",INDEX('Registru de casă'!$F$6:$F$305,MATCH(ZiuaRap&"|"&11,'Registru de casă'!$K$6:$K$305,0)))) | F17: =IF($B17="","",IF(INDEX('Registru de casă'!$G$6:$G$305,MATCH(ZiuaRap&"|"&11,'Registru de casă'!$K$6:$K$305,0))="","",INDEX('Registru de casă'!$G$6:$G$305,MATCH(ZiuaRap&"|"&11,'Registru de casă'!$K$6:$K$305,0))))
B18: =IF(ISNUMBER(MATCH(ZiuaRap&"|"&12,'Registru de casă'!$K$6:$K$305,0)),12,"") | C18: =IF($B18="","",INDEX('Registru de casă'!$C$6:$C$305,MATCH(ZiuaRap&"|"&12,'Registru de casă'!$K$6:$K$305,0))) | D18: =IF($B18="","",INDEX('Registru de casă'!$D$6:$D$305,MATCH(ZiuaRap&"|"&12,'Registru de casă'!$K$6:$K$305,0))&" – "&INDEX('Registru de casă'!$E$6:$E$305,MATCH(ZiuaRap&"|"&12,'Registru de casă'!$K$6:$K$305,0))) | E18: =IF($B18="","",IF(INDEX('Registru de casă'!$F$6:$F$305,MATCH(ZiuaRap&"|"&12,'Registru de casă'!$K$6:$K$305,0))="","",INDEX('Registru de casă'!$F$6:$F$305,MATCH(ZiuaRap&"|"&12,'Registru de casă'!$K$6:$K$305,0)))) | F18: =IF($B18="","",IF(INDEX('Registru de casă'!$G$6:$G$305,MATCH(ZiuaRap&"|"&12,'Registru de casă'!$K$6:$K$305,0))="","",INDEX('Registru de casă'!$G$6:$G$305,MATCH(ZiuaRap&"|"&12,'Registru de casă'!$K$6:$K$305,0))))
B19: =IF(ISNUMBER(MATCH(ZiuaRap&"|"&13,'Registru de casă'!$K$6:$K$305,0)),13,"") | C19: =IF($B19="","",INDEX('Registru de casă'!$C$6:$C$305,MATCH(ZiuaRap&"|"&13,'Registru de casă'!$K$6:$K$305,0))) | D19: =IF($B19="","",INDEX('Registru de casă'!$D$6:$D$305,MATCH(ZiuaRap&"|"&13,'Registru de casă'!$K$6:$K$305,0))&" – "&INDEX('Registru de casă'!$E$6:$E$305,MATCH(ZiuaRap&"|"&13,'Registru de casă'!$K$6:$K$305,0))) | E19: =IF($B19="","",IF(INDEX('Registru de casă'!$F$6:$F$305,MATCH(ZiuaRap&"|"&13,'Registru de casă'!$K$6:$K$305,0))="","",INDEX('Registru de casă'!$F$6:$F$305,MATCH(ZiuaRap&"|"&13,'Registru de casă'!$K$6:$K$305,0)))) | F19: =IF($B19="","",IF(INDEX('Registru de casă'!$G$6:$G$305,MATCH(ZiuaRap&"|"&13,'Registru de casă'!$K$6:$K$305,0))="","",INDEX('Registru de casă'!$G$6:$G$305,MATCH(ZiuaRap&"|"&13,'Registru de casă'!$K$6:$K$305,0))))
B20: =IF(ISNUMBER(MATCH(ZiuaRap&"|"&14,'Registru de casă'!$K$6:$K$305,0)),14,"") | C20: =IF($B20="","",INDEX('Registru de casă'!$C$6:$C$305,MATCH(ZiuaRap&"|"&14,'Registru de casă'!$K$6:$K$305,0))) | D20: =IF($B20="","",INDEX('Registru de casă'!$D$6:$D$305,MATCH(ZiuaRap&"|"&14,'Registru de casă'!$K$6:$K$305,0))&" – "&INDEX('Registru de casă'!$E$6:$E$305,MATCH(ZiuaRap&"|"&14,'Registru de casă'!$K$6:$K$305,0))) | E20: =IF($B20="","",IF(INDEX('Registru de casă'!$F$6:$F$305,MATCH(ZiuaRap&"|"&14,'Registru de casă'!$K$6:$K$305,0))="","",INDEX('Registru de casă'!$F$6:$F$305,MATCH(ZiuaRap&"|"&14,'Registru de casă'!$K$6:$K$305,0)))) | F20: =IF($B20="","",IF(INDEX('Registru de casă'!$G$6:$G$305,MATCH(ZiuaRap&"|"&14,'Registru de casă'!$K$6:$K$305,0))="","",INDEX('Registru de casă'!$G$6:$G$305,MATCH(ZiuaRap&"|"&14,'Registru de casă'!$K$6:$K$305,0))))
B21: =IF(ISNUMBER(MATCH(ZiuaRap&"|"&15,'Registru de casă'!$K$6:$K$305,0)),15,"") | C21: =IF($B21="","",INDEX('Registru de casă'!$C$6:$C$305,MATCH(ZiuaRap&"|"&15,'Registru de casă'!$K$6:$K$305,0))) | D21: =IF($B21="","",INDEX('Registru de casă'!$D$6:$D$305,MATCH(ZiuaRap&"|"&15,'Registru de casă'!$K$6:$K$305,0))&" – "&INDEX('Registru de casă'!$E$6:$E$305,MATCH(ZiuaRap&"|"&15,'Registru de casă'!$K$6:$K$305,0))) | E21: =IF($B21="","",IF(INDEX('Registru de casă'!$F$6:$F$305,MATCH(ZiuaRap&"|"&15,'Registru de casă'!$K$6:$K$305,0))="","",INDEX('Registru de casă'!$F$6:$F$305,MATCH(ZiuaRap&"|"&15,'Registru de casă'!$K$6:$K$305,0)))) | F21: =IF($B21="","",IF(INDEX('Registru de casă'!$G$6:$G$305,MATCH(ZiuaRap&"|"&15,'Registru de casă'!$K$6:$K$305,0))="","",INDEX('Registru de casă'!$G$6:$G$305,MATCH(ZiuaRap&"|"&15,'Registru de casă'!$K$6:$K$305,0))))
B22: =IF(ISNUMBER(MATCH(ZiuaRap&"|"&16,'Registru de casă'!$K$6:$K$305,0)),16,"") | C22: =IF($B22="","",INDEX('Registru de casă'!$C$6:$C$305,MATCH(ZiuaRap&"|"&16,'Registru de casă'!$K$6:$K$305,0))) | D22: =IF($B22="","",INDEX('Registru de casă'!$D$6:$D$305,MATCH(ZiuaRap&"|"&16,'Registru de casă'!$K$6:$K$305,0))&" – "&INDEX('Registru de casă'!$E$6:$E$305,MATCH(ZiuaRap&"|"&16,'Registru de casă'!$K$6:$K$305,0))) | E22: =IF($B22="","",IF(INDEX('Registru de casă'!$F$6:$F$305,MATCH(ZiuaRap&"|"&16,'Registru de casă'!$K$6:$K$305,0))="","",INDEX('Registru de casă'!$F$6:$F$305,MATCH(ZiuaRap&"|"&16,'Registru de casă'!$K$6:$K$305,0)))) | F22: =IF($B22="","",IF(INDEX('Registru de casă'!$G$6:$G$305,MATCH(ZiuaRap&"|"&16,'Registru de casă'!$K$6:$K$305,0))="","",INDEX('Registru de casă'!$G$6:$G$305,MATCH(ZiuaRap&"|"&16,'Registru de casă'!$K$6:$K$305,0))))
B23: =IF(ISNUMBER(MATCH(ZiuaRap&"|"&17,'Registru de casă'!$K$6:$K$305,0)),17,"") | C23: =IF($B23="","",INDEX('Registru de casă'!$C$6:$C$305,MATCH(ZiuaRap&"|"&17,'Registru de casă'!$K$6:$K$305,0))) | D23: =IF($B23="","",INDEX('Registru de casă'!$D$6:$D$305,MATCH(ZiuaRap&"|"&17,'Registru de casă'!$K$6:$K$305,0))&" – "&INDEX('Registru de casă'!$E$6:$E$305,MATCH(ZiuaRap&"|"&17,'Registru de casă'!$K$6:$K$305,0))) | E23: =IF($B23="","",IF(INDEX('Registru de casă'!$F$6:$F$305,MATCH(ZiuaRap&"|"&17,'Registru de casă'!$K$6:$K$305,0))="","",INDEX('Registru de casă'!$F$6:$F$305,MATCH(ZiuaRap&"|"&17,'Registru de casă'!$K$6:$K$305,0)))) | F23: =IF($B23="","",IF(INDEX('Registru de casă'!$G$6:$G$305,MATCH(ZiuaRap&"|"&17,'Registru de casă'!$K$6:$K$305,0))="","",INDEX('Registru de casă'!$G$6:$G$305,MATCH(ZiuaRap&"|"&17,'Registru de casă'!$K$6:$K$305,0))))
B24: =IF(ISNUMBER(MATCH(ZiuaRap&"|"&18,'Registru de casă'!$K$6:$K$305,0)),18,"") | C24: =IF($B24="","",INDEX('Registru de casă'!$C$6:$C$305,MATCH(ZiuaRap&"|"&18,'Registru de casă'!$K$6:$K$305,0))) | D24: =IF($B24="","",INDEX('Registru de casă'!$D$6:$D$305,MATCH(ZiuaRap&"|"&18,'Registru de casă'!$K$6:$K$305,0))&" – "&INDEX('Registru de casă'!$E$6:$E$305,MATCH(ZiuaRap&"|"&18,'Registru de casă'!$K$6:$K$305,0))) | E24: =IF($B24="","",IF(INDEX('Registru de casă'!$F$6:$F$305,MATCH(ZiuaRap&"|"&18,'Registru de casă'!$K$6:$K$305,0))="","",INDEX('Registru de casă'!$F$6:$F$305,MATCH(ZiuaRap&"|"&18,'Registru de casă'!$K$6:$K$305,0)))) | F24: =IF($B24="","",IF(INDEX('Registru de casă'!$G$6:$G$305,MATCH(ZiuaRap&"|"&18,'Registru de casă'!$K$6:$K$305,0))="","",INDEX('Registru de casă'!$G$6:$G$305,MATCH(ZiuaRap&"|"&18,'Registru de casă'!$K$6:$K$305,0))))
B25: =IF(ISNUMBER(MATCH(ZiuaRap&"|"&19,'Registru de casă'!$K$6:$K$305,0)),19,"") | C25: =IF($B25="","",INDEX('Registru de casă'!$C$6:$C$305,MATCH(ZiuaRap&"|"&19,'Registru de casă'!$K$6:$K$305,0))) | D25: =IF($B25="","",INDEX('Registru de casă'!$D$6:$D$305,MATCH(ZiuaRap&"|"&19,'Registru de casă'!$K$6:$K$305,0))&" – "&INDEX('Registru de casă'!$E$6:$E$305,MATCH(ZiuaRap&"|"&19,'Registru de casă'!$K$6:$K$305,0))) | E25: =IF($B25="","",IF(INDEX('Registru de casă'!$F$6:$F$305,MATCH(ZiuaRap&"|"&19,'Registru de casă'!$K$6:$K$305,0))="","",INDEX('Registru de casă'!$F$6:$F$305,MATCH(ZiuaRap&"|"&19,'Registru de casă'!$K$6:$K$305,0)))) | F25: =IF($B25="","",IF(INDEX('Registru de casă'!$G$6:$G$305,MATCH(ZiuaRap&"|"&19,'Registru de casă'!$K$6:$K$305,0))="","",INDEX('Registru de casă'!$G$6:$G$305,MATCH(ZiuaRap&"|"&19,'Registru de casă'!$K$6:$K$305,0))))
B26: =IF(ISNUMBER(MATCH(ZiuaRap&"|"&20,'Registru de casă'!$K$6:$K$305,0)),20,"") | C26: =IF($B26="","",INDEX('Registru de casă'!$C$6:$C$305,MATCH(ZiuaRap&"|"&20,'Registru de casă'!$K$6:$K$305,0))) | D26: =IF($B26="","",INDEX('Registru de casă'!$D$6:$D$305,MATCH(ZiuaRap&"|"&20,'Registru de casă'!$K$6:$K$305,0))&" – "&INDEX('Registru de casă'!$E$6:$E$305,MATCH(ZiuaRap&"|"&20,'Registru de casă'!$K$6:$K$305,0))) | E26: =IF($B26="","",IF(INDEX('Registru de casă'!$F$6:$F$305,MATCH(ZiuaRap&"|"&20,'Registru de casă'!$K$6:$K$305,0))="","",INDEX('Registru de casă'!$F$6:$F$305,MATCH(ZiuaRap&"|"&20,'Registru de casă'!$K$6:$K$305,0)))) | F26: =IF($B26="","",IF(INDEX('Registru de casă'!$G$6:$G$305,MATCH(ZiuaRap&"|"&20,'Registru de casă'!$K$6:$K$305,0))="","",INDEX('Registru de casă'!$G$6:$G$305,MATCH(ZiuaRap&"|"&20,'Registru de casă'!$K$6:$K$305,0))))
D27: Total ziua | E27: =SUM(E7:E26) -> 3480 | F27: =SUM(F7:F26) -> 3845.5
D28: Sold final (scriptic) | E28: =E6+E27-F27 -> 884.5
D29: =IF(COUNTIF('Registru de casă'!$B$6:$B$305,ZiuaRap)>20,"Atenție: ziua are mai mult de 20 operațiuni; restul nu încap pe această pagină.","")
B31: Numărarea numerarului (monetar)
B32: Valoare | C32: Bucăți | D32: Total
B33: 500 | C33: 1 | D33: =B33*C33 -> 500
B34: 200 | C34: 1 | D34: =B34*C34 -> 200
B35: 100 | C35: 1 | D35: =B35*C35 -> 100
B36: 50 | C36: 1 | D36: =B36*C36 -> 50
B37: 20 | C37: 1 | D37: =B37*C37 -> 20
B38: 10 | C38: 1 | D38: =B38*C38 -> 10
B39: 5 | C39: 0 | D39: =B39*C39 -> 0
B40: 1 | C40: 4 | D40: =B40*C40 -> 4
B41: 0.5 | C41: 1 | D41: =B41*C41 -> 0.5
B42: 0.1 | C42: 0 | D42: =B42*C42 -> 0
B43: 0.05 | C43: 0 | D43: =B43*C43 -> 0
B44: 0.01 | C44: 0 | D44: =B44*C44 -> 0
B45: Total numerar numărat | D45: =SUM(D33:D44) -> 884.5
B46: Sold scriptic (din registru) | D46: =E28 -> 884.5
B47: Diferență | D47: =ROUND(D45-D46,2) -> 0 | E47: =IF(D47=0,"✔ Casa este în regulă",IF(D47>0,"Plus de numerar – verifică încasările nescrise","Lipsă de numerar – verifică plățile nescrise")) -> ✔ Casa este în regulă
B50: Casier, | E50: Compartiment financiar-contabil,
B52: ____________________ | E52: ____________________

Sheet Liste
B2: Tipuri de documente | D2: Lista se poate completa cu alte tipuri de documente (adaugă rânduri sub ultimul element și extinde numele „TipDoc”).
B3: Chitanță
B4: Bon fiscal
B5: Raport Z
B6: Dispoziție de încasare
B7: Dispoziție de plată
B8: Factură
B9: Stat de plată
B10: Decont
B11: Depunere la bancă
B12: Ridicare de la bancă
B13: Altele

Sheet Despre model
B1: Model registru de casă Excel
B3: © 2026 Ray Moreno – modelexcel.ro
B4: Model gratuit: îl poți folosi și adapta în activitatea ta. Nu este permisă revânzarea lui sau publicarea pe alte site-uri.
B5: Instrucțiuni și alte modele: modelexcel.ro/model-registru-casa-excel/
