Workbook
Name An: Planificare!$E$2
Name Coduri: Coduri!$B$5:$B$8
Name MaxAbs: Planificare!$C$2
Name Sarbatori: 'Zile libere'!$G$8:$G$24

Sheet Planificare
B1: Planificator concedii de odihnă | H1: Scrie codul în căsuța zilei: CO = concediu de odihnă, CM = concediu medical, CFP = concediu fără plată, EV = eveniment familial. Celulele verzi se pot modifica.
B2: Max. absenți în aceeași zi: | C2: 3 | D2: Anul: | E2: 2027 | H2: Portocaliu = CO pus într-o zi nelucrătoare (nu se scade din zilele de concediu). Rândul „Absenți” devine roșu când se depășește maximul stabilit.
G3: =IF(AND(DAY(G4)=1,YEAR(G4)=An),CHOOSE(MONTH(G4),"Ian","Feb","Mar","Apr","Mai","Iun","Iul","Aug","Sep","Oct","Noi","Dec"),"") -> Ian | H3: =IF(AND(DAY(H4)=1,YEAR(H4)=An),CHOOSE(MONTH(H4),"Ian","Feb","Mar","Apr","Mai","Iun","Iul","Aug","Sep","Oct","Noi","Dec"),"") | I3: =IF(AND(DAY(I4)=1,YEAR(I4)=An),CHOOSE(MONTH(I4),"Ian","Feb","Mar","Apr","Mai","Iun","Iul","Aug","Sep","Oct","Noi","Dec"),"") | J3: =IF(AND(DAY(J4)=1,YEAR(J4)=An),CHOOSE(MONTH(J4),"Ian","Feb","Mar","Apr","Mai","Iun","Iul","Aug","Sep","Oct","Noi","Dec"),"") | K3: =IF(AND(DAY(K4)=1,YEAR(K4)=An),CHOOSE(MONTH(K4),"Ian","Feb","Mar","Apr","Mai","Iun","Iul","Aug","Sep","Oct","Noi","Dec"),"") | L3: =IF(AND(DAY(L4)=1,YEAR(L4)=An),CHOOSE(MONTH(L4),"Ian","Feb","Mar","Apr","Mai","Iun","Iul","Aug","Sep","Oct","Noi","Dec"),"") | M3: =IF(AND(DAY(M4)=1,YEAR(M4)=An),CHOOSE(MONTH(M4),"Ian","Feb","Mar","Apr","Mai","Iun","Iul","Aug","Sep","Oct","Noi","Dec"),"") | N3: =IF(AND(DAY(N4)=1,YEAR(N4)=An),CHOOSE(MONTH(N4),"Ian","Feb","Mar","Apr","Mai","Iun","Iul","Aug","Sep","Oct","Noi","Dec"),"") | ... NH3: =IF(AND(DAY(NH4)=1,YEAR(NH4)=An),CHOOSE(MONTH(NH4),"Ian","Feb","Mar","Apr","Mai","Iun","Iul","Aug","Sep","Oct","Noi","Dec"),"")
G4: =DATE(An,1,1) -> 46388 | H4: =G4+1 -> 46389 | I4: =H4+1 -> 46390 | J4: =I4+1 -> 46391 | K4: =J4+1 -> 46392 | L4: =K4+1 -> 46393 | M4: =L4+1 -> 46394 | N4: =M4+1 -> 46395 | O4: =N4+1 -> 46396 | ... NH4: =NG4+1 -> 46753
A5: Nr. | B5: Nume și prenume | C5: Departament | D5: Zile cuvenite | E5: CO planificat | F5: Rămase | G5: =IF(YEAR(G4)=An,CHOOSE(WEEKDAY(G4,2),"L","Ma","Mi","J","V","S","D"),"") -> V | H5: =IF(YEAR(H4)=An,CHOOSE(WEEKDAY(H4,2),"L","Ma","Mi","J","V","S","D"),"") -> S | I5: =IF(YEAR(I4)=An,CHOOSE(WEEKDAY(I4,2),"L","Ma","Mi","J","V","S","D"),"") -> D | J5: =IF(YEAR(J4)=An,CHOOSE(WEEKDAY(J4,2),"L","Ma","Mi","J","V","S","D"),"") -> L | K5: =IF(YEAR(K4)=An,CHOOSE(WEEKDAY(K4,2),"L","Ma","Mi","J","V","S","D"),"") -> Ma | L5: =IF(YEAR(L4)=An,CHOOSE(WEEKDAY(L4,2),"L","Ma","Mi","J","V","S","D"),"") -> Mi | M5: =IF(YEAR(M4)=An,CHOOSE(WEEKDAY(M4,2),"L","Ma","Mi","J","V","S","D"),"") -> J | N5: =IF(YEAR(N4)=An,CHOOSE(WEEKDAY(N4,2),"L","Ma","Mi","J","V","S","D"),"") -> V | ... NH5: =IF(YEAR(NH4)=An,CHOOSE(WEEKDAY(NH4,2),"L","Ma","Mi","J","V","S","D"),"")
A6: 1 | B6: Exemplu: Angajat 1 | C6: Vânzări | D6: 20 | E6: =IF(B6="","",SUMPRODUCT(($G6:$NH6="CO")*(YEAR(Planificare!$G$4:$NH$4)=An)*(WEEKDAY(Planificare!$G$4:$NH$4,2)<6)*(COUNTIF(Sarbatori,Planificare!$G$4:$NH$4)=0))) -> 10 | F6: =IF(B6="","",D6-E6) -> 10 | GQ6: CO | GR6: CO | GS6: CO | GT6: CO | GU6: CO | GX6: CO | GY6: CO | GZ6: CO | HA6: CO | HB6: CO
A7: 2 | B7: Exemplu: Angajat 2 | C7: Vânzări | D7: 20 | E7: =IF(B7="","",SUMPRODUCT(($G7:$NH7="CO")*(YEAR(Planificare!$G$4:$NH$4)=An)*(WEEKDAY(Planificare!$G$4:$NH$4,2)<6)*(COUNTIF(Sarbatori,Planificare!$G$4:$NH$4)=0))) -> 8 | F7: =IF(B7="","",D7-E7) -> 12 | J7: CO | K7: CO | N7: CO | EF7: CM | EG7: CM | HL7: CO | HM7: CO | HN7: CO | HO7: CO | HP7: CO
A8: 3 | B8: Exemplu: Angajat 3 | C8: Contabilitate | D8: 20 | E8: =IF(B8="","",SUMPRODUCT(($G8:$NH8="CO")*(YEAR(Planificare!$G$4:$NH$4)=An)*(WEEKDAY(Planificare!$G$4:$NH$4,2)<6)*(COUNTIF(Sarbatori,Planificare!$G$4:$NH$4)=0))) -> 11 | F8: =IF(B8="","",D8-E8) -> 9 | FA8: CO | GX8: CO | GY8: CO | GZ8: CO | HA8: CO | HB8: CO | MV8: CO | MW8: CO | MX8: CO | MY8: CO | MZ8: CO
A9: 4 | D9: 20 | E9: =IF(B9="","",SUMPRODUCT(($G9:$NH9="CO")*(YEAR(Planificare!$G$4:$NH$4)=An)*(WEEKDAY(Planificare!$G$4:$NH$4,2)<6)*(COUNTIF(Sarbatori,Planificare!$G$4:$NH$4)=0))) | F9: =IF(B9="","",D9-E9)
A10: 5 | D10: 20 | E10: =IF(B10="","",SUMPRODUCT(($G10:$NH10="CO")*(YEAR(Planificare!$G$4:$NH$4)=An)*(WEEKDAY(Planificare!$G$4:$NH$4,2)<6)*(COUNTIF(Sarbatori,Planificare!$G$4:$NH$4)=0))) | F10: =IF(B10="","",D10-E10)
A11: 6 | D11: 20 | E11: =IF(B11="","",SUMPRODUCT(($G11:$NH11="CO")*(YEAR(Planificare!$G$4:$NH$4)=An)*(WEEKDAY(Planificare!$G$4:$NH$4,2)<6)*(COUNTIF(Sarbatori,Planificare!$G$4:$NH$4)=0))) | F11: =IF(B11="","",D11-E11)
A12: 7 | D12: 20 | E12: =IF(B12="","",SUMPRODUCT(($G12:$NH12="CO")*(YEAR(Planificare!$G$4:$NH$4)=An)*(WEEKDAY(Planificare!$G$4:$NH$4,2)<6)*(COUNTIF(Sarbatori,Planificare!$G$4:$NH$4)=0))) | F12: =IF(B12="","",D12-E12)
A13: 8 | D13: 20 | E13: =IF(B13="","",SUMPRODUCT(($G13:$NH13="CO")*(YEAR(Planificare!$G$4:$NH$4)=An)*(WEEKDAY(Planificare!$G$4:$NH$4,2)<6)*(COUNTIF(Sarbatori,Planificare!$G$4:$NH$4)=0))) | F13: =IF(B13="","",D13-E13)
A14: 9 | D14: 20 | E14: =IF(B14="","",SUMPRODUCT(($G14:$NH14="CO")*(YEAR(Planificare!$G$4:$NH$4)=An)*(WEEKDAY(Planificare!$G$4:$NH$4,2)<6)*(COUNTIF(Sarbatori,Planificare!$G$4:$NH$4)=0))) | F14: =IF(B14="","",D14-E14)
A15: 10 | D15: 20 | E15: =IF(B15="","",SUMPRODUCT(($G15:$NH15="CO")*(YEAR(Planificare!$G$4:$NH$4)=An)*(WEEKDAY(Planificare!$G$4:$NH$4,2)<6)*(COUNTIF(Sarbatori,Planificare!$G$4:$NH$4)=0))) | F15: =IF(B15="","",D15-E15)
A16: 11 | D16: 20 | E16: =IF(B16="","",SUMPRODUCT(($G16:$NH16="CO")*(YEAR(Planificare!$G$4:$NH$4)=An)*(WEEKDAY(Planificare!$G$4:$NH$4,2)<6)*(COUNTIF(Sarbatori,Planificare!$G$4:$NH$4)=0))) | F16: =IF(B16="","",D16-E16)
A17: 12 | D17: 20 | E17: =IF(B17="","",SUMPRODUCT(($G17:$NH17="CO")*(YEAR(Planificare!$G$4:$NH$4)=An)*(WEEKDAY(Planificare!$G$4:$NH$4,2)<6)*(COUNTIF(Sarbatori,Planificare!$G$4:$NH$4)=0))) | F17: =IF(B17="","",D17-E17)
A18: 13 | D18: 20 | E18: =IF(B18="","",SUMPRODUCT(($G18:$NH18="CO")*(YEAR(Planificare!$G$4:$NH$4)=An)*(WEEKDAY(Planificare!$G$4:$NH$4,2)<6)*(COUNTIF(Sarbatori,Planificare!$G$4:$NH$4)=0))) | F18: =IF(B18="","",D18-E18)
A19: 14 | D19: 20 | E19: =IF(B19="","",SUMPRODUCT(($G19:$NH19="CO")*(YEAR(Planificare!$G$4:$NH$4)=An)*(WEEKDAY(Planificare!$G$4:$NH$4,2)<6)*(COUNTIF(Sarbatori,Planificare!$G$4:$NH$4)=0))) | F19: =IF(B19="","",D19-E19)
A20: 15 | D20: 20 | E20: =IF(B20="","",SUMPRODUCT(($G20:$NH20="CO")*(YEAR(Planificare!$G$4:$NH$4)=An)*(WEEKDAY(Planificare!$G$4:$NH$4,2)<6)*(COUNTIF(Sarbatori,Planificare!$G$4:$NH$4)=0))) | F20: =IF(B20="","",D20-E20)
... A35: 30 | D35: 20 | E35: =IF(B35="","",SUMPRODUCT(($G35:$NH35="CO")*(YEAR(Planificare!$G$4:$NH$4)=An)*(WEEKDAY(Planificare!$G$4:$NH$4,2)<6)*(COUNTIF(Sarbatori,Planificare!$G$4:$NH$4)=0))) | F35: =IF(B35="","",D35-E35)
B37: Absenți în ziua respectivă | G37: =IF(YEAR(G$4)=An,COUNTIF(G6:G35,"?*"),"") -> 0 | H37: =IF(YEAR(H$4)=An,COUNTIF(H6:H35,"?*"),"") -> 0 | I37: =IF(YEAR(I$4)=An,COUNTIF(I6:I35,"?*"),"") -> 0 | J37: =IF(YEAR(J$4)=An,COUNTIF(J6:J35,"?*"),"") -> 1 | K37: =IF(YEAR(K$4)=An,COUNTIF(K6:K35,"?*"),"") -> 1 | L37: =IF(YEAR(L$4)=An,COUNTIF(L6:L35,"?*"),"") -> 0 | M37: =IF(YEAR(M$4)=An,COUNTIF(M6:M35,"?*"),"") -> 0 | N37: =IF(YEAR(N$4)=An,COUNTIF(N6:N35,"?*"),"") -> 1 | ... NH37: =IF(YEAR(NH$4)=An,COUNTIF(NH6:NH35,"?*"),"")

Sheet Sumar lunar
B2: Sumar zile de concediu de odihnă pe luni
B3: Zile lucrătoare de CO planificate, pe fiecare lună. Se completează automat din foaia „Planificare”.
B5: Nume și prenume | C5: Ian | D5: Feb | E5: Mar | F5: Apr | G5: Mai | H5: Iun | I5: Iul | J5: Aug | K5: Sep | L5: Oct | M5: Noi | N5: Dec | O5: Total | P5: Rămase
B6: =IF(Planificare!B6="","",Planificare!B6) -> Exemplu: Angajat 1 | C6: =IF($B6="","",SUMPRODUCT((Planificare!$G6:$NH6="CO")*(YEAR(Planificare!$G$4:$NH$4)=An)*(MONTH(Planificare!$G$4:$NH$4)=1)*(WEEKDAY(Planificare!$G$4:$NH$4,2)<6)*(COUNTIF(Sarbatori,Planificare!$G$4:$NH$4)=0))) -> 0 | D6: =IF($B6="","",SUMPRODUCT((Planificare!$G6:$NH6="CO")*(YEAR(Planificare!$G$4:$NH$4)=An)*(MONTH(Planificare!$G$4:$NH$4)=2)*(WEEKDAY(Planificare!$G$4:$NH$4,2)<6)*(COUNTIF(Sarbatori,Planificare!$G$4:$NH$4)=0))) -> 0 | E6: =IF($B6="","",SUMPRODUCT((Planificare!$G6:$NH6="CO")*(YEAR(Planificare!$G$4:$NH$4)=An)*(MONTH(Planificare!$G$4:$NH$4)=3)*(WEEKDAY(Planificare!$G$4:$NH$4,2)<6)*(COUNTIF(Sarbatori,Planificare!$G$4:$NH$4)=0))) -> 0 | F6: =IF($B6="","",SUMPRODUCT((Planificare!$G6:$NH6="CO")*(YEAR(Planificare!$G$4:$NH$4)=An)*(MONTH(Planificare!$G$4:$NH$4)=4)*(WEEKDAY(Planificare!$G$4:$NH$4,2)<6)*(COUNTIF(Sarbatori,Planificare!$G$4:$NH$4)=0))) -> 0 | G6: =IF($B6="","",SUMPRODUCT((Planificare!$G6:$NH6="CO")*(YEAR(Planificare!$G$4:$NH$4)=An)*(MONTH(Planificare!$G$4:$NH$4)=5)*(WEEKDAY(Planificare!$G$4:$NH$4,2)<6)*(COUNTIF(Sarbatori,Planificare!$G$4:$NH$4)=0))) -> 0 | H6: =IF($B6="","",SUMPRODUCT((Planificare!$G6:$NH6="CO")*(YEAR(Planificare!$G$4:$NH$4)=An)*(MONTH(Planificare!$G$4:$NH$4)=6)*(WEEKDAY(Planificare!$G$4:$NH$4,2)<6)*(COUNTIF(Sarbatori,Planificare!$G$4:$NH$4)=0))) -> 0 | I6: =IF($B6="","",SUMPRODUCT((Planificare!$G6:$NH6="CO")*(YEAR(Planificare!$G$4:$NH$4)=An)*(MONTH(Planificare!$G$4:$NH$4)=7)*(WEEKDAY(Planificare!$G$4:$NH$4,2)<6)*(COUNTIF(Sarbatori,Planificare!$G$4:$NH$4)=0))) -> 10 | J6: =IF($B6="","",SUMPRODUCT((Planificare!$G6:$NH6="CO")*(YEAR(Planificare!$G$4:$NH$4)=An)*(MONTH(Planificare!$G$4:$NH$4)=8)*(WEEKDAY(Planificare!$G$4:$NH$4,2)<6)*(COUNTIF(Sarbatori,Planificare!$G$4:$NH$4)=0))) -> 0 | K6: =IF($B6="","",SUMPRODUCT((Planificare!$G6:$NH6="CO")*(YEAR(Planificare!$G$4:$NH$4)=An)*(MONTH(Planificare!$G$4:$NH$4)=9)*(WEEKDAY(Planificare!$G$4:$NH$4,2)<6)*(COUNTIF(Sarbatori,Planificare!$G$4:$NH$4)=0))) -> 0 | L6: =IF($B6="","",SUMPRODUCT((Planificare!$G6:$NH6="CO")*(YEAR(Planificare!$G$4:$NH$4)=An)*(MONTH(Planificare!$G$4:$NH$4)=10)*(WEEKDAY(Planificare!$G$4:$NH$4,2)<6)*(COUNTIF(Sarbatori,Planificare!$G$4:$NH$4)=0))) -> 0 | M6: =IF($B6="","",SUMPRODUCT((Planificare!$G6:$NH6="CO")*(YEAR(Planificare!$G$4:$NH$4)=An)*(MONTH(Planificare!$G$4:$NH$4)=11)*(WEEKDAY(Planificare!$G$4:$NH$4,2)<6)*(COUNTIF(Sarbatori,Planificare!$G$4:$NH$4)=0))) -> 0 | N6: =IF($B6="","",SUMPRODUCT((Planificare!$G6:$NH6="CO")*(YEAR(Planificare!$G$4:$NH$4)=An)*(MONTH(Planificare!$G$4:$NH$4)=12)*(WEEKDAY(Planificare!$G$4:$NH$4,2)<6)*(COUNTIF(Sarbatori,Planificare!$G$4:$NH$4)=0))) -> 0 | O6: =IF($B6="","",SUM(C6:N6)) -> 10 | P6: =IF($B6="","",Planificare!F6) -> 10
B7: =IF(Planificare!B7="","",Planificare!B7) -> Exemplu: Angajat 2 | C7: =IF($B7="","",SUMPRODUCT((Planificare!$G7:$NH7="CO")*(YEAR(Planificare!$G$4:$NH$4)=An)*(MONTH(Planificare!$G$4:$NH$4)=1)*(WEEKDAY(Planificare!$G$4:$NH$4,2)<6)*(COUNTIF(Sarbatori,Planificare!$G$4:$NH$4)=0))) -> 3 | D7: =IF($B7="","",SUMPRODUCT((Planificare!$G7:$NH7="CO")*(YEAR(Planificare!$G$4:$NH$4)=An)*(MONTH(Planificare!$G$4:$NH$4)=2)*(WEEKDAY(Planificare!$G$4:$NH$4,2)<6)*(COUNTIF(Sarbatori,Planificare!$G$4:$NH$4)=0))) -> 0 | E7: =IF($B7="","",SUMPRODUCT((Planificare!$G7:$NH7="CO")*(YEAR(Planificare!$G$4:$NH$4)=An)*(MONTH(Planificare!$G$4:$NH$4)=3)*(WEEKDAY(Planificare!$G$4:$NH$4,2)<6)*(COUNTIF(Sarbatori,Planificare!$G$4:$NH$4)=0))) -> 0 | F7: =IF($B7="","",SUMPRODUCT((Planificare!$G7:$NH7="CO")*(YEAR(Planificare!$G$4:$NH$4)=An)*(MONTH(Planificare!$G$4:$NH$4)=4)*(WEEKDAY(Planificare!$G$4:$NH$4,2)<6)*(COUNTIF(Sarbatori,Planificare!$G$4:$NH$4)=0))) -> 0 | G7: =IF($B7="","",SUMPRODUCT((Planificare!$G7:$NH7="CO")*(YEAR(Planificare!$G$4:$NH$4)=An)*(MONTH(Planificare!$G$4:$NH$4)=5)*(WEEKDAY(Planificare!$G$4:$NH$4,2)<6)*(COUNTIF(Sarbatori,Planificare!$G$4:$NH$4)=0))) -> 0 | H7: =IF($B7="","",SUMPRODUCT((Planificare!$G7:$NH7="CO")*(YEAR(Planificare!$G$4:$NH$4)=An)*(MONTH(Planificare!$G$4:$NH$4)=6)*(WEEKDAY(Planificare!$G$4:$NH$4,2)<6)*(COUNTIF(Sarbatori,Planificare!$G$4:$NH$4)=0))) -> 0 | I7: =IF($B7="","",SUMPRODUCT((Planificare!$G7:$NH7="CO")*(YEAR(Planificare!$G$4:$NH$4)=An)*(MONTH(Planificare!$G$4:$NH$4)=7)*(WEEKDAY(Planificare!$G$4:$NH$4,2)<6)*(COUNTIF(Sarbatori,Planificare!$G$4:$NH$4)=0))) -> 0 | J7: =IF($B7="","",SUMPRODUCT((Planificare!$G7:$NH7="CO")*(YEAR(Planificare!$G$4:$NH$4)=An)*(MONTH(Planificare!$G$4:$NH$4)=8)*(WEEKDAY(Planificare!$G$4:$NH$4,2)<6)*(COUNTIF(Sarbatori,Planificare!$G$4:$NH$4)=0))) -> 5 | K7: =IF($B7="","",SUMPRODUCT((Planificare!$G7:$NH7="CO")*(YEAR(Planificare!$G$4:$NH$4)=An)*(MONTH(Planificare!$G$4:$NH$4)=9)*(WEEKDAY(Planificare!$G$4:$NH$4,2)<6)*(COUNTIF(Sarbatori,Planificare!$G$4:$NH$4)=0))) -> 0 | L7: =IF($B7="","",SUMPRODUCT((Planificare!$G7:$NH7="CO")*(YEAR(Planificare!$G$4:$NH$4)=An)*(MONTH(Planificare!$G$4:$NH$4)=10)*(WEEKDAY(Planificare!$G$4:$NH$4,2)<6)*(COUNTIF(Sarbatori,Planificare!$G$4:$NH$4)=0))) -> 0 | M7: =IF($B7="","",SUMPRODUCT((Planificare!$G7:$NH7="CO")*(YEAR(Planificare!$G$4:$NH$4)=An)*(MONTH(Planificare!$G$4:$NH$4)=11)*(WEEKDAY(Planificare!$G$4:$NH$4,2)<6)*(COUNTIF(Sarbatori,Planificare!$G$4:$NH$4)=0))) -> 0 | N7: =IF($B7="","",SUMPRODUCT((Planificare!$G7:$NH7="CO")*(YEAR(Planificare!$G$4:$NH$4)=An)*(MONTH(Planificare!$G$4:$NH$4)=12)*(WEEKDAY(Planificare!$G$4:$NH$4,2)<6)*(COUNTIF(Sarbatori,Planificare!$G$4:$NH$4)=0))) -> 0 | O7: =IF($B7="","",SUM(C7:N7)) -> 8 | P7: =IF($B7="","",Planificare!F7) -> 12
B8: =IF(Planificare!B8="","",Planificare!B8) -> Exemplu: Angajat 3 | C8: =IF($B8="","",SUMPRODUCT((Planificare!$G8:$NH8="CO")*(YEAR(Planificare!$G$4:$NH$4)=An)*(MONTH(Planificare!$G$4:$NH$4)=1)*(WEEKDAY(Planificare!$G$4:$NH$4,2)<6)*(COUNTIF(Sarbatori,Planificare!$G$4:$NH$4)=0))) -> 0 | D8: =IF($B8="","",SUMPRODUCT((Planificare!$G8:$NH8="CO")*(YEAR(Planificare!$G$4:$NH$4)=An)*(MONTH(Planificare!$G$4:$NH$4)=2)*(WEEKDAY(Planificare!$G$4:$NH$4,2)<6)*(COUNTIF(Sarbatori,Planificare!$G$4:$NH$4)=0))) -> 0 | E8: =IF($B8="","",SUMPRODUCT((Planificare!$G8:$NH8="CO")*(YEAR(Planificare!$G$4:$NH$4)=An)*(MONTH(Planificare!$G$4:$NH$4)=3)*(WEEKDAY(Planificare!$G$4:$NH$4,2)<6)*(COUNTIF(Sarbatori,Planificare!$G$4:$NH$4)=0))) -> 0 | F8: =IF($B8="","",SUMPRODUCT((Planificare!$G8:$NH8="CO")*(YEAR(Planificare!$G$4:$NH$4)=An)*(MONTH(Planificare!$G$4:$NH$4)=4)*(WEEKDAY(Planificare!$G$4:$NH$4,2)<6)*(COUNTIF(Sarbatori,Planificare!$G$4:$NH$4)=0))) -> 0 | G8: =IF($B8="","",SUMPRODUCT((Planificare!$G8:$NH8="CO")*(YEAR(Planificare!$G$4:$NH$4)=An)*(MONTH(Planificare!$G$4:$NH$4)=5)*(WEEKDAY(Planificare!$G$4:$NH$4,2)<6)*(COUNTIF(Sarbatori,Planificare!$G$4:$NH$4)=0))) -> 1 | H8: =IF($B8="","",SUMPRODUCT((Planificare!$G8:$NH8="CO")*(YEAR(Planificare!$G$4:$NH$4)=An)*(MONTH(Planificare!$G$4:$NH$4)=6)*(WEEKDAY(Planificare!$G$4:$NH$4,2)<6)*(COUNTIF(Sarbatori,Planificare!$G$4:$NH$4)=0))) -> 0 | I8: =IF($B8="","",SUMPRODUCT((Planificare!$G8:$NH8="CO")*(YEAR(Planificare!$G$4:$NH$4)=An)*(MONTH(Planificare!$G$4:$NH$4)=7)*(WEEKDAY(Planificare!$G$4:$NH$4,2)<6)*(COUNTIF(Sarbatori,Planificare!$G$4:$NH$4)=0))) -> 5 | J8: =IF($B8="","",SUMPRODUCT((Planificare!$G8:$NH8="CO")*(YEAR(Planificare!$G$4:$NH$4)=An)*(MONTH(Planificare!$G$4:$NH$4)=8)*(WEEKDAY(Planificare!$G$4:$NH$4,2)<6)*(COUNTIF(Sarbatori,Planificare!$G$4:$NH$4)=0))) -> 0 | K8: =IF($B8="","",SUMPRODUCT((Planificare!$G8:$NH8="CO")*(YEAR(Planificare!$G$4:$NH$4)=An)*(MONTH(Planificare!$G$4:$NH$4)=9)*(WEEKDAY(Planificare!$G$4:$NH$4,2)<6)*(COUNTIF(Sarbatori,Planificare!$G$4:$NH$4)=0))) -> 0 | L8: =IF($B8="","",SUMPRODUCT((Planificare!$G8:$NH8="CO")*(YEAR(Planificare!$G$4:$NH$4)=An)*(MONTH(Planificare!$G$4:$NH$4)=10)*(WEEKDAY(Planificare!$G$4:$NH$4,2)<6)*(COUNTIF(Sarbatori,Planificare!$G$4:$NH$4)=0))) -> 0 | M8: =IF($B8="","",SUMPRODUCT((Planificare!$G8:$NH8="CO")*(YEAR(Planificare!$G$4:$NH$4)=An)*(MONTH(Planificare!$G$4:$NH$4)=11)*(WEEKDAY(Planificare!$G$4:$NH$4,2)<6)*(COUNTIF(Sarbatori,Planificare!$G$4:$NH$4)=0))) -> 0 | N8: =IF($B8="","",SUMPRODUCT((Planificare!$G8:$NH8="CO")*(YEAR(Planificare!$G$4:$NH$4)=An)*(MONTH(Planificare!$G$4:$NH$4)=12)*(WEEKDAY(Planificare!$G$4:$NH$4,2)<6)*(COUNTIF(Sarbatori,Planificare!$G$4:$NH$4)=0))) -> 5 | O8: =IF($B8="","",SUM(C8:N8)) -> 11 | P8: =IF($B8="","",Planificare!F8) -> 9
B9: =IF(Planificare!B9="","",Planificare!B9) | C9: =IF($B9="","",SUMPRODUCT((Planificare!$G9:$NH9="CO")*(YEAR(Planificare!$G$4:$NH$4)=An)*(MONTH(Planificare!$G$4:$NH$4)=1)*(WEEKDAY(Planificare!$G$4:$NH$4,2)<6)*(COUNTIF(Sarbatori,Planificare!$G$4:$NH$4)=0))) | D9: =IF($B9="","",SUMPRODUCT((Planificare!$G9:$NH9="CO")*(YEAR(Planificare!$G$4:$NH$4)=An)*(MONTH(Planificare!$G$4:$NH$4)=2)*(WEEKDAY(Planificare!$G$4:$NH$4,2)<6)*(COUNTIF(Sarbatori,Planificare!$G$4:$NH$4)=0))) | E9: =IF($B9="","",SUMPRODUCT((Planificare!$G9:$NH9="CO")*(YEAR(Planificare!$G$4:$NH$4)=An)*(MONTH(Planificare!$G$4:$NH$4)=3)*(WEEKDAY(Planificare!$G$4:$NH$4,2)<6)*(COUNTIF(Sarbatori,Planificare!$G$4:$NH$4)=0))) | F9: =IF($B9="","",SUMPRODUCT((Planificare!$G9:$NH9="CO")*(YEAR(Planificare!$G$4:$NH$4)=An)*(MONTH(Planificare!$G$4:$NH$4)=4)*(WEEKDAY(Planificare!$G$4:$NH$4,2)<6)*(COUNTIF(Sarbatori,Planificare!$G$4:$NH$4)=0))) | G9: =IF($B9="","",SUMPRODUCT((Planificare!$G9:$NH9="CO")*(YEAR(Planificare!$G$4:$NH$4)=An)*(MONTH(Planificare!$G$4:$NH$4)=5)*(WEEKDAY(Planificare!$G$4:$NH$4,2)<6)*(COUNTIF(Sarbatori,Planificare!$G$4:$NH$4)=0))) | H9: =IF($B9="","",SUMPRODUCT((Planificare!$G9:$NH9="CO")*(YEAR(Planificare!$G$4:$NH$4)=An)*(MONTH(Planificare!$G$4:$NH$4)=6)*(WEEKDAY(Planificare!$G$4:$NH$4,2)<6)*(COUNTIF(Sarbatori,Planificare!$G$4:$NH$4)=0))) | I9: =IF($B9="","",SUMPRODUCT((Planificare!$G9:$NH9="CO")*(YEAR(Planificare!$G$4:$NH$4)=An)*(MONTH(Planificare!$G$4:$NH$4)=7)*(WEEKDAY(Planificare!$G$4:$NH$4,2)<6)*(COUNTIF(Sarbatori,Planificare!$G$4:$NH$4)=0))) | J9: =IF($B9="","",SUMPRODUCT((Planificare!$G9:$NH9="CO")*(YEAR(Planificare!$G$4:$NH$4)=An)*(MONTH(Planificare!$G$4:$NH$4)=8)*(WEEKDAY(Planificare!$G$4:$NH$4,2)<6)*(COUNTIF(Sarbatori,Planificare!$G$4:$NH$4)=0))) | K9: =IF($B9="","",SUMPRODUCT((Planificare!$G9:$NH9="CO")*(YEAR(Planificare!$G$4:$NH$4)=An)*(MONTH(Planificare!$G$4:$NH$4)=9)*(WEEKDAY(Planificare!$G$4:$NH$4,2)<6)*(COUNTIF(Sarbatori,Planificare!$G$4:$NH$4)=0))) | L9: =IF($B9="","",SUMPRODUCT((Planificare!$G9:$NH9="CO")*(YEAR(Planificare!$G$4:$NH$4)=An)*(MONTH(Planificare!$G$4:$NH$4)=10)*(WEEKDAY(Planificare!$G$4:$NH$4,2)<6)*(COUNTIF(Sarbatori,Planificare!$G$4:$NH$4)=0))) | M9: =IF($B9="","",SUMPRODUCT((Planificare!$G9:$NH9="CO")*(YEAR(Planificare!$G$4:$NH$4)=An)*(MONTH(Planificare!$G$4:$NH$4)=11)*(WEEKDAY(Planificare!$G$4:$NH$4,2)<6)*(COUNTIF(Sarbatori,Planificare!$G$4:$NH$4)=0))) | N9: =IF($B9="","",SUMPRODUCT((Planificare!$G9:$NH9="CO")*(YEAR(Planificare!$G$4:$NH$4)=An)*(MONTH(Planificare!$G$4:$NH$4)=12)*(WEEKDAY(Planificare!$G$4:$NH$4,2)<6)*(COUNTIF(Sarbatori,Planificare!$G$4:$NH$4)=0))) | O9: =IF($B9="","",SUM(C9:N9)) | P9: =IF($B9="","",Planificare!F9)
B10: =IF(Planificare!B10="","",Planificare!B10) | C10: =IF($B10="","",SUMPRODUCT((Planificare!$G10:$NH10="CO")*(YEAR(Planificare!$G$4:$NH$4)=An)*(MONTH(Planificare!$G$4:$NH$4)=1)*(WEEKDAY(Planificare!$G$4:$NH$4,2)<6)*(COUNTIF(Sarbatori,Planificare!$G$4:$NH$4)=0))) | D10: =IF($B10="","",SUMPRODUCT((Planificare!$G10:$NH10="CO")*(YEAR(Planificare!$G$4:$NH$4)=An)*(MONTH(Planificare!$G$4:$NH$4)=2)*(WEEKDAY(Planificare!$G$4:$NH$4,2)<6)*(COUNTIF(Sarbatori,Planificare!$G$4:$NH$4)=0))) | E10: =IF($B10="","",SUMPRODUCT((Planificare!$G10:$NH10="CO")*(YEAR(Planificare!$G$4:$NH$4)=An)*(MONTH(Planificare!$G$4:$NH$4)=3)*(WEEKDAY(Planificare!$G$4:$NH$4,2)<6)*(COUNTIF(Sarbatori,Planificare!$G$4:$NH$4)=0))) | F10: =IF($B10="","",SUMPRODUCT((Planificare!$G10:$NH10="CO")*(YEAR(Planificare!$G$4:$NH$4)=An)*(MONTH(Planificare!$G$4:$NH$4)=4)*(WEEKDAY(Planificare!$G$4:$NH$4,2)<6)*(COUNTIF(Sarbatori,Planificare!$G$4:$NH$4)=0))) | G10: =IF($B10="","",SUMPRODUCT((Planificare!$G10:$NH10="CO")*(YEAR(Planificare!$G$4:$NH$4)=An)*(MONTH(Planificare!$G$4:$NH$4)=5)*(WEEKDAY(Planificare!$G$4:$NH$4,2)<6)*(COUNTIF(Sarbatori,Planificare!$G$4:$NH$4)=0))) | H10: =IF($B10="","",SUMPRODUCT((Planificare!$G10:$NH10="CO")*(YEAR(Planificare!$G$4:$NH$4)=An)*(MONTH(Planificare!$G$4:$NH$4)=6)*(WEEKDAY(Planificare!$G$4:$NH$4,2)<6)*(COUNTIF(Sarbatori,Planificare!$G$4:$NH$4)=0))) | I10: =IF($B10="","",SUMPRODUCT((Planificare!$G10:$NH10="CO")*(YEAR(Planificare!$G$4:$NH$4)=An)*(MONTH(Planificare!$G$4:$NH$4)=7)*(WEEKDAY(Planificare!$G$4:$NH$4,2)<6)*(COUNTIF(Sarbatori,Planificare!$G$4:$NH$4)=0))) | J10: =IF($B10="","",SUMPRODUCT((Planificare!$G10:$NH10="CO")*(YEAR(Planificare!$G$4:$NH$4)=An)*(MONTH(Planificare!$G$4:$NH$4)=8)*(WEEKDAY(Planificare!$G$4:$NH$4,2)<6)*(COUNTIF(Sarbatori,Planificare!$G$4:$NH$4)=0))) | K10: =IF($B10="","",SUMPRODUCT((Planificare!$G10:$NH10="CO")*(YEAR(Planificare!$G$4:$NH$4)=An)*(MONTH(Planificare!$G$4:$NH$4)=9)*(WEEKDAY(Planificare!$G$4:$NH$4,2)<6)*(COUNTIF(Sarbatori,Planificare!$G$4:$NH$4)=0))) | L10: =IF($B10="","",SUMPRODUCT((Planificare!$G10:$NH10="CO")*(YEAR(Planificare!$G$4:$NH$4)=An)*(MONTH(Planificare!$G$4:$NH$4)=10)*(WEEKDAY(Planificare!$G$4:$NH$4,2)<6)*(COUNTIF(Sarbatori,Planificare!$G$4:$NH$4)=0))) | M10: =IF($B10="","",SUMPRODUCT((Planificare!$G10:$NH10="CO")*(YEAR(Planificare!$G$4:$NH$4)=An)*(MONTH(Planificare!$G$4:$NH$4)=11)*(WEEKDAY(Planificare!$G$4:$NH$4,2)<6)*(COUNTIF(Sarbatori,Planificare!$G$4:$NH$4)=0))) | N10: =IF($B10="","",SUMPRODUCT((Planificare!$G10:$NH10="CO")*(YEAR(Planificare!$G$4:$NH$4)=An)*(MONTH(Planificare!$G$4:$NH$4)=12)*(WEEKDAY(Planificare!$G$4:$NH$4,2)<6)*(COUNTIF(Sarbatori,Planificare!$G$4:$NH$4)=0))) | O10: =IF($B10="","",SUM(C10:N10)) | P10: =IF($B10="","",Planificare!F10)
B11: =IF(Planificare!B11="","",Planificare!B11) | C11: =IF($B11="","",SUMPRODUCT((Planificare!$G11:$NH11="CO")*(YEAR(Planificare!$G$4:$NH$4)=An)*(MONTH(Planificare!$G$4:$NH$4)=1)*(WEEKDAY(Planificare!$G$4:$NH$4,2)<6)*(COUNTIF(Sarbatori,Planificare!$G$4:$NH$4)=0))) | D11: =IF($B11="","",SUMPRODUCT((Planificare!$G11:$NH11="CO")*(YEAR(Planificare!$G$4:$NH$4)=An)*(MONTH(Planificare!$G$4:$NH$4)=2)*(WEEKDAY(Planificare!$G$4:$NH$4,2)<6)*(COUNTIF(Sarbatori,Planificare!$G$4:$NH$4)=0))) | E11: =IF($B11="","",SUMPRODUCT((Planificare!$G11:$NH11="CO")*(YEAR(Planificare!$G$4:$NH$4)=An)*(MONTH(Planificare!$G$4:$NH$4)=3)*(WEEKDAY(Planificare!$G$4:$NH$4,2)<6)*(COUNTIF(Sarbatori,Planificare!$G$4:$NH$4)=0))) | F11: =IF($B11="","",SUMPRODUCT((Planificare!$G11:$NH11="CO")*(YEAR(Planificare!$G$4:$NH$4)=An)*(MONTH(Planificare!$G$4:$NH$4)=4)*(WEEKDAY(Planificare!$G$4:$NH$4,2)<6)*(COUNTIF(Sarbatori,Planificare!$G$4:$NH$4)=0))) | G11: =IF($B11="","",SUMPRODUCT((Planificare!$G11:$NH11="CO")*(YEAR(Planificare!$G$4:$NH$4)=An)*(MONTH(Planificare!$G$4:$NH$4)=5)*(WEEKDAY(Planificare!$G$4:$NH$4,2)<6)*(COUNTIF(Sarbatori,Planificare!$G$4:$NH$4)=0))) | H11: =IF($B11="","",SUMPRODUCT((Planificare!$G11:$NH11="CO")*(YEAR(Planificare!$G$4:$NH$4)=An)*(MONTH(Planificare!$G$4:$NH$4)=6)*(WEEKDAY(Planificare!$G$4:$NH$4,2)<6)*(COUNTIF(Sarbatori,Planificare!$G$4:$NH$4)=0))) | I11: =IF($B11="","",SUMPRODUCT((Planificare!$G11:$NH11="CO")*(YEAR(Planificare!$G$4:$NH$4)=An)*(MONTH(Planificare!$G$4:$NH$4)=7)*(WEEKDAY(Planificare!$G$4:$NH$4,2)<6)*(COUNTIF(Sarbatori,Planificare!$G$4:$NH$4)=0))) | J11: =IF($B11="","",SUMPRODUCT((Planificare!$G11:$NH11="CO")*(YEAR(Planificare!$G$4:$NH$4)=An)*(MONTH(Planificare!$G$4:$NH$4)=8)*(WEEKDAY(Planificare!$G$4:$NH$4,2)<6)*(COUNTIF(Sarbatori,Planificare!$G$4:$NH$4)=0))) | K11: =IF($B11="","",SUMPRODUCT((Planificare!$G11:$NH11="CO")*(YEAR(Planificare!$G$4:$NH$4)=An)*(MONTH(Planificare!$G$4:$NH$4)=9)*(WEEKDAY(Planificare!$G$4:$NH$4,2)<6)*(COUNTIF(Sarbatori,Planificare!$G$4:$NH$4)=0))) | L11: =IF($B11="","",SUMPRODUCT((Planificare!$G11:$NH11="CO")*(YEAR(Planificare!$G$4:$NH$4)=An)*(MONTH(Planificare!$G$4:$NH$4)=10)*(WEEKDAY(Planificare!$G$4:$NH$4,2)<6)*(COUNTIF(Sarbatori,Planificare!$G$4:$NH$4)=0))) | M11: =IF($B11="","",SUMPRODUCT((Planificare!$G11:$NH11="CO")*(YEAR(Planificare!$G$4:$NH$4)=An)*(MONTH(Planificare!$G$4:$NH$4)=11)*(WEEKDAY(Planificare!$G$4:$NH$4,2)<6)*(COUNTIF(Sarbatori,Planificare!$G$4:$NH$4)=0))) | N11: =IF($B11="","",SUMPRODUCT((Planificare!$G11:$NH11="CO")*(YEAR(Planificare!$G$4:$NH$4)=An)*(MONTH(Planificare!$G$4:$NH$4)=12)*(WEEKDAY(Planificare!$G$4:$NH$4,2)<6)*(COUNTIF(Sarbatori,Planificare!$G$4:$NH$4)=0))) | O11: =IF($B11="","",SUM(C11:N11)) | P11: =IF($B11="","",Planificare!F11)
B12: =IF(Planificare!B12="","",Planificare!B12) | C12: =IF($B12="","",SUMPRODUCT((Planificare!$G12:$NH12="CO")*(YEAR(Planificare!$G$4:$NH$4)=An)*(MONTH(Planificare!$G$4:$NH$4)=1)*(WEEKDAY(Planificare!$G$4:$NH$4,2)<6)*(COUNTIF(Sarbatori,Planificare!$G$4:$NH$4)=0))) | D12: =IF($B12="","",SUMPRODUCT((Planificare!$G12:$NH12="CO")*(YEAR(Planificare!$G$4:$NH$4)=An)*(MONTH(Planificare!$G$4:$NH$4)=2)*(WEEKDAY(Planificare!$G$4:$NH$4,2)<6)*(COUNTIF(Sarbatori,Planificare!$G$4:$NH$4)=0))) | E12: =IF($B12="","",SUMPRODUCT((Planificare!$G12:$NH12="CO")*(YEAR(Planificare!$G$4:$NH$4)=An)*(MONTH(Planificare!$G$4:$NH$4)=3)*(WEEKDAY(Planificare!$G$4:$NH$4,2)<6)*(COUNTIF(Sarbatori,Planificare!$G$4:$NH$4)=0))) | F12: =IF($B12="","",SUMPRODUCT((Planificare!$G12:$NH12="CO")*(YEAR(Planificare!$G$4:$NH$4)=An)*(MONTH(Planificare!$G$4:$NH$4)=4)*(WEEKDAY(Planificare!$G$4:$NH$4,2)<6)*(COUNTIF(Sarbatori,Planificare!$G$4:$NH$4)=0))) | G12: =IF($B12="","",SUMPRODUCT((Planificare!$G12:$NH12="CO")*(YEAR(Planificare!$G$4:$NH$4)=An)*(MONTH(Planificare!$G$4:$NH$4)=5)*(WEEKDAY(Planificare!$G$4:$NH$4,2)<6)*(COUNTIF(Sarbatori,Planificare!$G$4:$NH$4)=0))) | H12: =IF($B12="","",SUMPRODUCT((Planificare!$G12:$NH12="CO")*(YEAR(Planificare!$G$4:$NH$4)=An)*(MONTH(Planificare!$G$4:$NH$4)=6)*(WEEKDAY(Planificare!$G$4:$NH$4,2)<6)*(COUNTIF(Sarbatori,Planificare!$G$4:$NH$4)=0))) | I12: =IF($B12="","",SUMPRODUCT((Planificare!$G12:$NH12="CO")*(YEAR(Planificare!$G$4:$NH$4)=An)*(MONTH(Planificare!$G$4:$NH$4)=7)*(WEEKDAY(Planificare!$G$4:$NH$4,2)<6)*(COUNTIF(Sarbatori,Planificare!$G$4:$NH$4)=0))) | J12: =IF($B12="","",SUMPRODUCT((Planificare!$G12:$NH12="CO")*(YEAR(Planificare!$G$4:$NH$4)=An)*(MONTH(Planificare!$G$4:$NH$4)=8)*(WEEKDAY(Planificare!$G$4:$NH$4,2)<6)*(COUNTIF(Sarbatori,Planificare!$G$4:$NH$4)=0))) | K12: =IF($B12="","",SUMPRODUCT((Planificare!$G12:$NH12="CO")*(YEAR(Planificare!$G$4:$NH$4)=An)*(MONTH(Planificare!$G$4:$NH$4)=9)*(WEEKDAY(Planificare!$G$4:$NH$4,2)<6)*(COUNTIF(Sarbatori,Planificare!$G$4:$NH$4)=0))) | L12: =IF($B12="","",SUMPRODUCT((Planificare!$G12:$NH12="CO")*(YEAR(Planificare!$G$4:$NH$4)=An)*(MONTH(Planificare!$G$4:$NH$4)=10)*(WEEKDAY(Planificare!$G$4:$NH$4,2)<6)*(COUNTIF(Sarbatori,Planificare!$G$4:$NH$4)=0))) | M12: =IF($B12="","",SUMPRODUCT((Planificare!$G12:$NH12="CO")*(YEAR(Planificare!$G$4:$NH$4)=An)*(MONTH(Planificare!$G$4:$NH$4)=11)*(WEEKDAY(Planificare!$G$4:$NH$4,2)<6)*(COUNTIF(Sarbatori,Planificare!$G$4:$NH$4)=0))) | N12: =IF($B12="","",SUMPRODUCT((Planificare!$G12:$NH12="CO")*(YEAR(Planificare!$G$4:$NH$4)=An)*(MONTH(Planificare!$G$4:$NH$4)=12)*(WEEKDAY(Planificare!$G$4:$NH$4,2)<6)*(COUNTIF(Sarbatori,Planificare!$G$4:$NH$4)=0))) | O12: =IF($B12="","",SUM(C12:N12)) | P12: =IF($B12="","",Planificare!F12)
B13: =IF(Planificare!B13="","",Planificare!B13) | C13: =IF($B13="","",SUMPRODUCT((Planificare!$G13:$NH13="CO")*(YEAR(Planificare!$G$4:$NH$4)=An)*(MONTH(Planificare!$G$4:$NH$4)=1)*(WEEKDAY(Planificare!$G$4:$NH$4,2)<6)*(COUNTIF(Sarbatori,Planificare!$G$4:$NH$4)=0))) | D13: =IF($B13="","",SUMPRODUCT((Planificare!$G13:$NH13="CO")*(YEAR(Planificare!$G$4:$NH$4)=An)*(MONTH(Planificare!$G$4:$NH$4)=2)*(WEEKDAY(Planificare!$G$4:$NH$4,2)<6)*(COUNTIF(Sarbatori,Planificare!$G$4:$NH$4)=0))) | E13: =IF($B13="","",SUMPRODUCT((Planificare!$G13:$NH13="CO")*(YEAR(Planificare!$G$4:$NH$4)=An)*(MONTH(Planificare!$G$4:$NH$4)=3)*(WEEKDAY(Planificare!$G$4:$NH$4,2)<6)*(COUNTIF(Sarbatori,Planificare!$G$4:$NH$4)=0))) | F13: =IF($B13="","",SUMPRODUCT((Planificare!$G13:$NH13="CO")*(YEAR(Planificare!$G$4:$NH$4)=An)*(MONTH(Planificare!$G$4:$NH$4)=4)*(WEEKDAY(Planificare!$G$4:$NH$4,2)<6)*(COUNTIF(Sarbatori,Planificare!$G$4:$NH$4)=0))) | G13: =IF($B13="","",SUMPRODUCT((Planificare!$G13:$NH13="CO")*(YEAR(Planificare!$G$4:$NH$4)=An)*(MONTH(Planificare!$G$4:$NH$4)=5)*(WEEKDAY(Planificare!$G$4:$NH$4,2)<6)*(COUNTIF(Sarbatori,Planificare!$G$4:$NH$4)=0))) | H13: =IF($B13="","",SUMPRODUCT((Planificare!$G13:$NH13="CO")*(YEAR(Planificare!$G$4:$NH$4)=An)*(MONTH(Planificare!$G$4:$NH$4)=6)*(WEEKDAY(Planificare!$G$4:$NH$4,2)<6)*(COUNTIF(Sarbatori,Planificare!$G$4:$NH$4)=0))) | I13: =IF($B13="","",SUMPRODUCT((Planificare!$G13:$NH13="CO")*(YEAR(Planificare!$G$4:$NH$4)=An)*(MONTH(Planificare!$G$4:$NH$4)=7)*(WEEKDAY(Planificare!$G$4:$NH$4,2)<6)*(COUNTIF(Sarbatori,Planificare!$G$4:$NH$4)=0))) | J13: =IF($B13="","",SUMPRODUCT((Planificare!$G13:$NH13="CO")*(YEAR(Planificare!$G$4:$NH$4)=An)*(MONTH(Planificare!$G$4:$NH$4)=8)*(WEEKDAY(Planificare!$G$4:$NH$4,2)<6)*(COUNTIF(Sarbatori,Planificare!$G$4:$NH$4)=0))) | K13: =IF($B13="","",SUMPRODUCT((Planificare!$G13:$NH13="CO")*(YEAR(Planificare!$G$4:$NH$4)=An)*(MONTH(Planificare!$G$4:$NH$4)=9)*(WEEKDAY(Planificare!$G$4:$NH$4,2)<6)*(COUNTIF(Sarbatori,Planificare!$G$4:$NH$4)=0))) | L13: =IF($B13="","",SUMPRODUCT((Planificare!$G13:$NH13="CO")*(YEAR(Planificare!$G$4:$NH$4)=An)*(MONTH(Planificare!$G$4:$NH$4)=10)*(WEEKDAY(Planificare!$G$4:$NH$4,2)<6)*(COUNTIF(Sarbatori,Planificare!$G$4:$NH$4)=0))) | M13: =IF($B13="","",SUMPRODUCT((Planificare!$G13:$NH13="CO")*(YEAR(Planificare!$G$4:$NH$4)=An)*(MONTH(Planificare!$G$4:$NH$4)=11)*(WEEKDAY(Planificare!$G$4:$NH$4,2)<6)*(COUNTIF(Sarbatori,Planificare!$G$4:$NH$4)=0))) | N13: =IF($B13="","",SUMPRODUCT((Planificare!$G13:$NH13="CO")*(YEAR(Planificare!$G$4:$NH$4)=An)*(MONTH(Planificare!$G$4:$NH$4)=12)*(WEEKDAY(Planificare!$G$4:$NH$4,2)<6)*(COUNTIF(Sarbatori,Planificare!$G$4:$NH$4)=0))) | O13: =IF($B13="","",SUM(C13:N13)) | P13: =IF($B13="","",Planificare!F13)
B14: =IF(Planificare!B14="","",Planificare!B14) | C14: =IF($B14="","",SUMPRODUCT((Planificare!$G14:$NH14="CO")*(YEAR(Planificare!$G$4:$NH$4)=An)*(MONTH(Planificare!$G$4:$NH$4)=1)*(WEEKDAY(Planificare!$G$4:$NH$4,2)<6)*(COUNTIF(Sarbatori,Planificare!$G$4:$NH$4)=0))) | D14: =IF($B14="","",SUMPRODUCT((Planificare!$G14:$NH14="CO")*(YEAR(Planificare!$G$4:$NH$4)=An)*(MONTH(Planificare!$G$4:$NH$4)=2)*(WEEKDAY(Planificare!$G$4:$NH$4,2)<6)*(COUNTIF(Sarbatori,Planificare!$G$4:$NH$4)=0))) | E14: =IF($B14="","",SUMPRODUCT((Planificare!$G14:$NH14="CO")*(YEAR(Planificare!$G$4:$NH$4)=An)*(MONTH(Planificare!$G$4:$NH$4)=3)*(WEEKDAY(Planificare!$G$4:$NH$4,2)<6)*(COUNTIF(Sarbatori,Planificare!$G$4:$NH$4)=0))) | F14: =IF($B14="","",SUMPRODUCT((Planificare!$G14:$NH14="CO")*(YEAR(Planificare!$G$4:$NH$4)=An)*(MONTH(Planificare!$G$4:$NH$4)=4)*(WEEKDAY(Planificare!$G$4:$NH$4,2)<6)*(COUNTIF(Sarbatori,Planificare!$G$4:$NH$4)=0))) | G14: =IF($B14="","",SUMPRODUCT((Planificare!$G14:$NH14="CO")*(YEAR(Planificare!$G$4:$NH$4)=An)*(MONTH(Planificare!$G$4:$NH$4)=5)*(WEEKDAY(Planificare!$G$4:$NH$4,2)<6)*(COUNTIF(Sarbatori,Planificare!$G$4:$NH$4)=0))) | H14: =IF($B14="","",SUMPRODUCT((Planificare!$G14:$NH14="CO")*(YEAR(Planificare!$G$4:$NH$4)=An)*(MONTH(Planificare!$G$4:$NH$4)=6)*(WEEKDAY(Planificare!$G$4:$NH$4,2)<6)*(COUNTIF(Sarbatori,Planificare!$G$4:$NH$4)=0))) | I14: =IF($B14="","",SUMPRODUCT((Planificare!$G14:$NH14="CO")*(YEAR(Planificare!$G$4:$NH$4)=An)*(MONTH(Planificare!$G$4:$NH$4)=7)*(WEEKDAY(Planificare!$G$4:$NH$4,2)<6)*(COUNTIF(Sarbatori,Planificare!$G$4:$NH$4)=0))) | J14: =IF($B14="","",SUMPRODUCT((Planificare!$G14:$NH14="CO")*(YEAR(Planificare!$G$4:$NH$4)=An)*(MONTH(Planificare!$G$4:$NH$4)=8)*(WEEKDAY(Planificare!$G$4:$NH$4,2)<6)*(COUNTIF(Sarbatori,Planificare!$G$4:$NH$4)=0))) | K14: =IF($B14="","",SUMPRODUCT((Planificare!$G14:$NH14="CO")*(YEAR(Planificare!$G$4:$NH$4)=An)*(MONTH(Planificare!$G$4:$NH$4)=9)*(WEEKDAY(Planificare!$G$4:$NH$4,2)<6)*(COUNTIF(Sarbatori,Planificare!$G$4:$NH$4)=0))) | L14: =IF($B14="","",SUMPRODUCT((Planificare!$G14:$NH14="CO")*(YEAR(Planificare!$G$4:$NH$4)=An)*(MONTH(Planificare!$G$4:$NH$4)=10)*(WEEKDAY(Planificare!$G$4:$NH$4,2)<6)*(COUNTIF(Sarbatori,Planificare!$G$4:$NH$4)=0))) | M14: =IF($B14="","",SUMPRODUCT((Planificare!$G14:$NH14="CO")*(YEAR(Planificare!$G$4:$NH$4)=An)*(MONTH(Planificare!$G$4:$NH$4)=11)*(WEEKDAY(Planificare!$G$4:$NH$4,2)<6)*(COUNTIF(Sarbatori,Planificare!$G$4:$NH$4)=0))) | N14: =IF($B14="","",SUMPRODUCT((Planificare!$G14:$NH14="CO")*(YEAR(Planificare!$G$4:$NH$4)=An)*(MONTH(Planificare!$G$4:$NH$4)=12)*(WEEKDAY(Planificare!$G$4:$NH$4,2)<6)*(COUNTIF(Sarbatori,Planificare!$G$4:$NH$4)=0))) | O14: =IF($B14="","",SUM(C14:N14)) | P14: =IF($B14="","",Planificare!F14)
B15: =IF(Planificare!B15="","",Planificare!B15) | C15: =IF($B15="","",SUMPRODUCT((Planificare!$G15:$NH15="CO")*(YEAR(Planificare!$G$4:$NH$4)=An)*(MONTH(Planificare!$G$4:$NH$4)=1)*(WEEKDAY(Planificare!$G$4:$NH$4,2)<6)*(COUNTIF(Sarbatori,Planificare!$G$4:$NH$4)=0))) | D15: =IF($B15="","",SUMPRODUCT((Planificare!$G15:$NH15="CO")*(YEAR(Planificare!$G$4:$NH$4)=An)*(MONTH(Planificare!$G$4:$NH$4)=2)*(WEEKDAY(Planificare!$G$4:$NH$4,2)<6)*(COUNTIF(Sarbatori,Planificare!$G$4:$NH$4)=0))) | E15: =IF($B15="","",SUMPRODUCT((Planificare!$G15:$NH15="CO")*(YEAR(Planificare!$G$4:$NH$4)=An)*(MONTH(Planificare!$G$4:$NH$4)=3)*(WEEKDAY(Planificare!$G$4:$NH$4,2)<6)*(COUNTIF(Sarbatori,Planificare!$G$4:$NH$4)=0))) | F15: =IF($B15="","",SUMPRODUCT((Planificare!$G15:$NH15="CO")*(YEAR(Planificare!$G$4:$NH$4)=An)*(MONTH(Planificare!$G$4:$NH$4)=4)*(WEEKDAY(Planificare!$G$4:$NH$4,2)<6)*(COUNTIF(Sarbatori,Planificare!$G$4:$NH$4)=0))) | G15: =IF($B15="","",SUMPRODUCT((Planificare!$G15:$NH15="CO")*(YEAR(Planificare!$G$4:$NH$4)=An)*(MONTH(Planificare!$G$4:$NH$4)=5)*(WEEKDAY(Planificare!$G$4:$NH$4,2)<6)*(COUNTIF(Sarbatori,Planificare!$G$4:$NH$4)=0))) | H15: =IF($B15="","",SUMPRODUCT((Planificare!$G15:$NH15="CO")*(YEAR(Planificare!$G$4:$NH$4)=An)*(MONTH(Planificare!$G$4:$NH$4)=6)*(WEEKDAY(Planificare!$G$4:$NH$4,2)<6)*(COUNTIF(Sarbatori,Planificare!$G$4:$NH$4)=0))) | I15: =IF($B15="","",SUMPRODUCT((Planificare!$G15:$NH15="CO")*(YEAR(Planificare!$G$4:$NH$4)=An)*(MONTH(Planificare!$G$4:$NH$4)=7)*(WEEKDAY(Planificare!$G$4:$NH$4,2)<6)*(COUNTIF(Sarbatori,Planificare!$G$4:$NH$4)=0))) | J15: =IF($B15="","",SUMPRODUCT((Planificare!$G15:$NH15="CO")*(YEAR(Planificare!$G$4:$NH$4)=An)*(MONTH(Planificare!$G$4:$NH$4)=8)*(WEEKDAY(Planificare!$G$4:$NH$4,2)<6)*(COUNTIF(Sarbatori,Planificare!$G$4:$NH$4)=0))) | K15: =IF($B15="","",SUMPRODUCT((Planificare!$G15:$NH15="CO")*(YEAR(Planificare!$G$4:$NH$4)=An)*(MONTH(Planificare!$G$4:$NH$4)=9)*(WEEKDAY(Planificare!$G$4:$NH$4,2)<6)*(COUNTIF(Sarbatori,Planificare!$G$4:$NH$4)=0))) | L15: =IF($B15="","",SUMPRODUCT((Planificare!$G15:$NH15="CO")*(YEAR(Planificare!$G$4:$NH$4)=An)*(MONTH(Planificare!$G$4:$NH$4)=10)*(WEEKDAY(Planificare!$G$4:$NH$4,2)<6)*(COUNTIF(Sarbatori,Planificare!$G$4:$NH$4)=0))) | M15: =IF($B15="","",SUMPRODUCT((Planificare!$G15:$NH15="CO")*(YEAR(Planificare!$G$4:$NH$4)=An)*(MONTH(Planificare!$G$4:$NH$4)=11)*(WEEKDAY(Planificare!$G$4:$NH$4,2)<6)*(COUNTIF(Sarbatori,Planificare!$G$4:$NH$4)=0))) | N15: =IF($B15="","",SUMPRODUCT((Planificare!$G15:$NH15="CO")*(YEAR(Planificare!$G$4:$NH$4)=An)*(MONTH(Planificare!$G$4:$NH$4)=12)*(WEEKDAY(Planificare!$G$4:$NH$4,2)<6)*(COUNTIF(Sarbatori,Planificare!$G$4:$NH$4)=0))) | O15: =IF($B15="","",SUM(C15:N15)) | P15: =IF($B15="","",Planificare!F15)
B16: =IF(Planificare!B16="","",Planificare!B16) | C16: =IF($B16="","",SUMPRODUCT((Planificare!$G16:$NH16="CO")*(YEAR(Planificare!$G$4:$NH$4)=An)*(MONTH(Planificare!$G$4:$NH$4)=1)*(WEEKDAY(Planificare!$G$4:$NH$4,2)<6)*(COUNTIF(Sarbatori,Planificare!$G$4:$NH$4)=0))) | D16: =IF($B16="","",SUMPRODUCT((Planificare!$G16:$NH16="CO")*(YEAR(Planificare!$G$4:$NH$4)=An)*(MONTH(Planificare!$G$4:$NH$4)=2)*(WEEKDAY(Planificare!$G$4:$NH$4,2)<6)*(COUNTIF(Sarbatori,Planificare!$G$4:$NH$4)=0))) | E16: =IF($B16="","",SUMPRODUCT((Planificare!$G16:$NH16="CO")*(YEAR(Planificare!$G$4:$NH$4)=An)*(MONTH(Planificare!$G$4:$NH$4)=3)*(WEEKDAY(Planificare!$G$4:$NH$4,2)<6)*(COUNTIF(Sarbatori,Planificare!$G$4:$NH$4)=0))) | F16: =IF($B16="","",SUMPRODUCT((Planificare!$G16:$NH16="CO")*(YEAR(Planificare!$G$4:$NH$4)=An)*(MONTH(Planificare!$G$4:$NH$4)=4)*(WEEKDAY(Planificare!$G$4:$NH$4,2)<6)*(COUNTIF(Sarbatori,Planificare!$G$4:$NH$4)=0))) | G16: =IF($B16="","",SUMPRODUCT((Planificare!$G16:$NH16="CO")*(YEAR(Planificare!$G$4:$NH$4)=An)*(MONTH(Planificare!$G$4:$NH$4)=5)*(WEEKDAY(Planificare!$G$4:$NH$4,2)<6)*(COUNTIF(Sarbatori,Planificare!$G$4:$NH$4)=0))) | H16: =IF($B16="","",SUMPRODUCT((Planificare!$G16:$NH16="CO")*(YEAR(Planificare!$G$4:$NH$4)=An)*(MONTH(Planificare!$G$4:$NH$4)=6)*(WEEKDAY(Planificare!$G$4:$NH$4,2)<6)*(COUNTIF(Sarbatori,Planificare!$G$4:$NH$4)=0))) | I16: =IF($B16="","",SUMPRODUCT((Planificare!$G16:$NH16="CO")*(YEAR(Planificare!$G$4:$NH$4)=An)*(MONTH(Planificare!$G$4:$NH$4)=7)*(WEEKDAY(Planificare!$G$4:$NH$4,2)<6)*(COUNTIF(Sarbatori,Planificare!$G$4:$NH$4)=0))) | J16: =IF($B16="","",SUMPRODUCT((Planificare!$G16:$NH16="CO")*(YEAR(Planificare!$G$4:$NH$4)=An)*(MONTH(Planificare!$G$4:$NH$4)=8)*(WEEKDAY(Planificare!$G$4:$NH$4,2)<6)*(COUNTIF(Sarbatori,Planificare!$G$4:$NH$4)=0))) | K16: =IF($B16="","",SUMPRODUCT((Planificare!$G16:$NH16="CO")*(YEAR(Planificare!$G$4:$NH$4)=An)*(MONTH(Planificare!$G$4:$NH$4)=9)*(WEEKDAY(Planificare!$G$4:$NH$4,2)<6)*(COUNTIF(Sarbatori,Planificare!$G$4:$NH$4)=0))) | L16: =IF($B16="","",SUMPRODUCT((Planificare!$G16:$NH16="CO")*(YEAR(Planificare!$G$4:$NH$4)=An)*(MONTH(Planificare!$G$4:$NH$4)=10)*(WEEKDAY(Planificare!$G$4:$NH$4,2)<6)*(COUNTIF(Sarbatori,Planificare!$G$4:$NH$4)=0))) | M16: =IF($B16="","",SUMPRODUCT((Planificare!$G16:$NH16="CO")*(YEAR(Planificare!$G$4:$NH$4)=An)*(MONTH(Planificare!$G$4:$NH$4)=11)*(WEEKDAY(Planificare!$G$4:$NH$4,2)<6)*(COUNTIF(Sarbatori,Planificare!$G$4:$NH$4)=0))) | N16: =IF($B16="","",SUMPRODUCT((Planificare!$G16:$NH16="CO")*(YEAR(Planificare!$G$4:$NH$4)=An)*(MONTH(Planificare!$G$4:$NH$4)=12)*(WEEKDAY(Planificare!$G$4:$NH$4,2)<6)*(COUNTIF(Sarbatori,Planificare!$G$4:$NH$4)=0))) | O16: =IF($B16="","",SUM(C16:N16)) | P16: =IF($B16="","",Planificare!F16)
B17: =IF(Planificare!B17="","",Planificare!B17) | C17: =IF($B17="","",SUMPRODUCT((Planificare!$G17:$NH17="CO")*(YEAR(Planificare!$G$4:$NH$4)=An)*(MONTH(Planificare!$G$4:$NH$4)=1)*(WEEKDAY(Planificare!$G$4:$NH$4,2)<6)*(COUNTIF(Sarbatori,Planificare!$G$4:$NH$4)=0))) | D17: =IF($B17="","",SUMPRODUCT((Planificare!$G17:$NH17="CO")*(YEAR(Planificare!$G$4:$NH$4)=An)*(MONTH(Planificare!$G$4:$NH$4)=2)*(WEEKDAY(Planificare!$G$4:$NH$4,2)<6)*(COUNTIF(Sarbatori,Planificare!$G$4:$NH$4)=0))) | E17: =IF($B17="","",SUMPRODUCT((Planificare!$G17:$NH17="CO")*(YEAR(Planificare!$G$4:$NH$4)=An)*(MONTH(Planificare!$G$4:$NH$4)=3)*(WEEKDAY(Planificare!$G$4:$NH$4,2)<6)*(COUNTIF(Sarbatori,Planificare!$G$4:$NH$4)=0))) | F17: =IF($B17="","",SUMPRODUCT((Planificare!$G17:$NH17="CO")*(YEAR(Planificare!$G$4:$NH$4)=An)*(MONTH(Planificare!$G$4:$NH$4)=4)*(WEEKDAY(Planificare!$G$4:$NH$4,2)<6)*(COUNTIF(Sarbatori,Planificare!$G$4:$NH$4)=0))) | G17: =IF($B17="","",SUMPRODUCT((Planificare!$G17:$NH17="CO")*(YEAR(Planificare!$G$4:$NH$4)=An)*(MONTH(Planificare!$G$4:$NH$4)=5)*(WEEKDAY(Planificare!$G$4:$NH$4,2)<6)*(COUNTIF(Sarbatori,Planificare!$G$4:$NH$4)=0))) | H17: =IF($B17="","",SUMPRODUCT((Planificare!$G17:$NH17="CO")*(YEAR(Planificare!$G$4:$NH$4)=An)*(MONTH(Planificare!$G$4:$NH$4)=6)*(WEEKDAY(Planificare!$G$4:$NH$4,2)<6)*(COUNTIF(Sarbatori,Planificare!$G$4:$NH$4)=0))) | I17: =IF($B17="","",SUMPRODUCT((Planificare!$G17:$NH17="CO")*(YEAR(Planificare!$G$4:$NH$4)=An)*(MONTH(Planificare!$G$4:$NH$4)=7)*(WEEKDAY(Planificare!$G$4:$NH$4,2)<6)*(COUNTIF(Sarbatori,Planificare!$G$4:$NH$4)=0))) | J17: =IF($B17="","",SUMPRODUCT((Planificare!$G17:$NH17="CO")*(YEAR(Planificare!$G$4:$NH$4)=An)*(MONTH(Planificare!$G$4:$NH$4)=8)*(WEEKDAY(Planificare!$G$4:$NH$4,2)<6)*(COUNTIF(Sarbatori,Planificare!$G$4:$NH$4)=0))) | K17: =IF($B17="","",SUMPRODUCT((Planificare!$G17:$NH17="CO")*(YEAR(Planificare!$G$4:$NH$4)=An)*(MONTH(Planificare!$G$4:$NH$4)=9)*(WEEKDAY(Planificare!$G$4:$NH$4,2)<6)*(COUNTIF(Sarbatori,Planificare!$G$4:$NH$4)=0))) | L17: =IF($B17="","",SUMPRODUCT((Planificare!$G17:$NH17="CO")*(YEAR(Planificare!$G$4:$NH$4)=An)*(MONTH(Planificare!$G$4:$NH$4)=10)*(WEEKDAY(Planificare!$G$4:$NH$4,2)<6)*(COUNTIF(Sarbatori,Planificare!$G$4:$NH$4)=0))) | M17: =IF($B17="","",SUMPRODUCT((Planificare!$G17:$NH17="CO")*(YEAR(Planificare!$G$4:$NH$4)=An)*(MONTH(Planificare!$G$4:$NH$4)=11)*(WEEKDAY(Planificare!$G$4:$NH$4,2)<6)*(COUNTIF(Sarbatori,Planificare!$G$4:$NH$4)=0))) | N17: =IF($B17="","",SUMPRODUCT((Planificare!$G17:$NH17="CO")*(YEAR(Planificare!$G$4:$NH$4)=An)*(MONTH(Planificare!$G$4:$NH$4)=12)*(WEEKDAY(Planificare!$G$4:$NH$4,2)<6)*(COUNTIF(Sarbatori,Planificare!$G$4:$NH$4)=0))) | O17: =IF($B17="","",SUM(C17:N17)) | P17: =IF($B17="","",Planificare!F17)
... B35: =IF(Planificare!B35="","",Planificare!B35) | C35: =IF($B35="","",SUMPRODUCT((Planificare!$G35:$NH35="CO")*(YEAR(Planificare!$G$4:$NH$4)=An)*(MONTH(Planificare!$G$4:$NH$4)=1)*(WEEKDAY(Planificare!$G$4:$NH$4,2)<6)*(COUNTIF(Sarbatori,Planificare!$G$4:$NH$4)=0))) | D35: =IF($B35="","",SUMPRODUCT((Planificare!$G35:$NH35="CO")*(YEAR(Planificare!$G$4:$NH$4)=An)*(MONTH(Planificare!$G$4:$NH$4)=2)*(WEEKDAY(Planificare!$G$4:$NH$4,2)<6)*(COUNTIF(Sarbatori,Planificare!$G$4:$NH$4)=0))) | E35: =IF($B35="","",SUMPRODUCT((Planificare!$G35:$NH35="CO")*(YEAR(Planificare!$G$4:$NH$4)=An)*(MONTH(Planificare!$G$4:$NH$4)=3)*(WEEKDAY(Planificare!$G$4:$NH$4,2)<6)*(COUNTIF(Sarbatori,Planificare!$G$4:$NH$4)=0))) | F35: =IF($B35="","",SUMPRODUCT((Planificare!$G35:$NH35="CO")*(YEAR(Planificare!$G$4:$NH$4)=An)*(MONTH(Planificare!$G$4:$NH$4)=4)*(WEEKDAY(Planificare!$G$4:$NH$4,2)<6)*(COUNTIF(Sarbatori,Planificare!$G$4:$NH$4)=0))) | G35: =IF($B35="","",SUMPRODUCT((Planificare!$G35:$NH35="CO")*(YEAR(Planificare!$G$4:$NH$4)=An)*(MONTH(Planificare!$G$4:$NH$4)=5)*(WEEKDAY(Planificare!$G$4:$NH$4,2)<6)*(COUNTIF(Sarbatori,Planificare!$G$4:$NH$4)=0))) | H35: =IF($B35="","",SUMPRODUCT((Planificare!$G35:$NH35="CO")*(YEAR(Planificare!$G$4:$NH$4)=An)*(MONTH(Planificare!$G$4:$NH$4)=6)*(WEEKDAY(Planificare!$G$4:$NH$4,2)<6)*(COUNTIF(Sarbatori,Planificare!$G$4:$NH$4)=0))) | I35: =IF($B35="","",SUMPRODUCT((Planificare!$G35:$NH35="CO")*(YEAR(Planificare!$G$4:$NH$4)=An)*(MONTH(Planificare!$G$4:$NH$4)=7)*(WEEKDAY(Planificare!$G$4:$NH$4,2)<6)*(COUNTIF(Sarbatori,Planificare!$G$4:$NH$4)=0))) | J35: =IF($B35="","",SUMPRODUCT((Planificare!$G35:$NH35="CO")*(YEAR(Planificare!$G$4:$NH$4)=An)*(MONTH(Planificare!$G$4:$NH$4)=8)*(WEEKDAY(Planificare!$G$4:$NH$4,2)<6)*(COUNTIF(Sarbatori,Planificare!$G$4:$NH$4)=0))) | K35: =IF($B35="","",SUMPRODUCT((Planificare!$G35:$NH35="CO")*(YEAR(Planificare!$G$4:$NH$4)=An)*(MONTH(Planificare!$G$4:$NH$4)=9)*(WEEKDAY(Planificare!$G$4:$NH$4,2)<6)*(COUNTIF(Sarbatori,Planificare!$G$4:$NH$4)=0))) | L35: =IF($B35="","",SUMPRODUCT((Planificare!$G35:$NH35="CO")*(YEAR(Planificare!$G$4:$NH$4)=An)*(MONTH(Planificare!$G$4:$NH$4)=10)*(WEEKDAY(Planificare!$G$4:$NH$4,2)<6)*(COUNTIF(Sarbatori,Planificare!$G$4:$NH$4)=0))) | M35: =IF($B35="","",SUMPRODUCT((Planificare!$G35:$NH35="CO")*(YEAR(Planificare!$G$4:$NH$4)=An)*(MONTH(Planificare!$G$4:$NH$4)=11)*(WEEKDAY(Planificare!$G$4:$NH$4,2)<6)*(COUNTIF(Sarbatori,Planificare!$G$4:$NH$4)=0))) | N35: =IF($B35="","",SUMPRODUCT((Planificare!$G35:$NH35="CO")*(YEAR(Planificare!$G$4:$NH$4)=An)*(MONTH(Planificare!$G$4:$NH$4)=12)*(WEEKDAY(Planificare!$G$4:$NH$4,2)<6)*(COUNTIF(Sarbatori,Planificare!$G$4:$NH$4)=0))) | O35: =IF($B35="","",SUM(C35:N35)) | P35: =IF($B35="","",Planificare!F35)

Sheet Zile libere
B2: Zile libere legale | E2: =An -> 2027
B3: Conform art. 139 din Codul muncii (Legea nr. 53/2003). Se recalculează automat după anul din foaia „Planificare”.
B5: Paștele ortodox (calculat): | E5: =RIGHT("0"&DAY(G5),2)&"."&RIGHT("0"&MONTH(G5),2)&"."&YEAR(G5) -> 02.05.2027 | G5: =DATE(An,INT((MOD(19*MOD(An,19)+15,30)+MOD(2*MOD(An,4)+4*MOD(An,7)-MOD(19*MOD(An,19)+15,30)+34,7)+114)/31),MOD(MOD(19*MOD(An,19)+15,30)+MOD(2*MOD(An,4)+4*MOD(An,7)-MOD(19*MOD(An,19)+15,30)+34,7)+114,31)+1)+13 -> 46509
B7: Sărbătoare | C7: Data | D7: Ziua săptămânii | E7: Cade în
B8: Anul Nou | C8: =RIGHT("0"&DAY(G8),2)&"."&RIGHT("0"&MONTH(G8),2)&"."&YEAR(G8) -> 01.01.2027 | D8: =CHOOSE(WEEKDAY(G8,2),"luni","marți","miercuri","joi","vineri","sâmbătă","duminică") -> vineri | E8: =IF(WEEKDAY(G8,2)>5,"weekend","zi lucrătoare") -> zi lucrătoare | G8: =DATE(An,1,1) -> 46388
B9: A doua zi de Anul Nou | C9: =RIGHT("0"&DAY(G9),2)&"."&RIGHT("0"&MONTH(G9),2)&"."&YEAR(G9) -> 02.01.2027 | D9: =CHOOSE(WEEKDAY(G9,2),"luni","marți","miercuri","joi","vineri","sâmbătă","duminică") -> sâmbătă | E9: =IF(WEEKDAY(G9,2)>5,"weekend","zi lucrătoare") -> weekend | G9: =DATE(An,1,2) -> 46389
B10: Boboteaza | C10: =RIGHT("0"&DAY(G10),2)&"."&RIGHT("0"&MONTH(G10),2)&"."&YEAR(G10) -> 06.01.2027 | D10: =CHOOSE(WEEKDAY(G10,2),"luni","marți","miercuri","joi","vineri","sâmbătă","duminică") -> miercuri | E10: =IF(WEEKDAY(G10,2)>5,"weekend","zi lucrătoare") -> zi lucrătoare | G10: =DATE(An,1,6) -> 46393
B11: Sfântul Ioan Botezătorul | C11: =RIGHT("0"&DAY(G11),2)&"."&RIGHT("0"&MONTH(G11),2)&"."&YEAR(G11) -> 07.01.2027 | D11: =CHOOSE(WEEKDAY(G11,2),"luni","marți","miercuri","joi","vineri","sâmbătă","duminică") -> joi | E11: =IF(WEEKDAY(G11,2)>5,"weekend","zi lucrătoare") -> zi lucrătoare | G11: =DATE(An,1,7) -> 46394
B12: Ziua Unirii Principatelor Române | C12: =RIGHT("0"&DAY(G12),2)&"."&RIGHT("0"&MONTH(G12),2)&"."&YEAR(G12) -> 24.01.2027 | D12: =CHOOSE(WEEKDAY(G12,2),"luni","marți","miercuri","joi","vineri","sâmbătă","duminică") -> duminică | E12: =IF(WEEKDAY(G12,2)>5,"weekend","zi lucrătoare") -> weekend | G12: =DATE(An,1,24) -> 46411
B13: Vinerea Mare | C13: =RIGHT("0"&DAY(G13),2)&"."&RIGHT("0"&MONTH(G13),2)&"."&YEAR(G13) -> 30.04.2027 | D13: =CHOOSE(WEEKDAY(G13,2),"luni","marți","miercuri","joi","vineri","sâmbătă","duminică") -> vineri | E13: =IF(WEEKDAY(G13,2)>5,"weekend","zi lucrătoare") -> zi lucrătoare | G13: =$G$5-2 -> 46507
B14: Prima zi de Paște | C14: =RIGHT("0"&DAY(G14),2)&"."&RIGHT("0"&MONTH(G14),2)&"."&YEAR(G14) -> 02.05.2027 | D14: =CHOOSE(WEEKDAY(G14,2),"luni","marți","miercuri","joi","vineri","sâmbătă","duminică") -> duminică | E14: =IF(WEEKDAY(G14,2)>5,"weekend","zi lucrătoare") -> weekend | G14: =$G$5 -> 46509
B15: A doua zi de Paște | C15: =RIGHT("0"&DAY(G15),2)&"."&RIGHT("0"&MONTH(G15),2)&"."&YEAR(G15) -> 03.05.2027 | D15: =CHOOSE(WEEKDAY(G15,2),"luni","marți","miercuri","joi","vineri","sâmbătă","duminică") -> luni | E15: =IF(WEEKDAY(G15,2)>5,"weekend","zi lucrătoare") -> zi lucrătoare | G15: =$G$5+1 -> 46510
B16: Ziua Muncii | C16: =RIGHT("0"&DAY(G16),2)&"."&RIGHT("0"&MONTH(G16),2)&"."&YEAR(G16) -> 01.05.2027 | D16: =CHOOSE(WEEKDAY(G16,2),"luni","marți","miercuri","joi","vineri","sâmbătă","duminică") -> sâmbătă | E16: =IF(WEEKDAY(G16,2)>5,"weekend","zi lucrătoare") -> weekend | G16: =DATE(An,5,1) -> 46508
B17: Ziua Copilului | C17: =RIGHT("0"&DAY(G17),2)&"."&RIGHT("0"&MONTH(G17),2)&"."&YEAR(G17) -> 01.06.2027 | D17: =CHOOSE(WEEKDAY(G17,2),"luni","marți","miercuri","joi","vineri","sâmbătă","duminică") -> marți | E17: =IF(WEEKDAY(G17,2)>5,"weekend","zi lucrătoare") -> zi lucrătoare | G17: =DATE(An,6,1) -> 46539
B18: Prima zi de Rusalii | C18: =RIGHT("0"&DAY(G18),2)&"."&RIGHT("0"&MONTH(G18),2)&"."&YEAR(G18) -> 20.06.2027 | D18: =CHOOSE(WEEKDAY(G18,2),"luni","marți","miercuri","joi","vineri","sâmbătă","duminică") -> duminică | E18: =IF(WEEKDAY(G18,2)>5,"weekend","zi lucrătoare") -> weekend | G18: =$G$5+49 -> 46558
B19: A doua zi de Rusalii | C19: =RIGHT("0"&DAY(G19),2)&"."&RIGHT("0"&MONTH(G19),2)&"."&YEAR(G19) -> 21.06.2027 | D19: =CHOOSE(WEEKDAY(G19,2),"luni","marți","miercuri","joi","vineri","sâmbătă","duminică") -> luni | E19: =IF(WEEKDAY(G19,2)>5,"weekend","zi lucrătoare") -> zi lucrătoare | G19: =$G$5+50 -> 46559
B20: Adormirea Maicii Domnului (Sfânta Maria) | C20: =RIGHT("0"&DAY(G20),2)&"."&RIGHT("0"&MONTH(G20),2)&"."&YEAR(G20) -> 15.08.2027 | D20: =CHOOSE(WEEKDAY(G20,2),"luni","marți","miercuri","joi","vineri","sâmbătă","duminică") -> duminică | E20: =IF(WEEKDAY(G20,2)>5,"weekend","zi lucrătoare") -> weekend | G20: =DATE(An,8,15) -> 46614
B21: Sfântul Andrei | C21: =RIGHT("0"&DAY(G21),2)&"."&RIGHT("0"&MONTH(G21),2)&"."&YEAR(G21) -> 30.11.2027 | D21: =CHOOSE(WEEKDAY(G21,2),"luni","marți","miercuri","joi","vineri","sâmbătă","duminică") -> marți | E21: =IF(WEEKDAY(G21,2)>5,"weekend","zi lucrătoare") -> zi lucrătoare | G21: =DATE(An,11,30) -> 46721
B22: Ziua Națională a României | C22: =RIGHT("0"&DAY(G22),2)&"."&RIGHT("0"&MONTH(G22),2)&"."&YEAR(G22) -> 01.12.2027 | D22: =CHOOSE(WEEKDAY(G22,2),"luni","marți","miercuri","joi","vineri","sâmbătă","duminică") -> miercuri | E22: =IF(WEEKDAY(G22,2)>5,"weekend","zi lucrătoare") -> zi lucrătoare | G22: =DATE(An,12,1) -> 46722
B23: Prima zi de Crăciun | C23: =RIGHT("0"&DAY(G23),2)&"."&RIGHT("0"&MONTH(G23),2)&"."&YEAR(G23) -> 25.12.2027 | D23: =CHOOSE(WEEKDAY(G23,2),"luni","marți","miercuri","joi","vineri","sâmbătă","duminică") -> sâmbătă | E23: =IF(WEEKDAY(G23,2)>5,"weekend","zi lucrătoare") -> weekend | G23: =DATE(An,12,25) -> 46746
B24: A doua zi de Crăciun | C24: =RIGHT("0"&DAY(G24),2)&"."&RIGHT("0"&MONTH(G24),2)&"."&YEAR(G24) -> 26.12.2027 | D24: =CHOOSE(WEEKDAY(G24,2),"luni","marți","miercuri","joi","vineri","sâmbătă","duminică") -> duminică | E24: =IF(WEEKDAY(G24,2)>5,"weekend","zi lucrătoare") -> weekend | G24: =DATE(An,12,26) -> 46747

Sheet Coduri
B2: Coduri folosite în planificator
B4: Cod | C4: Semnificație | D4: Se scade din zilele de CO?
B5: CO | C5: Concediu de odihnă | D5: Da
B6: CM | C6: Concediu medical | D6: Nu
B7: CFP | C7: Concediu fără plată | D7: Nu
B8: EV | C8: Eveniment familial deosebit (căsătorie, naștere, deces) | D8: Nu
B10: Doar zilele marcate CO în zile lucrătoare (luni–vineri, fără sărbători legale) se scad din zilele de concediu cuvenite.

Sheet Despre model
B1: Planificator concedii de odihnă 2027 Excel
B3: © 2026 Ray Moreno – modelexcel.ro
B4: Model gratuit: îl poți folosi și adapta în activitatea ta. Nu este permisă revânzarea lui sau publicarea pe alte site-uri.
B5: Instrucțiuni și alte modele: modelexcel.ro/planificator-concedii-2027-excel/
