Workbook
Name Azi: Setări!$C$6
Name Catalog: Produse!$B$5:$L$204
Name Categorii: Setări!$H$5:$H$14
Name Coduri: Produse!$B$5:$B$204
Name Firma: Setări!$C$4
Name Gestiunea: Setări!$C$5
Name TipSemn: Setări!$E$5:$F$12
Name Tipuri: Setări!$E$5:$E$12
Name ZileConsum: Setări!$C$7
Name ZileMort: Setări!$C$8

Sheet Panou
B1: Panou de gestiune a stocurilor
B2: =Firma&" · "&Gestiunea&" · situația la "&TEXT(DAY(Azi),"00")&"."&TEXT(MONTH(Azi),"00")&"."&YEAR(Azi) -> Exemplu Distribuție SRL · Depozit central Ploiești · situația la 13.10.2026
B4: Valoare totală stoc (lei) | D4: Produse în gestiune | F4: Sub stoc minim | H4: Rupturi de stoc | J4: Fără mișcare | L4: Valoare comandă propusă (lei)
B5: =SUM(Stocuri!$H$5:$H$204) -> 11517.16 | D5: =COUNTIF(Stocuri!$B$5:$B$204,"?*") -> 12 | F5: =COUNTIF(Stocuri!$O$5:$O$204,"Sub stoc minim") -> 3 | H5: =COUNTIF(Stocuri!$O$5:$O$204,"Ruptură de stoc") -> 1 | J5: =COUNTIF(Stocuri!$O$5:$O$204,"Fără mișcare") -> 1 | L5: ='Comandă furnizori'!K45 -> 9857
B8: Valoarea stocului pe categorii | G8: Intrări și ieșiri pe luni (valoare la cost)
B9: Categorie | D9: Produse | E9: Valoare (lei) | G9: Luna | H9: Intrări (lei) | I9: Ieșiri (lei)
B10: =IF(Setări!$H$5="","",Setări!$H$5) -> Cabluri | D10: =IF(B10="","",COUNTIF(Stocuri!$D$5:$D$204,B10)) -> 2 | E10: =IF(B10="","",SUMIF(Stocuri!$D$5:$D$204,B10,Stocuri!$H$5:$H$204)) -> 1608.32 | G10: =CHOOSE(MONTH(O10),"ian.","feb.","mar.","apr.","mai","iun.","iul.","aug.","sep.","oct.","nov.","dec.")&" "&YEAR(O10) -> mai 2026 | H10: =SUMIFS(Mișcări!$L$5:$L$2004,Mișcări!$B$5:$B$2004,">="&O10,Mișcări!$B$5:$B$2004,"<"&EDATE(O10,1),Mișcări!$J$5:$J$2004,1,Mișcări!$C$5:$C$2004,"<>Stoc inițial") -> 0 | I10: =SUMIFS(Mișcări!$M$5:$M$2004,Mișcări!$B$5:$B$2004,">="&O10,Mișcări!$B$5:$B$2004,"<"&EDATE(O10,1)) -> 0 | O10: =DATE(YEAR(Azi),MONTH(Azi)+(-5),1) -> 46143
B11: =IF(Setări!$H$6="","",Setări!$H$6) -> Tuburi și doze | D11: =IF(B11="","",COUNTIF(Stocuri!$D$5:$D$204,B11)) -> 2 | E11: =IF(B11="","",SUMIF(Stocuri!$D$5:$D$204,B11,Stocuri!$H$5:$H$204)) -> 392.52 | G11: =CHOOSE(MONTH(O11),"ian.","feb.","mar.","apr.","mai","iun.","iul.","aug.","sep.","oct.","nov.","dec.")&" "&YEAR(O11) -> iun. 2026 | H11: =SUMIFS(Mișcări!$L$5:$L$2004,Mișcări!$B$5:$B$2004,">="&O11,Mișcări!$B$5:$B$2004,"<"&EDATE(O11,1),Mișcări!$J$5:$J$2004,1,Mișcări!$C$5:$C$2004,"<>Stoc inițial") -> 0 | I11: =SUMIFS(Mișcări!$M$5:$M$2004,Mișcări!$B$5:$B$2004,">="&O11,Mișcări!$B$5:$B$2004,"<"&EDATE(O11,1)) -> 0 | O11: =DATE(YEAR(Azi),MONTH(Azi)+(-4),1) -> 46174
B12: =IF(Setări!$H$7="","",Setări!$H$7) -> Aparataj | D12: =IF(B12="","",COUNTIF(Stocuri!$D$5:$D$204,B12)) -> 2 | E12: =IF(B12="","",SUMIF(Stocuri!$D$5:$D$204,B12,Stocuri!$H$5:$H$204)) -> 1097.32 | G12: =CHOOSE(MONTH(O12),"ian.","feb.","mar.","apr.","mai","iun.","iul.","aug.","sep.","oct.","nov.","dec.")&" "&YEAR(O12) -> iul. 2026 | H12: =SUMIFS(Mișcări!$L$5:$L$2004,Mișcări!$B$5:$B$2004,">="&O12,Mișcări!$B$5:$B$2004,"<"&EDATE(O12,1),Mișcări!$J$5:$J$2004,1,Mișcări!$C$5:$C$2004,"<>Stoc inițial") -> 0 | I12: =SUMIFS(Mișcări!$M$5:$M$2004,Mișcări!$B$5:$B$2004,">="&O12,Mișcări!$B$5:$B$2004,"<"&EDATE(O12,1)) -> 6035.36 | O12: =DATE(YEAR(Azi),MONTH(Azi)+(-3),1) -> 46204
B13: =IF(Setări!$H$8="","",Setări!$H$8) -> Tablouri și protecții | D13: =IF(B13="","",COUNTIF(Stocuri!$D$5:$D$204,B13)) -> 2 | E13: =IF(B13="","",SUMIF(Stocuri!$D$5:$D$204,B13,Stocuri!$H$5:$H$204)) -> 2982 | G13: =CHOOSE(MONTH(O13),"ian.","feb.","mar.","apr.","mai","iun.","iul.","aug.","sep.","oct.","nov.","dec.")&" "&YEAR(O13) -> aug. 2026 | H13: =SUMIFS(Mișcări!$L$5:$L$2004,Mișcări!$B$5:$B$2004,">="&O13,Mișcări!$B$5:$B$2004,"<"&EDATE(O13,1),Mișcări!$J$5:$J$2004,1,Mișcări!$C$5:$C$2004,"<>Stoc inițial") -> 8910 | I13: =SUMIFS(Mișcări!$M$5:$M$2004,Mișcări!$B$5:$B$2004,">="&O13,Mișcări!$B$5:$B$2004,"<"&EDATE(O13,1)) -> 6544.45 | O13: =DATE(YEAR(Azi),MONTH(Azi)+(-2),1) -> 46235
B14: =IF(Setări!$H$9="","",Setări!$H$9) -> Iluminat | D14: =IF(B14="","",COUNTIF(Stocuri!$D$5:$D$204,B14)) -> 2 | E14: =IF(B14="","",SUMIF(Stocuri!$D$5:$D$204,B14,Stocuri!$H$5:$H$204)) -> 4598.4 | G14: =CHOOSE(MONTH(O14),"ian.","feb.","mar.","apr.","mai","iun.","iul.","aug.","sep.","oct.","nov.","dec.")&" "&YEAR(O14) -> sep. 2026 | H14: =SUMIFS(Mișcări!$L$5:$L$2004,Mișcări!$B$5:$B$2004,">="&O14,Mișcări!$B$5:$B$2004,"<"&EDATE(O14,1),Mișcări!$J$5:$J$2004,1,Mișcări!$C$5:$C$2004,"<>Stoc inițial") -> 5634 | I14: =SUMIFS(Mișcări!$M$5:$M$2004,Mișcări!$B$5:$B$2004,">="&O14,Mișcări!$B$5:$B$2004,"<"&EDATE(O14,1)) -> 6756.52 | O14: =DATE(YEAR(Azi),MONTH(Azi)+(-1),1) -> 46266
B15: =IF(Setări!$H$10="","",Setări!$H$10) -> Accesorii | D15: =IF(B15="","",COUNTIF(Stocuri!$D$5:$D$204,B15)) -> 2 | E15: =IF(B15="","",SUMIF(Stocuri!$D$5:$D$204,B15,Stocuri!$H$5:$H$204)) -> 838.6 | G15: =CHOOSE(MONTH(O15),"ian.","feb.","mar.","apr.","mai","iun.","iul.","aug.","sep.","oct.","nov.","dec.")&" "&YEAR(O15) -> oct. 2026 | H15: =SUMIFS(Mișcări!$L$5:$L$2004,Mișcări!$B$5:$B$2004,">="&O15,Mișcări!$B$5:$B$2004,"<"&EDATE(O15,1),Mișcări!$J$5:$J$2004,1,Mișcări!$C$5:$C$2004,"<>Stoc inițial") -> 0 | I15: =SUMIFS(Mișcări!$M$5:$M$2004,Mișcări!$B$5:$B$2004,">="&O15,Mișcări!$B$5:$B$2004,"<"&EDATE(O15,1)) -> 1830.51 | O15: =DATE(YEAR(Azi),MONTH(Azi)+(0),1) -> 46296
B16: =IF(Setări!$H$11="","",Setări!$H$11) | D16: =IF(B16="","",COUNTIF(Stocuri!$D$5:$D$204,B16)) | E16: =IF(B16="","",SUMIF(Stocuri!$D$5:$D$204,B16,Stocuri!$H$5:$H$204))
B17: =IF(Setări!$H$12="","",Setări!$H$12) | D17: =IF(B17="","",COUNTIF(Stocuri!$D$5:$D$204,B17)) | E17: =IF(B17="","",SUMIF(Stocuri!$D$5:$D$204,B17,Stocuri!$H$5:$H$204))
B18: =IF(Setări!$H$13="","",Setări!$H$13) | D18: =IF(B18="","",COUNTIF(Stocuri!$D$5:$D$204,B18)) | E18: =IF(B18="","",SUMIF(Stocuri!$D$5:$D$204,B18,Stocuri!$H$5:$H$204))
B19: =IF(Setări!$H$14="","",Setări!$H$14) | D19: =IF(B19="","",COUNTIF(Stocuri!$D$5:$D$204,B19)) | E19: =IF(B19="","",SUMIF(Stocuri!$D$5:$D$204,B19,Stocuri!$H$5:$H$204))
B22: De rezolvat acum
B23: Cod | C23: Denumire | D23: Status | E23: Stoc
B24: =IF($O24=0,"",INDEX(Stocuri!$B$5:$B$204,$O24)) -> P02 | C24: =IF($O24=0,"",INDEX(Stocuri!$C$5:$C$204,$O24)) -> Tub flexibil PVC 20 mm | D24: =IF($O24=0,"",INDEX(Stocuri!$O$5:$O$204,$O24)) -> Sub stoc minim | E24: =IF($O24=0,"",INDEX(Stocuri!$F$5:$F$204,$O24)&" "&INDEX(Stocuri!$E$5:$E$204,$O24)) -> 100 m | O24: =IFERROR(_xlfn.AGGREGATE(15,6,(ROW(Stocuri!$O$5:$O$204)-4)/((Stocuri!$O$5:$O$204<>"OK")*(Stocuri!$O$5:$O$204<>"")),1),0) -> 2
B25: =IF($O25=0,"",INDEX(Stocuri!$B$5:$B$204,$O25)) -> P05 | C25: =IF($O25=0,"",INDEX(Stocuri!$C$5:$C$204,$O25)) -> Priză dublă cu împământare | D25: =IF($O25=0,"",INDEX(Stocuri!$O$5:$O$204,$O25)) -> Sub stoc minim | E25: =IF($O25=0,"",INDEX(Stocuri!$F$5:$F$204,$O25)&" "&INDEX(Stocuri!$E$5:$E$204,$O25)) -> 30 buc | O25: =IFERROR(_xlfn.AGGREGATE(15,6,(ROW(Stocuri!$O$5:$O$204)-4)/((Stocuri!$O$5:$O$204<>"OK")*(Stocuri!$O$5:$O$204<>"")),2),0) -> 5
B26: =IF($O26=0,"",INDEX(Stocuri!$B$5:$B$204,$O26)) -> P08 | C26: =IF($O26=0,"",INDEX(Stocuri!$C$5:$C$204,$O26)) -> Corp iluminat LED 36W | D26: =IF($O26=0,"",INDEX(Stocuri!$O$5:$O$204,$O26)) -> Sub stoc minim | E26: =IF($O26=0,"",INDEX(Stocuri!$F$5:$F$204,$O26)&" "&INDEX(Stocuri!$E$5:$E$204,$O26)) -> 16 buc | O26: =IFERROR(_xlfn.AGGREGATE(15,6,(ROW(Stocuri!$O$5:$O$204)-4)/((Stocuri!$O$5:$O$204<>"OK")*(Stocuri!$O$5:$O$204<>"")),3),0) -> 8
B27: =IF($O27=0,"",INDEX(Stocuri!$B$5:$B$204,$O27)) -> P09 | C27: =IF($O27=0,"",INDEX(Stocuri!$C$5:$C$204,$O27)) -> Bec LED E27 9W | D27: =IF($O27=0,"",INDEX(Stocuri!$O$5:$O$204,$O27)) -> Exces de stoc | E27: =IF($O27=0,"",INDEX(Stocuri!$F$5:$F$204,$O27)&" "&INDEX(Stocuri!$E$5:$E$204,$O27)) -> 560 buc | O27: =IFERROR(_xlfn.AGGREGATE(15,6,(ROW(Stocuri!$O$5:$O$204)-4)/((Stocuri!$O$5:$O$204<>"OK")*(Stocuri!$O$5:$O$204<>"")),4),0) -> 9
B28: =IF($O28=0,"",INDEX(Stocuri!$B$5:$B$204,$O28)) -> P10 | C28: =IF($O28=0,"",INDEX(Stocuri!$C$5:$C$204,$O28)) -> Prelungitor 5 prize cu întrerupător | D28: =IF($O28=0,"",INDEX(Stocuri!$O$5:$O$204,$O28)) -> Fără mișcare | E28: =IF($O28=0,"",INDEX(Stocuri!$F$5:$F$204,$O28)&" "&INDEX(Stocuri!$E$5:$E$204,$O28)) -> 25 buc | O28: =IFERROR(_xlfn.AGGREGATE(15,6,(ROW(Stocuri!$O$5:$O$204)-4)/((Stocuri!$O$5:$O$204<>"OK")*(Stocuri!$O$5:$O$204<>"")),5),0) -> 10
B29: =IF($O29=0,"",INDEX(Stocuri!$B$5:$B$204,$O29)) -> P12 | C29: =IF($O29=0,"",INDEX(Stocuri!$C$5:$C$204,$O29)) -> Cablu MYF 1,5 mm | D29: =IF($O29=0,"",INDEX(Stocuri!$O$5:$O$204,$O29)) -> Ruptură de stoc | E29: =IF($O29=0,"",INDEX(Stocuri!$F$5:$F$204,$O29)&" "&INDEX(Stocuri!$E$5:$E$204,$O29)) -> 0 m | O29: =IFERROR(_xlfn.AGGREGATE(15,6,(ROW(Stocuri!$O$5:$O$204)-4)/((Stocuri!$O$5:$O$204<>"OK")*(Stocuri!$O$5:$O$204<>"")),6),0) -> 12
B30: =IF($O30=0,"",INDEX(Stocuri!$B$5:$B$204,$O30)) | C30: =IF($O30=0,"",INDEX(Stocuri!$C$5:$C$204,$O30)) | D30: =IF($O30=0,"",INDEX(Stocuri!$O$5:$O$204,$O30)) | E30: =IF($O30=0,"",INDEX(Stocuri!$F$5:$F$204,$O30)&" "&INDEX(Stocuri!$E$5:$E$204,$O30)) | O30: =IFERROR(_xlfn.AGGREGATE(15,6,(ROW(Stocuri!$O$5:$O$204)-4)/((Stocuri!$O$5:$O$204<>"OK")*(Stocuri!$O$5:$O$204<>"")),7),0) -> 0
B31: =IF($O31=0,"",INDEX(Stocuri!$B$5:$B$204,$O31)) | C31: =IF($O31=0,"",INDEX(Stocuri!$C$5:$C$204,$O31)) | D31: =IF($O31=0,"",INDEX(Stocuri!$O$5:$O$204,$O31)) | E31: =IF($O31=0,"",INDEX(Stocuri!$F$5:$F$204,$O31)&" "&INDEX(Stocuri!$E$5:$E$204,$O31)) | O31: =IFERROR(_xlfn.AGGREGATE(15,6,(ROW(Stocuri!$O$5:$O$204)-4)/((Stocuri!$O$5:$O$204<>"OK")*(Stocuri!$O$5:$O$204<>"")),8),0) -> 0

Sheet Stocuri
B1: Stocuri în timp real
B2: Se calculează singur din Mișcări, la data de referință. Statusul arată ce trebuie comandat, ce lipsește și ce stă pe raft fără mișcare.
K3: ="(ultimele "&ZileConsum&" zile)" -> (ultimele 30 zile)
B4: Cod | C4: Denumire | D4: Categorie | E4: U.M. | F4: Stoc curent | G4: Cost mediu ponderat (CMP) | H4: Valoare stoc | I4: Stoc minim | J4: Stoc maxim | K4: Ieșiri în ultimele zile | L4: Consum mediu pe zi | M4: Zile de acoperire | N4: Ultima mișcare | O4: Status | P4: Propunere comandă
B5: =IF(Produse!B5="","",Produse!B5) -> P01 | C5: =IF(B5="","",Produse!C5) -> Cablu CYY-F 3x2,5 | D5: =IF(B5="","",Produse!D5) -> Cabluri | E5: =IF(B5="","",Produse!E5) -> m | F5: =IF(B5="","",SUMIFS(Mișcări!$K$5:$K$2004,Mișcări!$D$5:$D$2004,B5,Mișcări!$B$5:$B$2004,"<="&Azi)) -> 448 | G5: =IF(B5="","",IFERROR(SUMIFS(Mișcări!$L$5:$L$2004,Mișcări!$D$5:$D$2004,B5)/SUMIFS(Mișcări!$F$5:$F$2004,Mișcări!$D$5:$D$2004,B5,Mișcări!$J$5:$J$2004,1,Mișcări!$G$5:$G$2004,">0"),Produse!G5)) -> 3.59 | H5: =IF(B5="","",ROUND(MAX(0,F5)*G5,2)) -> 1608.32 | I5: =IF(B5="","",Produse!I5) -> 300 | J5: =IF(B5="","",Produse!J5) -> 1500 | K5: =IF(B5="","",-SUMIFS(Mișcări!$K$5:$K$2004,Mișcări!$D$5:$D$2004,B5,Mișcări!$J$5:$J$2004,-1,Mișcări!$B$5:$B$2004,">"&(Azi-ZileConsum),Mișcări!$B$5:$B$2004,"<="&Azi)) -> 452 | L5: =IF(B5="","",K5/ZileConsum) -> 15.066667 | M5: =IF(B5="","",IF(N(L5)=0,"–",ROUND(MAX(0,F5)/L5,0))) -> 30 | N5: =IF(B5="","",IFERROR(_xlfn.AGGREGATE(14,6,Mișcări!$B$5:$B$2004/(Mișcări!$D$5:$D$2004=B5),1),"")) -> 46301 | O5: =IF(B5="","",IF(F5<=0,"Ruptură de stoc",IF(F5<I5,"Sub stoc minim",IF(AND(N(J5)>0,F5>J5),"Exces de stoc",IF(AND(N5<>"",Azi-N5>ZileMort),"Fără mișcare","OK"))))) -> OK | P5: =IF(B5="","",IF(F5<I5,MAX(0,J5-MAX(0,F5)),0)) -> 0
B6: =IF(Produse!B6="","",Produse!B6) -> P02 | C6: =IF(B6="","",Produse!C6) -> Tub flexibil PVC 20 mm | D6: =IF(B6="","",Produse!D6) -> Tuburi și doze | E6: =IF(B6="","",Produse!E6) -> m | F6: =IF(B6="","",SUMIFS(Mișcări!$K$5:$K$2004,Mișcări!$D$5:$D$2004,B6,Mișcări!$B$5:$B$2004,"<="&Azi)) -> 100 | G6: =IF(B6="","",IFERROR(SUMIFS(Mișcări!$L$5:$L$2004,Mișcări!$D$5:$D$2004,B6)/SUMIFS(Mișcări!$F$5:$F$2004,Mișcări!$D$5:$D$2004,B6,Mișcări!$J$5:$J$2004,1,Mișcări!$G$5:$G$2004,">0"),Produse!G6)) -> 1.16875 | H6: =IF(B6="","",ROUND(MAX(0,F6)*G6,2)) -> 116.88 | I6: =IF(B6="","",Produse!I6) -> 200 | J6: =IF(B6="","",Produse!J6) -> 800 | K6: =IF(B6="","",-SUMIFS(Mișcări!$K$5:$K$2004,Mișcări!$D$5:$D$2004,B6,Mișcări!$J$5:$J$2004,-1,Mișcări!$B$5:$B$2004,">"&(Azi-ZileConsum),Mișcări!$B$5:$B$2004,"<="&Azi)) -> 200 | L6: =IF(B6="","",K6/ZileConsum) -> 6.6666667 | M6: =IF(B6="","",IF(N(L6)=0,"–",ROUND(MAX(0,F6)/L6,0))) -> 15 | N6: =IF(B6="","",IFERROR(_xlfn.AGGREGATE(14,6,Mișcări!$B$5:$B$2004/(Mișcări!$D$5:$D$2004=B6),1),"")) -> 46302 | O6: =IF(B6="","",IF(F6<=0,"Ruptură de stoc",IF(F6<I6,"Sub stoc minim",IF(AND(N(J6)>0,F6>J6),"Exces de stoc",IF(AND(N6<>"",Azi-N6>ZileMort),"Fără mișcare","OK"))))) -> Sub stoc minim | P6: =IF(B6="","",IF(F6<I6,MAX(0,J6-MAX(0,F6)),0)) -> 700
B7: =IF(Produse!B7="","",Produse!B7) -> P03 | C7: =IF(B7="","",Produse!C7) -> Doză aparat îngropată | D7: =IF(B7="","",Produse!D7) -> Tuburi și doze | E7: =IF(B7="","",Produse!E7) -> buc | F7: =IF(B7="","",SUMIFS(Mișcări!$K$5:$K$2004,Mișcări!$D$5:$D$2004,B7,Mișcări!$B$5:$B$2004,"<="&Azi)) -> 400 | G7: =IF(B7="","",IFERROR(SUMIFS(Mișcări!$L$5:$L$2004,Mișcări!$D$5:$D$2004,B7)/SUMIFS(Mișcări!$F$5:$F$2004,Mișcări!$D$5:$D$2004,B7,Mișcări!$J$5:$J$2004,1,Mișcări!$G$5:$G$2004,">0"),Produse!G7)) -> 0.68909091 | H7: =IF(B7="","",ROUND(MAX(0,F7)*G7,2)) -> 275.64 | I7: =IF(B7="","",Produse!I7) -> 200 | J7: =IF(B7="","",Produse!J7) -> 1000 | K7: =IF(B7="","",-SUMIFS(Mișcări!$K$5:$K$2004,Mișcări!$D$5:$D$2004,B7,Mișcări!$J$5:$J$2004,-1,Mișcări!$B$5:$B$2004,">"&(Azi-ZileConsum),Mișcări!$B$5:$B$2004,"<="&Azi)) -> 200 | L7: =IF(B7="","",K7/ZileConsum) -> 6.6666667 | M7: =IF(B7="","",IF(N(L7)=0,"–",ROUND(MAX(0,F7)/L7,0))) -> 60 | N7: =IF(B7="","",IFERROR(_xlfn.AGGREGATE(14,6,Mișcări!$B$5:$B$2004/(Mișcări!$D$5:$D$2004=B7),1),"")) -> 46303 | O7: =IF(B7="","",IF(F7<=0,"Ruptură de stoc",IF(F7<I7,"Sub stoc minim",IF(AND(N(J7)>0,F7>J7),"Exces de stoc",IF(AND(N7<>"",Azi-N7>ZileMort),"Fără mișcare","OK"))))) -> OK | P7: =IF(B7="","",IF(F7<I7,MAX(0,J7-MAX(0,F7)),0)) -> 0
B8: =IF(Produse!B8="","",Produse!B8) -> P04 | C8: =IF(B8="","",Produse!C8) -> Întrerupător simplu Schneider Sedna | D8: =IF(B8="","",Produse!D8) -> Aparataj | E8: =IF(B8="","",Produse!E8) -> buc | F8: =IF(B8="","",SUMIFS(Mișcări!$K$5:$K$2004,Mișcări!$D$5:$D$2004,B8,Mișcări!$B$5:$B$2004,"<="&Azi)) -> 74 | G8: =IF(B8="","",IFERROR(SUMIFS(Mișcări!$L$5:$L$2004,Mișcări!$D$5:$D$2004,B8)/SUMIFS(Mișcări!$F$5:$F$2004,Mișcări!$D$5:$D$2004,B8,Mișcări!$J$5:$J$2004,1,Mișcări!$G$5:$G$2004,">0"),Produse!G8)) -> 9.68 | H8: =IF(B8="","",ROUND(MAX(0,F8)*G8,2)) -> 716.32 | I8: =IF(B8="","",Produse!I8) -> 40 | J8: =IF(B8="","",Produse!J8) -> 200 | K8: =IF(B8="","",-SUMIFS(Mișcări!$K$5:$K$2004,Mișcări!$D$5:$D$2004,B8,Mișcări!$J$5:$J$2004,-1,Mișcări!$B$5:$B$2004,">"&(Azi-ZileConsum),Mișcări!$B$5:$B$2004,"<="&Azi)) -> 36 | L8: =IF(B8="","",K8/ZileConsum) -> 1.2 | M8: =IF(B8="","",IF(N(L8)=0,"–",ROUND(MAX(0,F8)/L8,0))) -> 62 | N8: =IF(B8="","",IFERROR(_xlfn.AGGREGATE(14,6,Mișcări!$B$5:$B$2004/(Mișcări!$D$5:$D$2004=B8),1),"")) -> 46300 | O8: =IF(B8="","",IF(F8<=0,"Ruptură de stoc",IF(F8<I8,"Sub stoc minim",IF(AND(N(J8)>0,F8>J8),"Exces de stoc",IF(AND(N8<>"",Azi-N8>ZileMort),"Fără mișcare","OK"))))) -> OK | P8: =IF(B8="","",IF(F8<I8,MAX(0,J8-MAX(0,F8)),0)) -> 0
B9: =IF(Produse!B9="","",Produse!B9) -> P05 | C9: =IF(B9="","",Produse!C9) -> Priză dublă cu împământare | D9: =IF(B9="","",Produse!D9) -> Aparataj | E9: =IF(B9="","",Produse!E9) -> buc | F9: =IF(B9="","",SUMIFS(Mișcări!$K$5:$K$2004,Mișcări!$D$5:$D$2004,B9,Mișcări!$B$5:$B$2004,"<="&Azi)) -> 30 | G9: =IF(B9="","",IFERROR(SUMIFS(Mișcări!$L$5:$L$2004,Mișcări!$D$5:$D$2004,B9)/SUMIFS(Mișcări!$F$5:$F$2004,Mișcări!$D$5:$D$2004,B9,Mișcări!$J$5:$J$2004,1,Mișcări!$G$5:$G$2004,">0"),Produse!G9)) -> 12.7 | H9: =IF(B9="","",ROUND(MAX(0,F9)*G9,2)) -> 381 | I9: =IF(B9="","",Produse!I9) -> 40 | J9: =IF(B9="","",Produse!J9) -> 200 | K9: =IF(B9="","",-SUMIFS(Mișcări!$K$5:$K$2004,Mișcări!$D$5:$D$2004,B9,Mișcări!$J$5:$J$2004,-1,Mișcări!$B$5:$B$2004,">"&(Azi-ZileConsum),Mișcări!$B$5:$B$2004,"<="&Azi)) -> 20 | L9: =IF(B9="","",K9/ZileConsum) -> 0.66666667 | M9: =IF(B9="","",IF(N(L9)=0,"–",ROUND(MAX(0,F9)/L9,0))) -> 45 | N9: =IF(B9="","",IFERROR(_xlfn.AGGREGATE(14,6,Mișcări!$B$5:$B$2004/(Mișcări!$D$5:$D$2004=B9),1),"")) -> 46301 | O9: =IF(B9="","",IF(F9<=0,"Ruptură de stoc",IF(F9<I9,"Sub stoc minim",IF(AND(N(J9)>0,F9>J9),"Exces de stoc",IF(AND(N9<>"",Azi-N9>ZileMort),"Fără mișcare","OK"))))) -> Sub stoc minim | P9: =IF(B9="","",IF(F9<I9,MAX(0,J9-MAX(0,F9)),0)) -> 170
B10: =IF(Produse!B10="","",Produse!B10) -> P06 | C10: =IF(B10="","",Produse!C10) -> Tablou electric 12 module | D10: =IF(B10="","",Produse!D10) -> Tablouri și protecții | E10: =IF(B10="","",Produse!E10) -> buc | F10: =IF(B10="","",SUMIFS(Mișcări!$K$5:$K$2004,Mișcări!$D$5:$D$2004,B10,Mișcări!$B$5:$B$2004,"<="&Azi)) -> 9 | G10: =IF(B10="","",IFERROR(SUMIFS(Mișcări!$L$5:$L$2004,Mișcări!$D$5:$D$2004,B10)/SUMIFS(Mișcări!$F$5:$F$2004,Mișcări!$D$5:$D$2004,B10,Mișcări!$J$5:$J$2004,1,Mișcări!$G$5:$G$2004,">0"),Produse!G10)) -> 96.666667 | H10: =IF(B10="","",ROUND(MAX(0,F10)*G10,2)) -> 870 | I10: =IF(B10="","",Produse!I10) -> 5 | J10: =IF(B10="","",Produse!J10) -> 25 | K10: =IF(B10="","",-SUMIFS(Mișcări!$K$5:$K$2004,Mișcări!$D$5:$D$2004,B10,Mișcări!$J$5:$J$2004,-1,Mișcări!$B$5:$B$2004,">"&(Azi-ZileConsum),Mișcări!$B$5:$B$2004,"<="&Azi)) -> 6 | L10: =IF(B10="","",K10/ZileConsum) -> 0.2 | M10: =IF(B10="","",IF(N(L10)=0,"–",ROUND(MAX(0,F10)/L10,0))) -> 45 | N10: =IF(B10="","",IFERROR(_xlfn.AGGREGATE(14,6,Mișcări!$B$5:$B$2004/(Mișcări!$D$5:$D$2004=B10),1),"")) -> 46302 | O10: =IF(B10="","",IF(F10<=0,"Ruptură de stoc",IF(F10<I10,"Sub stoc minim",IF(AND(N(J10)>0,F10>J10),"Exces de stoc",IF(AND(N10<>"",Azi-N10>ZileMort),"Fără mișcare","OK"))))) -> OK | P10: =IF(B10="","",IF(F10<I10,MAX(0,J10-MAX(0,F10)),0)) -> 0
B11: =IF(Produse!B11="","",Produse!B11) -> P07 | C11: =IF(B11="","",Produse!C11) -> Siguranță automată 16A | D11: =IF(B11="","",Produse!D11) -> Tablouri și protecții | E11: =IF(B11="","",Produse!E11) -> buc | F11: =IF(B11="","",SUMIFS(Mișcări!$K$5:$K$2004,Mișcări!$D$5:$D$2004,B11,Mișcări!$B$5:$B$2004,"<="&Azi)) -> 140 | G11: =IF(B11="","",IFERROR(SUMIFS(Mișcări!$L$5:$L$2004,Mișcări!$D$5:$D$2004,B11)/SUMIFS(Mișcări!$F$5:$F$2004,Mișcări!$D$5:$D$2004,B11,Mișcări!$J$5:$J$2004,1,Mișcări!$G$5:$G$2004,">0"),Produse!G11)) -> 15.085714 | H11: =IF(B11="","",ROUND(MAX(0,F11)*G11,2)) -> 2112 | I11: =IF(B11="","",Produse!I11) -> 50 | J11: =IF(B11="","",Produse!J11) -> 250 | K11: =IF(B11="","",-SUMIFS(Mișcări!$K$5:$K$2004,Mișcări!$D$5:$D$2004,B11,Mișcări!$J$5:$J$2004,-1,Mișcări!$B$5:$B$2004,">"&(Azi-ZileConsum),Mișcări!$B$5:$B$2004,"<="&Azi)) -> 60 | L11: =IF(B11="","",K11/ZileConsum) -> 2 | M11: =IF(B11="","",IF(N(L11)=0,"–",ROUND(MAX(0,F11)/L11,0))) -> 70 | N11: =IF(B11="","",IFERROR(_xlfn.AGGREGATE(14,6,Mișcări!$B$5:$B$2004/(Mișcări!$D$5:$D$2004=B11),1),"")) -> 46303 | O11: =IF(B11="","",IF(F11<=0,"Ruptură de stoc",IF(F11<I11,"Sub stoc minim",IF(AND(N(J11)>0,F11>J11),"Exces de stoc",IF(AND(N11<>"",Azi-N11>ZileMort),"Fără mișcare","OK"))))) -> OK | P11: =IF(B11="","",IF(F11<I11,MAX(0,J11-MAX(0,F11)),0)) -> 0
B12: =IF(Produse!B12="","",Produse!B12) -> P08 | C12: =IF(B12="","",Produse!C12) -> Corp iluminat LED 36W | D12: =IF(B12="","",Produse!D12) -> Iluminat | E12: =IF(B12="","",Produse!E12) -> buc | F12: =IF(B12="","",SUMIFS(Mișcări!$K$5:$K$2004,Mișcări!$D$5:$D$2004,B12,Mișcări!$B$5:$B$2004,"<="&Azi)) -> 16 | G12: =IF(B12="","",IFERROR(SUMIFS(Mișcări!$L$5:$L$2004,Mișcări!$D$5:$D$2004,B12)/SUMIFS(Mișcări!$F$5:$F$2004,Mișcări!$D$5:$D$2004,B12,Mișcări!$J$5:$J$2004,1,Mișcări!$G$5:$G$2004,">0"),Produse!G12)) -> 61.4 | H12: =IF(B12="","",ROUND(MAX(0,F12)*G12,2)) -> 982.4 | I12: =IF(B12="","",Produse!I12) -> 20 | J12: =IF(B12="","",Produse!J12) -> 100 | K12: =IF(B12="","",-SUMIFS(Mișcări!$K$5:$K$2004,Mișcări!$D$5:$D$2004,B12,Mișcări!$J$5:$J$2004,-1,Mișcări!$B$5:$B$2004,">"&(Azi-ZileConsum),Mișcări!$B$5:$B$2004,"<="&Azi)) -> 24 | L12: =IF(B12="","",K12/ZileConsum) -> 0.8 | M12: =IF(B12="","",IF(N(L12)=0,"–",ROUND(MAX(0,F12)/L12,0))) -> 20 | N12: =IF(B12="","",IFERROR(_xlfn.AGGREGATE(14,6,Mișcări!$B$5:$B$2004/(Mișcări!$D$5:$D$2004=B12),1),"")) -> 46300 | O12: =IF(B12="","",IF(F12<=0,"Ruptură de stoc",IF(F12<I12,"Sub stoc minim",IF(AND(N(J12)>0,F12>J12),"Exces de stoc",IF(AND(N12<>"",Azi-N12>ZileMort),"Fără mișcare","OK"))))) -> Sub stoc minim | P12: =IF(B12="","",IF(F12<I12,MAX(0,J12-MAX(0,F12)),0)) -> 84
B13: =IF(Produse!B13="","",Produse!B13) -> P09 | C13: =IF(B13="","",Produse!C13) -> Bec LED E27 9W | D13: =IF(B13="","",Produse!D13) -> Iluminat | E13: =IF(B13="","",Produse!E13) -> buc | F13: =IF(B13="","",SUMIFS(Mișcări!$K$5:$K$2004,Mișcări!$D$5:$D$2004,B13,Mișcări!$B$5:$B$2004,"<="&Azi)) -> 560 | G13: =IF(B13="","",IFERROR(SUMIFS(Mișcări!$L$5:$L$2004,Mișcări!$D$5:$D$2004,B13)/SUMIFS(Mișcări!$F$5:$F$2004,Mișcări!$D$5:$D$2004,B13,Mișcări!$J$5:$J$2004,1,Mișcări!$G$5:$G$2004,">0"),Produse!G13)) -> 6.4571429 | H13: =IF(B13="","",ROUND(MAX(0,F13)*G13,2)) -> 3616 | I13: =IF(B13="","",Produse!I13) -> 100 | J13: =IF(B13="","",Produse!J13) -> 400 | K13: =IF(B13="","",-SUMIFS(Mișcări!$K$5:$K$2004,Mișcări!$D$5:$D$2004,B13,Mișcări!$J$5:$J$2004,-1,Mișcări!$B$5:$B$2004,">"&(Azi-ZileConsum),Mișcări!$B$5:$B$2004,"<="&Azi)) -> 40 | L13: =IF(B13="","",K13/ZileConsum) -> 1.3333333 | M13: =IF(B13="","",IF(N(L13)=0,"–",ROUND(MAX(0,F13)/L13,0))) -> 420 | N13: =IF(B13="","",IFERROR(_xlfn.AGGREGATE(14,6,Mișcări!$B$5:$B$2004/(Mișcări!$D$5:$D$2004=B13),1),"")) -> 46301 | O13: =IF(B13="","",IF(F13<=0,"Ruptură de stoc",IF(F13<I13,"Sub stoc minim",IF(AND(N(J13)>0,F13>J13),"Exces de stoc",IF(AND(N13<>"",Azi-N13>ZileMort),"Fără mișcare","OK"))))) -> Exces de stoc | P13: =IF(B13="","",IF(F13<I13,MAX(0,J13-MAX(0,F13)),0)) -> 0
B14: =IF(Produse!B14="","",Produse!B14) -> P10 | C14: =IF(B14="","",Produse!C14) -> Prelungitor 5 prize cu întrerupător | D14: =IF(B14="","",Produse!D14) -> Accesorii | E14: =IF(B14="","",Produse!E14) -> buc | F14: =IF(B14="","",SUMIFS(Mișcări!$K$5:$K$2004,Mișcări!$D$5:$D$2004,B14,Mișcări!$B$5:$B$2004,"<="&Azi)) -> 25 | G14: =IF(B14="","",IFERROR(SUMIFS(Mișcări!$L$5:$L$2004,Mișcări!$D$5:$D$2004,B14)/SUMIFS(Mișcări!$F$5:$F$2004,Mișcări!$D$5:$D$2004,B14,Mișcări!$J$5:$J$2004,1,Mișcări!$G$5:$G$2004,">0"),Produse!G14)) -> 28 | H14: =IF(B14="","",ROUND(MAX(0,F14)*G14,2)) -> 700 | I14: =IF(B14="","",Produse!I14) -> 10 | J14: =IF(B14="","",Produse!J14) -> 40 | K14: =IF(B14="","",-SUMIFS(Mișcări!$K$5:$K$2004,Mișcări!$D$5:$D$2004,B14,Mișcări!$J$5:$J$2004,-1,Mișcări!$B$5:$B$2004,">"&(Azi-ZileConsum),Mișcări!$B$5:$B$2004,"<="&Azi)) -> 0 | L14: =IF(B14="","",K14/ZileConsum) -> 0 | M14: =IF(B14="","",IF(N(L14)=0,"–",ROUND(MAX(0,F14)/L14,0))) -> – | N14: =IF(B14="","",IFERROR(_xlfn.AGGREGATE(14,6,Mișcări!$B$5:$B$2004/(Mișcări!$D$5:$D$2004=B14),1),"")) -> 46204 | O14: =IF(B14="","",IF(F14<=0,"Ruptură de stoc",IF(F14<I14,"Sub stoc minim",IF(AND(N(J14)>0,F14>J14),"Exces de stoc",IF(AND(N14<>"",Azi-N14>ZileMort),"Fără mișcare","OK"))))) -> Fără mișcare | P14: =IF(B14="","",IF(F14<I14,MAX(0,J14-MAX(0,F14)),0)) -> 0
B15: =IF(Produse!B15="","",Produse!B15) -> P11 | C15: =IF(B15="","",Produse!C15) -> Bandă izolatoare 19 mm | D15: =IF(B15="","",Produse!D15) -> Accesorii | E15: =IF(B15="","",Produse!E15) -> buc | F15: =IF(B15="","",SUMIFS(Mișcări!$K$5:$K$2004,Mișcări!$D$5:$D$2004,B15,Mișcări!$B$5:$B$2004,"<="&Azi)) -> 66 | G15: =IF(B15="","",IFERROR(SUMIFS(Mișcări!$L$5:$L$2004,Mișcări!$D$5:$D$2004,B15)/SUMIFS(Mișcări!$F$5:$F$2004,Mișcări!$D$5:$D$2004,B15,Mișcări!$J$5:$J$2004,1,Mișcări!$G$5:$G$2004,">0"),Produse!G15)) -> 2.1 | H15: =IF(B15="","",ROUND(MAX(0,F15)*G15,2)) -> 138.6 | I15: =IF(B15="","",Produse!I15) -> 50 | J15: =IF(B15="","",Produse!J15) -> 200 | K15: =IF(B15="","",-SUMIFS(Mișcări!$K$5:$K$2004,Mișcări!$D$5:$D$2004,B15,Mișcări!$J$5:$J$2004,-1,Mișcări!$B$5:$B$2004,">"&(Azi-ZileConsum),Mișcări!$B$5:$B$2004,"<="&Azi)) -> 24 | L15: =IF(B15="","",K15/ZileConsum) -> 0.8 | M15: =IF(B15="","",IF(N(L15)=0,"–",ROUND(MAX(0,F15)/L15,0))) -> 83 | N15: =IF(B15="","",IFERROR(_xlfn.AGGREGATE(14,6,Mișcări!$B$5:$B$2004/(Mișcări!$D$5:$D$2004=B15),1),"")) -> 46303 | O15: =IF(B15="","",IF(F15<=0,"Ruptură de stoc",IF(F15<I15,"Sub stoc minim",IF(AND(N(J15)>0,F15>J15),"Exces de stoc",IF(AND(N15<>"",Azi-N15>ZileMort),"Fără mișcare","OK"))))) -> OK | P15: =IF(B15="","",IF(F15<I15,MAX(0,J15-MAX(0,F15)),0)) -> 0
B16: =IF(Produse!B16="","",Produse!B16) -> P12 | C16: =IF(B16="","",Produse!C16) -> Cablu MYF 1,5 mm | D16: =IF(B16="","",Produse!D16) -> Cabluri | E16: =IF(B16="","",Produse!E16) -> m | F16: =IF(B16="","",SUMIFS(Mișcări!$K$5:$K$2004,Mișcări!$D$5:$D$2004,B16,Mișcări!$B$5:$B$2004,"<="&Azi)) -> 0 | G16: =IF(B16="","",IFERROR(SUMIFS(Mișcări!$L$5:$L$2004,Mișcări!$D$5:$D$2004,B16)/SUMIFS(Mișcări!$F$5:$F$2004,Mișcări!$D$5:$D$2004,B16,Mișcări!$J$5:$J$2004,1,Mișcări!$G$5:$G$2004,">0"),Produse!G16)) -> 1.0714286 | H16: =IF(B16="","",ROUND(MAX(0,F16)*G16,2)) -> 0 | I16: =IF(B16="","",Produse!I16) -> 300 | J16: =IF(B16="","",Produse!J16) -> 1500 | K16: =IF(B16="","",-SUMIFS(Mișcări!$K$5:$K$2004,Mișcări!$D$5:$D$2004,B16,Mișcări!$J$5:$J$2004,-1,Mișcări!$B$5:$B$2004,">"&(Azi-ZileConsum),Mișcări!$B$5:$B$2004,"<="&Azi)) -> 200 | L16: =IF(B16="","",K16/ZileConsum) -> 6.6666667 | M16: =IF(B16="","",IF(N(L16)=0,"–",ROUND(MAX(0,F16)/L16,0))) -> 0 | N16: =IF(B16="","",IFERROR(_xlfn.AGGREGATE(14,6,Mișcări!$B$5:$B$2004/(Mișcări!$D$5:$D$2004=B16),1),"")) -> 46300 | O16: =IF(B16="","",IF(F16<=0,"Ruptură de stoc",IF(F16<I16,"Sub stoc minim",IF(AND(N(J16)>0,F16>J16),"Exces de stoc",IF(AND(N16<>"",Azi-N16>ZileMort),"Fără mișcare","OK"))))) -> Ruptură de stoc | P16: =IF(B16="","",IF(F16<I16,MAX(0,J16-MAX(0,F16)),0)) -> 1500
... B204: =IF(Produse!B204="","",Produse!B204) | C204: =IF(B204="","",Produse!C204) | D204: =IF(B204="","",Produse!D204) | E204: =IF(B204="","",Produse!E204) | F204: =IF(B204="","",SUMIFS(Mișcări!$K$5:$K$2004,Mișcări!$D$5:$D$2004,B204,Mișcări!$B$5:$B$2004,"<="&Azi)) | G204: =IF(B204="","",IFERROR(SUMIFS(Mișcări!$L$5:$L$2004,Mișcări!$D$5:$D$2004,B204)/SUMIFS(Mișcări!$F$5:$F$2004,Mișcări!$D$5:$D$2004,B204,Mișcări!$J$5:$J$2004,1,Mișcări!$G$5:$G$2004,">0"),Produse!G204)) | H204: =IF(B204="","",ROUND(MAX(0,F204)*G204,2)) | I204: =IF(B204="","",Produse!I204) | J204: =IF(B204="","",Produse!J204) | K204: =IF(B204="","",-SUMIFS(Mișcări!$K$5:$K$2004,Mișcări!$D$5:$D$2004,B204,Mișcări!$J$5:$J$2004,-1,Mișcări!$B$5:$B$2004,">"&(Azi-ZileConsum),Mișcări!$B$5:$B$2004,"<="&Azi)) | L204: =IF(B204="","",K204/ZileConsum) | M204: =IF(B204="","",IF(N(L204)=0,"–",ROUND(MAX(0,F204)/L204,0))) | N204: =IF(B204="","",IFERROR(_xlfn.AGGREGATE(14,6,Mișcări!$B$5:$B$2004/(Mișcări!$D$5:$D$2004=B204),1),"")) | O204: =IF(B204="","",IF(F204<=0,"Ruptură de stoc",IF(F204<I204,"Sub stoc minim",IF(AND(N(J204)>0,F204>J204),"Exces de stoc",IF(AND(N204<>"",Azi-N204>ZileMort),"Fără mișcare","OK"))))) | P204: =IF(B204="","",IF(F204<I204,MAX(0,J204-MAX(0,F204)),0))

Sheet Mișcări
B1: Mișcări de stoc
B2: Un rând pentru fiecare intrare sau ieșire, cu documentul care o justifică (NIR, aviz, factură, bon de consum). Cantitatea se scrie fără semn: semnul vine din tipul mișcării.
B4: Data | C4: Tip mișcare | D4: Cod | E4: Denumire | F4: Cantitate | G4: Preț unitar (intrări) | H4: Document | I4: Partener | J4: Semn | K4: Cantitate cu semn | L4: Valoare intrare | M4: Valoare ieșire (la CMP) | N4: Verificare
B5: =DATE(2026,7,1) -> 46204 | C5: Stoc inițial | D5: P01 | E5: =IF(D5="","",IFERROR(VLOOKUP(D5,Catalog,2,FALSE),"")) -> Cablu CYY-F 3x2,5 | F5: 800 | G5: 3.5 | J5: =IF(C5="","",IFERROR(VLOOKUP(C5,TipSemn,2,FALSE),"")) -> 1 | K5: =IF(OR(J5="",F5=""),"",J5*F5) -> 800 | L5: =IF(OR(J5<>1,G5=""),"",ROUND(F5*G5,2)) -> 2800 | M5: =IF(J5<>-1,"",ROUND(F5*IFERROR(INDEX(Stocuri!$G$5:$G$204,MATCH(D5,Coduri,0)),0),2)) | N5: =IF(AND(B5="",D5=""),"",TRIM(IF(OR(B5="",C5="",D5="",F5=""),"Date incomplete. ","")&IF(AND(D5<>"",E5=""),"Cod necunoscut. ","")&IF(AND(J5=1,C5<>"Retur de la client",C5<>"Ajustare inventar +",G5=""),"Lipsește prețul de intrare. ","")&IF(AND(J5=-1,D5<>"",SUMIFS($K$5:$K$2004,$D$5:$D$2004,D5,$B$5:$B$2004,"<="&B5)<0),"Stoc insuficient la această dată. ","")&IF(AND(C5<>"Stoc inițial",H5=""),"Lipsește documentul. ","")))
B6: =DATE(2026,7,1) -> 46204 | C6: Stoc inițial | D6: P02 | E6: =IF(D6="","",IFERROR(VLOOKUP(D6,Catalog,2,FALSE),"")) -> Tub flexibil PVC 20 mm | F6: 500 | G6: 1.15 | J6: =IF(C6="","",IFERROR(VLOOKUP(C6,TipSemn,2,FALSE),"")) -> 1 | K6: =IF(OR(J6="",F6=""),"",J6*F6) -> 500 | L6: =IF(OR(J6<>1,G6=""),"",ROUND(F6*G6,2)) -> 575 | M6: =IF(J6<>-1,"",ROUND(F6*IFERROR(INDEX(Stocuri!$G$5:$G$204,MATCH(D6,Coduri,0)),0),2)) | N6: =IF(AND(B6="",D6=""),"",TRIM(IF(OR(B6="",C6="",D6="",F6=""),"Date incomplete. ","")&IF(AND(D6<>"",E6=""),"Cod necunoscut. ","")&IF(AND(J6=1,C6<>"Retur de la client",C6<>"Ajustare inventar +",G6=""),"Lipsește prețul de intrare. ","")&IF(AND(J6=-1,D6<>"",SUMIFS($K$5:$K$2004,$D$5:$D$2004,D6,$B$5:$B$2004,"<="&B6)<0),"Stoc insuficient la această dată. ","")&IF(AND(C6<>"Stoc inițial",H6=""),"Lipsește documentul. ","")))
B7: =DATE(2026,7,1) -> 46204 | C7: Stoc inițial | D7: P03 | E7: =IF(D7="","",IFERROR(VLOOKUP(D7,Catalog,2,FALSE),"")) -> Doză aparat îngropată | F7: 600 | G7: 0.68 | J7: =IF(C7="","",IFERROR(VLOOKUP(C7,TipSemn,2,FALSE),"")) -> 1 | K7: =IF(OR(J7="",F7=""),"",J7*F7) -> 600 | L7: =IF(OR(J7<>1,G7=""),"",ROUND(F7*G7,2)) -> 408 | M7: =IF(J7<>-1,"",ROUND(F7*IFERROR(INDEX(Stocuri!$G$5:$G$204,MATCH(D7,Coduri,0)),0),2)) | N7: =IF(AND(B7="",D7=""),"",TRIM(IF(OR(B7="",C7="",D7="",F7=""),"Date incomplete. ","")&IF(AND(D7<>"",E7=""),"Cod necunoscut. ","")&IF(AND(J7=1,C7<>"Retur de la client",C7<>"Ajustare inventar +",G7=""),"Lipsește prețul de intrare. ","")&IF(AND(J7=-1,D7<>"",SUMIFS($K$5:$K$2004,$D$5:$D$2004,D7,$B$5:$B$2004,"<="&B7)<0),"Stoc insuficient la această dată. ","")&IF(AND(C7<>"Stoc inițial",H7=""),"Lipsește documentul. ","")))
B8: =DATE(2026,7,1) -> 46204 | C8: Stoc inițial | D8: P04 | E8: =IF(D8="","",IFERROR(VLOOKUP(D8,Catalog,2,FALSE),"")) -> Întrerupător simplu Schneider Sedna | F8: 120 | G8: 9.6 | J8: =IF(C8="","",IFERROR(VLOOKUP(C8,TipSemn,2,FALSE),"")) -> 1 | K8: =IF(OR(J8="",F8=""),"",J8*F8) -> 120 | L8: =IF(OR(J8<>1,G8=""),"",ROUND(F8*G8,2)) -> 1152 | M8: =IF(J8<>-1,"",ROUND(F8*IFERROR(INDEX(Stocuri!$G$5:$G$204,MATCH(D8,Coduri,0)),0),2)) | N8: =IF(AND(B8="",D8=""),"",TRIM(IF(OR(B8="",C8="",D8="",F8=""),"Date incomplete. ","")&IF(AND(D8<>"",E8=""),"Cod necunoscut. ","")&IF(AND(J8=1,C8<>"Retur de la client",C8<>"Ajustare inventar +",G8=""),"Lipsește prețul de intrare. ","")&IF(AND(J8=-1,D8<>"",SUMIFS($K$5:$K$2004,$D$5:$D$2004,D8,$B$5:$B$2004,"<="&B8)<0),"Stoc insuficient la această dată. ","")&IF(AND(C8<>"Stoc inițial",H8=""),"Lipsește documentul. ","")))
B9: =DATE(2026,7,1) -> 46204 | C9: Stoc inițial | D9: P05 | E9: =IF(D9="","",IFERROR(VLOOKUP(D9,Catalog,2,FALSE),"")) -> Priză dublă cu împământare | F9: 100 | G9: 12.7 | J9: =IF(C9="","",IFERROR(VLOOKUP(C9,TipSemn,2,FALSE),"")) -> 1 | K9: =IF(OR(J9="",F9=""),"",J9*F9) -> 100 | L9: =IF(OR(J9<>1,G9=""),"",ROUND(F9*G9,2)) -> 1270 | M9: =IF(J9<>-1,"",ROUND(F9*IFERROR(INDEX(Stocuri!$G$5:$G$204,MATCH(D9,Coduri,0)),0),2)) | N9: =IF(AND(B9="",D9=""),"",TRIM(IF(OR(B9="",C9="",D9="",F9=""),"Date incomplete. ","")&IF(AND(D9<>"",E9=""),"Cod necunoscut. ","")&IF(AND(J9=1,C9<>"Retur de la client",C9<>"Ajustare inventar +",G9=""),"Lipsește prețul de intrare. ","")&IF(AND(J9=-1,D9<>"",SUMIFS($K$5:$K$2004,$D$5:$D$2004,D9,$B$5:$B$2004,"<="&B9)<0),"Stoc insuficient la această dată. ","")&IF(AND(C9<>"Stoc inițial",H9=""),"Lipsește documentul. ","")))
B10: =DATE(2026,7,1) -> 46204 | C10: Stoc inițial | D10: P06 | E10: =IF(D10="","",IFERROR(VLOOKUP(D10,Catalog,2,FALSE),"")) -> Tablou electric 12 module | F10: 20 | G10: 96 | J10: =IF(C10="","",IFERROR(VLOOKUP(C10,TipSemn,2,FALSE),"")) -> 1 | K10: =IF(OR(J10="",F10=""),"",J10*F10) -> 20 | L10: =IF(OR(J10<>1,G10=""),"",ROUND(F10*G10,2)) -> 1920 | M10: =IF(J10<>-1,"",ROUND(F10*IFERROR(INDEX(Stocuri!$G$5:$G$204,MATCH(D10,Coduri,0)),0),2)) | N10: =IF(AND(B10="",D10=""),"",TRIM(IF(OR(B10="",C10="",D10="",F10=""),"Date incomplete. ","")&IF(AND(D10<>"",E10=""),"Cod necunoscut. ","")&IF(AND(J10=1,C10<>"Retur de la client",C10<>"Ajustare inventar +",G10=""),"Lipsește prețul de intrare. ","")&IF(AND(J10=-1,D10<>"",SUMIFS($K$5:$K$2004,$D$5:$D$2004,D10,$B$5:$B$2004,"<="&B10)<0),"Stoc insuficient la această dată. ","")&IF(AND(C10<>"Stoc inițial",H10=""),"Lipsește documentul. ","")))
B11: =DATE(2026,7,1) -> 46204 | C11: Stoc inițial | D11: P07 | E11: =IF(D11="","",IFERROR(VLOOKUP(D11,Catalog,2,FALSE),"")) -> Siguranță automată 16A | F11: 200 | G11: 15 | J11: =IF(C11="","",IFERROR(VLOOKUP(C11,TipSemn,2,FALSE),"")) -> 1 | K11: =IF(OR(J11="",F11=""),"",J11*F11) -> 200 | L11: =IF(OR(J11<>1,G11=""),"",ROUND(F11*G11,2)) -> 3000 | M11: =IF(J11<>-1,"",ROUND(F11*IFERROR(INDEX(Stocuri!$G$5:$G$204,MATCH(D11,Coduri,0)),0),2)) | N11: =IF(AND(B11="",D11=""),"",TRIM(IF(OR(B11="",C11="",D11="",F11=""),"Date incomplete. ","")&IF(AND(D11<>"",E11=""),"Cod necunoscut. ","")&IF(AND(J11=1,C11<>"Retur de la client",C11<>"Ajustare inventar +",G11=""),"Lipsește prețul de intrare. ","")&IF(AND(J11=-1,D11<>"",SUMIFS($K$5:$K$2004,$D$5:$D$2004,D11,$B$5:$B$2004,"<="&B11)<0),"Stoc insuficient la această dată. ","")&IF(AND(C11<>"Stoc inițial",H11=""),"Lipsește documentul. ","")))
B12: =DATE(2026,7,1) -> 46204 | C12: Stoc inițial | D12: P08 | E12: =IF(D12="","",IFERROR(VLOOKUP(D12,Catalog,2,FALSE),"")) -> Corp iluminat LED 36W | F12: 60 | G12: 61 | J12: =IF(C12="","",IFERROR(VLOOKUP(C12,TipSemn,2,FALSE),"")) -> 1 | K12: =IF(OR(J12="",F12=""),"",J12*F12) -> 60 | L12: =IF(OR(J12<>1,G12=""),"",ROUND(F12*G12,2)) -> 3660 | M12: =IF(J12<>-1,"",ROUND(F12*IFERROR(INDEX(Stocuri!$G$5:$G$204,MATCH(D12,Coduri,0)),0),2)) | N12: =IF(AND(B12="",D12=""),"",TRIM(IF(OR(B12="",C12="",D12="",F12=""),"Date incomplete. ","")&IF(AND(D12<>"",E12=""),"Cod necunoscut. ","")&IF(AND(J12=1,C12<>"Retur de la client",C12<>"Ajustare inventar +",G12=""),"Lipsește prețul de intrare. ","")&IF(AND(J12=-1,D12<>"",SUMIFS($K$5:$K$2004,$D$5:$D$2004,D12,$B$5:$B$2004,"<="&B12)<0),"Stoc insuficient la această dată. ","")&IF(AND(C12<>"Stoc inițial",H12=""),"Lipsește documentul. ","")))
B13: =DATE(2026,7,1) -> 46204 | C13: Stoc inițial | D13: P09 | E13: =IF(D13="","",IFERROR(VLOOKUP(D13,Catalog,2,FALSE),"")) -> Bec LED E27 9W | F13: 300 | G13: 6.4 | J13: =IF(C13="","",IFERROR(VLOOKUP(C13,TipSemn,2,FALSE),"")) -> 1 | K13: =IF(OR(J13="",F13=""),"",J13*F13) -> 300 | L13: =IF(OR(J13<>1,G13=""),"",ROUND(F13*G13,2)) -> 1920 | M13: =IF(J13<>-1,"",ROUND(F13*IFERROR(INDEX(Stocuri!$G$5:$G$204,MATCH(D13,Coduri,0)),0),2)) | N13: =IF(AND(B13="",D13=""),"",TRIM(IF(OR(B13="",C13="",D13="",F13=""),"Date incomplete. ","")&IF(AND(D13<>"",E13=""),"Cod necunoscut. ","")&IF(AND(J13=1,C13<>"Retur de la client",C13<>"Ajustare inventar +",G13=""),"Lipsește prețul de intrare. ","")&IF(AND(J13=-1,D13<>"",SUMIFS($K$5:$K$2004,$D$5:$D$2004,D13,$B$5:$B$2004,"<="&B13)<0),"Stoc insuficient la această dată. ","")&IF(AND(C13<>"Stoc inițial",H13=""),"Lipsește documentul. ","")))
B14: =DATE(2026,7,1) -> 46204 | C14: Stoc inițial | D14: P10 | E14: =IF(D14="","",IFERROR(VLOOKUP(D14,Catalog,2,FALSE),"")) -> Prelungitor 5 prize cu întrerupător | F14: 25 | G14: 28 | J14: =IF(C14="","",IFERROR(VLOOKUP(C14,TipSemn,2,FALSE),"")) -> 1 | K14: =IF(OR(J14="",F14=""),"",J14*F14) -> 25 | L14: =IF(OR(J14<>1,G14=""),"",ROUND(F14*G14,2)) -> 700 | M14: =IF(J14<>-1,"",ROUND(F14*IFERROR(INDEX(Stocuri!$G$5:$G$204,MATCH(D14,Coduri,0)),0),2)) | N14: =IF(AND(B14="",D14=""),"",TRIM(IF(OR(B14="",C14="",D14="",F14=""),"Date incomplete. ","")&IF(AND(D14<>"",E14=""),"Cod necunoscut. ","")&IF(AND(J14=1,C14<>"Retur de la client",C14<>"Ajustare inventar +",G14=""),"Lipsește prețul de intrare. ","")&IF(AND(J14=-1,D14<>"",SUMIFS($K$5:$K$2004,$D$5:$D$2004,D14,$B$5:$B$2004,"<="&B14)<0),"Stoc insuficient la această dată. ","")&IF(AND(C14<>"Stoc inițial",H14=""),"Lipsește documentul. ","")))
B15: =DATE(2026,7,1) -> 46204 | C15: Stoc inițial | D15: P11 | E15: =IF(D15="","",IFERROR(VLOOKUP(D15,Catalog,2,FALSE),"")) -> Bandă izolatoare 19 mm | F15: 150 | G15: 2.1 | J15: =IF(C15="","",IFERROR(VLOOKUP(C15,TipSemn,2,FALSE),"")) -> 1 | K15: =IF(OR(J15="",F15=""),"",J15*F15) -> 150 | L15: =IF(OR(J15<>1,G15=""),"",ROUND(F15*G15,2)) -> 315 | M15: =IF(J15<>-1,"",ROUND(F15*IFERROR(INDEX(Stocuri!$G$5:$G$204,MATCH(D15,Coduri,0)),0),2)) | N15: =IF(AND(B15="",D15=""),"",TRIM(IF(OR(B15="",C15="",D15="",F15=""),"Date incomplete. ","")&IF(AND(D15<>"",E15=""),"Cod necunoscut. ","")&IF(AND(J15=1,C15<>"Retur de la client",C15<>"Ajustare inventar +",G15=""),"Lipsește prețul de intrare. ","")&IF(AND(J15=-1,D15<>"",SUMIFS($K$5:$K$2004,$D$5:$D$2004,D15,$B$5:$B$2004,"<="&B15)<0),"Stoc insuficient la această dată. ","")&IF(AND(C15<>"Stoc inițial",H15=""),"Lipsește documentul. ","")))
B16: =DATE(2026,7,1) -> 46204 | C16: Stoc inițial | D16: P12 | E16: =IF(D16="","",IFERROR(VLOOKUP(D16,Catalog,2,FALSE),"")) -> Cablu MYF 1,5 mm | F16: 400 | G16: 1.05 | J16: =IF(C16="","",IFERROR(VLOOKUP(C16,TipSemn,2,FALSE),"")) -> 1 | K16: =IF(OR(J16="",F16=""),"",J16*F16) -> 400 | L16: =IF(OR(J16<>1,G16=""),"",ROUND(F16*G16,2)) -> 420 | M16: =IF(J16<>-1,"",ROUND(F16*IFERROR(INDEX(Stocuri!$G$5:$G$204,MATCH(D16,Coduri,0)),0),2)) | N16: =IF(AND(B16="",D16=""),"",TRIM(IF(OR(B16="",C16="",D16="",F16=""),"Date incomplete. ","")&IF(AND(D16<>"",E16=""),"Cod necunoscut. ","")&IF(AND(J16=1,C16<>"Retur de la client",C16<>"Ajustare inventar +",G16=""),"Lipsește prețul de intrare. ","")&IF(AND(J16=-1,D16<>"",SUMIFS($K$5:$K$2004,$D$5:$D$2004,D16,$B$5:$B$2004,"<="&B16)<0),"Stoc insuficient la această dată. ","")&IF(AND(C16<>"Stoc inițial",H16=""),"Lipsește documentul. ","")))
B17: =DATE(2026,7,6) -> 46209 | C17: Ieșire (vânzare) | D17: P04 | E17: =IF(D17="","",IFERROR(VLOOKUP(D17,Catalog,2,FALSE),"")) -> Întrerupător simplu Schneider Sedna | F17: 9 | H17: Aviz AV 133 | I17: Exemplu Construct SRL | J17: =IF(C17="","",IFERROR(VLOOKUP(C17,TipSemn,2,FALSE),"")) -> -1 | K17: =IF(OR(J17="",F17=""),"",J17*F17) -> -9 | L17: =IF(OR(J17<>1,G17=""),"",ROUND(F17*G17,2)) | M17: =IF(J17<>-1,"",ROUND(F17*IFERROR(INDEX(Stocuri!$G$5:$G$204,MATCH(D17,Coduri,0)),0),2)) -> 87.12 | N17: =IF(AND(B17="",D17=""),"",TRIM(IF(OR(B17="",C17="",D17="",F17=""),"Date incomplete. ","")&IF(AND(D17<>"",E17=""),"Cod necunoscut. ","")&IF(AND(J17=1,C17<>"Retur de la client",C17<>"Ajustare inventar +",G17=""),"Lipsește prețul de intrare. ","")&IF(AND(J17=-1,D17<>"",SUMIFS($K$5:$K$2004,$D$5:$D$2004,D17,$B$5:$B$2004,"<="&B17)<0),"Stoc insuficient la această dată. ","")&IF(AND(C17<>"Stoc inițial",H17=""),"Lipsește documentul. ","")))
B18: =DATE(2026,7,6) -> 46209 | C18: Ieșire (vânzare) | D18: P08 | E18: =IF(D18="","",IFERROR(VLOOKUP(D18,Catalog,2,FALSE),"")) -> Corp iluminat LED 36W | F18: 6 | H18: Aviz AV 189 | I18: Casa Verde SRL | J18: =IF(C18="","",IFERROR(VLOOKUP(C18,TipSemn,2,FALSE),"")) -> -1 | K18: =IF(OR(J18="",F18=""),"",J18*F18) -> -6 | L18: =IF(OR(J18<>1,G18=""),"",ROUND(F18*G18,2)) | M18: =IF(J18<>-1,"",ROUND(F18*IFERROR(INDEX(Stocuri!$G$5:$G$204,MATCH(D18,Coduri,0)),0),2)) -> 368.4 | N18: =IF(AND(B18="",D18=""),"",TRIM(IF(OR(B18="",C18="",D18="",F18=""),"Date incomplete. ","")&IF(AND(D18<>"",E18=""),"Cod necunoscut. ","")&IF(AND(J18=1,C18<>"Retur de la client",C18<>"Ajustare inventar +",G18=""),"Lipsește prețul de intrare. ","")&IF(AND(J18=-1,D18<>"",SUMIFS($K$5:$K$2004,$D$5:$D$2004,D18,$B$5:$B$2004,"<="&B18)<0),"Stoc insuficient la această dată. ","")&IF(AND(C18<>"Stoc inițial",H18=""),"Lipsește documentul. ","")))
B19: =DATE(2026,7,6) -> 46209 | C19: Ieșire (vânzare) | D19: P12 | E19: =IF(D19="","",IFERROR(VLOOKUP(D19,Catalog,2,FALSE),"")) -> Cablu MYF 1,5 mm | F19: 50 | H19: Aviz AV 231 | I19: Montaj Expert SRL | J19: =IF(C19="","",IFERROR(VLOOKUP(C19,TipSemn,2,FALSE),"")) -> -1 | K19: =IF(OR(J19="",F19=""),"",J19*F19) -> -50 | L19: =IF(OR(J19<>1,G19=""),"",ROUND(F19*G19,2)) | M19: =IF(J19<>-1,"",ROUND(F19*IFERROR(INDEX(Stocuri!$G$5:$G$204,MATCH(D19,Coduri,0)),0),2)) -> 53.57 | N19: =IF(AND(B19="",D19=""),"",TRIM(IF(OR(B19="",C19="",D19="",F19=""),"Date incomplete. ","")&IF(AND(D19<>"",E19=""),"Cod necunoscut. ","")&IF(AND(J19=1,C19<>"Retur de la client",C19<>"Ajustare inventar +",G19=""),"Lipsește prețul de intrare. ","")&IF(AND(J19=-1,D19<>"",SUMIFS($K$5:$K$2004,$D$5:$D$2004,D19,$B$5:$B$2004,"<="&B19)<0),"Stoc insuficient la această dată. ","")&IF(AND(C19<>"Stoc inițial",H19=""),"Lipsește documentul. ","")))
B20: =DATE(2026,7,7) -> 46210 | C20: Ieșire (vânzare) | D20: P01 | E20: =IF(D20="","",IFERROR(VLOOKUP(D20,Catalog,2,FALSE),"")) -> Cablu CYY-F 3x2,5 | F20: 110 | H20: Aviz AV 91 | I20: Instal Rapid SRL | J20: =IF(C20="","",IFERROR(VLOOKUP(C20,TipSemn,2,FALSE),"")) -> -1 | K20: =IF(OR(J20="",F20=""),"",J20*F20) -> -110 | L20: =IF(OR(J20<>1,G20=""),"",ROUND(F20*G20,2)) | M20: =IF(J20<>-1,"",ROUND(F20*IFERROR(INDEX(Stocuri!$G$5:$G$204,MATCH(D20,Coduri,0)),0),2)) -> 394.9 | N20: =IF(AND(B20="",D20=""),"",TRIM(IF(OR(B20="",C20="",D20="",F20=""),"Date incomplete. ","")&IF(AND(D20<>"",E20=""),"Cod necunoscut. ","")&IF(AND(J20=1,C20<>"Retur de la client",C20<>"Ajustare inventar +",G20=""),"Lipsește prețul de intrare. ","")&IF(AND(J20=-1,D20<>"",SUMIFS($K$5:$K$2004,$D$5:$D$2004,D20,$B$5:$B$2004,"<="&B20)<0),"Stoc insuficient la această dată. ","")&IF(AND(C20<>"Stoc inițial",H20=""),"Lipsește documentul. ","")))
B21: =DATE(2026,7,7) -> 46210 | C21: Ieșire (vânzare) | D21: P05 | E21: =IF(D21="","",IFERROR(VLOOKUP(D21,Catalog,2,FALSE),"")) -> Priză dublă cu împământare | F21: 5 | H21: Aviz AV 147 | I21: Electro Plus SRL | J21: =IF(C21="","",IFERROR(VLOOKUP(C21,TipSemn,2,FALSE),"")) -> -1 | K21: =IF(OR(J21="",F21=""),"",J21*F21) -> -5 | L21: =IF(OR(J21<>1,G21=""),"",ROUND(F21*G21,2)) | M21: =IF(J21<>-1,"",ROUND(F21*IFERROR(INDEX(Stocuri!$G$5:$G$204,MATCH(D21,Coduri,0)),0),2)) -> 63.5 | N21: =IF(AND(B21="",D21=""),"",TRIM(IF(OR(B21="",C21="",D21="",F21=""),"Date incomplete. ","")&IF(AND(D21<>"",E21=""),"Cod necunoscut. ","")&IF(AND(J21=1,C21<>"Retur de la client",C21<>"Ajustare inventar +",G21=""),"Lipsește prețul de intrare. ","")&IF(AND(J21=-1,D21<>"",SUMIFS($K$5:$K$2004,$D$5:$D$2004,D21,$B$5:$B$2004,"<="&B21)<0),"Stoc insuficient la această dată. ","")&IF(AND(C21<>"Stoc inițial",H21=""),"Lipsește documentul. ","")))
B22: =DATE(2026,7,7) -> 46210 | C22: Ieșire (vânzare) | D22: P09 | E22: =IF(D22="","",IFERROR(VLOOKUP(D22,Catalog,2,FALSE),"")) -> Bec LED E27 9W | F22: 10 | H22: Aviz AV 203 | I22: Exemplu Construct SRL | J22: =IF(C22="","",IFERROR(VLOOKUP(C22,TipSemn,2,FALSE),"")) -> -1 | K22: =IF(OR(J22="",F22=""),"",J22*F22) -> -10 | L22: =IF(OR(J22<>1,G22=""),"",ROUND(F22*G22,2)) | M22: =IF(J22<>-1,"",ROUND(F22*IFERROR(INDEX(Stocuri!$G$5:$G$204,MATCH(D22,Coduri,0)),0),2)) -> 64.57 | N22: =IF(AND(B22="",D22=""),"",TRIM(IF(OR(B22="",C22="",D22="",F22=""),"Date incomplete. ","")&IF(AND(D22<>"",E22=""),"Cod necunoscut. ","")&IF(AND(J22=1,C22<>"Retur de la client",C22<>"Ajustare inventar +",G22=""),"Lipsește prețul de intrare. ","")&IF(AND(J22=-1,D22<>"",SUMIFS($K$5:$K$2004,$D$5:$D$2004,D22,$B$5:$B$2004,"<="&B22)<0),"Stoc insuficient la această dată. ","")&IF(AND(C22<>"Stoc inițial",H22=""),"Lipsește documentul. ","")))
B23: =DATE(2026,7,8) -> 46211 | C23: Ieșire (vânzare) | D23: P02 | E23: =IF(D23="","",IFERROR(VLOOKUP(D23,Catalog,2,FALSE),"")) -> Tub flexibil PVC 20 mm | F23: 50 | H23: Aviz AV 105 | I23: Montaj Expert SRL | J23: =IF(C23="","",IFERROR(VLOOKUP(C23,TipSemn,2,FALSE),"")) -> -1 | K23: =IF(OR(J23="",F23=""),"",J23*F23) -> -50 | L23: =IF(OR(J23<>1,G23=""),"",ROUND(F23*G23,2)) | M23: =IF(J23<>-1,"",ROUND(F23*IFERROR(INDEX(Stocuri!$G$5:$G$204,MATCH(D23,Coduri,0)),0),2)) -> 58.44 | N23: =IF(AND(B23="",D23=""),"",TRIM(IF(OR(B23="",C23="",D23="",F23=""),"Date incomplete. ","")&IF(AND(D23<>"",E23=""),"Cod necunoscut. ","")&IF(AND(J23=1,C23<>"Retur de la client",C23<>"Ajustare inventar +",G23=""),"Lipsește prețul de intrare. ","")&IF(AND(J23=-1,D23<>"",SUMIFS($K$5:$K$2004,$D$5:$D$2004,D23,$B$5:$B$2004,"<="&B23)<0),"Stoc insuficient la această dată. ","")&IF(AND(C23<>"Stoc inițial",H23=""),"Lipsește documentul. ","")))
B24: =DATE(2026,7,8) -> 46211 | C24: Ieșire (vânzare) | D24: P06 | E24: =IF(D24="","",IFERROR(VLOOKUP(D24,Catalog,2,FALSE),"")) -> Tablou electric 12 module | F24: 1 | H24: Aviz AV 161 | I24: Instal Rapid SRL | J24: =IF(C24="","",IFERROR(VLOOKUP(C24,TipSemn,2,FALSE),"")) -> -1 | K24: =IF(OR(J24="",F24=""),"",J24*F24) -> -1 | L24: =IF(OR(J24<>1,G24=""),"",ROUND(F24*G24,2)) | M24: =IF(J24<>-1,"",ROUND(F24*IFERROR(INDEX(Stocuri!$G$5:$G$204,MATCH(D24,Coduri,0)),0),2)) -> 96.67 | N24: =IF(AND(B24="",D24=""),"",TRIM(IF(OR(B24="",C24="",D24="",F24=""),"Date incomplete. ","")&IF(AND(D24<>"",E24=""),"Cod necunoscut. ","")&IF(AND(J24=1,C24<>"Retur de la client",C24<>"Ajustare inventar +",G24=""),"Lipsește prețul de intrare. ","")&IF(AND(J24=-1,D24<>"",SUMIFS($K$5:$K$2004,$D$5:$D$2004,D24,$B$5:$B$2004,"<="&B24)<0),"Stoc insuficient la această dată. ","")&IF(AND(C24<>"Stoc inițial",H24=""),"Lipsește documentul. ","")))
B25: =DATE(2026,7,9) -> 46212 | C25: Ieșire (vânzare) | D25: P03 | E25: =IF(D25="","",IFERROR(VLOOKUP(D25,Catalog,2,FALSE),"")) -> Doză aparat îngropată | F25: 50 | H25: Aviz AV 119 | I25: Casa Verde SRL | J25: =IF(C25="","",IFERROR(VLOOKUP(C25,TipSemn,2,FALSE),"")) -> -1 | K25: =IF(OR(J25="",F25=""),"",J25*F25) -> -50 | L25: =IF(OR(J25<>1,G25=""),"",ROUND(F25*G25,2)) | M25: =IF(J25<>-1,"",ROUND(F25*IFERROR(INDEX(Stocuri!$G$5:$G$204,MATCH(D25,Coduri,0)),0),2)) -> 34.45 | N25: =IF(AND(B25="",D25=""),"",TRIM(IF(OR(B25="",C25="",D25="",F25=""),"Date incomplete. ","")&IF(AND(D25<>"",E25=""),"Cod necunoscut. ","")&IF(AND(J25=1,C25<>"Retur de la client",C25<>"Ajustare inventar +",G25=""),"Lipsește prețul de intrare. ","")&IF(AND(J25=-1,D25<>"",SUMIFS($K$5:$K$2004,$D$5:$D$2004,D25,$B$5:$B$2004,"<="&B25)<0),"Stoc insuficient la această dată. ","")&IF(AND(C25<>"Stoc inițial",H25=""),"Lipsește documentul. ","")))
B26: =DATE(2026,7,9) -> 46212 | C26: Ieșire (vânzare) | D26: P07 | E26: =IF(D26="","",IFERROR(VLOOKUP(D26,Catalog,2,FALSE),"")) -> Siguranță automată 16A | F26: 15 | H26: Aviz AV 175 | I26: Montaj Expert SRL | J26: =IF(C26="","",IFERROR(VLOOKUP(C26,TipSemn,2,FALSE),"")) -> -1 | K26: =IF(OR(J26="",F26=""),"",J26*F26) -> -15 | L26: =IF(OR(J26<>1,G26=""),"",ROUND(F26*G26,2)) | M26: =IF(J26<>-1,"",ROUND(F26*IFERROR(INDEX(Stocuri!$G$5:$G$204,MATCH(D26,Coduri,0)),0),2)) -> 226.29 | N26: =IF(AND(B26="",D26=""),"",TRIM(IF(OR(B26="",C26="",D26="",F26=""),"Date incomplete. ","")&IF(AND(D26<>"",E26=""),"Cod necunoscut. ","")&IF(AND(J26=1,C26<>"Retur de la client",C26<>"Ajustare inventar +",G26=""),"Lipsește prețul de intrare. ","")&IF(AND(J26=-1,D26<>"",SUMIFS($K$5:$K$2004,$D$5:$D$2004,D26,$B$5:$B$2004,"<="&B26)<0),"Stoc insuficient la această dată. ","")&IF(AND(C26<>"Stoc inițial",H26=""),"Lipsește documentul. ","")))
B27: =DATE(2026,7,9) -> 46212 | C27: Ieșire (vânzare) | D27: P11 | E27: =IF(D27="","",IFERROR(VLOOKUP(D27,Catalog,2,FALSE),"")) -> Bandă izolatoare 19 mm | F27: 6 | H27: Aviz AV 217 | I27: Instal Rapid SRL | J27: =IF(C27="","",IFERROR(VLOOKUP(C27,TipSemn,2,FALSE),"")) -> -1 | K27: =IF(OR(J27="",F27=""),"",J27*F27) -> -6 | L27: =IF(OR(J27<>1,G27=""),"",ROUND(F27*G27,2)) | M27: =IF(J27<>-1,"",ROUND(F27*IFERROR(INDEX(Stocuri!$G$5:$G$204,MATCH(D27,Coduri,0)),0),2)) -> 12.6 | N27: =IF(AND(B27="",D27=""),"",TRIM(IF(OR(B27="",C27="",D27="",F27=""),"Date incomplete. ","")&IF(AND(D27<>"",E27=""),"Cod necunoscut. ","")&IF(AND(J27=1,C27<>"Retur de la client",C27<>"Ajustare inventar +",G27=""),"Lipsește prețul de intrare. ","")&IF(AND(J27=-1,D27<>"",SUMIFS($K$5:$K$2004,$D$5:$D$2004,D27,$B$5:$B$2004,"<="&B27)<0),"Stoc insuficient la această dată. ","")&IF(AND(C27<>"Stoc inițial",H27=""),"Lipsește documentul. ","")))
B28: =DATE(2026,7,13) -> 46216 | C28: Ieșire (vânzare) | D28: P04 | E28: =IF(D28="","",IFERROR(VLOOKUP(D28,Catalog,2,FALSE),"")) -> Întrerupător simplu Schneider Sedna | F28: 9 | H28: Aviz AV 134 | I28: Electro Plus SRL | J28: =IF(C28="","",IFERROR(VLOOKUP(C28,TipSemn,2,FALSE),"")) -> -1 | K28: =IF(OR(J28="",F28=""),"",J28*F28) -> -9 | L28: =IF(OR(J28<>1,G28=""),"",ROUND(F28*G28,2)) | M28: =IF(J28<>-1,"",ROUND(F28*IFERROR(INDEX(Stocuri!$G$5:$G$204,MATCH(D28,Coduri,0)),0),2)) -> 87.12 | N28: =IF(AND(B28="",D28=""),"",TRIM(IF(OR(B28="",C28="",D28="",F28=""),"Date incomplete. ","")&IF(AND(D28<>"",E28=""),"Cod necunoscut. ","")&IF(AND(J28=1,C28<>"Retur de la client",C28<>"Ajustare inventar +",G28=""),"Lipsește prețul de intrare. ","")&IF(AND(J28=-1,D28<>"",SUMIFS($K$5:$K$2004,$D$5:$D$2004,D28,$B$5:$B$2004,"<="&B28)<0),"Stoc insuficient la această dată. ","")&IF(AND(C28<>"Stoc inițial",H28=""),"Lipsește documentul. ","")))
B29: =DATE(2026,7,13) -> 46216 | C29: Ieșire (vânzare) | D29: P08 | E29: =IF(D29="","",IFERROR(VLOOKUP(D29,Catalog,2,FALSE),"")) -> Corp iluminat LED 36W | F29: 6 | H29: Aviz AV 190 | I29: Exemplu Construct SRL | J29: =IF(C29="","",IFERROR(VLOOKUP(C29,TipSemn,2,FALSE),"")) -> -1 | K29: =IF(OR(J29="",F29=""),"",J29*F29) -> -6 | L29: =IF(OR(J29<>1,G29=""),"",ROUND(F29*G29,2)) | M29: =IF(J29<>-1,"",ROUND(F29*IFERROR(INDEX(Stocuri!$G$5:$G$204,MATCH(D29,Coduri,0)),0),2)) -> 368.4 | N29: =IF(AND(B29="",D29=""),"",TRIM(IF(OR(B29="",C29="",D29="",F29=""),"Date incomplete. ","")&IF(AND(D29<>"",E29=""),"Cod necunoscut. ","")&IF(AND(J29=1,C29<>"Retur de la client",C29<>"Ajustare inventar +",G29=""),"Lipsește prețul de intrare. ","")&IF(AND(J29=-1,D29<>"",SUMIFS($K$5:$K$2004,$D$5:$D$2004,D29,$B$5:$B$2004,"<="&B29)<0),"Stoc insuficient la această dată. ","")&IF(AND(C29<>"Stoc inițial",H29=""),"Lipsește documentul. ","")))
B30: =DATE(2026,7,13) -> 46216 | C30: Ieșire (vânzare) | D30: P12 | E30: =IF(D30="","",IFERROR(VLOOKUP(D30,Catalog,2,FALSE),"")) -> Cablu MYF 1,5 mm | F30: 50 | H30: Aviz AV 232 | I30: Casa Verde SRL | J30: =IF(C30="","",IFERROR(VLOOKUP(C30,TipSemn,2,FALSE),"")) -> -1 | K30: =IF(OR(J30="",F30=""),"",J30*F30) -> -50 | L30: =IF(OR(J30<>1,G30=""),"",ROUND(F30*G30,2)) | M30: =IF(J30<>-1,"",ROUND(F30*IFERROR(INDEX(Stocuri!$G$5:$G$204,MATCH(D30,Coduri,0)),0),2)) -> 53.57 | N30: =IF(AND(B30="",D30=""),"",TRIM(IF(OR(B30="",C30="",D30="",F30=""),"Date incomplete. ","")&IF(AND(D30<>"",E30=""),"Cod necunoscut. ","")&IF(AND(J30=1,C30<>"Retur de la client",C30<>"Ajustare inventar +",G30=""),"Lipsește prețul de intrare. ","")&IF(AND(J30=-1,D30<>"",SUMIFS($K$5:$K$2004,$D$5:$D$2004,D30,$B$5:$B$2004,"<="&B30)<0),"Stoc insuficient la această dată. ","")&IF(AND(C30<>"Stoc inițial",H30=""),"Lipsește documentul. ","")))
B31: =DATE(2026,7,14) -> 46217 | C31: Ieșire (vânzare) | D31: P01 | E31: =IF(D31="","",IFERROR(VLOOKUP(D31,Catalog,2,FALSE),"")) -> Cablu CYY-F 3x2,5 | F31: 110 | H31: Aviz AV 92 | I31: Montaj Expert SRL | J31: =IF(C31="","",IFERROR(VLOOKUP(C31,TipSemn,2,FALSE),"")) -> -1 | K31: =IF(OR(J31="",F31=""),"",J31*F31) -> -110 | L31: =IF(OR(J31<>1,G31=""),"",ROUND(F31*G31,2)) | M31: =IF(J31<>-1,"",ROUND(F31*IFERROR(INDEX(Stocuri!$G$5:$G$204,MATCH(D31,Coduri,0)),0),2)) -> 394.9 | N31: =IF(AND(B31="",D31=""),"",TRIM(IF(OR(B31="",C31="",D31="",F31=""),"Date incomplete. ","")&IF(AND(D31<>"",E31=""),"Cod necunoscut. ","")&IF(AND(J31=1,C31<>"Retur de la client",C31<>"Ajustare inventar +",G31=""),"Lipsește prețul de intrare. ","")&IF(AND(J31=-1,D31<>"",SUMIFS($K$5:$K$2004,$D$5:$D$2004,D31,$B$5:$B$2004,"<="&B31)<0),"Stoc insuficient la această dată. ","")&IF(AND(C31<>"Stoc inițial",H31=""),"Lipsește documentul. ","")))
B32: =DATE(2026,7,14) -> 46217 | C32: Ieșire (vânzare) | D32: P05 | E32: =IF(D32="","",IFERROR(VLOOKUP(D32,Catalog,2,FALSE),"")) -> Priză dublă cu împământare | F32: 5 | H32: Aviz AV 148 | I32: Instal Rapid SRL | J32: =IF(C32="","",IFERROR(VLOOKUP(C32,TipSemn,2,FALSE),"")) -> -1 | K32: =IF(OR(J32="",F32=""),"",J32*F32) -> -5 | L32: =IF(OR(J32<>1,G32=""),"",ROUND(F32*G32,2)) | M32: =IF(J32<>-1,"",ROUND(F32*IFERROR(INDEX(Stocuri!$G$5:$G$204,MATCH(D32,Coduri,0)),0),2)) -> 63.5 | N32: =IF(AND(B32="",D32=""),"",TRIM(IF(OR(B32="",C32="",D32="",F32=""),"Date incomplete. ","")&IF(AND(D32<>"",E32=""),"Cod necunoscut. ","")&IF(AND(J32=1,C32<>"Retur de la client",C32<>"Ajustare inventar +",G32=""),"Lipsește prețul de intrare. ","")&IF(AND(J32=-1,D32<>"",SUMIFS($K$5:$K$2004,$D$5:$D$2004,D32,$B$5:$B$2004,"<="&B32)<0),"Stoc insuficient la această dată. ","")&IF(AND(C32<>"Stoc inițial",H32=""),"Lipsește documentul. ","")))
B33: =DATE(2026,7,14) -> 46217 | C33: Ieșire (vânzare) | D33: P09 | E33: =IF(D33="","",IFERROR(VLOOKUP(D33,Catalog,2,FALSE),"")) -> Bec LED E27 9W | F33: 10 | H33: Aviz AV 204 | I33: Electro Plus SRL | J33: =IF(C33="","",IFERROR(VLOOKUP(C33,TipSemn,2,FALSE),"")) -> -1 | K33: =IF(OR(J33="",F33=""),"",J33*F33) -> -10 | L33: =IF(OR(J33<>1,G33=""),"",ROUND(F33*G33,2)) | M33: =IF(J33<>-1,"",ROUND(F33*IFERROR(INDEX(Stocuri!$G$5:$G$204,MATCH(D33,Coduri,0)),0),2)) -> 64.57 | N33: =IF(AND(B33="",D33=""),"",TRIM(IF(OR(B33="",C33="",D33="",F33=""),"Date incomplete. ","")&IF(AND(D33<>"",E33=""),"Cod necunoscut. ","")&IF(AND(J33=1,C33<>"Retur de la client",C33<>"Ajustare inventar +",G33=""),"Lipsește prețul de intrare. ","")&IF(AND(J33=-1,D33<>"",SUMIFS($K$5:$K$2004,$D$5:$D$2004,D33,$B$5:$B$2004,"<="&B33)<0),"Stoc insuficient la această dată. ","")&IF(AND(C33<>"Stoc inițial",H33=""),"Lipsește documentul. ","")))
B34: =DATE(2026,7,15) -> 46218 | C34: Ieșire (vânzare) | D34: P02 | E34: =IF(D34="","",IFERROR(VLOOKUP(D34,Catalog,2,FALSE),"")) -> Tub flexibil PVC 20 mm | F34: 50 | H34: Aviz AV 106 | I34: Casa Verde SRL | J34: =IF(C34="","",IFERROR(VLOOKUP(C34,TipSemn,2,FALSE),"")) -> -1 | K34: =IF(OR(J34="",F34=""),"",J34*F34) -> -50 | L34: =IF(OR(J34<>1,G34=""),"",ROUND(F34*G34,2)) | M34: =IF(J34<>-1,"",ROUND(F34*IFERROR(INDEX(Stocuri!$G$5:$G$204,MATCH(D34,Coduri,0)),0),2)) -> 58.44 | N34: =IF(AND(B34="",D34=""),"",TRIM(IF(OR(B34="",C34="",D34="",F34=""),"Date incomplete. ","")&IF(AND(D34<>"",E34=""),"Cod necunoscut. ","")&IF(AND(J34=1,C34<>"Retur de la client",C34<>"Ajustare inventar +",G34=""),"Lipsește prețul de intrare. ","")&IF(AND(J34=-1,D34<>"",SUMIFS($K$5:$K$2004,$D$5:$D$2004,D34,$B$5:$B$2004,"<="&B34)<0),"Stoc insuficient la această dată. ","")&IF(AND(C34<>"Stoc inițial",H34=""),"Lipsește documentul. ","")))
B35: =DATE(2026,7,15) -> 46218 | C35: Ieșire (vânzare) | D35: P06 | E35: =IF(D35="","",IFERROR(VLOOKUP(D35,Catalog,2,FALSE),"")) -> Tablou electric 12 module | F35: 2 | H35: Aviz AV 162 | I35: Montaj Expert SRL | J35: =IF(C35="","",IFERROR(VLOOKUP(C35,TipSemn,2,FALSE),"")) -> -1 | K35: =IF(OR(J35="",F35=""),"",J35*F35) -> -2 | L35: =IF(OR(J35<>1,G35=""),"",ROUND(F35*G35,2)) | M35: =IF(J35<>-1,"",ROUND(F35*IFERROR(INDEX(Stocuri!$G$5:$G$204,MATCH(D35,Coduri,0)),0),2)) -> 193.33 | N35: =IF(AND(B35="",D35=""),"",TRIM(IF(OR(B35="",C35="",D35="",F35=""),"Date incomplete. ","")&IF(AND(D35<>"",E35=""),"Cod necunoscut. ","")&IF(AND(J35=1,C35<>"Retur de la client",C35<>"Ajustare inventar +",G35=""),"Lipsește prețul de intrare. ","")&IF(AND(J35=-1,D35<>"",SUMIFS($K$5:$K$2004,$D$5:$D$2004,D35,$B$5:$B$2004,"<="&B35)<0),"Stoc insuficient la această dată. ","")&IF(AND(C35<>"Stoc inițial",H35=""),"Lipsește documentul. ","")))
B36: =DATE(2026,7,16) -> 46219 | C36: Ieșire (vânzare) | D36: P03 | E36: =IF(D36="","",IFERROR(VLOOKUP(D36,Catalog,2,FALSE),"")) -> Doză aparat îngropată | F36: 50 | H36: Aviz AV 120 | I36: Exemplu Construct SRL | J36: =IF(C36="","",IFERROR(VLOOKUP(C36,TipSemn,2,FALSE),"")) -> -1 | K36: =IF(OR(J36="",F36=""),"",J36*F36) -> -50 | L36: =IF(OR(J36<>1,G36=""),"",ROUND(F36*G36,2)) | M36: =IF(J36<>-1,"",ROUND(F36*IFERROR(INDEX(Stocuri!$G$5:$G$204,MATCH(D36,Coduri,0)),0),2)) -> 34.45 | N36: =IF(AND(B36="",D36=""),"",TRIM(IF(OR(B36="",C36="",D36="",F36=""),"Date incomplete. ","")&IF(AND(D36<>"",E36=""),"Cod necunoscut. ","")&IF(AND(J36=1,C36<>"Retur de la client",C36<>"Ajustare inventar +",G36=""),"Lipsește prețul de intrare. ","")&IF(AND(J36=-1,D36<>"",SUMIFS($K$5:$K$2004,$D$5:$D$2004,D36,$B$5:$B$2004,"<="&B36)<0),"Stoc insuficient la această dată. ","")&IF(AND(C36<>"Stoc inițial",H36=""),"Lipsește documentul. ","")))
B37: =DATE(2026,7,16) -> 46219 | C37: Ieșire (vânzare) | D37: P07 | E37: =IF(D37="","",IFERROR(VLOOKUP(D37,Catalog,2,FALSE),"")) -> Siguranță automată 16A | F37: 15 | H37: Aviz AV 176 | I37: Casa Verde SRL | J37: =IF(C37="","",IFERROR(VLOOKUP(C37,TipSemn,2,FALSE),"")) -> -1 | K37: =IF(OR(J37="",F37=""),"",J37*F37) -> -15 | L37: =IF(OR(J37<>1,G37=""),"",ROUND(F37*G37,2)) | M37: =IF(J37<>-1,"",ROUND(F37*IFERROR(INDEX(Stocuri!$G$5:$G$204,MATCH(D37,Coduri,0)),0),2)) -> 226.29 | N37: =IF(AND(B37="",D37=""),"",TRIM(IF(OR(B37="",C37="",D37="",F37=""),"Date incomplete. ","")&IF(AND(D37<>"",E37=""),"Cod necunoscut. ","")&IF(AND(J37=1,C37<>"Retur de la client",C37<>"Ajustare inventar +",G37=""),"Lipsește prețul de intrare. ","")&IF(AND(J37=-1,D37<>"",SUMIFS($K$5:$K$2004,$D$5:$D$2004,D37,$B$5:$B$2004,"<="&B37)<0),"Stoc insuficient la această dată. ","")&IF(AND(C37<>"Stoc inițial",H37=""),"Lipsește documentul. ","")))
B38: =DATE(2026,7,16) -> 46219 | C38: Ieșire (vânzare) | D38: P11 | E38: =IF(D38="","",IFERROR(VLOOKUP(D38,Catalog,2,FALSE),"")) -> Bandă izolatoare 19 mm | F38: 6 | H38: Aviz AV 218 | I38: Montaj Expert SRL | J38: =IF(C38="","",IFERROR(VLOOKUP(C38,TipSemn,2,FALSE),"")) -> -1 | K38: =IF(OR(J38="",F38=""),"",J38*F38) -> -6 | L38: =IF(OR(J38<>1,G38=""),"",ROUND(F38*G38,2)) | M38: =IF(J38<>-1,"",ROUND(F38*IFERROR(INDEX(Stocuri!$G$5:$G$204,MATCH(D38,Coduri,0)),0),2)) -> 12.6 | N38: =IF(AND(B38="",D38=""),"",TRIM(IF(OR(B38="",C38="",D38="",F38=""),"Date incomplete. ","")&IF(AND(D38<>"",E38=""),"Cod necunoscut. ","")&IF(AND(J38=1,C38<>"Retur de la client",C38<>"Ajustare inventar +",G38=""),"Lipsește prețul de intrare. ","")&IF(AND(J38=-1,D38<>"",SUMIFS($K$5:$K$2004,$D$5:$D$2004,D38,$B$5:$B$2004,"<="&B38)<0),"Stoc insuficient la această dată. ","")&IF(AND(C38<>"Stoc inițial",H38=""),"Lipsește documentul. ","")))
B39: =DATE(2026,7,20) -> 46223 | C39: Ieșire (vânzare) | D39: P04 | E39: =IF(D39="","",IFERROR(VLOOKUP(D39,Catalog,2,FALSE),"")) -> Întrerupător simplu Schneider Sedna | F39: 9 | H39: Aviz AV 135 | I39: Instal Rapid SRL | J39: =IF(C39="","",IFERROR(VLOOKUP(C39,TipSemn,2,FALSE),"")) -> -1 | K39: =IF(OR(J39="",F39=""),"",J39*F39) -> -9 | L39: =IF(OR(J39<>1,G39=""),"",ROUND(F39*G39,2)) | M39: =IF(J39<>-1,"",ROUND(F39*IFERROR(INDEX(Stocuri!$G$5:$G$204,MATCH(D39,Coduri,0)),0),2)) -> 87.12 | N39: =IF(AND(B39="",D39=""),"",TRIM(IF(OR(B39="",C39="",D39="",F39=""),"Date incomplete. ","")&IF(AND(D39<>"",E39=""),"Cod necunoscut. ","")&IF(AND(J39=1,C39<>"Retur de la client",C39<>"Ajustare inventar +",G39=""),"Lipsește prețul de intrare. ","")&IF(AND(J39=-1,D39<>"",SUMIFS($K$5:$K$2004,$D$5:$D$2004,D39,$B$5:$B$2004,"<="&B39)<0),"Stoc insuficient la această dată. ","")&IF(AND(C39<>"Stoc inițial",H39=""),"Lipsește documentul. ","")))
B40: =DATE(2026,7,20) -> 46223 | C40: Ieșire (vânzare) | D40: P08 | E40: =IF(D40="","",IFERROR(VLOOKUP(D40,Catalog,2,FALSE),"")) -> Corp iluminat LED 36W | F40: 6 | H40: Aviz AV 191 | I40: Electro Plus SRL | J40: =IF(C40="","",IFERROR(VLOOKUP(C40,TipSemn,2,FALSE),"")) -> -1 | K40: =IF(OR(J40="",F40=""),"",J40*F40) -> -6 | L40: =IF(OR(J40<>1,G40=""),"",ROUND(F40*G40,2)) | M40: =IF(J40<>-1,"",ROUND(F40*IFERROR(INDEX(Stocuri!$G$5:$G$204,MATCH(D40,Coduri,0)),0),2)) -> 368.4 | N40: =IF(AND(B40="",D40=""),"",TRIM(IF(OR(B40="",C40="",D40="",F40=""),"Date incomplete. ","")&IF(AND(D40<>"",E40=""),"Cod necunoscut. ","")&IF(AND(J40=1,C40<>"Retur de la client",C40<>"Ajustare inventar +",G40=""),"Lipsește prețul de intrare. ","")&IF(AND(J40=-1,D40<>"",SUMIFS($K$5:$K$2004,$D$5:$D$2004,D40,$B$5:$B$2004,"<="&B40)<0),"Stoc insuficient la această dată. ","")&IF(AND(C40<>"Stoc inițial",H40=""),"Lipsește documentul. ","")))
