Workbook
Name FebReluare: Setări!$N$8
Name FebUltCurs: Setări!$N$5
Name FebVacEnd: Setări!$N$7
Name FebVacStart: Setări!$N$6
Name Judet: Setări!$C$4
Name Libere: Setări!$K$5:$K$34
Name ListaClase: Setări!$E$10:$E$13
Name ListaFeb: Setări!$E$5:$E$7
Name OptFeb: Setări!$C$5
Name TabelClase: Setări!$E$10:$G$13
Name TabelFeb: Setări!$E$5:$I$7
Name TipClasa: Setări!$C$6
Name UltCurs: Setări!$N$9
Name VacEnd: 'Vacanțe și cursuri'!$E$6:$E$15
Name VacStart: 'Vacanțe și cursuri'!$D$6:$D$15
Name VacTip: 'Vacanțe și cursuri'!$C$6:$C$15

Sheet Calendar an școlar
B1: ="Calendarul anului școlar 2026–2027 · "&Judet -> Calendarul anului școlar 2026–2027 · București
B2: ="Vacanța din februarie: "&OptFeb&" · "&TipClasa -> Vacanța din februarie: 22–28 februarie 2027 · Clasele 0–VII, IX–XI (liceu teoretic)
C3: Cursuri | I3: Vacanță | O3: Sărbătoare / fără cursuri | U3: Weekend
B5: Septembrie 2026 | J5: Octombrie 2026 | R5: Noiembrie 2026
B6: L | C6: Ma | D6: Mi | E6: J | F6: V | G6: S | H6: D | J6: L | K6: Ma | L6: Mi | M6: J | N6: V | O6: S | P6: D | R6: L | S6: Ma | T6: Mi | U6: J | V6: V | W6: S | X6: D
B7: =IF(MONTH((DATE(2026,9,1)-WEEKDAY(DATE(2026,9,1),2)+1)+0)=9,(DATE(2026,9,1)-WEEKDAY(DATE(2026,9,1),2)+1)+0,"") | C7: =IF(MONTH((DATE(2026,9,1)-WEEKDAY(DATE(2026,9,1),2)+1)+1)=9,(DATE(2026,9,1)-WEEKDAY(DATE(2026,9,1),2)+1)+1,"") -> 46266 | D7: =IF(MONTH((DATE(2026,9,1)-WEEKDAY(DATE(2026,9,1),2)+1)+2)=9,(DATE(2026,9,1)-WEEKDAY(DATE(2026,9,1),2)+1)+2,"") -> 46267 | E7: =IF(MONTH((DATE(2026,9,1)-WEEKDAY(DATE(2026,9,1),2)+1)+3)=9,(DATE(2026,9,1)-WEEKDAY(DATE(2026,9,1),2)+1)+3,"") -> 46268 | F7: =IF(MONTH((DATE(2026,9,1)-WEEKDAY(DATE(2026,9,1),2)+1)+4)=9,(DATE(2026,9,1)-WEEKDAY(DATE(2026,9,1),2)+1)+4,"") -> 46269 | G7: =IF(MONTH((DATE(2026,9,1)-WEEKDAY(DATE(2026,9,1),2)+1)+5)=9,(DATE(2026,9,1)-WEEKDAY(DATE(2026,9,1),2)+1)+5,"") -> 46270 | H7: =IF(MONTH((DATE(2026,9,1)-WEEKDAY(DATE(2026,9,1),2)+1)+6)=9,(DATE(2026,9,1)-WEEKDAY(DATE(2026,9,1),2)+1)+6,"") -> 46271 | J7: =IF(MONTH((DATE(2026,10,1)-WEEKDAY(DATE(2026,10,1),2)+1)+0)=10,(DATE(2026,10,1)-WEEKDAY(DATE(2026,10,1),2)+1)+0,"") | K7: =IF(MONTH((DATE(2026,10,1)-WEEKDAY(DATE(2026,10,1),2)+1)+1)=10,(DATE(2026,10,1)-WEEKDAY(DATE(2026,10,1),2)+1)+1,"") | L7: =IF(MONTH((DATE(2026,10,1)-WEEKDAY(DATE(2026,10,1),2)+1)+2)=10,(DATE(2026,10,1)-WEEKDAY(DATE(2026,10,1),2)+1)+2,"") | M7: =IF(MONTH((DATE(2026,10,1)-WEEKDAY(DATE(2026,10,1),2)+1)+3)=10,(DATE(2026,10,1)-WEEKDAY(DATE(2026,10,1),2)+1)+3,"") -> 46296 | N7: =IF(MONTH((DATE(2026,10,1)-WEEKDAY(DATE(2026,10,1),2)+1)+4)=10,(DATE(2026,10,1)-WEEKDAY(DATE(2026,10,1),2)+1)+4,"") -> 46297 | O7: =IF(MONTH((DATE(2026,10,1)-WEEKDAY(DATE(2026,10,1),2)+1)+5)=10,(DATE(2026,10,1)-WEEKDAY(DATE(2026,10,1),2)+1)+5,"") -> 46298 | P7: =IF(MONTH((DATE(2026,10,1)-WEEKDAY(DATE(2026,10,1),2)+1)+6)=10,(DATE(2026,10,1)-WEEKDAY(DATE(2026,10,1),2)+1)+6,"") -> 46299 | R7: =IF(MONTH((DATE(2026,11,1)-WEEKDAY(DATE(2026,11,1),2)+1)+0)=11,(DATE(2026,11,1)-WEEKDAY(DATE(2026,11,1),2)+1)+0,"") | S7: =IF(MONTH((DATE(2026,11,1)-WEEKDAY(DATE(2026,11,1),2)+1)+1)=11,(DATE(2026,11,1)-WEEKDAY(DATE(2026,11,1),2)+1)+1,"") | T7: =IF(MONTH((DATE(2026,11,1)-WEEKDAY(DATE(2026,11,1),2)+1)+2)=11,(DATE(2026,11,1)-WEEKDAY(DATE(2026,11,1),2)+1)+2,"") | U7: =IF(MONTH((DATE(2026,11,1)-WEEKDAY(DATE(2026,11,1),2)+1)+3)=11,(DATE(2026,11,1)-WEEKDAY(DATE(2026,11,1),2)+1)+3,"") | V7: =IF(MONTH((DATE(2026,11,1)-WEEKDAY(DATE(2026,11,1),2)+1)+4)=11,(DATE(2026,11,1)-WEEKDAY(DATE(2026,11,1),2)+1)+4,"") | W7: =IF(MONTH((DATE(2026,11,1)-WEEKDAY(DATE(2026,11,1),2)+1)+5)=11,(DATE(2026,11,1)-WEEKDAY(DATE(2026,11,1),2)+1)+5,"") | X7: =IF(MONTH((DATE(2026,11,1)-WEEKDAY(DATE(2026,11,1),2)+1)+6)=11,(DATE(2026,11,1)-WEEKDAY(DATE(2026,11,1),2)+1)+6,"") -> 46327
B8: =IF(MONTH((DATE(2026,9,1)-WEEKDAY(DATE(2026,9,1),2)+1)+7)=9,(DATE(2026,9,1)-WEEKDAY(DATE(2026,9,1),2)+1)+7,"") -> 46272 | C8: =IF(MONTH((DATE(2026,9,1)-WEEKDAY(DATE(2026,9,1),2)+1)+8)=9,(DATE(2026,9,1)-WEEKDAY(DATE(2026,9,1),2)+1)+8,"") -> 46273 | D8: =IF(MONTH((DATE(2026,9,1)-WEEKDAY(DATE(2026,9,1),2)+1)+9)=9,(DATE(2026,9,1)-WEEKDAY(DATE(2026,9,1),2)+1)+9,"") -> 46274 | E8: =IF(MONTH((DATE(2026,9,1)-WEEKDAY(DATE(2026,9,1),2)+1)+10)=9,(DATE(2026,9,1)-WEEKDAY(DATE(2026,9,1),2)+1)+10,"") -> 46275 | F8: =IF(MONTH((DATE(2026,9,1)-WEEKDAY(DATE(2026,9,1),2)+1)+11)=9,(DATE(2026,9,1)-WEEKDAY(DATE(2026,9,1),2)+1)+11,"") -> 46276 | G8: =IF(MONTH((DATE(2026,9,1)-WEEKDAY(DATE(2026,9,1),2)+1)+12)=9,(DATE(2026,9,1)-WEEKDAY(DATE(2026,9,1),2)+1)+12,"") -> 46277 | H8: =IF(MONTH((DATE(2026,9,1)-WEEKDAY(DATE(2026,9,1),2)+1)+13)=9,(DATE(2026,9,1)-WEEKDAY(DATE(2026,9,1),2)+1)+13,"") -> 46278 | J8: =IF(MONTH((DATE(2026,10,1)-WEEKDAY(DATE(2026,10,1),2)+1)+7)=10,(DATE(2026,10,1)-WEEKDAY(DATE(2026,10,1),2)+1)+7,"") -> 46300 | K8: =IF(MONTH((DATE(2026,10,1)-WEEKDAY(DATE(2026,10,1),2)+1)+8)=10,(DATE(2026,10,1)-WEEKDAY(DATE(2026,10,1),2)+1)+8,"") -> 46301 | L8: =IF(MONTH((DATE(2026,10,1)-WEEKDAY(DATE(2026,10,1),2)+1)+9)=10,(DATE(2026,10,1)-WEEKDAY(DATE(2026,10,1),2)+1)+9,"") -> 46302 | M8: =IF(MONTH((DATE(2026,10,1)-WEEKDAY(DATE(2026,10,1),2)+1)+10)=10,(DATE(2026,10,1)-WEEKDAY(DATE(2026,10,1),2)+1)+10,"") -> 46303 | N8: =IF(MONTH((DATE(2026,10,1)-WEEKDAY(DATE(2026,10,1),2)+1)+11)=10,(DATE(2026,10,1)-WEEKDAY(DATE(2026,10,1),2)+1)+11,"") -> 46304 | O8: =IF(MONTH((DATE(2026,10,1)-WEEKDAY(DATE(2026,10,1),2)+1)+12)=10,(DATE(2026,10,1)-WEEKDAY(DATE(2026,10,1),2)+1)+12,"") -> 46305 | P8: =IF(MONTH((DATE(2026,10,1)-WEEKDAY(DATE(2026,10,1),2)+1)+13)=10,(DATE(2026,10,1)-WEEKDAY(DATE(2026,10,1),2)+1)+13,"") -> 46306 | R8: =IF(MONTH((DATE(2026,11,1)-WEEKDAY(DATE(2026,11,1),2)+1)+7)=11,(DATE(2026,11,1)-WEEKDAY(DATE(2026,11,1),2)+1)+7,"") -> 46328 | S8: =IF(MONTH((DATE(2026,11,1)-WEEKDAY(DATE(2026,11,1),2)+1)+8)=11,(DATE(2026,11,1)-WEEKDAY(DATE(2026,11,1),2)+1)+8,"") -> 46329 | T8: =IF(MONTH((DATE(2026,11,1)-WEEKDAY(DATE(2026,11,1),2)+1)+9)=11,(DATE(2026,11,1)-WEEKDAY(DATE(2026,11,1),2)+1)+9,"") -> 46330 | U8: =IF(MONTH((DATE(2026,11,1)-WEEKDAY(DATE(2026,11,1),2)+1)+10)=11,(DATE(2026,11,1)-WEEKDAY(DATE(2026,11,1),2)+1)+10,"") -> 46331 | V8: =IF(MONTH((DATE(2026,11,1)-WEEKDAY(DATE(2026,11,1),2)+1)+11)=11,(DATE(2026,11,1)-WEEKDAY(DATE(2026,11,1),2)+1)+11,"") -> 46332 | W8: =IF(MONTH((DATE(2026,11,1)-WEEKDAY(DATE(2026,11,1),2)+1)+12)=11,(DATE(2026,11,1)-WEEKDAY(DATE(2026,11,1),2)+1)+12,"") -> 46333 | X8: =IF(MONTH((DATE(2026,11,1)-WEEKDAY(DATE(2026,11,1),2)+1)+13)=11,(DATE(2026,11,1)-WEEKDAY(DATE(2026,11,1),2)+1)+13,"") -> 46334
B9: =IF(MONTH((DATE(2026,9,1)-WEEKDAY(DATE(2026,9,1),2)+1)+14)=9,(DATE(2026,9,1)-WEEKDAY(DATE(2026,9,1),2)+1)+14,"") -> 46279 | C9: =IF(MONTH((DATE(2026,9,1)-WEEKDAY(DATE(2026,9,1),2)+1)+15)=9,(DATE(2026,9,1)-WEEKDAY(DATE(2026,9,1),2)+1)+15,"") -> 46280 | D9: =IF(MONTH((DATE(2026,9,1)-WEEKDAY(DATE(2026,9,1),2)+1)+16)=9,(DATE(2026,9,1)-WEEKDAY(DATE(2026,9,1),2)+1)+16,"") -> 46281 | E9: =IF(MONTH((DATE(2026,9,1)-WEEKDAY(DATE(2026,9,1),2)+1)+17)=9,(DATE(2026,9,1)-WEEKDAY(DATE(2026,9,1),2)+1)+17,"") -> 46282 | F9: =IF(MONTH((DATE(2026,9,1)-WEEKDAY(DATE(2026,9,1),2)+1)+18)=9,(DATE(2026,9,1)-WEEKDAY(DATE(2026,9,1),2)+1)+18,"") -> 46283 | G9: =IF(MONTH((DATE(2026,9,1)-WEEKDAY(DATE(2026,9,1),2)+1)+19)=9,(DATE(2026,9,1)-WEEKDAY(DATE(2026,9,1),2)+1)+19,"") -> 46284 | H9: =IF(MONTH((DATE(2026,9,1)-WEEKDAY(DATE(2026,9,1),2)+1)+20)=9,(DATE(2026,9,1)-WEEKDAY(DATE(2026,9,1),2)+1)+20,"") -> 46285 | J9: =IF(MONTH((DATE(2026,10,1)-WEEKDAY(DATE(2026,10,1),2)+1)+14)=10,(DATE(2026,10,1)-WEEKDAY(DATE(2026,10,1),2)+1)+14,"") -> 46307 | K9: =IF(MONTH((DATE(2026,10,1)-WEEKDAY(DATE(2026,10,1),2)+1)+15)=10,(DATE(2026,10,1)-WEEKDAY(DATE(2026,10,1),2)+1)+15,"") -> 46308 | L9: =IF(MONTH((DATE(2026,10,1)-WEEKDAY(DATE(2026,10,1),2)+1)+16)=10,(DATE(2026,10,1)-WEEKDAY(DATE(2026,10,1),2)+1)+16,"") -> 46309 | M9: =IF(MONTH((DATE(2026,10,1)-WEEKDAY(DATE(2026,10,1),2)+1)+17)=10,(DATE(2026,10,1)-WEEKDAY(DATE(2026,10,1),2)+1)+17,"") -> 46310 | N9: =IF(MONTH((DATE(2026,10,1)-WEEKDAY(DATE(2026,10,1),2)+1)+18)=10,(DATE(2026,10,1)-WEEKDAY(DATE(2026,10,1),2)+1)+18,"") -> 46311 | O9: =IF(MONTH((DATE(2026,10,1)-WEEKDAY(DATE(2026,10,1),2)+1)+19)=10,(DATE(2026,10,1)-WEEKDAY(DATE(2026,10,1),2)+1)+19,"") -> 46312 | P9: =IF(MONTH((DATE(2026,10,1)-WEEKDAY(DATE(2026,10,1),2)+1)+20)=10,(DATE(2026,10,1)-WEEKDAY(DATE(2026,10,1),2)+1)+20,"") -> 46313 | R9: =IF(MONTH((DATE(2026,11,1)-WEEKDAY(DATE(2026,11,1),2)+1)+14)=11,(DATE(2026,11,1)-WEEKDAY(DATE(2026,11,1),2)+1)+14,"") -> 46335 | S9: =IF(MONTH((DATE(2026,11,1)-WEEKDAY(DATE(2026,11,1),2)+1)+15)=11,(DATE(2026,11,1)-WEEKDAY(DATE(2026,11,1),2)+1)+15,"") -> 46336 | T9: =IF(MONTH((DATE(2026,11,1)-WEEKDAY(DATE(2026,11,1),2)+1)+16)=11,(DATE(2026,11,1)-WEEKDAY(DATE(2026,11,1),2)+1)+16,"") -> 46337 | U9: =IF(MONTH((DATE(2026,11,1)-WEEKDAY(DATE(2026,11,1),2)+1)+17)=11,(DATE(2026,11,1)-WEEKDAY(DATE(2026,11,1),2)+1)+17,"") -> 46338 | V9: =IF(MONTH((DATE(2026,11,1)-WEEKDAY(DATE(2026,11,1),2)+1)+18)=11,(DATE(2026,11,1)-WEEKDAY(DATE(2026,11,1),2)+1)+18,"") -> 46339 | W9: =IF(MONTH((DATE(2026,11,1)-WEEKDAY(DATE(2026,11,1),2)+1)+19)=11,(DATE(2026,11,1)-WEEKDAY(DATE(2026,11,1),2)+1)+19,"") -> 46340 | X9: =IF(MONTH((DATE(2026,11,1)-WEEKDAY(DATE(2026,11,1),2)+1)+20)=11,(DATE(2026,11,1)-WEEKDAY(DATE(2026,11,1),2)+1)+20,"") -> 46341
B10: =IF(MONTH((DATE(2026,9,1)-WEEKDAY(DATE(2026,9,1),2)+1)+21)=9,(DATE(2026,9,1)-WEEKDAY(DATE(2026,9,1),2)+1)+21,"") -> 46286 | C10: =IF(MONTH((DATE(2026,9,1)-WEEKDAY(DATE(2026,9,1),2)+1)+22)=9,(DATE(2026,9,1)-WEEKDAY(DATE(2026,9,1),2)+1)+22,"") -> 46287 | D10: =IF(MONTH((DATE(2026,9,1)-WEEKDAY(DATE(2026,9,1),2)+1)+23)=9,(DATE(2026,9,1)-WEEKDAY(DATE(2026,9,1),2)+1)+23,"") -> 46288 | E10: =IF(MONTH((DATE(2026,9,1)-WEEKDAY(DATE(2026,9,1),2)+1)+24)=9,(DATE(2026,9,1)-WEEKDAY(DATE(2026,9,1),2)+1)+24,"") -> 46289 | F10: =IF(MONTH((DATE(2026,9,1)-WEEKDAY(DATE(2026,9,1),2)+1)+25)=9,(DATE(2026,9,1)-WEEKDAY(DATE(2026,9,1),2)+1)+25,"") -> 46290 | G10: =IF(MONTH((DATE(2026,9,1)-WEEKDAY(DATE(2026,9,1),2)+1)+26)=9,(DATE(2026,9,1)-WEEKDAY(DATE(2026,9,1),2)+1)+26,"") -> 46291 | H10: =IF(MONTH((DATE(2026,9,1)-WEEKDAY(DATE(2026,9,1),2)+1)+27)=9,(DATE(2026,9,1)-WEEKDAY(DATE(2026,9,1),2)+1)+27,"") -> 46292 | J10: =IF(MONTH((DATE(2026,10,1)-WEEKDAY(DATE(2026,10,1),2)+1)+21)=10,(DATE(2026,10,1)-WEEKDAY(DATE(2026,10,1),2)+1)+21,"") -> 46314 | K10: =IF(MONTH((DATE(2026,10,1)-WEEKDAY(DATE(2026,10,1),2)+1)+22)=10,(DATE(2026,10,1)-WEEKDAY(DATE(2026,10,1),2)+1)+22,"") -> 46315 | L10: =IF(MONTH((DATE(2026,10,1)-WEEKDAY(DATE(2026,10,1),2)+1)+23)=10,(DATE(2026,10,1)-WEEKDAY(DATE(2026,10,1),2)+1)+23,"") -> 46316 | M10: =IF(MONTH((DATE(2026,10,1)-WEEKDAY(DATE(2026,10,1),2)+1)+24)=10,(DATE(2026,10,1)-WEEKDAY(DATE(2026,10,1),2)+1)+24,"") -> 46317 | N10: =IF(MONTH((DATE(2026,10,1)-WEEKDAY(DATE(2026,10,1),2)+1)+25)=10,(DATE(2026,10,1)-WEEKDAY(DATE(2026,10,1),2)+1)+25,"") -> 46318 | O10: =IF(MONTH((DATE(2026,10,1)-WEEKDAY(DATE(2026,10,1),2)+1)+26)=10,(DATE(2026,10,1)-WEEKDAY(DATE(2026,10,1),2)+1)+26,"") -> 46319 | P10: =IF(MONTH((DATE(2026,10,1)-WEEKDAY(DATE(2026,10,1),2)+1)+27)=10,(DATE(2026,10,1)-WEEKDAY(DATE(2026,10,1),2)+1)+27,"") -> 46320 | R10: =IF(MONTH((DATE(2026,11,1)-WEEKDAY(DATE(2026,11,1),2)+1)+21)=11,(DATE(2026,11,1)-WEEKDAY(DATE(2026,11,1),2)+1)+21,"") -> 46342 | S10: =IF(MONTH((DATE(2026,11,1)-WEEKDAY(DATE(2026,11,1),2)+1)+22)=11,(DATE(2026,11,1)-WEEKDAY(DATE(2026,11,1),2)+1)+22,"") -> 46343 | T10: =IF(MONTH((DATE(2026,11,1)-WEEKDAY(DATE(2026,11,1),2)+1)+23)=11,(DATE(2026,11,1)-WEEKDAY(DATE(2026,11,1),2)+1)+23,"") -> 46344 | U10: =IF(MONTH((DATE(2026,11,1)-WEEKDAY(DATE(2026,11,1),2)+1)+24)=11,(DATE(2026,11,1)-WEEKDAY(DATE(2026,11,1),2)+1)+24,"") -> 46345 | V10: =IF(MONTH((DATE(2026,11,1)-WEEKDAY(DATE(2026,11,1),2)+1)+25)=11,(DATE(2026,11,1)-WEEKDAY(DATE(2026,11,1),2)+1)+25,"") -> 46346 | W10: =IF(MONTH((DATE(2026,11,1)-WEEKDAY(DATE(2026,11,1),2)+1)+26)=11,(DATE(2026,11,1)-WEEKDAY(DATE(2026,11,1),2)+1)+26,"") -> 46347 | X10: =IF(MONTH((DATE(2026,11,1)-WEEKDAY(DATE(2026,11,1),2)+1)+27)=11,(DATE(2026,11,1)-WEEKDAY(DATE(2026,11,1),2)+1)+27,"") -> 46348
B11: =IF(MONTH((DATE(2026,9,1)-WEEKDAY(DATE(2026,9,1),2)+1)+28)=9,(DATE(2026,9,1)-WEEKDAY(DATE(2026,9,1),2)+1)+28,"") -> 46293 | C11: =IF(MONTH((DATE(2026,9,1)-WEEKDAY(DATE(2026,9,1),2)+1)+29)=9,(DATE(2026,9,1)-WEEKDAY(DATE(2026,9,1),2)+1)+29,"") -> 46294 | D11: =IF(MONTH((DATE(2026,9,1)-WEEKDAY(DATE(2026,9,1),2)+1)+30)=9,(DATE(2026,9,1)-WEEKDAY(DATE(2026,9,1),2)+1)+30,"") -> 46295 | E11: =IF(MONTH((DATE(2026,9,1)-WEEKDAY(DATE(2026,9,1),2)+1)+31)=9,(DATE(2026,9,1)-WEEKDAY(DATE(2026,9,1),2)+1)+31,"") | F11: =IF(MONTH((DATE(2026,9,1)-WEEKDAY(DATE(2026,9,1),2)+1)+32)=9,(DATE(2026,9,1)-WEEKDAY(DATE(2026,9,1),2)+1)+32,"") | G11: =IF(MONTH((DATE(2026,9,1)-WEEKDAY(DATE(2026,9,1),2)+1)+33)=9,(DATE(2026,9,1)-WEEKDAY(DATE(2026,9,1),2)+1)+33,"") | H11: =IF(MONTH((DATE(2026,9,1)-WEEKDAY(DATE(2026,9,1),2)+1)+34)=9,(DATE(2026,9,1)-WEEKDAY(DATE(2026,9,1),2)+1)+34,"") | J11: =IF(MONTH((DATE(2026,10,1)-WEEKDAY(DATE(2026,10,1),2)+1)+28)=10,(DATE(2026,10,1)-WEEKDAY(DATE(2026,10,1),2)+1)+28,"") -> 46321 | K11: =IF(MONTH((DATE(2026,10,1)-WEEKDAY(DATE(2026,10,1),2)+1)+29)=10,(DATE(2026,10,1)-WEEKDAY(DATE(2026,10,1),2)+1)+29,"") -> 46322 | L11: =IF(MONTH((DATE(2026,10,1)-WEEKDAY(DATE(2026,10,1),2)+1)+30)=10,(DATE(2026,10,1)-WEEKDAY(DATE(2026,10,1),2)+1)+30,"") -> 46323 | M11: =IF(MONTH((DATE(2026,10,1)-WEEKDAY(DATE(2026,10,1),2)+1)+31)=10,(DATE(2026,10,1)-WEEKDAY(DATE(2026,10,1),2)+1)+31,"") -> 46324 | N11: =IF(MONTH((DATE(2026,10,1)-WEEKDAY(DATE(2026,10,1),2)+1)+32)=10,(DATE(2026,10,1)-WEEKDAY(DATE(2026,10,1),2)+1)+32,"") -> 46325 | O11: =IF(MONTH((DATE(2026,10,1)-WEEKDAY(DATE(2026,10,1),2)+1)+33)=10,(DATE(2026,10,1)-WEEKDAY(DATE(2026,10,1),2)+1)+33,"") -> 46326 | P11: =IF(MONTH((DATE(2026,10,1)-WEEKDAY(DATE(2026,10,1),2)+1)+34)=10,(DATE(2026,10,1)-WEEKDAY(DATE(2026,10,1),2)+1)+34,"") | R11: =IF(MONTH((DATE(2026,11,1)-WEEKDAY(DATE(2026,11,1),2)+1)+28)=11,(DATE(2026,11,1)-WEEKDAY(DATE(2026,11,1),2)+1)+28,"") -> 46349 | S11: =IF(MONTH((DATE(2026,11,1)-WEEKDAY(DATE(2026,11,1),2)+1)+29)=11,(DATE(2026,11,1)-WEEKDAY(DATE(2026,11,1),2)+1)+29,"") -> 46350 | T11: =IF(MONTH((DATE(2026,11,1)-WEEKDAY(DATE(2026,11,1),2)+1)+30)=11,(DATE(2026,11,1)-WEEKDAY(DATE(2026,11,1),2)+1)+30,"") -> 46351 | U11: =IF(MONTH((DATE(2026,11,1)-WEEKDAY(DATE(2026,11,1),2)+1)+31)=11,(DATE(2026,11,1)-WEEKDAY(DATE(2026,11,1),2)+1)+31,"") -> 46352 | V11: =IF(MONTH((DATE(2026,11,1)-WEEKDAY(DATE(2026,11,1),2)+1)+32)=11,(DATE(2026,11,1)-WEEKDAY(DATE(2026,11,1),2)+1)+32,"") -> 46353 | W11: =IF(MONTH((DATE(2026,11,1)-WEEKDAY(DATE(2026,11,1),2)+1)+33)=11,(DATE(2026,11,1)-WEEKDAY(DATE(2026,11,1),2)+1)+33,"") -> 46354 | X11: =IF(MONTH((DATE(2026,11,1)-WEEKDAY(DATE(2026,11,1),2)+1)+34)=11,(DATE(2026,11,1)-WEEKDAY(DATE(2026,11,1),2)+1)+34,"") -> 46355
B12: =IF(MONTH((DATE(2026,9,1)-WEEKDAY(DATE(2026,9,1),2)+1)+35)=9,(DATE(2026,9,1)-WEEKDAY(DATE(2026,9,1),2)+1)+35,"") | C12: =IF(MONTH((DATE(2026,9,1)-WEEKDAY(DATE(2026,9,1),2)+1)+36)=9,(DATE(2026,9,1)-WEEKDAY(DATE(2026,9,1),2)+1)+36,"") | D12: =IF(MONTH((DATE(2026,9,1)-WEEKDAY(DATE(2026,9,1),2)+1)+37)=9,(DATE(2026,9,1)-WEEKDAY(DATE(2026,9,1),2)+1)+37,"") | E12: =IF(MONTH((DATE(2026,9,1)-WEEKDAY(DATE(2026,9,1),2)+1)+38)=9,(DATE(2026,9,1)-WEEKDAY(DATE(2026,9,1),2)+1)+38,"") | F12: =IF(MONTH((DATE(2026,9,1)-WEEKDAY(DATE(2026,9,1),2)+1)+39)=9,(DATE(2026,9,1)-WEEKDAY(DATE(2026,9,1),2)+1)+39,"") | G12: =IF(MONTH((DATE(2026,9,1)-WEEKDAY(DATE(2026,9,1),2)+1)+40)=9,(DATE(2026,9,1)-WEEKDAY(DATE(2026,9,1),2)+1)+40,"") | H12: =IF(MONTH((DATE(2026,9,1)-WEEKDAY(DATE(2026,9,1),2)+1)+41)=9,(DATE(2026,9,1)-WEEKDAY(DATE(2026,9,1),2)+1)+41,"") | J12: =IF(MONTH((DATE(2026,10,1)-WEEKDAY(DATE(2026,10,1),2)+1)+35)=10,(DATE(2026,10,1)-WEEKDAY(DATE(2026,10,1),2)+1)+35,"") | K12: =IF(MONTH((DATE(2026,10,1)-WEEKDAY(DATE(2026,10,1),2)+1)+36)=10,(DATE(2026,10,1)-WEEKDAY(DATE(2026,10,1),2)+1)+36,"") | L12: =IF(MONTH((DATE(2026,10,1)-WEEKDAY(DATE(2026,10,1),2)+1)+37)=10,(DATE(2026,10,1)-WEEKDAY(DATE(2026,10,1),2)+1)+37,"") | M12: =IF(MONTH((DATE(2026,10,1)-WEEKDAY(DATE(2026,10,1),2)+1)+38)=10,(DATE(2026,10,1)-WEEKDAY(DATE(2026,10,1),2)+1)+38,"") | N12: =IF(MONTH((DATE(2026,10,1)-WEEKDAY(DATE(2026,10,1),2)+1)+39)=10,(DATE(2026,10,1)-WEEKDAY(DATE(2026,10,1),2)+1)+39,"") | O12: =IF(MONTH((DATE(2026,10,1)-WEEKDAY(DATE(2026,10,1),2)+1)+40)=10,(DATE(2026,10,1)-WEEKDAY(DATE(2026,10,1),2)+1)+40,"") | P12: =IF(MONTH((DATE(2026,10,1)-WEEKDAY(DATE(2026,10,1),2)+1)+41)=10,(DATE(2026,10,1)-WEEKDAY(DATE(2026,10,1),2)+1)+41,"") | R12: =IF(MONTH((DATE(2026,11,1)-WEEKDAY(DATE(2026,11,1),2)+1)+35)=11,(DATE(2026,11,1)-WEEKDAY(DATE(2026,11,1),2)+1)+35,"") -> 46356 | S12: =IF(MONTH((DATE(2026,11,1)-WEEKDAY(DATE(2026,11,1),2)+1)+36)=11,(DATE(2026,11,1)-WEEKDAY(DATE(2026,11,1),2)+1)+36,"") | T12: =IF(MONTH((DATE(2026,11,1)-WEEKDAY(DATE(2026,11,1),2)+1)+37)=11,(DATE(2026,11,1)-WEEKDAY(DATE(2026,11,1),2)+1)+37,"") | U12: =IF(MONTH((DATE(2026,11,1)-WEEKDAY(DATE(2026,11,1),2)+1)+38)=11,(DATE(2026,11,1)-WEEKDAY(DATE(2026,11,1),2)+1)+38,"") | V12: =IF(MONTH((DATE(2026,11,1)-WEEKDAY(DATE(2026,11,1),2)+1)+39)=11,(DATE(2026,11,1)-WEEKDAY(DATE(2026,11,1),2)+1)+39,"") | W12: =IF(MONTH((DATE(2026,11,1)-WEEKDAY(DATE(2026,11,1),2)+1)+40)=11,(DATE(2026,11,1)-WEEKDAY(DATE(2026,11,1),2)+1)+40,"") | X12: =IF(MONTH((DATE(2026,11,1)-WEEKDAY(DATE(2026,11,1),2)+1)+41)=11,(DATE(2026,11,1)-WEEKDAY(DATE(2026,11,1),2)+1)+41,"")
B14: Decembrie 2026 | J14: Ianuarie 2027 | R14: Februarie 2027
B15: L | C15: Ma | D15: Mi | E15: J | F15: V | G15: S | H15: D | J15: L | K15: Ma | L15: Mi | M15: J | N15: V | O15: S | P15: D | R15: L | S15: Ma | T15: Mi | U15: J | V15: V | W15: S | X15: D
B16: =IF(MONTH((DATE(2026,12,1)-WEEKDAY(DATE(2026,12,1),2)+1)+0)=12,(DATE(2026,12,1)-WEEKDAY(DATE(2026,12,1),2)+1)+0,"") | C16: =IF(MONTH((DATE(2026,12,1)-WEEKDAY(DATE(2026,12,1),2)+1)+1)=12,(DATE(2026,12,1)-WEEKDAY(DATE(2026,12,1),2)+1)+1,"") -> 46357 | D16: =IF(MONTH((DATE(2026,12,1)-WEEKDAY(DATE(2026,12,1),2)+1)+2)=12,(DATE(2026,12,1)-WEEKDAY(DATE(2026,12,1),2)+1)+2,"") -> 46358 | E16: =IF(MONTH((DATE(2026,12,1)-WEEKDAY(DATE(2026,12,1),2)+1)+3)=12,(DATE(2026,12,1)-WEEKDAY(DATE(2026,12,1),2)+1)+3,"") -> 46359 | F16: =IF(MONTH((DATE(2026,12,1)-WEEKDAY(DATE(2026,12,1),2)+1)+4)=12,(DATE(2026,12,1)-WEEKDAY(DATE(2026,12,1),2)+1)+4,"") -> 46360 | G16: =IF(MONTH((DATE(2026,12,1)-WEEKDAY(DATE(2026,12,1),2)+1)+5)=12,(DATE(2026,12,1)-WEEKDAY(DATE(2026,12,1),2)+1)+5,"") -> 46361 | H16: =IF(MONTH((DATE(2026,12,1)-WEEKDAY(DATE(2026,12,1),2)+1)+6)=12,(DATE(2026,12,1)-WEEKDAY(DATE(2026,12,1),2)+1)+6,"") -> 46362 | J16: =IF(MONTH((DATE(2027,1,1)-WEEKDAY(DATE(2027,1,1),2)+1)+0)=1,(DATE(2027,1,1)-WEEKDAY(DATE(2027,1,1),2)+1)+0,"") | K16: =IF(MONTH((DATE(2027,1,1)-WEEKDAY(DATE(2027,1,1),2)+1)+1)=1,(DATE(2027,1,1)-WEEKDAY(DATE(2027,1,1),2)+1)+1,"") | L16: =IF(MONTH((DATE(2027,1,1)-WEEKDAY(DATE(2027,1,1),2)+1)+2)=1,(DATE(2027,1,1)-WEEKDAY(DATE(2027,1,1),2)+1)+2,"") | M16: =IF(MONTH((DATE(2027,1,1)-WEEKDAY(DATE(2027,1,1),2)+1)+3)=1,(DATE(2027,1,1)-WEEKDAY(DATE(2027,1,1),2)+1)+3,"") | N16: =IF(MONTH((DATE(2027,1,1)-WEEKDAY(DATE(2027,1,1),2)+1)+4)=1,(DATE(2027,1,1)-WEEKDAY(DATE(2027,1,1),2)+1)+4,"") -> 46388 | O16: =IF(MONTH((DATE(2027,1,1)-WEEKDAY(DATE(2027,1,1),2)+1)+5)=1,(DATE(2027,1,1)-WEEKDAY(DATE(2027,1,1),2)+1)+5,"") -> 46389 | P16: =IF(MONTH((DATE(2027,1,1)-WEEKDAY(DATE(2027,1,1),2)+1)+6)=1,(DATE(2027,1,1)-WEEKDAY(DATE(2027,1,1),2)+1)+6,"") -> 46390 | R16: =IF(MONTH((DATE(2027,2,1)-WEEKDAY(DATE(2027,2,1),2)+1)+0)=2,(DATE(2027,2,1)-WEEKDAY(DATE(2027,2,1),2)+1)+0,"") -> 46419 | S16: =IF(MONTH((DATE(2027,2,1)-WEEKDAY(DATE(2027,2,1),2)+1)+1)=2,(DATE(2027,2,1)-WEEKDAY(DATE(2027,2,1),2)+1)+1,"") -> 46420 | T16: =IF(MONTH((DATE(2027,2,1)-WEEKDAY(DATE(2027,2,1),2)+1)+2)=2,(DATE(2027,2,1)-WEEKDAY(DATE(2027,2,1),2)+1)+2,"") -> 46421 | U16: =IF(MONTH((DATE(2027,2,1)-WEEKDAY(DATE(2027,2,1),2)+1)+3)=2,(DATE(2027,2,1)-WEEKDAY(DATE(2027,2,1),2)+1)+3,"") -> 46422 | V16: =IF(MONTH((DATE(2027,2,1)-WEEKDAY(DATE(2027,2,1),2)+1)+4)=2,(DATE(2027,2,1)-WEEKDAY(DATE(2027,2,1),2)+1)+4,"") -> 46423 | W16: =IF(MONTH((DATE(2027,2,1)-WEEKDAY(DATE(2027,2,1),2)+1)+5)=2,(DATE(2027,2,1)-WEEKDAY(DATE(2027,2,1),2)+1)+5,"") -> 46424 | X16: =IF(MONTH((DATE(2027,2,1)-WEEKDAY(DATE(2027,2,1),2)+1)+6)=2,(DATE(2027,2,1)-WEEKDAY(DATE(2027,2,1),2)+1)+6,"") -> 46425
B17: =IF(MONTH((DATE(2026,12,1)-WEEKDAY(DATE(2026,12,1),2)+1)+7)=12,(DATE(2026,12,1)-WEEKDAY(DATE(2026,12,1),2)+1)+7,"") -> 46363 | C17: =IF(MONTH((DATE(2026,12,1)-WEEKDAY(DATE(2026,12,1),2)+1)+8)=12,(DATE(2026,12,1)-WEEKDAY(DATE(2026,12,1),2)+1)+8,"") -> 46364 | D17: =IF(MONTH((DATE(2026,12,1)-WEEKDAY(DATE(2026,12,1),2)+1)+9)=12,(DATE(2026,12,1)-WEEKDAY(DATE(2026,12,1),2)+1)+9,"") -> 46365 | E17: =IF(MONTH((DATE(2026,12,1)-WEEKDAY(DATE(2026,12,1),2)+1)+10)=12,(DATE(2026,12,1)-WEEKDAY(DATE(2026,12,1),2)+1)+10,"") -> 46366 | F17: =IF(MONTH((DATE(2026,12,1)-WEEKDAY(DATE(2026,12,1),2)+1)+11)=12,(DATE(2026,12,1)-WEEKDAY(DATE(2026,12,1),2)+1)+11,"") -> 46367 | G17: =IF(MONTH((DATE(2026,12,1)-WEEKDAY(DATE(2026,12,1),2)+1)+12)=12,(DATE(2026,12,1)-WEEKDAY(DATE(2026,12,1),2)+1)+12,"") -> 46368 | H17: =IF(MONTH((DATE(2026,12,1)-WEEKDAY(DATE(2026,12,1),2)+1)+13)=12,(DATE(2026,12,1)-WEEKDAY(DATE(2026,12,1),2)+1)+13,"") -> 46369 | J17: =IF(MONTH((DATE(2027,1,1)-WEEKDAY(DATE(2027,1,1),2)+1)+7)=1,(DATE(2027,1,1)-WEEKDAY(DATE(2027,1,1),2)+1)+7,"") -> 46391 | K17: =IF(MONTH((DATE(2027,1,1)-WEEKDAY(DATE(2027,1,1),2)+1)+8)=1,(DATE(2027,1,1)-WEEKDAY(DATE(2027,1,1),2)+1)+8,"") -> 46392 | L17: =IF(MONTH((DATE(2027,1,1)-WEEKDAY(DATE(2027,1,1),2)+1)+9)=1,(DATE(2027,1,1)-WEEKDAY(DATE(2027,1,1),2)+1)+9,"") -> 46393 | M17: =IF(MONTH((DATE(2027,1,1)-WEEKDAY(DATE(2027,1,1),2)+1)+10)=1,(DATE(2027,1,1)-WEEKDAY(DATE(2027,1,1),2)+1)+10,"") -> 46394 | N17: =IF(MONTH((DATE(2027,1,1)-WEEKDAY(DATE(2027,1,1),2)+1)+11)=1,(DATE(2027,1,1)-WEEKDAY(DATE(2027,1,1),2)+1)+11,"") -> 46395 | O17: =IF(MONTH((DATE(2027,1,1)-WEEKDAY(DATE(2027,1,1),2)+1)+12)=1,(DATE(2027,1,1)-WEEKDAY(DATE(2027,1,1),2)+1)+12,"") -> 46396 | P17: =IF(MONTH((DATE(2027,1,1)-WEEKDAY(DATE(2027,1,1),2)+1)+13)=1,(DATE(2027,1,1)-WEEKDAY(DATE(2027,1,1),2)+1)+13,"") -> 46397 | R17: =IF(MONTH((DATE(2027,2,1)-WEEKDAY(DATE(2027,2,1),2)+1)+7)=2,(DATE(2027,2,1)-WEEKDAY(DATE(2027,2,1),2)+1)+7,"") -> 46426 | S17: =IF(MONTH((DATE(2027,2,1)-WEEKDAY(DATE(2027,2,1),2)+1)+8)=2,(DATE(2027,2,1)-WEEKDAY(DATE(2027,2,1),2)+1)+8,"") -> 46427 | T17: =IF(MONTH((DATE(2027,2,1)-WEEKDAY(DATE(2027,2,1),2)+1)+9)=2,(DATE(2027,2,1)-WEEKDAY(DATE(2027,2,1),2)+1)+9,"") -> 46428 | U17: =IF(MONTH((DATE(2027,2,1)-WEEKDAY(DATE(2027,2,1),2)+1)+10)=2,(DATE(2027,2,1)-WEEKDAY(DATE(2027,2,1),2)+1)+10,"") -> 46429 | V17: =IF(MONTH((DATE(2027,2,1)-WEEKDAY(DATE(2027,2,1),2)+1)+11)=2,(DATE(2027,2,1)-WEEKDAY(DATE(2027,2,1),2)+1)+11,"") -> 46430 | W17: =IF(MONTH((DATE(2027,2,1)-WEEKDAY(DATE(2027,2,1),2)+1)+12)=2,(DATE(2027,2,1)-WEEKDAY(DATE(2027,2,1),2)+1)+12,"") -> 46431 | X17: =IF(MONTH((DATE(2027,2,1)-WEEKDAY(DATE(2027,2,1),2)+1)+13)=2,(DATE(2027,2,1)-WEEKDAY(DATE(2027,2,1),2)+1)+13,"") -> 46432
B18: =IF(MONTH((DATE(2026,12,1)-WEEKDAY(DATE(2026,12,1),2)+1)+14)=12,(DATE(2026,12,1)-WEEKDAY(DATE(2026,12,1),2)+1)+14,"") -> 46370 | C18: =IF(MONTH((DATE(2026,12,1)-WEEKDAY(DATE(2026,12,1),2)+1)+15)=12,(DATE(2026,12,1)-WEEKDAY(DATE(2026,12,1),2)+1)+15,"") -> 46371 | D18: =IF(MONTH((DATE(2026,12,1)-WEEKDAY(DATE(2026,12,1),2)+1)+16)=12,(DATE(2026,12,1)-WEEKDAY(DATE(2026,12,1),2)+1)+16,"") -> 46372 | E18: =IF(MONTH((DATE(2026,12,1)-WEEKDAY(DATE(2026,12,1),2)+1)+17)=12,(DATE(2026,12,1)-WEEKDAY(DATE(2026,12,1),2)+1)+17,"") -> 46373 | F18: =IF(MONTH((DATE(2026,12,1)-WEEKDAY(DATE(2026,12,1),2)+1)+18)=12,(DATE(2026,12,1)-WEEKDAY(DATE(2026,12,1),2)+1)+18,"") -> 46374 | G18: =IF(MONTH((DATE(2026,12,1)-WEEKDAY(DATE(2026,12,1),2)+1)+19)=12,(DATE(2026,12,1)-WEEKDAY(DATE(2026,12,1),2)+1)+19,"") -> 46375 | H18: =IF(MONTH((DATE(2026,12,1)-WEEKDAY(DATE(2026,12,1),2)+1)+20)=12,(DATE(2026,12,1)-WEEKDAY(DATE(2026,12,1),2)+1)+20,"") -> 46376 | J18: =IF(MONTH((DATE(2027,1,1)-WEEKDAY(DATE(2027,1,1),2)+1)+14)=1,(DATE(2027,1,1)-WEEKDAY(DATE(2027,1,1),2)+1)+14,"") -> 46398 | K18: =IF(MONTH((DATE(2027,1,1)-WEEKDAY(DATE(2027,1,1),2)+1)+15)=1,(DATE(2027,1,1)-WEEKDAY(DATE(2027,1,1),2)+1)+15,"") -> 46399 | L18: =IF(MONTH((DATE(2027,1,1)-WEEKDAY(DATE(2027,1,1),2)+1)+16)=1,(DATE(2027,1,1)-WEEKDAY(DATE(2027,1,1),2)+1)+16,"") -> 46400 | M18: =IF(MONTH((DATE(2027,1,1)-WEEKDAY(DATE(2027,1,1),2)+1)+17)=1,(DATE(2027,1,1)-WEEKDAY(DATE(2027,1,1),2)+1)+17,"") -> 46401 | N18: =IF(MONTH((DATE(2027,1,1)-WEEKDAY(DATE(2027,1,1),2)+1)+18)=1,(DATE(2027,1,1)-WEEKDAY(DATE(2027,1,1),2)+1)+18,"") -> 46402 | O18: =IF(MONTH((DATE(2027,1,1)-WEEKDAY(DATE(2027,1,1),2)+1)+19)=1,(DATE(2027,1,1)-WEEKDAY(DATE(2027,1,1),2)+1)+19,"") -> 46403 | P18: =IF(MONTH((DATE(2027,1,1)-WEEKDAY(DATE(2027,1,1),2)+1)+20)=1,(DATE(2027,1,1)-WEEKDAY(DATE(2027,1,1),2)+1)+20,"") -> 46404 | R18: =IF(MONTH((DATE(2027,2,1)-WEEKDAY(DATE(2027,2,1),2)+1)+14)=2,(DATE(2027,2,1)-WEEKDAY(DATE(2027,2,1),2)+1)+14,"") -> 46433 | S18: =IF(MONTH((DATE(2027,2,1)-WEEKDAY(DATE(2027,2,1),2)+1)+15)=2,(DATE(2027,2,1)-WEEKDAY(DATE(2027,2,1),2)+1)+15,"") -> 46434 | T18: =IF(MONTH((DATE(2027,2,1)-WEEKDAY(DATE(2027,2,1),2)+1)+16)=2,(DATE(2027,2,1)-WEEKDAY(DATE(2027,2,1),2)+1)+16,"") -> 46435 | U18: =IF(MONTH((DATE(2027,2,1)-WEEKDAY(DATE(2027,2,1),2)+1)+17)=2,(DATE(2027,2,1)-WEEKDAY(DATE(2027,2,1),2)+1)+17,"") -> 46436 | V18: =IF(MONTH((DATE(2027,2,1)-WEEKDAY(DATE(2027,2,1),2)+1)+18)=2,(DATE(2027,2,1)-WEEKDAY(DATE(2027,2,1),2)+1)+18,"") -> 46437 | W18: =IF(MONTH((DATE(2027,2,1)-WEEKDAY(DATE(2027,2,1),2)+1)+19)=2,(DATE(2027,2,1)-WEEKDAY(DATE(2027,2,1),2)+1)+19,"") -> 46438 | X18: =IF(MONTH((DATE(2027,2,1)-WEEKDAY(DATE(2027,2,1),2)+1)+20)=2,(DATE(2027,2,1)-WEEKDAY(DATE(2027,2,1),2)+1)+20,"") -> 46439
B19: =IF(MONTH((DATE(2026,12,1)-WEEKDAY(DATE(2026,12,1),2)+1)+21)=12,(DATE(2026,12,1)-WEEKDAY(DATE(2026,12,1),2)+1)+21,"") -> 46377 | C19: =IF(MONTH((DATE(2026,12,1)-WEEKDAY(DATE(2026,12,1),2)+1)+22)=12,(DATE(2026,12,1)-WEEKDAY(DATE(2026,12,1),2)+1)+22,"") -> 46378 | D19: =IF(MONTH((DATE(2026,12,1)-WEEKDAY(DATE(2026,12,1),2)+1)+23)=12,(DATE(2026,12,1)-WEEKDAY(DATE(2026,12,1),2)+1)+23,"") -> 46379 | E19: =IF(MONTH((DATE(2026,12,1)-WEEKDAY(DATE(2026,12,1),2)+1)+24)=12,(DATE(2026,12,1)-WEEKDAY(DATE(2026,12,1),2)+1)+24,"") -> 46380 | F19: =IF(MONTH((DATE(2026,12,1)-WEEKDAY(DATE(2026,12,1),2)+1)+25)=12,(DATE(2026,12,1)-WEEKDAY(DATE(2026,12,1),2)+1)+25,"") -> 46381 | G19: =IF(MONTH((DATE(2026,12,1)-WEEKDAY(DATE(2026,12,1),2)+1)+26)=12,(DATE(2026,12,1)-WEEKDAY(DATE(2026,12,1),2)+1)+26,"") -> 46382 | H19: =IF(MONTH((DATE(2026,12,1)-WEEKDAY(DATE(2026,12,1),2)+1)+27)=12,(DATE(2026,12,1)-WEEKDAY(DATE(2026,12,1),2)+1)+27,"") -> 46383 | J19: =IF(MONTH((DATE(2027,1,1)-WEEKDAY(DATE(2027,1,1),2)+1)+21)=1,(DATE(2027,1,1)-WEEKDAY(DATE(2027,1,1),2)+1)+21,"") -> 46405 | K19: =IF(MONTH((DATE(2027,1,1)-WEEKDAY(DATE(2027,1,1),2)+1)+22)=1,(DATE(2027,1,1)-WEEKDAY(DATE(2027,1,1),2)+1)+22,"") -> 46406 | L19: =IF(MONTH((DATE(2027,1,1)-WEEKDAY(DATE(2027,1,1),2)+1)+23)=1,(DATE(2027,1,1)-WEEKDAY(DATE(2027,1,1),2)+1)+23,"") -> 46407 | M19: =IF(MONTH((DATE(2027,1,1)-WEEKDAY(DATE(2027,1,1),2)+1)+24)=1,(DATE(2027,1,1)-WEEKDAY(DATE(2027,1,1),2)+1)+24,"") -> 46408 | N19: =IF(MONTH((DATE(2027,1,1)-WEEKDAY(DATE(2027,1,1),2)+1)+25)=1,(DATE(2027,1,1)-WEEKDAY(DATE(2027,1,1),2)+1)+25,"") -> 46409 | O19: =IF(MONTH((DATE(2027,1,1)-WEEKDAY(DATE(2027,1,1),2)+1)+26)=1,(DATE(2027,1,1)-WEEKDAY(DATE(2027,1,1),2)+1)+26,"") -> 46410 | P19: =IF(MONTH((DATE(2027,1,1)-WEEKDAY(DATE(2027,1,1),2)+1)+27)=1,(DATE(2027,1,1)-WEEKDAY(DATE(2027,1,1),2)+1)+27,"") -> 46411 | R19: =IF(MONTH((DATE(2027,2,1)-WEEKDAY(DATE(2027,2,1),2)+1)+21)=2,(DATE(2027,2,1)-WEEKDAY(DATE(2027,2,1),2)+1)+21,"") -> 46440 | S19: =IF(MONTH((DATE(2027,2,1)-WEEKDAY(DATE(2027,2,1),2)+1)+22)=2,(DATE(2027,2,1)-WEEKDAY(DATE(2027,2,1),2)+1)+22,"") -> 46441 | T19: =IF(MONTH((DATE(2027,2,1)-WEEKDAY(DATE(2027,2,1),2)+1)+23)=2,(DATE(2027,2,1)-WEEKDAY(DATE(2027,2,1),2)+1)+23,"") -> 46442 | U19: =IF(MONTH((DATE(2027,2,1)-WEEKDAY(DATE(2027,2,1),2)+1)+24)=2,(DATE(2027,2,1)-WEEKDAY(DATE(2027,2,1),2)+1)+24,"") -> 46443 | V19: =IF(MONTH((DATE(2027,2,1)-WEEKDAY(DATE(2027,2,1),2)+1)+25)=2,(DATE(2027,2,1)-WEEKDAY(DATE(2027,2,1),2)+1)+25,"") -> 46444 | W19: =IF(MONTH((DATE(2027,2,1)-WEEKDAY(DATE(2027,2,1),2)+1)+26)=2,(DATE(2027,2,1)-WEEKDAY(DATE(2027,2,1),2)+1)+26,"") -> 46445 | X19: =IF(MONTH((DATE(2027,2,1)-WEEKDAY(DATE(2027,2,1),2)+1)+27)=2,(DATE(2027,2,1)-WEEKDAY(DATE(2027,2,1),2)+1)+27,"") -> 46446
B20: =IF(MONTH((DATE(2026,12,1)-WEEKDAY(DATE(2026,12,1),2)+1)+28)=12,(DATE(2026,12,1)-WEEKDAY(DATE(2026,12,1),2)+1)+28,"") -> 46384 | C20: =IF(MONTH((DATE(2026,12,1)-WEEKDAY(DATE(2026,12,1),2)+1)+29)=12,(DATE(2026,12,1)-WEEKDAY(DATE(2026,12,1),2)+1)+29,"") -> 46385 | D20: =IF(MONTH((DATE(2026,12,1)-WEEKDAY(DATE(2026,12,1),2)+1)+30)=12,(DATE(2026,12,1)-WEEKDAY(DATE(2026,12,1),2)+1)+30,"") -> 46386 | E20: =IF(MONTH((DATE(2026,12,1)-WEEKDAY(DATE(2026,12,1),2)+1)+31)=12,(DATE(2026,12,1)-WEEKDAY(DATE(2026,12,1),2)+1)+31,"") -> 46387 | F20: =IF(MONTH((DATE(2026,12,1)-WEEKDAY(DATE(2026,12,1),2)+1)+32)=12,(DATE(2026,12,1)-WEEKDAY(DATE(2026,12,1),2)+1)+32,"") | G20: =IF(MONTH((DATE(2026,12,1)-WEEKDAY(DATE(2026,12,1),2)+1)+33)=12,(DATE(2026,12,1)-WEEKDAY(DATE(2026,12,1),2)+1)+33,"") | H20: =IF(MONTH((DATE(2026,12,1)-WEEKDAY(DATE(2026,12,1),2)+1)+34)=12,(DATE(2026,12,1)-WEEKDAY(DATE(2026,12,1),2)+1)+34,"") | J20: =IF(MONTH((DATE(2027,1,1)-WEEKDAY(DATE(2027,1,1),2)+1)+28)=1,(DATE(2027,1,1)-WEEKDAY(DATE(2027,1,1),2)+1)+28,"") -> 46412 | K20: =IF(MONTH((DATE(2027,1,1)-WEEKDAY(DATE(2027,1,1),2)+1)+29)=1,(DATE(2027,1,1)-WEEKDAY(DATE(2027,1,1),2)+1)+29,"") -> 46413 | L20: =IF(MONTH((DATE(2027,1,1)-WEEKDAY(DATE(2027,1,1),2)+1)+30)=1,(DATE(2027,1,1)-WEEKDAY(DATE(2027,1,1),2)+1)+30,"") -> 46414 | M20: =IF(MONTH((DATE(2027,1,1)-WEEKDAY(DATE(2027,1,1),2)+1)+31)=1,(DATE(2027,1,1)-WEEKDAY(DATE(2027,1,1),2)+1)+31,"") -> 46415 | N20: =IF(MONTH((DATE(2027,1,1)-WEEKDAY(DATE(2027,1,1),2)+1)+32)=1,(DATE(2027,1,1)-WEEKDAY(DATE(2027,1,1),2)+1)+32,"") -> 46416 | O20: =IF(MONTH((DATE(2027,1,1)-WEEKDAY(DATE(2027,1,1),2)+1)+33)=1,(DATE(2027,1,1)-WEEKDAY(DATE(2027,1,1),2)+1)+33,"") -> 46417 | P20: =IF(MONTH((DATE(2027,1,1)-WEEKDAY(DATE(2027,1,1),2)+1)+34)=1,(DATE(2027,1,1)-WEEKDAY(DATE(2027,1,1),2)+1)+34,"") -> 46418 | R20: =IF(MONTH((DATE(2027,2,1)-WEEKDAY(DATE(2027,2,1),2)+1)+28)=2,(DATE(2027,2,1)-WEEKDAY(DATE(2027,2,1),2)+1)+28,"") | S20: =IF(MONTH((DATE(2027,2,1)-WEEKDAY(DATE(2027,2,1),2)+1)+29)=2,(DATE(2027,2,1)-WEEKDAY(DATE(2027,2,1),2)+1)+29,"") | T20: =IF(MONTH((DATE(2027,2,1)-WEEKDAY(DATE(2027,2,1),2)+1)+30)=2,(DATE(2027,2,1)-WEEKDAY(DATE(2027,2,1),2)+1)+30,"") | U20: =IF(MONTH((DATE(2027,2,1)-WEEKDAY(DATE(2027,2,1),2)+1)+31)=2,(DATE(2027,2,1)-WEEKDAY(DATE(2027,2,1),2)+1)+31,"") | V20: =IF(MONTH((DATE(2027,2,1)-WEEKDAY(DATE(2027,2,1),2)+1)+32)=2,(DATE(2027,2,1)-WEEKDAY(DATE(2027,2,1),2)+1)+32,"") | W20: =IF(MONTH((DATE(2027,2,1)-WEEKDAY(DATE(2027,2,1),2)+1)+33)=2,(DATE(2027,2,1)-WEEKDAY(DATE(2027,2,1),2)+1)+33,"") | X20: =IF(MONTH((DATE(2027,2,1)-WEEKDAY(DATE(2027,2,1),2)+1)+34)=2,(DATE(2027,2,1)-WEEKDAY(DATE(2027,2,1),2)+1)+34,"")
B21: =IF(MONTH((DATE(2026,12,1)-WEEKDAY(DATE(2026,12,1),2)+1)+35)=12,(DATE(2026,12,1)-WEEKDAY(DATE(2026,12,1),2)+1)+35,"") | C21: =IF(MONTH((DATE(2026,12,1)-WEEKDAY(DATE(2026,12,1),2)+1)+36)=12,(DATE(2026,12,1)-WEEKDAY(DATE(2026,12,1),2)+1)+36,"") | D21: =IF(MONTH((DATE(2026,12,1)-WEEKDAY(DATE(2026,12,1),2)+1)+37)=12,(DATE(2026,12,1)-WEEKDAY(DATE(2026,12,1),2)+1)+37,"") | E21: =IF(MONTH((DATE(2026,12,1)-WEEKDAY(DATE(2026,12,1),2)+1)+38)=12,(DATE(2026,12,1)-WEEKDAY(DATE(2026,12,1),2)+1)+38,"") | F21: =IF(MONTH((DATE(2026,12,1)-WEEKDAY(DATE(2026,12,1),2)+1)+39)=12,(DATE(2026,12,1)-WEEKDAY(DATE(2026,12,1),2)+1)+39,"") | G21: =IF(MONTH((DATE(2026,12,1)-WEEKDAY(DATE(2026,12,1),2)+1)+40)=12,(DATE(2026,12,1)-WEEKDAY(DATE(2026,12,1),2)+1)+40,"") | H21: =IF(MONTH((DATE(2026,12,1)-WEEKDAY(DATE(2026,12,1),2)+1)+41)=12,(DATE(2026,12,1)-WEEKDAY(DATE(2026,12,1),2)+1)+41,"") | J21: =IF(MONTH((DATE(2027,1,1)-WEEKDAY(DATE(2027,1,1),2)+1)+35)=1,(DATE(2027,1,1)-WEEKDAY(DATE(2027,1,1),2)+1)+35,"") | K21: =IF(MONTH((DATE(2027,1,1)-WEEKDAY(DATE(2027,1,1),2)+1)+36)=1,(DATE(2027,1,1)-WEEKDAY(DATE(2027,1,1),2)+1)+36,"") | L21: =IF(MONTH((DATE(2027,1,1)-WEEKDAY(DATE(2027,1,1),2)+1)+37)=1,(DATE(2027,1,1)-WEEKDAY(DATE(2027,1,1),2)+1)+37,"") | M21: =IF(MONTH((DATE(2027,1,1)-WEEKDAY(DATE(2027,1,1),2)+1)+38)=1,(DATE(2027,1,1)-WEEKDAY(DATE(2027,1,1),2)+1)+38,"") | N21: =IF(MONTH((DATE(2027,1,1)-WEEKDAY(DATE(2027,1,1),2)+1)+39)=1,(DATE(2027,1,1)-WEEKDAY(DATE(2027,1,1),2)+1)+39,"") | O21: =IF(MONTH((DATE(2027,1,1)-WEEKDAY(DATE(2027,1,1),2)+1)+40)=1,(DATE(2027,1,1)-WEEKDAY(DATE(2027,1,1),2)+1)+40,"") | P21: =IF(MONTH((DATE(2027,1,1)-WEEKDAY(DATE(2027,1,1),2)+1)+41)=1,(DATE(2027,1,1)-WEEKDAY(DATE(2027,1,1),2)+1)+41,"") | R21: =IF(MONTH((DATE(2027,2,1)-WEEKDAY(DATE(2027,2,1),2)+1)+35)=2,(DATE(2027,2,1)-WEEKDAY(DATE(2027,2,1),2)+1)+35,"") | S21: =IF(MONTH((DATE(2027,2,1)-WEEKDAY(DATE(2027,2,1),2)+1)+36)=2,(DATE(2027,2,1)-WEEKDAY(DATE(2027,2,1),2)+1)+36,"") | T21: =IF(MONTH((DATE(2027,2,1)-WEEKDAY(DATE(2027,2,1),2)+1)+37)=2,(DATE(2027,2,1)-WEEKDAY(DATE(2027,2,1),2)+1)+37,"") | U21: =IF(MONTH((DATE(2027,2,1)-WEEKDAY(DATE(2027,2,1),2)+1)+38)=2,(DATE(2027,2,1)-WEEKDAY(DATE(2027,2,1),2)+1)+38,"") | V21: =IF(MONTH((DATE(2027,2,1)-WEEKDAY(DATE(2027,2,1),2)+1)+39)=2,(DATE(2027,2,1)-WEEKDAY(DATE(2027,2,1),2)+1)+39,"") | W21: =IF(MONTH((DATE(2027,2,1)-WEEKDAY(DATE(2027,2,1),2)+1)+40)=2,(DATE(2027,2,1)-WEEKDAY(DATE(2027,2,1),2)+1)+40,"") | X21: =IF(MONTH((DATE(2027,2,1)-WEEKDAY(DATE(2027,2,1),2)+1)+41)=2,(DATE(2027,2,1)-WEEKDAY(DATE(2027,2,1),2)+1)+41,"")
B23: Martie 2027 | J23: Aprilie 2027 | R23: Mai 2027
B24: L | C24: Ma | D24: Mi | E24: J | F24: V | G24: S | H24: D | J24: L | K24: Ma | L24: Mi | M24: J | N24: V | O24: S | P24: D | R24: L | S24: Ma | T24: Mi | U24: J | V24: V | W24: S | X24: D
B25: =IF(MONTH((DATE(2027,3,1)-WEEKDAY(DATE(2027,3,1),2)+1)+0)=3,(DATE(2027,3,1)-WEEKDAY(DATE(2027,3,1),2)+1)+0,"") -> 46447 | C25: =IF(MONTH((DATE(2027,3,1)-WEEKDAY(DATE(2027,3,1),2)+1)+1)=3,(DATE(2027,3,1)-WEEKDAY(DATE(2027,3,1),2)+1)+1,"") -> 46448 | D25: =IF(MONTH((DATE(2027,3,1)-WEEKDAY(DATE(2027,3,1),2)+1)+2)=3,(DATE(2027,3,1)-WEEKDAY(DATE(2027,3,1),2)+1)+2,"") -> 46449 | E25: =IF(MONTH((DATE(2027,3,1)-WEEKDAY(DATE(2027,3,1),2)+1)+3)=3,(DATE(2027,3,1)-WEEKDAY(DATE(2027,3,1),2)+1)+3,"") -> 46450 | F25: =IF(MONTH((DATE(2027,3,1)-WEEKDAY(DATE(2027,3,1),2)+1)+4)=3,(DATE(2027,3,1)-WEEKDAY(DATE(2027,3,1),2)+1)+4,"") -> 46451 | G25: =IF(MONTH((DATE(2027,3,1)-WEEKDAY(DATE(2027,3,1),2)+1)+5)=3,(DATE(2027,3,1)-WEEKDAY(DATE(2027,3,1),2)+1)+5,"") -> 46452 | H25: =IF(MONTH((DATE(2027,3,1)-WEEKDAY(DATE(2027,3,1),2)+1)+6)=3,(DATE(2027,3,1)-WEEKDAY(DATE(2027,3,1),2)+1)+6,"") -> 46453 | J25: =IF(MONTH((DATE(2027,4,1)-WEEKDAY(DATE(2027,4,1),2)+1)+0)=4,(DATE(2027,4,1)-WEEKDAY(DATE(2027,4,1),2)+1)+0,"") | K25: =IF(MONTH((DATE(2027,4,1)-WEEKDAY(DATE(2027,4,1),2)+1)+1)=4,(DATE(2027,4,1)-WEEKDAY(DATE(2027,4,1),2)+1)+1,"") | L25: =IF(MONTH((DATE(2027,4,1)-WEEKDAY(DATE(2027,4,1),2)+1)+2)=4,(DATE(2027,4,1)-WEEKDAY(DATE(2027,4,1),2)+1)+2,"") | M25: =IF(MONTH((DATE(2027,4,1)-WEEKDAY(DATE(2027,4,1),2)+1)+3)=4,(DATE(2027,4,1)-WEEKDAY(DATE(2027,4,1),2)+1)+3,"") -> 46478 | N25: =IF(MONTH((DATE(2027,4,1)-WEEKDAY(DATE(2027,4,1),2)+1)+4)=4,(DATE(2027,4,1)-WEEKDAY(DATE(2027,4,1),2)+1)+4,"") -> 46479 | O25: =IF(MONTH((DATE(2027,4,1)-WEEKDAY(DATE(2027,4,1),2)+1)+5)=4,(DATE(2027,4,1)-WEEKDAY(DATE(2027,4,1),2)+1)+5,"") -> 46480 | P25: =IF(MONTH((DATE(2027,4,1)-WEEKDAY(DATE(2027,4,1),2)+1)+6)=4,(DATE(2027,4,1)-WEEKDAY(DATE(2027,4,1),2)+1)+6,"") -> 46481 | R25: =IF(MONTH((DATE(2027,5,1)-WEEKDAY(DATE(2027,5,1),2)+1)+0)=5,(DATE(2027,5,1)-WEEKDAY(DATE(2027,5,1),2)+1)+0,"") | S25: =IF(MONTH((DATE(2027,5,1)-WEEKDAY(DATE(2027,5,1),2)+1)+1)=5,(DATE(2027,5,1)-WEEKDAY(DATE(2027,5,1),2)+1)+1,"") | T25: =IF(MONTH((DATE(2027,5,1)-WEEKDAY(DATE(2027,5,1),2)+1)+2)=5,(DATE(2027,5,1)-WEEKDAY(DATE(2027,5,1),2)+1)+2,"") | U25: =IF(MONTH((DATE(2027,5,1)-WEEKDAY(DATE(2027,5,1),2)+1)+3)=5,(DATE(2027,5,1)-WEEKDAY(DATE(2027,5,1),2)+1)+3,"") | V25: =IF(MONTH((DATE(2027,5,1)-WEEKDAY(DATE(2027,5,1),2)+1)+4)=5,(DATE(2027,5,1)-WEEKDAY(DATE(2027,5,1),2)+1)+4,"") | W25: =IF(MONTH((DATE(2027,5,1)-WEEKDAY(DATE(2027,5,1),2)+1)+5)=5,(DATE(2027,5,1)-WEEKDAY(DATE(2027,5,1),2)+1)+5,"") -> 46508 | X25: =IF(MONTH((DATE(2027,5,1)-WEEKDAY(DATE(2027,5,1),2)+1)+6)=5,(DATE(2027,5,1)-WEEKDAY(DATE(2027,5,1),2)+1)+6,"") -> 46509
B26: =IF(MONTH((DATE(2027,3,1)-WEEKDAY(DATE(2027,3,1),2)+1)+7)=3,(DATE(2027,3,1)-WEEKDAY(DATE(2027,3,1),2)+1)+7,"") -> 46454 | C26: =IF(MONTH((DATE(2027,3,1)-WEEKDAY(DATE(2027,3,1),2)+1)+8)=3,(DATE(2027,3,1)-WEEKDAY(DATE(2027,3,1),2)+1)+8,"") -> 46455 | D26: =IF(MONTH((DATE(2027,3,1)-WEEKDAY(DATE(2027,3,1),2)+1)+9)=3,(DATE(2027,3,1)-WEEKDAY(DATE(2027,3,1),2)+1)+9,"") -> 46456 | E26: =IF(MONTH((DATE(2027,3,1)-WEEKDAY(DATE(2027,3,1),2)+1)+10)=3,(DATE(2027,3,1)-WEEKDAY(DATE(2027,3,1),2)+1)+10,"") -> 46457 | F26: =IF(MONTH((DATE(2027,3,1)-WEEKDAY(DATE(2027,3,1),2)+1)+11)=3,(DATE(2027,3,1)-WEEKDAY(DATE(2027,3,1),2)+1)+11,"") -> 46458 | G26: =IF(MONTH((DATE(2027,3,1)-WEEKDAY(DATE(2027,3,1),2)+1)+12)=3,(DATE(2027,3,1)-WEEKDAY(DATE(2027,3,1),2)+1)+12,"") -> 46459 | H26: =IF(MONTH((DATE(2027,3,1)-WEEKDAY(DATE(2027,3,1),2)+1)+13)=3,(DATE(2027,3,1)-WEEKDAY(DATE(2027,3,1),2)+1)+13,"") -> 46460 | J26: =IF(MONTH((DATE(2027,4,1)-WEEKDAY(DATE(2027,4,1),2)+1)+7)=4,(DATE(2027,4,1)-WEEKDAY(DATE(2027,4,1),2)+1)+7,"") -> 46482 | K26: =IF(MONTH((DATE(2027,4,1)-WEEKDAY(DATE(2027,4,1),2)+1)+8)=4,(DATE(2027,4,1)-WEEKDAY(DATE(2027,4,1),2)+1)+8,"") -> 46483 | L26: =IF(MONTH((DATE(2027,4,1)-WEEKDAY(DATE(2027,4,1),2)+1)+9)=4,(DATE(2027,4,1)-WEEKDAY(DATE(2027,4,1),2)+1)+9,"") -> 46484 | M26: =IF(MONTH((DATE(2027,4,1)-WEEKDAY(DATE(2027,4,1),2)+1)+10)=4,(DATE(2027,4,1)-WEEKDAY(DATE(2027,4,1),2)+1)+10,"") -> 46485 | N26: =IF(MONTH((DATE(2027,4,1)-WEEKDAY(DATE(2027,4,1),2)+1)+11)=4,(DATE(2027,4,1)-WEEKDAY(DATE(2027,4,1),2)+1)+11,"") -> 46486 | O26: =IF(MONTH((DATE(2027,4,1)-WEEKDAY(DATE(2027,4,1),2)+1)+12)=4,(DATE(2027,4,1)-WEEKDAY(DATE(2027,4,1),2)+1)+12,"") -> 46487 | P26: =IF(MONTH((DATE(2027,4,1)-WEEKDAY(DATE(2027,4,1),2)+1)+13)=4,(DATE(2027,4,1)-WEEKDAY(DATE(2027,4,1),2)+1)+13,"") -> 46488 | R26: =IF(MONTH((DATE(2027,5,1)-WEEKDAY(DATE(2027,5,1),2)+1)+7)=5,(DATE(2027,5,1)-WEEKDAY(DATE(2027,5,1),2)+1)+7,"") -> 46510 | S26: =IF(MONTH((DATE(2027,5,1)-WEEKDAY(DATE(2027,5,1),2)+1)+8)=5,(DATE(2027,5,1)-WEEKDAY(DATE(2027,5,1),2)+1)+8,"") -> 46511 | T26: =IF(MONTH((DATE(2027,5,1)-WEEKDAY(DATE(2027,5,1),2)+1)+9)=5,(DATE(2027,5,1)-WEEKDAY(DATE(2027,5,1),2)+1)+9,"") -> 46512 | U26: =IF(MONTH((DATE(2027,5,1)-WEEKDAY(DATE(2027,5,1),2)+1)+10)=5,(DATE(2027,5,1)-WEEKDAY(DATE(2027,5,1),2)+1)+10,"") -> 46513 | V26: =IF(MONTH((DATE(2027,5,1)-WEEKDAY(DATE(2027,5,1),2)+1)+11)=5,(DATE(2027,5,1)-WEEKDAY(DATE(2027,5,1),2)+1)+11,"") -> 46514 | W26: =IF(MONTH((DATE(2027,5,1)-WEEKDAY(DATE(2027,5,1),2)+1)+12)=5,(DATE(2027,5,1)-WEEKDAY(DATE(2027,5,1),2)+1)+12,"") -> 46515 | X26: =IF(MONTH((DATE(2027,5,1)-WEEKDAY(DATE(2027,5,1),2)+1)+13)=5,(DATE(2027,5,1)-WEEKDAY(DATE(2027,5,1),2)+1)+13,"") -> 46516
B27: =IF(MONTH((DATE(2027,3,1)-WEEKDAY(DATE(2027,3,1),2)+1)+14)=3,(DATE(2027,3,1)-WEEKDAY(DATE(2027,3,1),2)+1)+14,"") -> 46461 | C27: =IF(MONTH((DATE(2027,3,1)-WEEKDAY(DATE(2027,3,1),2)+1)+15)=3,(DATE(2027,3,1)-WEEKDAY(DATE(2027,3,1),2)+1)+15,"") -> 46462 | D27: =IF(MONTH((DATE(2027,3,1)-WEEKDAY(DATE(2027,3,1),2)+1)+16)=3,(DATE(2027,3,1)-WEEKDAY(DATE(2027,3,1),2)+1)+16,"") -> 46463 | E27: =IF(MONTH((DATE(2027,3,1)-WEEKDAY(DATE(2027,3,1),2)+1)+17)=3,(DATE(2027,3,1)-WEEKDAY(DATE(2027,3,1),2)+1)+17,"") -> 46464 | F27: =IF(MONTH((DATE(2027,3,1)-WEEKDAY(DATE(2027,3,1),2)+1)+18)=3,(DATE(2027,3,1)-WEEKDAY(DATE(2027,3,1),2)+1)+18,"") -> 46465 | G27: =IF(MONTH((DATE(2027,3,1)-WEEKDAY(DATE(2027,3,1),2)+1)+19)=3,(DATE(2027,3,1)-WEEKDAY(DATE(2027,3,1),2)+1)+19,"") -> 46466 | H27: =IF(MONTH((DATE(2027,3,1)-WEEKDAY(DATE(2027,3,1),2)+1)+20)=3,(DATE(2027,3,1)-WEEKDAY(DATE(2027,3,1),2)+1)+20,"") -> 46467 | J27: =IF(MONTH((DATE(2027,4,1)-WEEKDAY(DATE(2027,4,1),2)+1)+14)=4,(DATE(2027,4,1)-WEEKDAY(DATE(2027,4,1),2)+1)+14,"") -> 46489 | K27: =IF(MONTH((DATE(2027,4,1)-WEEKDAY(DATE(2027,4,1),2)+1)+15)=4,(DATE(2027,4,1)-WEEKDAY(DATE(2027,4,1),2)+1)+15,"") -> 46490 | L27: =IF(MONTH((DATE(2027,4,1)-WEEKDAY(DATE(2027,4,1),2)+1)+16)=4,(DATE(2027,4,1)-WEEKDAY(DATE(2027,4,1),2)+1)+16,"") -> 46491 | M27: =IF(MONTH((DATE(2027,4,1)-WEEKDAY(DATE(2027,4,1),2)+1)+17)=4,(DATE(2027,4,1)-WEEKDAY(DATE(2027,4,1),2)+1)+17,"") -> 46492 | N27: =IF(MONTH((DATE(2027,4,1)-WEEKDAY(DATE(2027,4,1),2)+1)+18)=4,(DATE(2027,4,1)-WEEKDAY(DATE(2027,4,1),2)+1)+18,"") -> 46493 | O27: =IF(MONTH((DATE(2027,4,1)-WEEKDAY(DATE(2027,4,1),2)+1)+19)=4,(DATE(2027,4,1)-WEEKDAY(DATE(2027,4,1),2)+1)+19,"") -> 46494 | P27: =IF(MONTH((DATE(2027,4,1)-WEEKDAY(DATE(2027,4,1),2)+1)+20)=4,(DATE(2027,4,1)-WEEKDAY(DATE(2027,4,1),2)+1)+20,"") -> 46495 | R27: =IF(MONTH((DATE(2027,5,1)-WEEKDAY(DATE(2027,5,1),2)+1)+14)=5,(DATE(2027,5,1)-WEEKDAY(DATE(2027,5,1),2)+1)+14,"") -> 46517 | S27: =IF(MONTH((DATE(2027,5,1)-WEEKDAY(DATE(2027,5,1),2)+1)+15)=5,(DATE(2027,5,1)-WEEKDAY(DATE(2027,5,1),2)+1)+15,"") -> 46518 | T27: =IF(MONTH((DATE(2027,5,1)-WEEKDAY(DATE(2027,5,1),2)+1)+16)=5,(DATE(2027,5,1)-WEEKDAY(DATE(2027,5,1),2)+1)+16,"") -> 46519 | U27: =IF(MONTH((DATE(2027,5,1)-WEEKDAY(DATE(2027,5,1),2)+1)+17)=5,(DATE(2027,5,1)-WEEKDAY(DATE(2027,5,1),2)+1)+17,"") -> 46520 | V27: =IF(MONTH((DATE(2027,5,1)-WEEKDAY(DATE(2027,5,1),2)+1)+18)=5,(DATE(2027,5,1)-WEEKDAY(DATE(2027,5,1),2)+1)+18,"") -> 46521 | W27: =IF(MONTH((DATE(2027,5,1)-WEEKDAY(DATE(2027,5,1),2)+1)+19)=5,(DATE(2027,5,1)-WEEKDAY(DATE(2027,5,1),2)+1)+19,"") -> 46522 | X27: =IF(MONTH((DATE(2027,5,1)-WEEKDAY(DATE(2027,5,1),2)+1)+20)=5,(DATE(2027,5,1)-WEEKDAY(DATE(2027,5,1),2)+1)+20,"") -> 46523
B28: =IF(MONTH((DATE(2027,3,1)-WEEKDAY(DATE(2027,3,1),2)+1)+21)=3,(DATE(2027,3,1)-WEEKDAY(DATE(2027,3,1),2)+1)+21,"") -> 46468 | C28: =IF(MONTH((DATE(2027,3,1)-WEEKDAY(DATE(2027,3,1),2)+1)+22)=3,(DATE(2027,3,1)-WEEKDAY(DATE(2027,3,1),2)+1)+22,"") -> 46469 | D28: =IF(MONTH((DATE(2027,3,1)-WEEKDAY(DATE(2027,3,1),2)+1)+23)=3,(DATE(2027,3,1)-WEEKDAY(DATE(2027,3,1),2)+1)+23,"") -> 46470 | E28: =IF(MONTH((DATE(2027,3,1)-WEEKDAY(DATE(2027,3,1),2)+1)+24)=3,(DATE(2027,3,1)-WEEKDAY(DATE(2027,3,1),2)+1)+24,"") -> 46471 | F28: =IF(MONTH((DATE(2027,3,1)-WEEKDAY(DATE(2027,3,1),2)+1)+25)=3,(DATE(2027,3,1)-WEEKDAY(DATE(2027,3,1),2)+1)+25,"") -> 46472 | G28: =IF(MONTH((DATE(2027,3,1)-WEEKDAY(DATE(2027,3,1),2)+1)+26)=3,(DATE(2027,3,1)-WEEKDAY(DATE(2027,3,1),2)+1)+26,"") -> 46473 | H28: =IF(MONTH((DATE(2027,3,1)-WEEKDAY(DATE(2027,3,1),2)+1)+27)=3,(DATE(2027,3,1)-WEEKDAY(DATE(2027,3,1),2)+1)+27,"") -> 46474 | J28: =IF(MONTH((DATE(2027,4,1)-WEEKDAY(DATE(2027,4,1),2)+1)+21)=4,(DATE(2027,4,1)-WEEKDAY(DATE(2027,4,1),2)+1)+21,"") -> 46496 | K28: =IF(MONTH((DATE(2027,4,1)-WEEKDAY(DATE(2027,4,1),2)+1)+22)=4,(DATE(2027,4,1)-WEEKDAY(DATE(2027,4,1),2)+1)+22,"") -> 46497 | L28: =IF(MONTH((DATE(2027,4,1)-WEEKDAY(DATE(2027,4,1),2)+1)+23)=4,(DATE(2027,4,1)-WEEKDAY(DATE(2027,4,1),2)+1)+23,"") -> 46498 | M28: =IF(MONTH((DATE(2027,4,1)-WEEKDAY(DATE(2027,4,1),2)+1)+24)=4,(DATE(2027,4,1)-WEEKDAY(DATE(2027,4,1),2)+1)+24,"") -> 46499 | N28: =IF(MONTH((DATE(2027,4,1)-WEEKDAY(DATE(2027,4,1),2)+1)+25)=4,(DATE(2027,4,1)-WEEKDAY(DATE(2027,4,1),2)+1)+25,"") -> 46500 | O28: =IF(MONTH((DATE(2027,4,1)-WEEKDAY(DATE(2027,4,1),2)+1)+26)=4,(DATE(2027,4,1)-WEEKDAY(DATE(2027,4,1),2)+1)+26,"") -> 46501 | P28: =IF(MONTH((DATE(2027,4,1)-WEEKDAY(DATE(2027,4,1),2)+1)+27)=4,(DATE(2027,4,1)-WEEKDAY(DATE(2027,4,1),2)+1)+27,"") -> 46502 | R28: =IF(MONTH((DATE(2027,5,1)-WEEKDAY(DATE(2027,5,1),2)+1)+21)=5,(DATE(2027,5,1)-WEEKDAY(DATE(2027,5,1),2)+1)+21,"") -> 46524 | S28: =IF(MONTH((DATE(2027,5,1)-WEEKDAY(DATE(2027,5,1),2)+1)+22)=5,(DATE(2027,5,1)-WEEKDAY(DATE(2027,5,1),2)+1)+22,"") -> 46525 | T28: =IF(MONTH((DATE(2027,5,1)-WEEKDAY(DATE(2027,5,1),2)+1)+23)=5,(DATE(2027,5,1)-WEEKDAY(DATE(2027,5,1),2)+1)+23,"") -> 46526 | U28: =IF(MONTH((DATE(2027,5,1)-WEEKDAY(DATE(2027,5,1),2)+1)+24)=5,(DATE(2027,5,1)-WEEKDAY(DATE(2027,5,1),2)+1)+24,"") -> 46527 | V28: =IF(MONTH((DATE(2027,5,1)-WEEKDAY(DATE(2027,5,1),2)+1)+25)=5,(DATE(2027,5,1)-WEEKDAY(DATE(2027,5,1),2)+1)+25,"") -> 46528 | W28: =IF(MONTH((DATE(2027,5,1)-WEEKDAY(DATE(2027,5,1),2)+1)+26)=5,(DATE(2027,5,1)-WEEKDAY(DATE(2027,5,1),2)+1)+26,"") -> 46529 | X28: =IF(MONTH((DATE(2027,5,1)-WEEKDAY(DATE(2027,5,1),2)+1)+27)=5,(DATE(2027,5,1)-WEEKDAY(DATE(2027,5,1),2)+1)+27,"") -> 46530
B29: =IF(MONTH((DATE(2027,3,1)-WEEKDAY(DATE(2027,3,1),2)+1)+28)=3,(DATE(2027,3,1)-WEEKDAY(DATE(2027,3,1),2)+1)+28,"") -> 46475 | C29: =IF(MONTH((DATE(2027,3,1)-WEEKDAY(DATE(2027,3,1),2)+1)+29)=3,(DATE(2027,3,1)-WEEKDAY(DATE(2027,3,1),2)+1)+29,"") -> 46476 | D29: =IF(MONTH((DATE(2027,3,1)-WEEKDAY(DATE(2027,3,1),2)+1)+30)=3,(DATE(2027,3,1)-WEEKDAY(DATE(2027,3,1),2)+1)+30,"") -> 46477 | E29: =IF(MONTH((DATE(2027,3,1)-WEEKDAY(DATE(2027,3,1),2)+1)+31)=3,(DATE(2027,3,1)-WEEKDAY(DATE(2027,3,1),2)+1)+31,"") | F29: =IF(MONTH((DATE(2027,3,1)-WEEKDAY(DATE(2027,3,1),2)+1)+32)=3,(DATE(2027,3,1)-WEEKDAY(DATE(2027,3,1),2)+1)+32,"") | G29: =IF(MONTH((DATE(2027,3,1)-WEEKDAY(DATE(2027,3,1),2)+1)+33)=3,(DATE(2027,3,1)-WEEKDAY(DATE(2027,3,1),2)+1)+33,"") | H29: =IF(MONTH((DATE(2027,3,1)-WEEKDAY(DATE(2027,3,1),2)+1)+34)=3,(DATE(2027,3,1)-WEEKDAY(DATE(2027,3,1),2)+1)+34,"") | J29: =IF(MONTH((DATE(2027,4,1)-WEEKDAY(DATE(2027,4,1),2)+1)+28)=4,(DATE(2027,4,1)-WEEKDAY(DATE(2027,4,1),2)+1)+28,"") -> 46503 | K29: =IF(MONTH((DATE(2027,4,1)-WEEKDAY(DATE(2027,4,1),2)+1)+29)=4,(DATE(2027,4,1)-WEEKDAY(DATE(2027,4,1),2)+1)+29,"") -> 46504 | L29: =IF(MONTH((DATE(2027,4,1)-WEEKDAY(DATE(2027,4,1),2)+1)+30)=4,(DATE(2027,4,1)-WEEKDAY(DATE(2027,4,1),2)+1)+30,"") -> 46505 | M29: =IF(MONTH((DATE(2027,4,1)-WEEKDAY(DATE(2027,4,1),2)+1)+31)=4,(DATE(2027,4,1)-WEEKDAY(DATE(2027,4,1),2)+1)+31,"") -> 46506 | N29: =IF(MONTH((DATE(2027,4,1)-WEEKDAY(DATE(2027,4,1),2)+1)+32)=4,(DATE(2027,4,1)-WEEKDAY(DATE(2027,4,1),2)+1)+32,"") -> 46507 | O29: =IF(MONTH((DATE(2027,4,1)-WEEKDAY(DATE(2027,4,1),2)+1)+33)=4,(DATE(2027,4,1)-WEEKDAY(DATE(2027,4,1),2)+1)+33,"") | P29: =IF(MONTH((DATE(2027,4,1)-WEEKDAY(DATE(2027,4,1),2)+1)+34)=4,(DATE(2027,4,1)-WEEKDAY(DATE(2027,4,1),2)+1)+34,"") | R29: =IF(MONTH((DATE(2027,5,1)-WEEKDAY(DATE(2027,5,1),2)+1)+28)=5,(DATE(2027,5,1)-WEEKDAY(DATE(2027,5,1),2)+1)+28,"") -> 46531 | S29: =IF(MONTH((DATE(2027,5,1)-WEEKDAY(DATE(2027,5,1),2)+1)+29)=5,(DATE(2027,5,1)-WEEKDAY(DATE(2027,5,1),2)+1)+29,"") -> 46532 | T29: =IF(MONTH((DATE(2027,5,1)-WEEKDAY(DATE(2027,5,1),2)+1)+30)=5,(DATE(2027,5,1)-WEEKDAY(DATE(2027,5,1),2)+1)+30,"") -> 46533 | U29: =IF(MONTH((DATE(2027,5,1)-WEEKDAY(DATE(2027,5,1),2)+1)+31)=5,(DATE(2027,5,1)-WEEKDAY(DATE(2027,5,1),2)+1)+31,"") -> 46534 | V29: =IF(MONTH((DATE(2027,5,1)-WEEKDAY(DATE(2027,5,1),2)+1)+32)=5,(DATE(2027,5,1)-WEEKDAY(DATE(2027,5,1),2)+1)+32,"") -> 46535 | W29: =IF(MONTH((DATE(2027,5,1)-WEEKDAY(DATE(2027,5,1),2)+1)+33)=5,(DATE(2027,5,1)-WEEKDAY(DATE(2027,5,1),2)+1)+33,"") -> 46536 | X29: =IF(MONTH((DATE(2027,5,1)-WEEKDAY(DATE(2027,5,1),2)+1)+34)=5,(DATE(2027,5,1)-WEEKDAY(DATE(2027,5,1),2)+1)+34,"") -> 46537
B30: =IF(MONTH((DATE(2027,3,1)-WEEKDAY(DATE(2027,3,1),2)+1)+35)=3,(DATE(2027,3,1)-WEEKDAY(DATE(2027,3,1),2)+1)+35,"") | C30: =IF(MONTH((DATE(2027,3,1)-WEEKDAY(DATE(2027,3,1),2)+1)+36)=3,(DATE(2027,3,1)-WEEKDAY(DATE(2027,3,1),2)+1)+36,"") | D30: =IF(MONTH((DATE(2027,3,1)-WEEKDAY(DATE(2027,3,1),2)+1)+37)=3,(DATE(2027,3,1)-WEEKDAY(DATE(2027,3,1),2)+1)+37,"") | E30: =IF(MONTH((DATE(2027,3,1)-WEEKDAY(DATE(2027,3,1),2)+1)+38)=3,(DATE(2027,3,1)-WEEKDAY(DATE(2027,3,1),2)+1)+38,"") | F30: =IF(MONTH((DATE(2027,3,1)-WEEKDAY(DATE(2027,3,1),2)+1)+39)=3,(DATE(2027,3,1)-WEEKDAY(DATE(2027,3,1),2)+1)+39,"") | G30: =IF(MONTH((DATE(2027,3,1)-WEEKDAY(DATE(2027,3,1),2)+1)+40)=3,(DATE(2027,3,1)-WEEKDAY(DATE(2027,3,1),2)+1)+40,"") | H30: =IF(MONTH((DATE(2027,3,1)-WEEKDAY(DATE(2027,3,1),2)+1)+41)=3,(DATE(2027,3,1)-WEEKDAY(DATE(2027,3,1),2)+1)+41,"") | J30: =IF(MONTH((DATE(2027,4,1)-WEEKDAY(DATE(2027,4,1),2)+1)+35)=4,(DATE(2027,4,1)-WEEKDAY(DATE(2027,4,1),2)+1)+35,"") | K30: =IF(MONTH((DATE(2027,4,1)-WEEKDAY(DATE(2027,4,1),2)+1)+36)=4,(DATE(2027,4,1)-WEEKDAY(DATE(2027,4,1),2)+1)+36,"") | L30: =IF(MONTH((DATE(2027,4,1)-WEEKDAY(DATE(2027,4,1),2)+1)+37)=4,(DATE(2027,4,1)-WEEKDAY(DATE(2027,4,1),2)+1)+37,"") | M30: =IF(MONTH((DATE(2027,4,1)-WEEKDAY(DATE(2027,4,1),2)+1)+38)=4,(DATE(2027,4,1)-WEEKDAY(DATE(2027,4,1),2)+1)+38,"") | N30: =IF(MONTH((DATE(2027,4,1)-WEEKDAY(DATE(2027,4,1),2)+1)+39)=4,(DATE(2027,4,1)-WEEKDAY(DATE(2027,4,1),2)+1)+39,"") | O30: =IF(MONTH((DATE(2027,4,1)-WEEKDAY(DATE(2027,4,1),2)+1)+40)=4,(DATE(2027,4,1)-WEEKDAY(DATE(2027,4,1),2)+1)+40,"") | P30: =IF(MONTH((DATE(2027,4,1)-WEEKDAY(DATE(2027,4,1),2)+1)+41)=4,(DATE(2027,4,1)-WEEKDAY(DATE(2027,4,1),2)+1)+41,"") | R30: =IF(MONTH((DATE(2027,5,1)-WEEKDAY(DATE(2027,5,1),2)+1)+35)=5,(DATE(2027,5,1)-WEEKDAY(DATE(2027,5,1),2)+1)+35,"") -> 46538 | S30: =IF(MONTH((DATE(2027,5,1)-WEEKDAY(DATE(2027,5,1),2)+1)+36)=5,(DATE(2027,5,1)-WEEKDAY(DATE(2027,5,1),2)+1)+36,"") | T30: =IF(MONTH((DATE(2027,5,1)-WEEKDAY(DATE(2027,5,1),2)+1)+37)=5,(DATE(2027,5,1)-WEEKDAY(DATE(2027,5,1),2)+1)+37,"") | U30: =IF(MONTH((DATE(2027,5,1)-WEEKDAY(DATE(2027,5,1),2)+1)+38)=5,(DATE(2027,5,1)-WEEKDAY(DATE(2027,5,1),2)+1)+38,"") | V30: =IF(MONTH((DATE(2027,5,1)-WEEKDAY(DATE(2027,5,1),2)+1)+39)=5,(DATE(2027,5,1)-WEEKDAY(DATE(2027,5,1),2)+1)+39,"") | W30: =IF(MONTH((DATE(2027,5,1)-WEEKDAY(DATE(2027,5,1),2)+1)+40)=5,(DATE(2027,5,1)-WEEKDAY(DATE(2027,5,1),2)+1)+40,"") | X30: =IF(MONTH((DATE(2027,5,1)-WEEKDAY(DATE(2027,5,1),2)+1)+41)=5,(DATE(2027,5,1)-WEEKDAY(DATE(2027,5,1),2)+1)+41,"")
B32: Iunie 2027 | J32: Iulie 2027 | R32: August 2027
B33: L | C33: Ma | D33: Mi | E33: J | F33: V | G33: S | H33: D | J33: L | K33: Ma | L33: Mi | M33: J | N33: V | O33: S | P33: D | R33: L | S33: Ma | T33: Mi | U33: J | V33: V | W33: S | X33: D
B34: =IF(MONTH((DATE(2027,6,1)-WEEKDAY(DATE(2027,6,1),2)+1)+0)=6,(DATE(2027,6,1)-WEEKDAY(DATE(2027,6,1),2)+1)+0,"") | C34: =IF(MONTH((DATE(2027,6,1)-WEEKDAY(DATE(2027,6,1),2)+1)+1)=6,(DATE(2027,6,1)-WEEKDAY(DATE(2027,6,1),2)+1)+1,"") -> 46539 | D34: =IF(MONTH((DATE(2027,6,1)-WEEKDAY(DATE(2027,6,1),2)+1)+2)=6,(DATE(2027,6,1)-WEEKDAY(DATE(2027,6,1),2)+1)+2,"") -> 46540 | E34: =IF(MONTH((DATE(2027,6,1)-WEEKDAY(DATE(2027,6,1),2)+1)+3)=6,(DATE(2027,6,1)-WEEKDAY(DATE(2027,6,1),2)+1)+3,"") -> 46541 | F34: =IF(MONTH((DATE(2027,6,1)-WEEKDAY(DATE(2027,6,1),2)+1)+4)=6,(DATE(2027,6,1)-WEEKDAY(DATE(2027,6,1),2)+1)+4,"") -> 46542 | G34: =IF(MONTH((DATE(2027,6,1)-WEEKDAY(DATE(2027,6,1),2)+1)+5)=6,(DATE(2027,6,1)-WEEKDAY(DATE(2027,6,1),2)+1)+5,"") -> 46543 | H34: =IF(MONTH((DATE(2027,6,1)-WEEKDAY(DATE(2027,6,1),2)+1)+6)=6,(DATE(2027,6,1)-WEEKDAY(DATE(2027,6,1),2)+1)+6,"") -> 46544 | J34: =IF(MONTH((DATE(2027,7,1)-WEEKDAY(DATE(2027,7,1),2)+1)+0)=7,(DATE(2027,7,1)-WEEKDAY(DATE(2027,7,1),2)+1)+0,"") | K34: =IF(MONTH((DATE(2027,7,1)-WEEKDAY(DATE(2027,7,1),2)+1)+1)=7,(DATE(2027,7,1)-WEEKDAY(DATE(2027,7,1),2)+1)+1,"") | L34: =IF(MONTH((DATE(2027,7,1)-WEEKDAY(DATE(2027,7,1),2)+1)+2)=7,(DATE(2027,7,1)-WEEKDAY(DATE(2027,7,1),2)+1)+2,"") | M34: =IF(MONTH((DATE(2027,7,1)-WEEKDAY(DATE(2027,7,1),2)+1)+3)=7,(DATE(2027,7,1)-WEEKDAY(DATE(2027,7,1),2)+1)+3,"") -> 46569 | N34: =IF(MONTH((DATE(2027,7,1)-WEEKDAY(DATE(2027,7,1),2)+1)+4)=7,(DATE(2027,7,1)-WEEKDAY(DATE(2027,7,1),2)+1)+4,"") -> 46570 | O34: =IF(MONTH((DATE(2027,7,1)-WEEKDAY(DATE(2027,7,1),2)+1)+5)=7,(DATE(2027,7,1)-WEEKDAY(DATE(2027,7,1),2)+1)+5,"") -> 46571 | P34: =IF(MONTH((DATE(2027,7,1)-WEEKDAY(DATE(2027,7,1),2)+1)+6)=7,(DATE(2027,7,1)-WEEKDAY(DATE(2027,7,1),2)+1)+6,"") -> 46572 | R34: =IF(MONTH((DATE(2027,8,1)-WEEKDAY(DATE(2027,8,1),2)+1)+0)=8,(DATE(2027,8,1)-WEEKDAY(DATE(2027,8,1),2)+1)+0,"") | S34: =IF(MONTH((DATE(2027,8,1)-WEEKDAY(DATE(2027,8,1),2)+1)+1)=8,(DATE(2027,8,1)-WEEKDAY(DATE(2027,8,1),2)+1)+1,"") | T34: =IF(MONTH((DATE(2027,8,1)-WEEKDAY(DATE(2027,8,1),2)+1)+2)=8,(DATE(2027,8,1)-WEEKDAY(DATE(2027,8,1),2)+1)+2,"") | U34: =IF(MONTH((DATE(2027,8,1)-WEEKDAY(DATE(2027,8,1),2)+1)+3)=8,(DATE(2027,8,1)-WEEKDAY(DATE(2027,8,1),2)+1)+3,"") | V34: =IF(MONTH((DATE(2027,8,1)-WEEKDAY(DATE(2027,8,1),2)+1)+4)=8,(DATE(2027,8,1)-WEEKDAY(DATE(2027,8,1),2)+1)+4,"") | W34: =IF(MONTH((DATE(2027,8,1)-WEEKDAY(DATE(2027,8,1),2)+1)+5)=8,(DATE(2027,8,1)-WEEKDAY(DATE(2027,8,1),2)+1)+5,"") | X34: =IF(MONTH((DATE(2027,8,1)-WEEKDAY(DATE(2027,8,1),2)+1)+6)=8,(DATE(2027,8,1)-WEEKDAY(DATE(2027,8,1),2)+1)+6,"") -> 46600
B35: =IF(MONTH((DATE(2027,6,1)-WEEKDAY(DATE(2027,6,1),2)+1)+7)=6,(DATE(2027,6,1)-WEEKDAY(DATE(2027,6,1),2)+1)+7,"") -> 46545 | C35: =IF(MONTH((DATE(2027,6,1)-WEEKDAY(DATE(2027,6,1),2)+1)+8)=6,(DATE(2027,6,1)-WEEKDAY(DATE(2027,6,1),2)+1)+8,"") -> 46546 | D35: =IF(MONTH((DATE(2027,6,1)-WEEKDAY(DATE(2027,6,1),2)+1)+9)=6,(DATE(2027,6,1)-WEEKDAY(DATE(2027,6,1),2)+1)+9,"") -> 46547 | E35: =IF(MONTH((DATE(2027,6,1)-WEEKDAY(DATE(2027,6,1),2)+1)+10)=6,(DATE(2027,6,1)-WEEKDAY(DATE(2027,6,1),2)+1)+10,"") -> 46548 | F35: =IF(MONTH((DATE(2027,6,1)-WEEKDAY(DATE(2027,6,1),2)+1)+11)=6,(DATE(2027,6,1)-WEEKDAY(DATE(2027,6,1),2)+1)+11,"") -> 46549 | G35: =IF(MONTH((DATE(2027,6,1)-WEEKDAY(DATE(2027,6,1),2)+1)+12)=6,(DATE(2027,6,1)-WEEKDAY(DATE(2027,6,1),2)+1)+12,"") -> 46550 | H35: =IF(MONTH((DATE(2027,6,1)-WEEKDAY(DATE(2027,6,1),2)+1)+13)=6,(DATE(2027,6,1)-WEEKDAY(DATE(2027,6,1),2)+1)+13,"") -> 46551 | J35: =IF(MONTH((DATE(2027,7,1)-WEEKDAY(DATE(2027,7,1),2)+1)+7)=7,(DATE(2027,7,1)-WEEKDAY(DATE(2027,7,1),2)+1)+7,"") -> 46573 | K35: =IF(MONTH((DATE(2027,7,1)-WEEKDAY(DATE(2027,7,1),2)+1)+8)=7,(DATE(2027,7,1)-WEEKDAY(DATE(2027,7,1),2)+1)+8,"") -> 46574 | L35: =IF(MONTH((DATE(2027,7,1)-WEEKDAY(DATE(2027,7,1),2)+1)+9)=7,(DATE(2027,7,1)-WEEKDAY(DATE(2027,7,1),2)+1)+9,"") -> 46575 | M35: =IF(MONTH((DATE(2027,7,1)-WEEKDAY(DATE(2027,7,1),2)+1)+10)=7,(DATE(2027,7,1)-WEEKDAY(DATE(2027,7,1),2)+1)+10,"") -> 46576 | N35: =IF(MONTH((DATE(2027,7,1)-WEEKDAY(DATE(2027,7,1),2)+1)+11)=7,(DATE(2027,7,1)-WEEKDAY(DATE(2027,7,1),2)+1)+11,"") -> 46577 | O35: =IF(MONTH((DATE(2027,7,1)-WEEKDAY(DATE(2027,7,1),2)+1)+12)=7,(DATE(2027,7,1)-WEEKDAY(DATE(2027,7,1),2)+1)+12,"") -> 46578 | P35: =IF(MONTH((DATE(2027,7,1)-WEEKDAY(DATE(2027,7,1),2)+1)+13)=7,(DATE(2027,7,1)-WEEKDAY(DATE(2027,7,1),2)+1)+13,"") -> 46579 | R35: =IF(MONTH((DATE(2027,8,1)-WEEKDAY(DATE(2027,8,1),2)+1)+7)=8,(DATE(2027,8,1)-WEEKDAY(DATE(2027,8,1),2)+1)+7,"") -> 46601 | S35: =IF(MONTH((DATE(2027,8,1)-WEEKDAY(DATE(2027,8,1),2)+1)+8)=8,(DATE(2027,8,1)-WEEKDAY(DATE(2027,8,1),2)+1)+8,"") -> 46602 | T35: =IF(MONTH((DATE(2027,8,1)-WEEKDAY(DATE(2027,8,1),2)+1)+9)=8,(DATE(2027,8,1)-WEEKDAY(DATE(2027,8,1),2)+1)+9,"") -> 46603 | U35: =IF(MONTH((DATE(2027,8,1)-WEEKDAY(DATE(2027,8,1),2)+1)+10)=8,(DATE(2027,8,1)-WEEKDAY(DATE(2027,8,1),2)+1)+10,"") -> 46604 | V35: =IF(MONTH((DATE(2027,8,1)-WEEKDAY(DATE(2027,8,1),2)+1)+11)=8,(DATE(2027,8,1)-WEEKDAY(DATE(2027,8,1),2)+1)+11,"") -> 46605 | W35: =IF(MONTH((DATE(2027,8,1)-WEEKDAY(DATE(2027,8,1),2)+1)+12)=8,(DATE(2027,8,1)-WEEKDAY(DATE(2027,8,1),2)+1)+12,"") -> 46606 | X35: =IF(MONTH((DATE(2027,8,1)-WEEKDAY(DATE(2027,8,1),2)+1)+13)=8,(DATE(2027,8,1)-WEEKDAY(DATE(2027,8,1),2)+1)+13,"") -> 46607
B36: =IF(MONTH((DATE(2027,6,1)-WEEKDAY(DATE(2027,6,1),2)+1)+14)=6,(DATE(2027,6,1)-WEEKDAY(DATE(2027,6,1),2)+1)+14,"") -> 46552 | C36: =IF(MONTH((DATE(2027,6,1)-WEEKDAY(DATE(2027,6,1),2)+1)+15)=6,(DATE(2027,6,1)-WEEKDAY(DATE(2027,6,1),2)+1)+15,"") -> 46553 | D36: =IF(MONTH((DATE(2027,6,1)-WEEKDAY(DATE(2027,6,1),2)+1)+16)=6,(DATE(2027,6,1)-WEEKDAY(DATE(2027,6,1),2)+1)+16,"") -> 46554 | E36: =IF(MONTH((DATE(2027,6,1)-WEEKDAY(DATE(2027,6,1),2)+1)+17)=6,(DATE(2027,6,1)-WEEKDAY(DATE(2027,6,1),2)+1)+17,"") -> 46555 | F36: =IF(MONTH((DATE(2027,6,1)-WEEKDAY(DATE(2027,6,1),2)+1)+18)=6,(DATE(2027,6,1)-WEEKDAY(DATE(2027,6,1),2)+1)+18,"") -> 46556 | G36: =IF(MONTH((DATE(2027,6,1)-WEEKDAY(DATE(2027,6,1),2)+1)+19)=6,(DATE(2027,6,1)-WEEKDAY(DATE(2027,6,1),2)+1)+19,"") -> 46557 | H36: =IF(MONTH((DATE(2027,6,1)-WEEKDAY(DATE(2027,6,1),2)+1)+20)=6,(DATE(2027,6,1)-WEEKDAY(DATE(2027,6,1),2)+1)+20,"") -> 46558 | J36: =IF(MONTH((DATE(2027,7,1)-WEEKDAY(DATE(2027,7,1),2)+1)+14)=7,(DATE(2027,7,1)-WEEKDAY(DATE(2027,7,1),2)+1)+14,"") -> 46580 | K36: =IF(MONTH((DATE(2027,7,1)-WEEKDAY(DATE(2027,7,1),2)+1)+15)=7,(DATE(2027,7,1)-WEEKDAY(DATE(2027,7,1),2)+1)+15,"") -> 46581 | L36: =IF(MONTH((DATE(2027,7,1)-WEEKDAY(DATE(2027,7,1),2)+1)+16)=7,(DATE(2027,7,1)-WEEKDAY(DATE(2027,7,1),2)+1)+16,"") -> 46582 | M36: =IF(MONTH((DATE(2027,7,1)-WEEKDAY(DATE(2027,7,1),2)+1)+17)=7,(DATE(2027,7,1)-WEEKDAY(DATE(2027,7,1),2)+1)+17,"") -> 46583 | N36: =IF(MONTH((DATE(2027,7,1)-WEEKDAY(DATE(2027,7,1),2)+1)+18)=7,(DATE(2027,7,1)-WEEKDAY(DATE(2027,7,1),2)+1)+18,"") -> 46584 | O36: =IF(MONTH((DATE(2027,7,1)-WEEKDAY(DATE(2027,7,1),2)+1)+19)=7,(DATE(2027,7,1)-WEEKDAY(DATE(2027,7,1),2)+1)+19,"") -> 46585 | P36: =IF(MONTH((DATE(2027,7,1)-WEEKDAY(DATE(2027,7,1),2)+1)+20)=7,(DATE(2027,7,1)-WEEKDAY(DATE(2027,7,1),2)+1)+20,"") -> 46586 | R36: =IF(MONTH((DATE(2027,8,1)-WEEKDAY(DATE(2027,8,1),2)+1)+14)=8,(DATE(2027,8,1)-WEEKDAY(DATE(2027,8,1),2)+1)+14,"") -> 46608 | S36: =IF(MONTH((DATE(2027,8,1)-WEEKDAY(DATE(2027,8,1),2)+1)+15)=8,(DATE(2027,8,1)-WEEKDAY(DATE(2027,8,1),2)+1)+15,"") -> 46609 | T36: =IF(MONTH((DATE(2027,8,1)-WEEKDAY(DATE(2027,8,1),2)+1)+16)=8,(DATE(2027,8,1)-WEEKDAY(DATE(2027,8,1),2)+1)+16,"") -> 46610 | U36: =IF(MONTH((DATE(2027,8,1)-WEEKDAY(DATE(2027,8,1),2)+1)+17)=8,(DATE(2027,8,1)-WEEKDAY(DATE(2027,8,1),2)+1)+17,"") -> 46611 | V36: =IF(MONTH((DATE(2027,8,1)-WEEKDAY(DATE(2027,8,1),2)+1)+18)=8,(DATE(2027,8,1)-WEEKDAY(DATE(2027,8,1),2)+1)+18,"") -> 46612 | W36: =IF(MONTH((DATE(2027,8,1)-WEEKDAY(DATE(2027,8,1),2)+1)+19)=8,(DATE(2027,8,1)-WEEKDAY(DATE(2027,8,1),2)+1)+19,"") -> 46613 | X36: =IF(MONTH((DATE(2027,8,1)-WEEKDAY(DATE(2027,8,1),2)+1)+20)=8,(DATE(2027,8,1)-WEEKDAY(DATE(2027,8,1),2)+1)+20,"") -> 46614
